{"text_format":"3","workbook":"xlsx","n_sheets":8,"sheets":["Instructions","AccountInfo","UnitPrice","UnitsSold","AwardDate","Effort","IncidentalCost","ProbLoss"],"not_rendered":{"comments":1},"read":"whole","date_system":"1900"}

{"sheet":"Instructions","index":0,"n_rows":14,"n_cols":3,"rows_kept":14}
[]
[null,"For a given opportunity, provide reasons for low values first."]
[null,"Provide reasons for high values."]
[null,"Estimate the p10."]
[null,"Estimate the p90."]
[null,"Always estimate the p50 last, no exceptions."]
[null,"If there is a required Min other than 0, enter that value; otherwise, leave the Required Min as 0."]
[null,"If there is a required Max, enter that value; otherwise, leave the Required Max blank."]
[]
[null,null,"<--Gray fields should not be modified."]
[]
[null,null,"<--Blue fields should accept text information."]
[]
[null,null,"<--Green fields should accept numerical information."]

{"sheet":"AccountInfo","index":1,"n_rows":1002,"n_cols":10,"rows_kept":1002}
[]
["Opp_ID","Opp_Name","Opp_Status","Assigned_Agent",null,"Agent","Wage_Rate",null,"Status Values"]
[1,"Whiskers and Fleas","Open","Bob X.",null,"Bob X.",100,null,"Open","Still in pursuit or receiving revenues"]
[2,"Cheddar Cheese","Open","Alice M.",null,"Alice M.",100,null,"Lost","Opportunity said no"]
[3,"Abominable Snowman","Open","Frank C.",null,"Frank C.",100,null,"Closed","Opportunity awarded and all revenues received."]
[4,"Treason on the High Seas","Open","Mimi P.",null,"Mimi P.",100]
[5,"Pinky and the Brain","Open","Fred A.",null,"Fred A.",100,null,"Simulation Trials",1000]
[6,"Clams and Mushrooms","Open","Antonio R.",null,"Antonio R.",100]
[7,"Concert at Red Rocks","Open","Sheila Q.",null,"Sheila Q.",100,null,"License Code","GeorgeBurdell01012016123456789"]
[8,"Fast Times at Ridgemont High","Open","Sandra D.",null,"Sandra D.",100]
[9,"Monkey See Monkey Do","Open","Bill S.",null,"Bill S.",100]
[10,"Mine Eyes Have Seen the Glory","Open","Pat H.",null,"Pat H.",100]
[11,"Punky Brewster Lives","Open","Robbie D.",null,"Robbie D.",100]
[12,"Live at the Magic Kingdom","Open","Mickey M.",null,"Mickey M.",100]
[13,"House Music","Open","Mickey M."]
[14,"Kindle Fire Truck","Open","Antonio R."]
[15]
[16]
[17]
[18]
[19]
[20]
[21]
[22]
[23]
[24]
[25]
[26]
[27]
[28]
[29]
[30]
[31]
[32]
[33]
[34]
[35]
[36]
[37]
[38]
[39]
[40]
[41]
[42]
[43]
[44]
[45]
[46]
[47]
[48]
[49]
[50]
[51]
[52]
[53]
[54]
[55]
[56]
[57]
[58]
[59]
[60]
[61]
[62]
[63]
[64]
[65]
[66]
[67]
[68]
[69]
[70]
[71]
[72]
[73]
[74]
[75]
[76]
[77]
[78]
[79]
[80]
[81]
[82]
[83]
[84]
[85]
[86]
[87]
[88]
[89]
[90]
[91]
[92]
[93]
[94]
[95]
[96]
[97]
[98]
[99]
[100]
[101]
[102]
[103]
[104]
[105]
[106]
[107]
[108]
[109]
[110]
[111]
[112]
[113]
[114]
[115]
[116]
[117]
[118]
[119]
[120]
[121]
[122]
[123]
[124]
[125]
[126]
[127]
[128]
[129]
[130]
[131]
[132]
[133]
[134]
[135]
[136]
[137]
[138]
[139]
[140]
[141]
[142]
[143]
[144]
[145]
[146]
[147]
[148]
[149]
[150]
[151]
[152]
[153]
[154]
[155]
[156]
[157]
[158]
[159]
[160]
[161]
[162]
[163]
[164]
[165]
[166]
[167]
[168]
[169]
[170]
[171]
[172]
[173]
[174]
[175]
[176]
[177]
[178]
[179]
[180]
[181]
[182]
[183]
[184]
[185]
[186]
[187]
[188]
[189]
[190]
[191]
[192]
[193]
[194]
[195]
[196]
[197]
[198]
[199]
[200]
[201]
[202]
[203]
[204]
[205]
[206]
[207]
[208]
[209]
[210]
[211]
[212]
[213]
[214]
[215]
[216]
[217]
[218]
[219]
[220]
[221]
[222]
[223]
[224]
[225]
[226]
[227]
[228]
[229]
[230]
[231]
[232]
[233]
[234]
[235]
[236]
[237]
[238]
[239]
[240]
[241]
[242]
[243]
[244]
[245]
[246]
[247]
[248]
[249]
[250]
[251]
[252]
[253]
[254]
[255]
[256]
[257]
[258]
[259]
[260]
[261]
[262]
[263]
[264]
[265]
[266]
[267]
[268]
[269]
[270]
[271]
[272]
[273]
[274]
[275]
[276]
[277]
[278]
[279]
[280]
[281]
[282]
[283]
[284]
[285]
[286]
[287]
[288]
[289]
[290]
[291]
[292]
[293]
[294]
[295]
[296]
[297]
[298]
[299]
[300]
[301]
[302]
[303]
[304]
[305]
[306]
[307]
[308]
[309]
[310]
[311]
[312]
[313]
[314]
[315]
[316]
[317]
[318]
[319]
[320]
[321]
[322]
[323]
[324]
[325]
[326]
[327]
[328]
[329]
[330]
[331]
[332]
[333]
[334]
[335]
[336]
[337]
[338]
[339]
[340]
[341]
[342]
[343]
[344]
[345]
[346]
[347]
[348]
[349]
[350]
[351]
[352]
[353]
[354]
[355]
[356]
[357]
[358]
[359]
[360]
[361]
[362]
[363]
[364]
[365]
[366]
[367]
[368]
[369]
[370]
[371]
[372]
[373]
[374]
[375]
[376]
[377]
[378]
[379]
[380]
[381]
[382]
[383]
[384]
[385]
[386]
[387]
[388]
[389]
[390]
[391]
[392]
[393]
[394]
[395]
[396]
[397]
[398]
[399]
[400]
[401]
[402]
[403]
[404]
[405]
[406]
[407]
[408]
[409]
[410]
[411]
[412]
[413]
[414]
[415]
[416]
[417]
[418]
[419]
[420]
[421]
[422]
[423]
[424]
[425]
[426]
[427]
[428]
[429]
[430]
[431]
[432]
[433]
[434]
[435]
[436]
[437]
[438]
[439]
[440]
[441]
[442]
[443]
[444]
[445]
[446]
[447]
[448]
[449]
[450]
[451]
[452]
[453]
[454]
[455]
[456]
[457]
[458]
[459]
[460]
[461]
[462]
[463]
[464]
[465]
[466]
[467]
[468]
[469]
[470]
[471]
[472]
[473]
[474]
[475]
[476]
[477]
[478]
[479]
[480]
[481]
[482]
[483]
[484]
[485]
[486]
[487]
[488]
[489]
[490]
[491]
[492]
[493]
[494]
[495]
[496]
[497]
[498]
[499]
[500]
[501]
[502]
[503]
[504]
[505]
[506]
[507]
[508]
[509]
[510]
[511]
[512]
[513]
[514]
[515]
[516]
[517]
[518]
[519]
[520]
[521]
[522]
[523]
[524]
[525]
[526]
[527]
[528]
[529]
[530]
[531]
[532]
[533]
[534]
[535]
[536]
[537]
[538]
[539]
[540]
[541]
[542]
[543]
[544]
[545]
[546]
[547]
[548]
[549]
[550]
[551]
[552]
[553]
[554]
[555]
[556]
[557]
[558]
[559]
[560]
[561]
[562]
[563]
[564]
[565]
[566]
[567]
[568]
[569]
[570]
[571]
[572]
[573]
[574]
[575]
[576]
[577]
[578]
[579]
[580]
[581]
[582]
[583]
[584]
[585]
[586]
[587]
[588]
[589]
[590]
[591]
[592]
[593]
[594]
[595]
[596]
[597]
[598]
[599]
[600]
[601]
[602]
[603]
[604]
[605]
[606]
[607]
[608]
[609]
[610]
[611]
[612]
[613]
[614]
[615]
[616]
[617]
[618]
[619]
[620]
[621]
[622]
[623]
[624]
[625]
[626]
[627]
[628]
[629]
[630]
[631]
[632]
[633]
[634]
[635]
[636]
[637]
[638]
[639]
[640]
[641]
[642]
[643]
[644]
[645]
[646]
[647]
[648]
[649]
[650]
[651]
[652]
[653]
[654]
[655]
[656]
[657]
[658]
[659]
[660]
[661]
[662]
[663]
[664]
[665]
[666]
[667]
[668]
[669]
[670]
[671]
[672]
[673]
[674]
[675]
[676]
[677]
[678]
[679]
[680]
[681]
[682]
[683]
[684]
[685]
[686]
[687]
[688]
[689]
[690]
[691]
[692]
[693]
[694]
[695]
[696]
[697]
[698]
[699]
[700]
[701]
[702]
[703]
[704]
[705]
[706]
[707]
[708]
[709]
[710]
[711]
[712]
[713]
[714]
[715]
[716]
[717]
[718]
[719]
[720]
[721]
[722]
[723]
[724]
[725]
[726]
[727]
[728]
[729]
[730]
[731]
[732]
[733]
[734]
[735]
[736]
[737]
[738]
[739]
[740]
[741]
[742]
[743]
[744]
[745]
[746]
[747]
[748]
[749]
[750]
[751]
[752]
[753]
[754]
[755]
[756]
[757]
[758]
[759]
[760]
[761]
[762]
[763]
[764]
[765]
[766]
[767]
[768]
[769]
[770]
[771]
[772]
[773]
[774]
[775]
[776]
[777]
[778]
[779]
[780]
[781]
[782]
[783]
[784]
[785]
[786]
[787]
[788]
[789]
[790]
[791]
[792]
[793]
[794]
[795]
[796]
[797]
[798]
[799]
[800]
[801]
[802]
[803]
[804]
[805]
[806]
[807]
[808]
[809]
[810]
[811]
[812]
[813]
[814]
[815]
[816]
[817]
[818]
[819]
[820]
[821]
[822]
[823]
[824]
[825]
[826]
[827]
[828]
[829]
[830]
[831]
[832]
[833]
[834]
[835]
[836]
[837]
[838]
[839]
[840]
[841]
[842]
[843]
[844]
[845]
[846]
[847]
[848]
[849]
[850]
[851]
[852]
[853]
[854]
[855]
[856]
[857]
[858]
[859]
[860]
[861]
[862]
[863]
[864]
[865]
[866]
[867]
[868]
[869]
[870]
[871]
[872]
[873]
[874]
[875]
[876]
[877]
[878]
[879]
[880]
[881]
[882]
[883]
[884]
[885]
[886]
[887]
[888]
[889]
[890]
[891]
[892]
[893]
[894]
[895]
[896]
[897]
[898]
[899]
[900]
[901]
[902]
[903]
[904]
[905]
[906]
[907]
[908]
[909]
[910]
[911]
[912]
[913]
[914]
[915]
[916]
[917]
[918]
[919]
[920]
[921]
[922]
[923]
[924]
[925]
[926]
[927]
[928]
[929]
[930]
[931]
[932]
[933]
[934]
[935]
[936]
[937]
[938]
[939]
[940]
[941]
[942]
[943]
[944]
[945]
[946]
[947]
[948]
[949]
[950]
[951]
[952]
[953]
[954]
[955]
[956]
[957]
[958]
[959]
[960]
[961]
[962]
[963]
[964]
[965]
[966]
[967]
[968]
[969]
[970]
[971]
[972]
[973]
[974]
[975]
[976]
[977]
[978]
[979]
[980]
[981]
[982]
[983]
[984]
[985]
[986]
[987]
[988]
[989]
[990]
[991]
[992]
[993]
[994]
[995]
[996]
[997]
[998]
[999]
[1000]

{"sheet":"UnitPrice","index":2,"n_rows":1002,"n_cols":12,"rows_kept":1002,"merged":[[0,2,0,8]]}
[null,null,"Unit Price [$/unit]"]
["Opp_ID",{"$f":"AccountInfo!B2","v":"Opp_Name"},"Reasons for Low","LowConstr",0.1,0.5,0.9,"HighConstr","Reasons for High","Check",null,"Instructions"]
[{"$f":"AccountInfo!$A3","v":1},{"$f":"IF(AccountInfo!$B3=\"\",\"\",AccountInfo!B3)","v":"Whiskers and Fleas"},null,0,{"v":82917,"d":"$82,917"},{"v":86077,"d":"$86,077"},{"v":93190,"d":"$93,190"},null,null,{"$f":"IF(AND(D3<=E3, E3<=F3, F3<=G3, G3<=IF(H3=\"\", 1000000000000, H3)), \"Check\", \"Error\")","v":"Check"},null,"For a given opportunity, provide reasons for low values first."]
[{"$f":"AccountInfo!$A4","v":2},{"$f":"IF(AccountInfo!$B4=\"\",\"\",AccountInfo!B4)","v":"Cheddar Cheese"},null,0,{"v":97862,"d":"$97,862"},{"v":103258,"d":"$103,258"},{"v":121645,"d":"$121,645"},null,null,{"$f":"IF(AND(D4<=E4, E4<=F4, F4<=G4, G4<=IF(H4=\"\", 1000000000000, H4)), \"Check\", \"Error\")","v":"Check"},null,"Provide reasons for high values."]
[{"$f":"AccountInfo!$A5","v":3},{"$f":"IF(AccountInfo!$B5=\"\",\"\",AccountInfo!B5)","v":"Abominable Snowman"},null,0,{"v":91765,"d":"$91,765"},{"v":99357,"d":"$99,357"},{"v":111591,"d":"$111,591"},null,null,"Check",null,"Estimate the p10."]
[{"$f":"AccountInfo!$A6","v":4},{"$f":"IF(AccountInfo!$B6=\"\",\"\",AccountInfo!B6)","v":"Treason on the High Seas"},null,0,{"v":98297,"d":"$98,297"},{"v":99006,"d":"$99,006"},{"v":120921,"d":"$120,921"},null,null,"Check",null,"Estimate the p90."]
[{"$f":"AccountInfo!$A7","v":5},{"$f":"IF(AccountInfo!$B7=\"\",\"\",AccountInfo!B7)","v":"Pinky and the Brain"},null,0,{"v":99507,"d":"$99,507"},{"v":109394,"d":"$109,394"},{"v":131987,"d":"$131,987"},null,null,"Check",null,"Always estimate the p50 last, no exceptions."]
[{"$f":"AccountInfo!$A8","v":6},{"$f":"IF(AccountInfo!$B8=\"\",\"\",AccountInfo!B8)","v":"Clams and Mushrooms"},null,0,{"v":77311,"d":"$77,311"},{"v":83645,"d":"$83,645"},{"v":94931,"d":"$94,931"},null,null,"Check",null,"If there is a required Min other than 0, enter that value; otherwise, leave the Required Min as 0."]
[{"$f":"AccountInfo!$A9","v":7},{"$f":"IF(AccountInfo!$B9=\"\",\"\",AccountInfo!B9)","v":"Concert at Red Rocks"},null,0,{"v":96980,"d":"$96,980"},{"v":101379,"d":"$101,379"},{"v":125335,"d":"$125,335"},null,null,"Check",null,"If there is a required Max, enter that value; otherwise, leave the Required Max blank."]
[{"$f":"AccountInfo!$A10","v":8},{"$f":"IF(AccountInfo!$B10=\"\",\"\",AccountInfo!B10)","v":"Fast Times at Ridgemont High"},null,0,{"v":70888,"d":"$70,888"},{"v":71576,"d":"$71,576"},{"v":82253,"d":"$82,253"},null,null,"Check",null,"The estimates should strictly follow Min<p10<p50<p90<Max."]
[{"$f":"AccountInfo!$A11","v":9},{"$f":"IF(AccountInfo!$B11=\"\",\"\",AccountInfo!B11)","v":"Monkey See Monkey Do"},null,0,{"v":70872,"d":"$70,872"},{"v":74455,"d":"$74,455"},{"v":90187,"d":"$90,187"},null,null,"Check"]
[{"$f":"AccountInfo!$A12","v":10},{"$f":"IF(AccountInfo!$B12=\"\",\"\",AccountInfo!B12)","v":"Mine Eyes Have Seen the Glory"},null,0,{"v":71470,"d":"$71,470"},{"v":73116,"d":"$73,116"},{"v":89327,"d":"$89,327"},null,null,"Check"]
[{"$f":"AccountInfo!$A13","v":11},{"$f":"IF(AccountInfo!$B13=\"\",\"\",AccountInfo!B13)","v":"Punky Brewster Lives"},null,0,{"v":73459,"d":"$73,459"},{"v":79735,"d":"$79,735"},{"v":90350,"d":"$90,350"},null,null,"Check"]
[{"$f":"AccountInfo!$A14","v":12},{"$f":"IF(AccountInfo!$B14=\"\",\"\",AccountInfo!B14)","v":"Live at the Magic Kingdom"},null,0,{"v":98061,"d":"$98,061"},{"v":104077,"d":"$104,077"},{"v":127403,"d":"$127,403"},null,null,"Check"]
[{"$f":"AccountInfo!$A15","v":13},{"$f":"IF(AccountInfo!$B15=\"\",\"\",AccountInfo!B15)","v":"House Music"},null,0,{"v":10000,"d":"$10,000"},{"v":12000,"d":"$12,000"},{"v":14000,"d":"$14,000"},null,null,"Check"]
[{"$f":"AccountInfo!$A16","v":14},{"$f":"IF(AccountInfo!$B16=\"\",\"\",AccountInfo!B16)","v":"Kindle Fire Truck"},null,0,{"v":15000,"d":"$15,000"},{"v":17000,"d":"$17,000"},{"v":19000,"d":"$19,000"},null,null,"Check"]
[{"$f":"AccountInfo!$A17","v":15},{"$f":"IF(AccountInfo!$B17=\"\",\"\",AccountInfo!B17)","v":""},{"$nulls":7},"Check"]
[{"$f":"AccountInfo!$A18","v":16},{"$f":"IF(AccountInfo!$B18=\"\",\"\",AccountInfo!B18)","v":""},{"$nulls":7},"Check"]
[{"$f":"AccountInfo!$A19","v":17},{"$f":"IF(AccountInfo!$B19=\"\",\"\",AccountInfo!B19)","v":""},{"$nulls":7},"Check"]
[{"$f":"AccountInfo!$A20","v":18},{"$f":"IF(AccountInfo!$B20=\"\",\"\",AccountInfo!B20)","v":""},{"$nulls":7},"Check"]
[{"$f":"AccountInfo!$A21","v":19},{"$f":"IF(AccountInfo!$B21=\"\",\"\",AccountInfo!B21)","v":""},{"$nulls":7},"Check"]
[{"$f":"AccountInfo!$A22","v":20},{"$f":"IF(AccountInfo!$B22=\"\",\"\",AccountInfo!B22)","v":""},{"$nulls":7},"Check"]
[{"$f":"AccountInfo!$A23","v":21},{"$f":"IF(AccountInfo!$B23=\"\",\"\",AccountInfo!B23)","v":""},{"$nulls":7},"Check"]
[{"$f":"AccountInfo!$A24","v":22},{"$f":"IF(AccountInfo!$B24=\"\",\"\",AccountInfo!B24)","v":""},{"$nulls":7},"Check"]
[{"$f":"AccountInfo!$A25","v":23},{"$f":"IF(AccountInfo!$B25=\"\",\"\",AccountInfo!B25)","v":""},{"$nulls":7},"Check"]
[{"$f":"AccountInfo!$A26","v":24},{"$f":"IF(AccountInfo!$B26=\"\",\"\",AccountInfo!B26)","v":""},{"$nulls":7},"Check"]
[{"$f":"AccountInfo!$A27","v":25},{"$f":"IF(AccountInfo!$B27=\"\",\"\",AccountInfo!B27)","v":""},{"$nulls":7},"Check"]
[{"$f":"AccountInfo!$A28","v":26},{"$f":"IF(AccountInfo!$B28=\"\",\"\",AccountInfo!B28)","v":""},{"$nulls":7},"Check"]
[{"$f":"AccountInfo!$A29","v":27},{"$f":"IF(AccountInfo!$B29=\"\",\"\",AccountInfo!B29)","v":""},{"$nulls":7},"Check"]
[{"$f":"AccountInfo!$A30","v":28},{"$f":"IF(AccountInfo!$B30=\"\",\"\",AccountInfo!B30)","v":""},{"$nulls":7},"Check"]
[{"$f":"AccountInfo!$A31","v":29},{"$f":"IF(AccountInfo!$B31=\"\",\"\",AccountInfo!B31)","v":""},{"$nulls":7},"Check"]
[{"$f":"AccountInfo!$A32","v":30},{"$f":"IF(AccountInfo!$B32=\"\",\"\",AccountInfo!B32)","v":""},{"$nulls":7},"Check"]
[{"$f":"AccountInfo!$A33","v":31},{"$f":"IF(AccountInfo!$B33=\"\",\"\",AccountInfo!B33)","v":""},{"$nulls":7},"Check"]
[{"$f":"AccountInfo!$A34","v":32},{"$f":"IF(AccountInfo!$B34=\"\",\"\",AccountInfo!B34)","v":""},{"$nulls":7},"Check"]
[{"$f":"AccountInfo!$A35","v":33},{"$f":"IF(AccountInfo!$B35=\"\",\"\",AccountInfo!B35)","v":""},{"$nulls":7},"Check"]
[{"$f":"AccountInfo!$A36","v":34},{"$f":"IF(AccountInfo!$B36=\"\",\"\",AccountInfo!B36)","v":""},{"$nulls":7},"Check"]
[{"$f":"AccountInfo!$A37","v":35},{"$f":"IF(AccountInfo!$B37=\"\",\"\",AccountInfo!B37)","v":""},{"$nulls":7},"Check"]
[{"$f":"AccountInfo!$A38","v":36},{"$f":"IF(AccountInfo!$B38=\"\",\"\",AccountInfo!B38)","v":""},{"$nulls":7},"Check"]
[{"$f":"AccountInfo!$A39","v":37},{"$f":"IF(AccountInfo!$B39=\"\",\"\",AccountInfo!B39)","v":""},{"$nulls":7},"Check"]
[{"$f":"AccountInfo!$A40","v":38},{"$f":"IF(AccountInfo!$B40=\"\",\"\",AccountInfo!B40)","v":""},{"$nulls":7},"Check"]
[{"$f":"AccountInfo!$A41","v":39},{"$f":"IF(AccountInfo!$B41=\"\",\"\",AccountInfo!B41)","v":""},{"$nulls":7},"Check"]
[{"$f":"AccountInfo!$A42","v":40},{"$f":"IF(AccountInfo!$B42=\"\",\"\",AccountInfo!B42)","v":""},{"$nulls":7},"Check"]
[{"$f":"AccountInfo!$A43","v":41},{"$f":"IF(AccountInfo!$B43=\"\",\"\",AccountInfo!B43)","v":""},{"$nulls":7},"Check"]
[{"$f":"AccountInfo!$A44","v":42},{"$f":"IF(AccountInfo!$B44=\"\",\"\",AccountInfo!B44)","v":""},{"$nulls":7},"Check"]
[{"$f":"AccountInfo!$A45","v":43},{"$f":"IF(AccountInfo!$B45=\"\",\"\",AccountInfo!B45)","v":""},{"$nulls":7},"Check"]
[{"$f":"AccountInfo!$A46","v":44},{"$f":"IF(AccountInfo!$B46=\"\",\"\",AccountInfo!B46)","v":""},{"$nulls":7},"Check"]
[{"$f":"AccountInfo!$A47","v":45},{"$f":"IF(AccountInfo!$B47=\"\",\"\",AccountInfo!B47)","v":""},{"$nulls":7},"Check"]
[{"$f":"AccountInfo!$A48","v":46},{"$f":"IF(AccountInfo!$B48=\"\",\"\",AccountInfo!B48)","v":""},{"$nulls":7},"Check"]
[{"$f":"AccountInfo!$A49","v":47},{"$f":"IF(AccountInfo!$B49=\"\",\"\",AccountInfo!B49)","v":""},{"$nulls":7},"Check"]
[{"$f":"AccountInfo!$A50","v":48},{"$f":"IF(AccountInfo!$B50=\"\",\"\",AccountInfo!B50)","v":""},{"$nulls":7},"Check"]
[{"$f":"AccountInfo!$A51","v":49},{"$f":"IF(AccountInfo!$B51=\"\",\"\",AccountInfo!B51)","v":""},{"$nulls":7},"Check"]
[{"$f":"AccountInfo!$A52","v":50},{"$f":"IF(AccountInfo!$B52=\"\",\"\",AccountInfo!B52)","v":""},{"$nulls":7},"Check"]
[{"$f":"AccountInfo!$A53","v":51},{"$f":"IF(AccountInfo!$B53=\"\",\"\",AccountInfo!B53)","v":""},{"$nulls":7},"Check"]
[{"$f":"AccountInfo!$A54","v":52},{"$f":"IF(AccountInfo!$B54=\"\",\"\",AccountInfo!B54)","v":""},{"$nulls":7},"Check"]
[{"$f":"AccountInfo!$A55","v":53},{"$f":"IF(AccountInfo!$B55=\"\",\"\",AccountInfo!B55)","v":""},{"$nulls":7},"Check"]
[{"$f":"AccountInfo!$A56","v":54},{"$f":"IF(AccountInfo!$B56=\"\",\"\",AccountInfo!B56)","v":""},{"$nulls":7},"Check"]
[{"$f":"AccountInfo!$A57","v":55},{"$f":"IF(AccountInfo!$B57=\"\",\"\",AccountInfo!B57)","v":""},{"$nulls":7},"Check"]
[{"$f":"AccountInfo!$A58","v":56},{"$f":"IF(AccountInfo!$B58=\"\",\"\",AccountInfo!B58)","v":""},{"$nulls":7},"Check"]
[{"$f":"AccountInfo!$A59","v":57},{"$f":"IF(AccountInfo!$B59=\"\",\"\",AccountInfo!B59)","v":""},{"$nulls":7},"Check"]
[{"$f":"AccountInfo!$A60","v":58},{"$f":"IF(AccountInfo!$B60=\"\",\"\",AccountInfo!B60)","v":""},{"$nulls":7},"Check"]
[{"$f":"AccountInfo!$A61","v":59},{"$f":"IF(AccountInfo!$B61=\"\",\"\",AccountInfo!B61)","v":""},{"$nulls":7},"Check"]
[{"$f":"AccountInfo!$A62","v":60},{"$f":"IF(AccountInfo!$B62=\"\",\"\",AccountInfo!B62)","v":""},{"$nulls":7},"Check"]
[{"$f":"AccountInfo!$A63","v":61},{"$f":"IF(AccountInfo!$B63=\"\",\"\",AccountInfo!B63)","v":""},{"$nulls":7},"Check"]
[{"$f":"AccountInfo!$A64","v":62},{"$f":"IF(AccountInfo!$B64=\"\",\"\",AccountInfo!B64)","v":""},{"$nulls":7},"Check"]
[{"$f":"AccountInfo!$A65","v":63},{"$f":"IF(AccountInfo!$B65=\"\",\"\",AccountInfo!B65)","v":""},{"$nulls":7},"Check"]
[{"$f":"AccountInfo!$A66","v":64},{"$f":"IF(AccountInfo!$B66=\"\",\"\",AccountInfo!B66)","v":""},{"$nulls":7},"Check"]
[{"$f":"AccountInfo!$A67","v":65},{"$f":"IF(AccountInfo!$B67=\"\",\"\",AccountInfo!B67)","v":""},{"$nulls":7},"Check"]
[{"$f":"AccountInfo!$A68","v":66},{"$f":"IF(AccountInfo!$B68=\"\",\"\",AccountInfo!B68)","v":""},{"$nulls":7},{"$f":"IF(AND(D68<=E68, E68<=F68, F68<=G68, G68<=IF(H68=\"\", 1000000000000, H68)), \"Check\", \"Error\")","v":"Check"}]
[{"$f":"AccountInfo!$A69","v":67},{"$f":"IF(AccountInfo!$B69=\"\",\"\",AccountInfo!B69)","v":""},{"$nulls":7},"Check"]
[{"$f":"AccountInfo!$A70","v":68},{"$f":"IF(AccountInfo!$B70=\"\",\"\",AccountInfo!B70)","v":""},{"$nulls":7},"Check"]
[{"$f":"AccountInfo!$A71","v":69},{"$f":"IF(AccountInfo!$B71=\"\",\"\",AccountInfo!B71)","v":""},{"$nulls":7},"Check"]
[{"$f":"AccountInfo!$A72","v":70},{"$f":"IF(AccountInfo!$B72=\"\",\"\",AccountInfo!B72)","v":""},{"$nulls":7},"Check"]
[{"$f":"AccountInfo!$A73","v":71},{"$f":"IF(AccountInfo!$B73=\"\",\"\",AccountInfo!B73)","v":""},{"$nulls":7},"Check"]
[{"$f":"AccountInfo!$A74","v":72},{"$f":"IF(AccountInfo!$B74=\"\",\"\",AccountInfo!B74)","v":""},{"$nulls":7},"Check"]
[{"$f":"AccountInfo!$A75","v":73},{"$f":"IF(AccountInfo!$B75=\"\",\"\",AccountInfo!B75)","v":""},{"$nulls":7},"Check"]
[{"$f":"AccountInfo!$A76","v":74},{"$f":"IF(AccountInfo!$B76=\"\",\"\",AccountInfo!B76)","v":""},{"$nulls":7},"Check"]
[{"$f":"AccountInfo!$A77","v":75},{"$f":"IF(AccountInfo!$B77=\"\",\"\",AccountInfo!B77)","v":""},{"$nulls":7},"Check"]
[{"$f":"AccountInfo!$A78","v":76},{"$f":"IF(AccountInfo!$B78=\"\",\"\",AccountInfo!B78)","v":""},{"$nulls":7},"Check"]
[{"$f":"AccountInfo!$A79","v":77},{"$f":"IF(AccountInfo!$B79=\"\",\"\",AccountInfo!B79)","v":""},{"$nulls":7},"Check"]
[{"$f":"AccountInfo!$A80","v":78},{"$f":"IF(AccountInfo!$B80=\"\",\"\",AccountInfo!B80)","v":""},{"$nulls":7},"Check"]
[{"$f":"AccountInfo!$A81","v":79},{"$f":"IF(AccountInfo!$B81=\"\",\"\",AccountInfo!B81)","v":""},{"$nulls":7},"Check"]
[{"$f":"AccountInfo!$A82","v":80},{"$f":"IF(AccountInfo!$B82=\"\",\"\",AccountInfo!B82)","v":""},{"$nulls":7},"Check"]
[{"$f":"AccountInfo!$A83","v":81},{"$f":"IF(AccountInfo!$B83=\"\",\"\",AccountInfo!B83)","v":""},{"$nulls":7},"Check"]
[{"$f":"AccountInfo!$A84","v":82},{"$f":"IF(AccountInfo!$B84=\"\",\"\",AccountInfo!B84)","v":""},{"$nulls":7},"Check"]
[{"$f":"AccountInfo!$A85","v":83},{"$f":"IF(AccountInfo!$B85=\"\",\"\",AccountInfo!B85)","v":""},{"$nulls":7},"Check"]
[{"$f":"AccountInfo!$A86","v":84},{"$f":"IF(AccountInfo!$B86=\"\",\"\",AccountInfo!B86)","v":""},{"$nulls":7},"Check"]
[{"$f":"AccountInfo!$A87","v":85},{"$f":"IF(AccountInfo!$B87=\"\",\"\",AccountInfo!B87)","v":""},{"$nulls":7},"Check"]
[{"$f":"AccountInfo!$A88","v":86},{"$f":"IF(AccountInfo!$B88=\"\",\"\",AccountInfo!B88)","v":""},{"$nulls":7},"Check"]
[{"$f":"AccountInfo!$A89","v":87},{"$f":"IF(AccountInfo!$B89=\"\",\"\",AccountInfo!B89)","v":""},{"$nulls":7},"Check"]
[{"$f":"AccountInfo!$A90","v":88},{"$f":"IF(AccountInfo!$B90=\"\",\"\",AccountInfo!B90)","v":""},{"$nulls":7},"Check"]
[{"$f":"AccountInfo!$A91","v":89},{"$f":"IF(AccountInfo!$B91=\"\",\"\",AccountInfo!B91)","v":""},{"$nulls":7},"Check"]
[{"$f":"AccountInfo!$A92","v":90},{"$f":"IF(AccountInfo!$B92=\"\",\"\",AccountInfo!B92)","v":""},{"$nulls":7},"Check"]
[{"$f":"AccountInfo!$A93","v":91},{"$f":"IF(AccountInfo!$B93=\"\",\"\",AccountInfo!B93)","v":""},{"$nulls":7},"Check"]
[{"$f":"AccountInfo!$A94","v":92},{"$f":"IF(AccountInfo!$B94=\"\",\"\",AccountInfo!B94)","v":""},{"$nulls":7},"Check"]
[{"$f":"AccountInfo!$A95","v":93},{"$f":"IF(AccountInfo!$B95=\"\",\"\",AccountInfo!B95)","v":""},{"$nulls":7},"Check"]
[{"$f":"AccountInfo!$A96","v":94},{"$f":"IF(AccountInfo!$B96=\"\",\"\",AccountInfo!B96)","v":""},{"$nulls":7},"Check"]
[{"$f":"AccountInfo!$A97","v":95},{"$f":"IF(AccountInfo!$B97=\"\",\"\",AccountInfo!B97)","v":""},{"$nulls":7},"Check"]
[{"$f":"AccountInfo!$A98","v":96},{"$f":"IF(AccountInfo!$B98=\"\",\"\",AccountInfo!B98)","v":""},{"$nulls":7},"Check"]
[{"$f":"AccountInfo!$A99","v":97},{"$f":"IF(AccountInfo!$B99=\"\",\"\",AccountInfo!B99)","v":""},{"$nulls":7},"Check"]
[{"$f":"AccountInfo!$A100","v":98},{"$f":"IF(AccountInfo!$B100=\"\",\"\",AccountInfo!B100)","v":""},{"$nulls":7},"Check"]
[{"$f":"AccountInfo!$A101","v":99},{"$f":"IF(AccountInfo!$B101=\"\",\"\",AccountInfo!B101)","v":""},{"$nulls":7},"Check"]
[{"$f":"AccountInfo!$A102","v":100},{"$f":"IF(AccountInfo!$B102=\"\",\"\",AccountInfo!B102)","v":""},{"$nulls":7},"Check"]
[{"$f":"AccountInfo!$A103","v":101},{"$f":"IF(AccountInfo!$B103=\"\",\"\",AccountInfo!B103)","v":""},{"$nulls":7},"Check"]
[{"$f":"AccountInfo!$A104","v":102},{"$f":"IF(AccountInfo!$B104=\"\",\"\",AccountInfo!B104)","v":""},{"$nulls":7},"Check"]
[{"$f":"AccountInfo!$A105","v":103},{"$f":"IF(AccountInfo!$B105=\"\",\"\",AccountInfo!B105)","v":""},{"$nulls":7},"Check"]
[{"$f":"AccountInfo!$A106","v":104},{"$f":"IF(AccountInfo!$B106=\"\",\"\",AccountInfo!B106)","v":""},{"$nulls":7},"Check"]
[{"$f":"AccountInfo!$A107","v":105},{"$f":"IF(AccountInfo!$B107=\"\",\"\",AccountInfo!B107)","v":""},{"$nulls":7},"Check"]
[{"$f":"AccountInfo!$A108","v":106},{"$f":"IF(AccountInfo!$B108=\"\",\"\",AccountInfo!B108)","v":""},{"$nulls":7},"Check"]
[{"$f":"AccountInfo!$A109","v":107},{"$f":"IF(AccountInfo!$B109=\"\",\"\",AccountInfo!B109)","v":""},{"$nulls":7},"Check"]
[{"$f":"AccountInfo!$A110","v":108},{"$f":"IF(AccountInfo!$B110=\"\",\"\",AccountInfo!B110)","v":""},{"$nulls":7},"Check"]
[{"$f":"AccountInfo!$A111","v":109},{"$f":"IF(AccountInfo!$B111=\"\",\"\",AccountInfo!B111)","v":""},{"$nulls":7},"Check"]
[{"$f":"AccountInfo!$A112","v":110},{"$f":"IF(AccountInfo!$B112=\"\",\"\",AccountInfo!B112)","v":""},{"$nulls":7},"Check"]
[{"$f":"AccountInfo!$A113","v":111},{"$f":"IF(AccountInfo!$B113=\"\",\"\",AccountInfo!B113)","v":""},{"$nulls":7},"Check"]
[{"$f":"AccountInfo!$A114","v":112},{"$f":"IF(AccountInfo!$B114=\"\",\"\",AccountInfo!B114)","v":""},{"$nulls":7},"Check"]
[{"$f":"AccountInfo!$A115","v":113},{"$f":"IF(AccountInfo!$B115=\"\",\"\",AccountInfo!B115)","v":""},{"$nulls":7},"Check"]
[{"$f":"AccountInfo!$A116","v":114},{"$f":"IF(AccountInfo!$B116=\"\",\"\",AccountInfo!B116)","v":""},{"$nulls":7},"Check"]
[{"$f":"AccountInfo!$A117","v":115},{"$f":"IF(AccountInfo!$B117=\"\",\"\",AccountInfo!B117)","v":""},{"$nulls":7},"Check"]
[{"$f":"AccountInfo!$A118","v":116},{"$f":"IF(AccountInfo!$B118=\"\",\"\",AccountInfo!B118)","v":""},{"$nulls":7},"Check"]
[{"$f":"AccountInfo!$A119","v":117},{"$f":"IF(AccountInfo!$B119=\"\",\"\",AccountInfo!B119)","v":""},{"$nulls":7},"Check"]
[{"$f":"AccountInfo!$A120","v":118},{"$f":"IF(AccountInfo!$B120=\"\",\"\",AccountInfo!B120)","v":""},{"$nulls":7},"Check"]
[{"$f":"AccountInfo!$A121","v":119},{"$f":"IF(AccountInfo!$B121=\"\",\"\",AccountInfo!B121)","v":""},{"$nulls":7},"Check"]
[{"$f":"AccountInfo!$A122","v":120},{"$f":"IF(AccountInfo!$B122=\"\",\"\",AccountInfo!B122)","v":""},{"$nulls":7},"Check"]
[{"$f":"AccountInfo!$A123","v":121},{"$f":"IF(AccountInfo!$B123=\"\",\"\",AccountInfo!B123)","v":""},{"$nulls":7},"Check"]
[{"$f":"AccountInfo!$A124","v":122},{"$f":"IF(AccountInfo!$B124=\"\",\"\",AccountInfo!B124)","v":""},{"$nulls":7},"Check"]
[{"$f":"AccountInfo!$A125","v":123},{"$f":"IF(AccountInfo!$B125=\"\",\"\",AccountInfo!B125)","v":""},{"$nulls":7},"Check"]
[{"$f":"AccountInfo!$A126","v":124},{"$f":"IF(AccountInfo!$B126=\"\",\"\",AccountInfo!B126)","v":""},{"$nulls":7},"Check"]
[{"$f":"AccountInfo!$A127","v":125},{"$f":"IF(AccountInfo!$B127=\"\",\"\",AccountInfo!B127)","v":""},{"$nulls":7},"Check"]
[{"$f":"AccountInfo!$A128","v":126},{"$f":"IF(AccountInfo!$B128=\"\",\"\",AccountInfo!B128)","v":""},{"$nulls":7},"Check"]
[{"$f":"AccountInfo!$A129","v":127},{"$f":"IF(AccountInfo!$B129=\"\",\"\",AccountInfo!B129)","v":""},{"$nulls":7},"Check"]
[{"$f":"AccountInfo!$A130","v":128},{"$f":"IF(AccountInfo!$B130=\"\",\"\",AccountInfo!B130)","v":""},{"$nulls":7},"Check"]
[{"$f":"AccountInfo!$A131","v":129},{"$f":"IF(AccountInfo!$B131=\"\",\"\",AccountInfo!B131)","v":""},{"$nulls":7},"Check"]
[{"$f":"AccountInfo!$A132","v":130},{"$f":"IF(AccountInfo!$B132=\"\",\"\",AccountInfo!B132)","v":""},{"$nulls":7},{"$f":"IF(AND(D132<=E132, E132<=F132, F132<=G132, G132<=IF(H132=\"\", 1000000000000, H132)), \"Check\", \"Error\")","v":"Check"}]
[{"$f":"AccountInfo!$A133","v":131},{"$f":"IF(AccountInfo!$B133=\"\",\"\",AccountInfo!B133)","v":""},{"$nulls":7},"Check"]
[{"$f":"AccountInfo!$A134","v":132},{"$f":"IF(AccountInfo!$B134=\"\",\"\",AccountInfo!B134)","v":""},{"$nulls":7},"Check"]
[{"$f":"AccountInfo!$A135","v":133},{"$f":"IF(AccountInfo!$B135=\"\",\"\",AccountInfo!B135)","v":""},{"$nulls":7},"Check"]
[{"$f":"AccountInfo!$A136","v":134},{"$f":"IF(AccountInfo!$B136=\"\",\"\",AccountInfo!B136)","v":""},{"$nulls":7},"Check"]
[{"$f":"AccountInfo!$A137","v":135},{"$f":"IF(AccountInfo!$B137=\"\",\"\",AccountInfo!B137)","v":""},{"$nulls":7},"Check"]
[{"$f":"AccountInfo!$A138","v":136},{"$f":"IF(AccountInfo!$B138=\"\",\"\",AccountInfo!B138)","v":""},{"$nulls":7},"Check"]
[{"$f":"AccountInfo!$A139","v":137},{"$f":"IF(AccountInfo!$B139=\"\",\"\",AccountInfo!B139)","v":""},{"$nulls":7},"Check"]
[{"$f":"AccountInfo!$A140","v":138},{"$f":"IF(AccountInfo!$B140=\"\",\"\",AccountInfo!B140)","v":""},{"$nulls":7},"Check"]
[{"$f":"AccountInfo!$A141","v":139},{"$f":"IF(AccountInfo!$B141=\"\",\"\",AccountInfo!B141)","v":""},{"$nulls":7},"Check"]
[{"$f":"AccountInfo!$A142","v":140},{"$f":"IF(AccountInfo!$B142=\"\",\"\",AccountInfo!B142)","v":""},{"$nulls":7},"Check"]
[{"$f":"AccountInfo!$A143","v":141},{"$f":"IF(AccountInfo!$B143=\"\",\"\",AccountInfo!B143)","v":""},{"$nulls":7},"Check"]
[{"$f":"AccountInfo!$A144","v":142},{"$f":"IF(AccountInfo!$B144=\"\",\"\",AccountInfo!B144)","v":""},{"$nulls":7},"Check"]
[{"$f":"AccountInfo!$A145","v":143},{"$f":"IF(AccountInfo!$B145=\"\",\"\",AccountInfo!B145)","v":""},{"$nulls":7},"Check"]
[{"$f":"AccountInfo!$A146","v":144},{"$f":"IF(AccountInfo!$B146=\"\",\"\",AccountInfo!B146)","v":""},{"$nulls":7},"Check"]
[{"$f":"AccountInfo!$A147","v":145},{"$f":"IF(AccountInfo!$B147=\"\",\"\",AccountInfo!B147)","v":""},{"$nulls":7},"Check"]
[{"$f":"AccountInfo!$A148","v":146},{"$f":"IF(AccountInfo!$B148=\"\",\"\",AccountInfo!B148)","v":""},{"$nulls":7},"Check"]
[{"$f":"AccountInfo!$A149","v":147},{"$f":"IF(AccountInfo!$B149=\"\",\"\",AccountInfo!B149)","v":""},{"$nulls":7},"Check"]
[{"$f":"AccountInfo!$A150","v":148},{"$f":"IF(AccountInfo!$B150=\"\",\"\",AccountInfo!B150)","v":""},{"$nulls":7},"Check"]
[{"$f":"AccountInfo!$A151","v":149},{"$f":"IF(AccountInfo!$B151=\"\",\"\",AccountInfo!B151)","v":""},{"$nulls":7},"Check"]
[{"$f":"AccountInfo!$A152","v":150},{"$f":"IF(AccountInfo!$B152=\"\",\"\",AccountInfo!B152)","v":""},{"$nulls":7},"Check"]
[{"$f":"AccountInfo!$A153","v":151},{"$f":"IF(AccountInfo!$B153=\"\",\"\",AccountInfo!B153)","v":""},{"$nulls":7},"Check"]
[{"$f":"AccountInfo!$A154","v":152},{"$f":"IF(AccountInfo!$B154=\"\",\"\",AccountInfo!B154)","v":""},{"$nulls":7},"Check"]
[{"$f":"AccountInfo!$A155","v":153},{"$f":"IF(AccountInfo!$B155=\"\",\"\",AccountInfo!B155)","v":""},{"$nulls":7},"Check"]
[{"$f":"AccountInfo!$A156","v":154},{"$f":"IF(AccountInfo!$B156=\"\",\"\",AccountInfo!B156)","v":""},{"$nulls":7},"Check"]
[{"$f":"AccountInfo!$A157","v":155},{"$f":"IF(AccountInfo!$B157=\"\",\"\",AccountInfo!B157)","v":""},{"$nulls":7},"Check"]
[{"$f":"AccountInfo!$A158","v":156},{"$f":"IF(AccountInfo!$B158=\"\",\"\",AccountInfo!B158)","v":""},{"$nulls":7},"Check"]
[{"$f":"AccountInfo!$A159","v":157},{"$f":"IF(AccountInfo!$B159=\"\",\"\",AccountInfo!B159)","v":""},{"$nulls":7},"Check"]
[{"$f":"AccountInfo!$A160","v":158},{"$f":"IF(AccountInfo!$B160=\"\",\"\",AccountInfo!B160)","v":""},{"$nulls":7},"Check"]
[{"$f":"AccountInfo!$A161","v":159},{"$f":"IF(AccountInfo!$B161=\"\",\"\",AccountInfo!B161)","v":""},{"$nulls":7},"Check"]
[{"$f":"AccountInfo!$A162","v":160},{"$f":"IF(AccountInfo!$B162=\"\",\"\",AccountInfo!B162)","v":""},{"$nulls":7},"Check"]
[{"$f":"AccountInfo!$A163","v":161},{"$f":"IF(AccountInfo!$B163=\"\",\"\",AccountInfo!B163)","v":""},{"$nulls":7},"Check"]
[{"$f":"AccountInfo!$A164","v":162},{"$f":"IF(AccountInfo!$B164=\"\",\"\",AccountInfo!B164)","v":""},{"$nulls":7},"Check"]
[{"$f":"AccountInfo!$A165","v":163},{"$f":"IF(AccountInfo!$B165=\"\",\"\",AccountInfo!B165)","v":""},{"$nulls":7},"Check"]
[{"$f":"AccountInfo!$A166","v":164},{"$f":"IF(AccountInfo!$B166=\"\",\"\",AccountInfo!B166)","v":""},{"$nulls":7},"Check"]
[{"$f":"AccountInfo!$A167","v":165},{"$f":"IF(AccountInfo!$B167=\"\",\"\",AccountInfo!B167)","v":""},{"$nulls":7},"Check"]
[{"$f":"AccountInfo!$A168","v":166},{"$f":"IF(AccountInfo!$B168=\"\",\"\",AccountInfo!B168)","v":""},{"$nulls":7},"Check"]
[{"$f":"AccountInfo!$A169","v":167},{"$f":"IF(AccountInfo!$B169=\"\",\"\",AccountInfo!B169)","v":""},{"$nulls":7},"Check"]
[{"$f":"AccountInfo!$A170","v":168},{"$f":"IF(AccountInfo!$B170=\"\",\"\",AccountInfo!B170)","v":""},{"$nulls":7},"Check"]
[{"$f":"AccountInfo!$A171","v":169},{"$f":"IF(AccountInfo!$B171=\"\",\"\",AccountInfo!B171)","v":""},{"$nulls":7},"Check"]
[{"$f":"AccountInfo!$A172","v":170},{"$f":"IF(AccountInfo!$B172=\"\",\"\",AccountInfo!B172)","v":""},{"$nulls":7},"Check"]
[{"$f":"AccountInfo!$A173","v":171},{"$f":"IF(AccountInfo!$B173=\"\",\"\",AccountInfo!B173)","v":""},{"$nulls":7},"Check"]
[{"$f":"AccountInfo!$A174","v":172},{"$f":"IF(AccountInfo!$B174=\"\",\"\",AccountInfo!B174)","v":""},{"$nulls":7},"Check"]
[{"$f":"AccountInfo!$A175","v":173},{"$f":"IF(AccountInfo!$B175=\"\",\"\",AccountInfo!B175)","v":""},{"$nulls":7},"Check"]
[{"$f":"AccountInfo!$A176","v":174},{"$f":"IF(AccountInfo!$B176=\"\",\"\",AccountInfo!B176)","v":""},{"$nulls":7},"Check"]
[{"$f":"AccountInfo!$A177","v":175},{"$f":"IF(AccountInfo!$B177=\"\",\"\",AccountInfo!B177)","v":""},{"$nulls":7},"Check"]
[{"$f":"AccountInfo!$A178","v":176},{"$f":"IF(AccountInfo!$B178=\"\",\"\",AccountInfo!B178)","v":""},{"$nulls":7},"Check"]
[{"$f":"AccountInfo!$A179","v":177},{"$f":"IF(AccountInfo!$B179=\"\",\"\",AccountInfo!B179)","v":""},{"$nulls":7},"Check"]
[{"$f":"AccountInfo!$A180","v":178},{"$f":"IF(AccountInfo!$B180=\"\",\"\",AccountInfo!B180)","v":""},{"$nulls":7},"Check"]
[{"$f":"AccountInfo!$A181","v":179},{"$f":"IF(AccountInfo!$B181=\"\",\"\",AccountInfo!B181)","v":""},{"$nulls":7},"Check"]
[{"$f":"AccountInfo!$A182","v":180},{"$f":"IF(AccountInfo!$B182=\"\",\"\",AccountInfo!B182)","v":""},{"$nulls":7},"Check"]
[{"$f":"AccountInfo!$A183","v":181},{"$f":"IF(AccountInfo!$B183=\"\",\"\",AccountInfo!B183)","v":""},{"$nulls":7},"Check"]
[{"$f":"AccountInfo!$A184","v":182},{"$f":"IF(AccountInfo!$B184=\"\",\"\",AccountInfo!B184)","v":""},{"$nulls":7},"Check"]
[{"$f":"AccountInfo!$A185","v":183},{"$f":"IF(AccountInfo!$B185=\"\",\"\",AccountInfo!B185)","v":""},{"$nulls":7},"Check"]
[{"$f":"AccountInfo!$A186","v":184},{"$f":"IF(AccountInfo!$B186=\"\",\"\",AccountInfo!B186)","v":""},{"$nulls":7},"Check"]
[{"$f":"AccountInfo!$A187","v":185},{"$f":"IF(AccountInfo!$B187=\"\",\"\",AccountInfo!B187)","v":""},{"$nulls":7},"Check"]
[{"$f":"AccountInfo!$A188","v":186},{"$f":"IF(AccountInfo!$B188=\"\",\"\",AccountInfo!B188)","v":""},{"$nulls":7},"Check"]
[{"$f":"AccountInfo!$A189","v":187},{"$f":"IF(AccountInfo!$B189=\"\",\"\",AccountInfo!B189)","v":""},{"$nulls":7},"Check"]
[{"$f":"AccountInfo!$A190","v":188},{"$f":"IF(AccountInfo!$B190=\"\",\"\",AccountInfo!B190)","v":""},{"$nulls":7},"Check"]
[{"$f":"AccountInfo!$A191","v":189},{"$f":"IF(AccountInfo!$B191=\"\",\"\",AccountInfo!B191)","v":""},{"$nulls":7},"Check"]
[{"$f":"AccountInfo!$A192","v":190},{"$f":"IF(AccountInfo!$B192=\"\",\"\",AccountInfo!B192)","v":""},{"$nulls":7},"Check"]
[{"$f":"AccountInfo!$A193","v":191},{"$f":"IF(AccountInfo!$B193=\"\",\"\",AccountInfo!B193)","v":""},{"$nulls":7},"Check"]
[{"$f":"AccountInfo!$A194","v":192},{"$f":"IF(AccountInfo!$B194=\"\",\"\",AccountInfo!B194)","v":""},{"$nulls":7},"Check"]
[{"$f":"AccountInfo!$A195","v":193},{"$f":"IF(AccountInfo!$B195=\"\",\"\",AccountInfo!B195)","v":""},{"$nulls":7},"Check"]
[{"$f":"AccountInfo!$A196","v":194},{"$f":"IF(AccountInfo!$B196=\"\",\"\",AccountInfo!B196)","v":""},{"$nulls":7},{"$f":"IF(AND(D196<=E196, E196<=F196, F196<=G196, G196<=IF(H196=\"\", 1000000000000, H196)), \"Check\", \"Error\")","v":"Check"}]
[{"$f":"AccountInfo!$A197","v":195},{"$f":"IF(AccountInfo!$B197=\"\",\"\",AccountInfo!B197)","v":""},{"$nulls":7},"Check"]
[{"$f":"AccountInfo!$A198","v":196},{"$f":"IF(AccountInfo!$B198=\"\",\"\",AccountInfo!B198)","v":""},{"$nulls":7},"Check"]
[{"$f":"AccountInfo!$A199","v":197},{"$f":"IF(AccountInfo!$B199=\"\",\"\",AccountInfo!B199)","v":""},{"$nulls":7},"Check"]
[{"$f":"AccountInfo!$A200","v":198},{"$f":"IF(AccountInfo!$B200=\"\",\"\",AccountInfo!B200)","v":""},{"$nulls":7},"Check"]
[{"$f":"AccountInfo!$A201","v":199},{"$f":"IF(AccountInfo!$B201=\"\",\"\",AccountInfo!B201)","v":""},{"$nulls":7},"Check"]
[{"$f":"AccountInfo!$A202","v":200},{"$f":"IF(AccountInfo!$B202=\"\",\"\",AccountInfo!B202)","v":""},{"$nulls":7},"Check"]
[{"$f":"AccountInfo!$A203","v":201},{"$f":"IF(AccountInfo!$B203=\"\",\"\",AccountInfo!B203)","v":""},{"$nulls":7},"Check"]
[{"$f":"AccountInfo!$A204","v":202},{"$f":"IF(AccountInfo!$B204=\"\",\"\",AccountInfo!B204)","v":""},{"$nulls":7},"Check"]
[{"$f":"AccountInfo!$A205","v":203},{"$f":"IF(AccountInfo!$B205=\"\",\"\",AccountInfo!B205)","v":""},{"$nulls":7},"Check"]
[{"$f":"AccountInfo!$A206","v":204},{"$f":"IF(AccountInfo!$B206=\"\",\"\",AccountInfo!B206)","v":""},{"$nulls":7},"Check"]
[{"$f":"AccountInfo!$A207","v":205},{"$f":"IF(AccountInfo!$B207=\"\",\"\",AccountInfo!B207)","v":""},{"$nulls":7},"Check"]
[{"$f":"AccountInfo!$A208","v":206},{"$f":"IF(AccountInfo!$B208=\"\",\"\",AccountInfo!B208)","v":""},{"$nulls":7},"Check"]
[{"$f":"AccountInfo!$A209","v":207},{"$f":"IF(AccountInfo!$B209=\"\",\"\",AccountInfo!B209)","v":""},{"$nulls":7},"Check"]
[{"$f":"AccountInfo!$A210","v":208},{"$f":"IF(AccountInfo!$B210=\"\",\"\",AccountInfo!B210)","v":""},{"$nulls":7},"Check"]
[{"$f":"AccountInfo!$A211","v":209},{"$f":"IF(AccountInfo!$B211=\"\",\"\",AccountInfo!B211)","v":""},{"$nulls":7},"Check"]
[{"$f":"AccountInfo!$A212","v":210},{"$f":"IF(AccountInfo!$B212=\"\",\"\",AccountInfo!B212)","v":""},{"$nulls":7},"Check"]
[{"$f":"AccountInfo!$A213","v":211},{"$f":"IF(AccountInfo!$B213=\"\",\"\",AccountInfo!B213)","v":""},{"$nulls":7},"Check"]
[{"$f":"AccountInfo!$A214","v":212},{"$f":"IF(AccountInfo!$B214=\"\",\"\",AccountInfo!B214)","v":""},{"$nulls":7},"Check"]
[{"$f":"AccountInfo!$A215","v":213},{"$f":"IF(AccountInfo!$B215=\"\",\"\",AccountInfo!B215)","v":""},{"$nulls":7},"Check"]
[{"$f":"AccountInfo!$A216","v":214},{"$f":"IF(AccountInfo!$B216=\"\",\"\",AccountInfo!B216)","v":""},{"$nulls":7},"Check"]
[{"$f":"AccountInfo!$A217","v":215},{"$f":"IF(AccountInfo!$B217=\"\",\"\",AccountInfo!B217)","v":""},{"$nulls":7},"Check"]
[{"$f":"AccountInfo!$A218","v":216},{"$f":"IF(AccountInfo!$B218=\"\",\"\",AccountInfo!B218)","v":""},{"$nulls":7},"Check"]
[{"$f":"AccountInfo!$A219","v":217},{"$f":"IF(AccountInfo!$B219=\"\",\"\",AccountInfo!B219)","v":""},{"$nulls":7},"Check"]
[{"$f":"AccountInfo!$A220","v":218},{"$f":"IF(AccountInfo!$B220=\"\",\"\",AccountInfo!B220)","v":""},{"$nulls":7},"Check"]
[{"$f":"AccountInfo!$A221","v":219},{"$f":"IF(AccountInfo!$B221=\"\",\"\",AccountInfo!B221)","v":""},{"$nulls":7},"Check"]
[{"$f":"AccountInfo!$A222","v":220},{"$f":"IF(AccountInfo!$B222=\"\",\"\",AccountInfo!B222)","v":""},{"$nulls":7},"Check"]
[{"$f":"AccountInfo!$A223","v":221},{"$f":"IF(AccountInfo!$B223=\"\",\"\",AccountInfo!B223)","v":""},{"$nulls":7},"Check"]
[{"$f":"AccountInfo!$A224","v":222},{"$f":"IF(AccountInfo!$B224=\"\",\"\",AccountInfo!B224)","v":""},{"$nulls":7},"Check"]
[{"$f":"AccountInfo!$A225","v":223},{"$f":"IF(AccountInfo!$B225=\"\",\"\",AccountInfo!B225)","v":""},{"$nulls":7},"Check"]
[{"$f":"AccountInfo!$A226","v":224},{"$f":"IF(AccountInfo!$B226=\"\",\"\",AccountInfo!B226)","v":""},{"$nulls":7},"Check"]
[{"$f":"AccountInfo!$A227","v":225},{"$f":"IF(AccountInfo!$B227=\"\",\"\",AccountInfo!B227)","v":""},{"$nulls":7},"Check"]
[{"$f":"AccountInfo!$A228","v":226},{"$f":"IF(AccountInfo!$B228=\"\",\"\",AccountInfo!B228)","v":""},{"$nulls":7},"Check"]
[{"$f":"AccountInfo!$A229","v":227},{"$f":"IF(AccountInfo!$B229=\"\",\"\",AccountInfo!B229)","v":""},{"$nulls":7},"Check"]
[{"$f":"AccountInfo!$A230","v":228},{"$f":"IF(AccountInfo!$B230=\"\",\"\",AccountInfo!B230)","v":""},{"$nulls":7},"Check"]
[{"$f":"AccountInfo!$A231","v":229},{"$f":"IF(AccountInfo!$B231=\"\",\"\",AccountInfo!B231)","v":""},{"$nulls":7},"Check"]
[{"$f":"AccountInfo!$A232","v":230},{"$f":"IF(AccountInfo!$B232=\"\",\"\",AccountInfo!B232)","v":""},{"$nulls":7},"Check"]
[{"$f":"AccountInfo!$A233","v":231},{"$f":"IF(AccountInfo!$B233=\"\",\"\",AccountInfo!B233)","v":""},{"$nulls":7},"Check"]
[{"$f":"AccountInfo!$A234","v":232},{"$f":"IF(AccountInfo!$B234=\"\",\"\",AccountInfo!B234)","v":""},{"$nulls":7},"Check"]
[{"$f":"AccountInfo!$A235","v":233},{"$f":"IF(AccountInfo!$B235=\"\",\"\",AccountInfo!B235)","v":""},{"$nulls":7},"Check"]
[{"$f":"AccountInfo!$A236","v":234},{"$f":"IF(AccountInfo!$B236=\"\",\"\",AccountInfo!B236)","v":""},{"$nulls":7},"Check"]
[{"$f":"AccountInfo!$A237","v":235},{"$f":"IF(AccountInfo!$B237=\"\",\"\",AccountInfo!B237)","v":""},{"$nulls":7},"Check"]
[{"$f":"AccountInfo!$A238","v":236},{"$f":"IF(AccountInfo!$B238=\"\",\"\",AccountInfo!B238)","v":""},{"$nulls":7},"Check"]
[{"$f":"AccountInfo!$A239","v":237},{"$f":"IF(AccountInfo!$B239=\"\",\"\",AccountInfo!B239)","v":""},{"$nulls":7},"Check"]
[{"$f":"AccountInfo!$A240","v":238},{"$f":"IF(AccountInfo!$B240=\"\",\"\",AccountInfo!B240)","v":""},{"$nulls":7},"Check"]
[{"$f":"AccountInfo!$A241","v":239},{"$f":"IF(AccountInfo!$B241=\"\",\"\",AccountInfo!B241)","v":""},{"$nulls":7},"Check"]
[{"$f":"AccountInfo!$A242","v":240},{"$f":"IF(AccountInfo!$B242=\"\",\"\",AccountInfo!B242)","v":""},{"$nulls":7},"Check"]
[{"$f":"AccountInfo!$A243","v":241},{"$f":"IF(AccountInfo!$B243=\"\",\"\",AccountInfo!B243)","v":""},{"$nulls":7},"Check"]
[{"$f":"AccountInfo!$A244","v":242},{"$f":"IF(AccountInfo!$B244=\"\",\"\",AccountInfo!B244)","v":""},{"$nulls":7},"Check"]
[{"$f":"AccountInfo!$A245","v":243},{"$f":"IF(AccountInfo!$B245=\"\",\"\",AccountInfo!B245)","v":""},{"$nulls":7},"Check"]
[{"$f":"AccountInfo!$A246","v":244},{"$f":"IF(AccountInfo!$B246=\"\",\"\",AccountInfo!B246)","v":""},{"$nulls":7},"Check"]
[{"$f":"AccountInfo!$A247","v":245},{"$f":"IF(AccountInfo!$B247=\"\",\"\",AccountInfo!B247)","v":""},{"$nulls":7},"Check"]
[{"$f":"AccountInfo!$A248","v":246},{"$f":"IF(AccountInfo!$B248=\"\",\"\",AccountInfo!B248)","v":""},{"$nulls":7},"Check"]
[{"$f":"AccountInfo!$A249","v":247},{"$f":"IF(AccountInfo!$B249=\"\",\"\",AccountInfo!B249)","v":""},{"$nulls":7},"Check"]
[{"$f":"AccountInfo!$A250","v":248},{"$f":"IF(AccountInfo!$B250=\"\",\"\",AccountInfo!B250)","v":""},{"$nulls":7},"Check"]
[{"$f":"AccountInfo!$A251","v":249},{"$f":"IF(AccountInfo!$B251=\"\",\"\",AccountInfo!B251)","v":""},{"$nulls":7},"Check"]
[{"$f":"AccountInfo!$A252","v":250},{"$f":"IF(AccountInfo!$B252=\"\",\"\",AccountInfo!B252)","v":""},{"$nulls":7},"Check"]
[{"$f":"AccountInfo!$A253","v":251},{"$f":"IF(AccountInfo!$B253=\"\",\"\",AccountInfo!B253)","v":""},{"$nulls":7},"Check"]
[{"$f":"AccountInfo!$A254","v":252},{"$f":"IF(AccountInfo!$B254=\"\",\"\",AccountInfo!B254)","v":""},{"$nulls":7},"Check"]
[{"$f":"AccountInfo!$A255","v":253},{"$f":"IF(AccountInfo!$B255=\"\",\"\",AccountInfo!B255)","v":""},{"$nulls":7},"Check"]
[{"$f":"AccountInfo!$A256","v":254},{"$f":"IF(AccountInfo!$B256=\"\",\"\",AccountInfo!B256)","v":""},{"$nulls":7},"Check"]
[{"$f":"AccountInfo!$A257","v":255},{"$f":"IF(AccountInfo!$B257=\"\",\"\",AccountInfo!B257)","v":""},{"$nulls":7},"Check"]
[{"$f":"AccountInfo!$A258","v":256},{"$f":"IF(AccountInfo!$B258=\"\",\"\",AccountInfo!B258)","v":""},{"$nulls":7},"Check"]
[{"$f":"AccountInfo!$A259","v":257},{"$f":"IF(AccountInfo!$B259=\"\",\"\",AccountInfo!B259)","v":""},{"$nulls":7},"Check"]
[{"$f":"AccountInfo!$A260","v":258},{"$f":"IF(AccountInfo!$B260=\"\",\"\",AccountInfo!B260)","v":""},{"$nulls":7},{"$f":"IF(AND(D260<=E260, E260<=F260, F260<=G260, G260<=IF(H260=\"\", 1000000000000, H260)), \"Check\", \"Error\")","v":"Check"}]
[{"$f":"AccountInfo!$A261","v":259},{"$f":"IF(AccountInfo!$B261=\"\",\"\",AccountInfo!B261)","v":""},{"$nulls":7},"Check"]
[{"$f":"AccountInfo!$A262","v":260},{"$f":"IF(AccountInfo!$B262=\"\",\"\",AccountInfo!B262)","v":""},{"$nulls":7},"Check"]
[{"$f":"AccountInfo!$A263","v":261},{"$f":"IF(AccountInfo!$B263=\"\",\"\",AccountInfo!B263)","v":""},{"$nulls":7},"Check"]
[{"$f":"AccountInfo!$A264","v":262},{"$f":"IF(AccountInfo!$B264=\"\",\"\",AccountInfo!B264)","v":""},{"$nulls":7},"Check"]
[{"$f":"AccountInfo!$A265","v":263},{"$f":"IF(AccountInfo!$B265=\"\",\"\",AccountInfo!B265)","v":""},{"$nulls":7},"Check"]
[{"$f":"AccountInfo!$A266","v":264},{"$f":"IF(AccountInfo!$B266=\"\",\"\",AccountInfo!B266)","v":""},{"$nulls":7},"Check"]
[{"$f":"AccountInfo!$A267","v":265},{"$f":"IF(AccountInfo!$B267=\"\",\"\",AccountInfo!B267)","v":""},{"$nulls":7},"Check"]
[{"$f":"AccountInfo!$A268","v":266},{"$f":"IF(AccountInfo!$B268=\"\",\"\",AccountInfo!B268)","v":""},{"$nulls":7},"Check"]
[{"$f":"AccountInfo!$A269","v":267},{"$f":"IF(AccountInfo!$B269=\"\",\"\",AccountInfo!B269)","v":""},{"$nulls":7},"Check"]
[{"$f":"AccountInfo!$A270","v":268},{"$f":"IF(AccountInfo!$B270=\"\",\"\",AccountInfo!B270)","v":""},{"$nulls":7},"Check"]
[{"$f":"AccountInfo!$A271","v":269},{"$f":"IF(AccountInfo!$B271=\"\",\"\",AccountInfo!B271)","v":""},{"$nulls":7},"Check"]
[{"$f":"AccountInfo!$A272","v":270},{"$f":"IF(AccountInfo!$B272=\"\",\"\",AccountInfo!B272)","v":""},{"$nulls":7},"Check"]
[{"$f":"AccountInfo!$A273","v":271},{"$f":"IF(AccountInfo!$B273=\"\",\"\",AccountInfo!B273)","v":""},{"$nulls":7},"Check"]
[{"$f":"AccountInfo!$A274","v":272},{"$f":"IF(AccountInfo!$B274=\"\",\"\",AccountInfo!B274)","v":""},{"$nulls":7},"Check"]
[{"$f":"AccountInfo!$A275","v":273},{"$f":"IF(AccountInfo!$B275=\"\",\"\",AccountInfo!B275)","v":""},{"$nulls":7},"Check"]
[{"$f":"AccountInfo!$A276","v":274},{"$f":"IF(AccountInfo!$B276=\"\",\"\",AccountInfo!B276)","v":""},{"$nulls":7},"Check"]
[{"$f":"AccountInfo!$A277","v":275},{"$f":"IF(AccountInfo!$B277=\"\",\"\",AccountInfo!B277)","v":""},{"$nulls":7},"Check"]
[{"$f":"AccountInfo!$A278","v":276},{"$f":"IF(AccountInfo!$B278=\"\",\"\",AccountInfo!B278)","v":""},{"$nulls":7},"Check"]
[{"$f":"AccountInfo!$A279","v":277},{"$f":"IF(AccountInfo!$B279=\"\",\"\",AccountInfo!B279)","v":""},{"$nulls":7},"Check"]
[{"$f":"AccountInfo!$A280","v":278},{"$f":"IF(AccountInfo!$B280=\"\",\"\",AccountInfo!B280)","v":""},{"$nulls":7},"Check"]
[{"$f":"AccountInfo!$A281","v":279},{"$f":"IF(AccountInfo!$B281=\"\",\"\",AccountInfo!B281)","v":""},{"$nulls":7},"Check"]
[{"$f":"AccountInfo!$A282","v":280},{"$f":"IF(AccountInfo!$B282=\"\",\"\",AccountInfo!B282)","v":""},{"$nulls":7},"Check"]
[{"$f":"AccountInfo!$A283","v":281},{"$f":"IF(AccountInfo!$B283=\"\",\"\",AccountInfo!B283)","v":""},{"$nulls":7},"Check"]
[{"$f":"AccountInfo!$A284","v":282},{"$f":"IF(AccountInfo!$B284=\"\",\"\",AccountInfo!B284)","v":""},{"$nulls":7},"Check"]
[{"$f":"AccountInfo!$A285","v":283},{"$f":"IF(AccountInfo!$B285=\"\",\"\",AccountInfo!B285)","v":""},{"$nulls":7},"Check"]
[{"$f":"AccountInfo!$A286","v":284},{"$f":"IF(AccountInfo!$B286=\"\",\"\",AccountInfo!B286)","v":""},{"$nulls":7},"Check"]
[{"$f":"AccountInfo!$A287","v":285},{"$f":"IF(AccountInfo!$B287=\"\",\"\",AccountInfo!B287)","v":""},{"$nulls":7},"Check"]
[{"$f":"AccountInfo!$A288","v":286},{"$f":"IF(AccountInfo!$B288=\"\",\"\",AccountInfo!B288)","v":""},{"$nulls":7},"Check"]
[{"$f":"AccountInfo!$A289","v":287},{"$f":"IF(AccountInfo!$B289=\"\",\"\",AccountInfo!B289)","v":""},{"$nulls":7},"Check"]
[{"$f":"AccountInfo!$A290","v":288},{"$f":"IF(AccountInfo!$B290=\"\",\"\",AccountInfo!B290)","v":""},{"$nulls":7},"Check"]
[{"$f":"AccountInfo!$A291","v":289},{"$f":"IF(AccountInfo!$B291=\"\",\"\",AccountInfo!B291)","v":""},{"$nulls":7},"Check"]
[{"$f":"AccountInfo!$A292","v":290},{"$f":"IF(AccountInfo!$B292=\"\",\"\",AccountInfo!B292)","v":""},{"$nulls":7},"Check"]
[{"$f":"AccountInfo!$A293","v":291},{"$f":"IF(AccountInfo!$B293=\"\",\"\",AccountInfo!B293)","v":""},{"$nulls":7},"Check"]
[{"$f":"AccountInfo!$A294","v":292},{"$f":"IF(AccountInfo!$B294=\"\",\"\",AccountInfo!B294)","v":""},{"$nulls":7},"Check"]
[{"$f":"AccountInfo!$A295","v":293},{"$f":"IF(AccountInfo!$B295=\"\",\"\",AccountInfo!B295)","v":""},{"$nulls":7},"Check"]
[{"$f":"AccountInfo!$A296","v":294},{"$f":"IF(AccountInfo!$B296=\"\",\"\",AccountInfo!B296)","v":""},{"$nulls":7},"Check"]
[{"$f":"AccountInfo!$A297","v":295},{"$f":"IF(AccountInfo!$B297=\"\",\"\",AccountInfo!B297)","v":""},{"$nulls":7},"Check"]
[{"$f":"AccountInfo!$A298","v":296},{"$f":"IF(AccountInfo!$B298=\"\",\"\",AccountInfo!B298)","v":""},{"$nulls":7},"Check"]
[{"$f":"AccountInfo!$A299","v":297},{"$f":"IF(AccountInfo!$B299=\"\",\"\",AccountInfo!B299)","v":""},{"$nulls":7},"Check"]
[{"$f":"AccountInfo!$A300","v":298},{"$f":"IF(AccountInfo!$B300=\"\",\"\",AccountInfo!B300)","v":""},{"$nulls":7},"Check"]
[{"$f":"AccountInfo!$A301","v":299},{"$f":"IF(AccountInfo!$B301=\"\",\"\",AccountInfo!B301)","v":""},{"$nulls":7},"Check"]
[{"$f":"AccountInfo!$A302","v":300},{"$f":"IF(AccountInfo!$B302=\"\",\"\",AccountInfo!B302)","v":""},{"$nulls":7},"Check"]
[{"$f":"AccountInfo!$A303","v":301},{"$f":"IF(AccountInfo!$B303=\"\",\"\",AccountInfo!B303)","v":""},{"$nulls":7},"Check"]
[{"$f":"AccountInfo!$A304","v":302},{"$f":"IF(AccountInfo!$B304=\"\",\"\",AccountInfo!B304)","v":""},{"$nulls":7},"Check"]
[{"$f":"AccountInfo!$A305","v":303},{"$f":"IF(AccountInfo!$B305=\"\",\"\",AccountInfo!B305)","v":""},{"$nulls":7},"Check"]
[{"$f":"AccountInfo!$A306","v":304},{"$f":"IF(AccountInfo!$B306=\"\",\"\",AccountInfo!B306)","v":""},{"$nulls":7},"Check"]
[{"$f":"AccountInfo!$A307","v":305},{"$f":"IF(AccountInfo!$B307=\"\",\"\",AccountInfo!B307)","v":""},{"$nulls":7},"Check"]
[{"$f":"AccountInfo!$A308","v":306},{"$f":"IF(AccountInfo!$B308=\"\",\"\",AccountInfo!B308)","v":""},{"$nulls":7},"Check"]
[{"$f":"AccountInfo!$A309","v":307},{"$f":"IF(AccountInfo!$B309=\"\",\"\",AccountInfo!B309)","v":""},{"$nulls":7},"Check"]
[{"$f":"AccountInfo!$A310","v":308},{"$f":"IF(AccountInfo!$B310=\"\",\"\",AccountInfo!B310)","v":""},{"$nulls":7},"Check"]
[{"$f":"AccountInfo!$A311","v":309},{"$f":"IF(AccountInfo!$B311=\"\",\"\",AccountInfo!B311)","v":""},{"$nulls":7},"Check"]
[{"$f":"AccountInfo!$A312","v":310},{"$f":"IF(AccountInfo!$B312=\"\",\"\",AccountInfo!B312)","v":""},{"$nulls":7},"Check"]
[{"$f":"AccountInfo!$A313","v":311},{"$f":"IF(AccountInfo!$B313=\"\",\"\",AccountInfo!B313)","v":""},{"$nulls":7},"Check"]
[{"$f":"AccountInfo!$A314","v":312},{"$f":"IF(AccountInfo!$B314=\"\",\"\",AccountInfo!B314)","v":""},{"$nulls":7},"Check"]
[{"$f":"AccountInfo!$A315","v":313},{"$f":"IF(AccountInfo!$B315=\"\",\"\",AccountInfo!B315)","v":""},{"$nulls":7},"Check"]
[{"$f":"AccountInfo!$A316","v":314},{"$f":"IF(AccountInfo!$B316=\"\",\"\",AccountInfo!B316)","v":""},{"$nulls":7},"Check"]
[{"$f":"AccountInfo!$A317","v":315},{"$f":"IF(AccountInfo!$B317=\"\",\"\",AccountInfo!B317)","v":""},{"$nulls":7},"Check"]
[{"$f":"AccountInfo!$A318","v":316},{"$f":"IF(AccountInfo!$B318=\"\",\"\",AccountInfo!B318)","v":""},{"$nulls":7},"Check"]
[{"$f":"AccountInfo!$A319","v":317},{"$f":"IF(AccountInfo!$B319=\"\",\"\",AccountInfo!B319)","v":""},{"$nulls":7},"Check"]
[{"$f":"AccountInfo!$A320","v":318},{"$f":"IF(AccountInfo!$B320=\"\",\"\",AccountInfo!B320)","v":""},{"$nulls":7},"Check"]
[{"$f":"AccountInfo!$A321","v":319},{"$f":"IF(AccountInfo!$B321=\"\",\"\",AccountInfo!B321)","v":""},{"$nulls":7},"Check"]
[{"$f":"AccountInfo!$A322","v":320},{"$f":"IF(AccountInfo!$B322=\"\",\"\",AccountInfo!B322)","v":""},{"$nulls":7},"Check"]
[{"$f":"AccountInfo!$A323","v":321},{"$f":"IF(AccountInfo!$B323=\"\",\"\",AccountInfo!B323)","v":""},{"$nulls":7},"Check"]
[{"$f":"AccountInfo!$A324","v":322},{"$f":"IF(AccountInfo!$B324=\"\",\"\",AccountInfo!B324)","v":""},{"$nulls":7},{"$f":"IF(AND(D324<=E324, E324<=F324, F324<=G324, G324<=IF(H324=\"\", 1000000000000, H324)), \"Check\", \"Error\")","v":"Check"}]
[{"$f":"AccountInfo!$A325","v":323},{"$f":"IF(AccountInfo!$B325=\"\",\"\",AccountInfo!B325)","v":""},{"$nulls":7},"Check"]
[{"$f":"AccountInfo!$A326","v":324},{"$f":"IF(AccountInfo!$B326=\"\",\"\",AccountInfo!B326)","v":""},{"$nulls":7},"Check"]
[{"$f":"AccountInfo!$A327","v":325},{"$f":"IF(AccountInfo!$B327=\"\",\"\",AccountInfo!B327)","v":""},{"$nulls":7},"Check"]
[{"$f":"AccountInfo!$A328","v":326},{"$f":"IF(AccountInfo!$B328=\"\",\"\",AccountInfo!B328)","v":""},{"$nulls":7},"Check"]
[{"$f":"AccountInfo!$A329","v":327},{"$f":"IF(AccountInfo!$B329=\"\",\"\",AccountInfo!B329)","v":""},{"$nulls":7},"Check"]
[{"$f":"AccountInfo!$A330","v":328},{"$f":"IF(AccountInfo!$B330=\"\",\"\",AccountInfo!B330)","v":""},{"$nulls":7},"Check"]
[{"$f":"AccountInfo!$A331","v":329},{"$f":"IF(AccountInfo!$B331=\"\",\"\",AccountInfo!B331)","v":""},{"$nulls":7},"Check"]
[{"$f":"AccountInfo!$A332","v":330},{"$f":"IF(AccountInfo!$B332=\"\",\"\",AccountInfo!B332)","v":""},{"$nulls":7},"Check"]
[{"$f":"AccountInfo!$A333","v":331},{"$f":"IF(AccountInfo!$B333=\"\",\"\",AccountInfo!B333)","v":""},{"$nulls":7},"Check"]
[{"$f":"AccountInfo!$A334","v":332},{"$f":"IF(AccountInfo!$B334=\"\",\"\",AccountInfo!B334)","v":""},{"$nulls":7},"Check"]
[{"$f":"AccountInfo!$A335","v":333},{"$f":"IF(AccountInfo!$B335=\"\",\"\",AccountInfo!B335)","v":""},{"$nulls":7},"Check"]
[{"$f":"AccountInfo!$A336","v":334},{"$f":"IF(AccountInfo!$B336=\"\",\"\",AccountInfo!B336)","v":""},{"$nulls":7},"Check"]
[{"$f":"AccountInfo!$A337","v":335},{"$f":"IF(AccountInfo!$B337=\"\",\"\",AccountInfo!B337)","v":""},{"$nulls":7},"Check"]
[{"$f":"AccountInfo!$A338","v":336},{"$f":"IF(AccountInfo!$B338=\"\",\"\",AccountInfo!B338)","v":""},{"$nulls":7},"Check"]
[{"$f":"AccountInfo!$A339","v":337},{"$f":"IF(AccountInfo!$B339=\"\",\"\",AccountInfo!B339)","v":""},{"$nulls":7},"Check"]
[{"$f":"AccountInfo!$A340","v":338},{"$f":"IF(AccountInfo!$B340=\"\",\"\",AccountInfo!B340)","v":""},{"$nulls":7},"Check"]
[{"$f":"AccountInfo!$A341","v":339},{"$f":"IF(AccountInfo!$B341=\"\",\"\",AccountInfo!B341)","v":""},{"$nulls":7},"Check"]
[{"$f":"AccountInfo!$A342","v":340},{"$f":"IF(AccountInfo!$B342=\"\",\"\",AccountInfo!B342)","v":""},{"$nulls":7},"Check"]
[{"$f":"AccountInfo!$A343","v":341},{"$f":"IF(AccountInfo!$B343=\"\",\"\",AccountInfo!B343)","v":""},{"$nulls":7},"Check"]
[{"$f":"AccountInfo!$A344","v":342},{"$f":"IF(AccountInfo!$B344=\"\",\"\",AccountInfo!B344)","v":""},{"$nulls":7},"Check"]
[{"$f":"AccountInfo!$A345","v":343},{"$f":"IF(AccountInfo!$B345=\"\",\"\",AccountInfo!B345)","v":""},{"$nulls":7},"Check"]
[{"$f":"AccountInfo!$A346","v":344},{"$f":"IF(AccountInfo!$B346=\"\",\"\",AccountInfo!B346)","v":""},{"$nulls":7},"Check"]
[{"$f":"AccountInfo!$A347","v":345},{"$f":"IF(AccountInfo!$B347=\"\",\"\",AccountInfo!B347)","v":""},{"$nulls":7},"Check"]
[{"$f":"AccountInfo!$A348","v":346},{"$f":"IF(AccountInfo!$B348=\"\",\"\",AccountInfo!B348)","v":""},{"$nulls":7},"Check"]
[{"$f":"AccountInfo!$A349","v":347},{"$f":"IF(AccountInfo!$B349=\"\",\"\",AccountInfo!B349)","v":""},{"$nulls":7},"Check"]
[{"$f":"AccountInfo!$A350","v":348},{"$f":"IF(AccountInfo!$B350=\"\",\"\",AccountInfo!B350)","v":""},{"$nulls":7},"Check"]
[{"$f":"AccountInfo!$A351","v":349},{"$f":"IF(AccountInfo!$B351=\"\",\"\",AccountInfo!B351)","v":""},{"$nulls":7},"Check"]
[{"$f":"AccountInfo!$A352","v":350},{"$f":"IF(AccountInfo!$B352=\"\",\"\",AccountInfo!B352)","v":""},{"$nulls":7},"Check"]
[{"$f":"AccountInfo!$A353","v":351},{"$f":"IF(AccountInfo!$B353=\"\",\"\",AccountInfo!B353)","v":""},{"$nulls":7},"Check"]
[{"$f":"AccountInfo!$A354","v":352},{"$f":"IF(AccountInfo!$B354=\"\",\"\",AccountInfo!B354)","v":""},{"$nulls":7},"Check"]
[{"$f":"AccountInfo!$A355","v":353},{"$f":"IF(AccountInfo!$B355=\"\",\"\",AccountInfo!B355)","v":""},{"$nulls":7},"Check"]
[{"$f":"AccountInfo!$A356","v":354},{"$f":"IF(AccountInfo!$B356=\"\",\"\",AccountInfo!B356)","v":""},{"$nulls":7},"Check"]
[{"$f":"AccountInfo!$A357","v":355},{"$f":"IF(AccountInfo!$B357=\"\",\"\",AccountInfo!B357)","v":""},{"$nulls":7},"Check"]
[{"$f":"AccountInfo!$A358","v":356},{"$f":"IF(AccountInfo!$B358=\"\",\"\",AccountInfo!B358)","v":""},{"$nulls":7},"Check"]
[{"$f":"AccountInfo!$A359","v":357},{"$f":"IF(AccountInfo!$B359=\"\",\"\",AccountInfo!B359)","v":""},{"$nulls":7},"Check"]
[{"$f":"AccountInfo!$A360","v":358},{"$f":"IF(AccountInfo!$B360=\"\",\"\",AccountInfo!B360)","v":""},{"$nulls":7},"Check"]
[{"$f":"AccountInfo!$A361","v":359},{"$f":"IF(AccountInfo!$B361=\"\",\"\",AccountInfo!B361)","v":""},{"$nulls":7},"Check"]
[{"$f":"AccountInfo!$A362","v":360},{"$f":"IF(AccountInfo!$B362=\"\",\"\",AccountInfo!B362)","v":""},{"$nulls":7},"Check"]
[{"$f":"AccountInfo!$A363","v":361},{"$f":"IF(AccountInfo!$B363=\"\",\"\",AccountInfo!B363)","v":""},{"$nulls":7},"Check"]
[{"$f":"AccountInfo!$A364","v":362},{"$f":"IF(AccountInfo!$B364=\"\",\"\",AccountInfo!B364)","v":""},{"$nulls":7},"Check"]
[{"$f":"AccountInfo!$A365","v":363},{"$f":"IF(AccountInfo!$B365=\"\",\"\",AccountInfo!B365)","v":""},{"$nulls":7},"Check"]
[{"$f":"AccountInfo!$A366","v":364},{"$f":"IF(AccountInfo!$B366=\"\",\"\",AccountInfo!B366)","v":""},{"$nulls":7},"Check"]
[{"$f":"AccountInfo!$A367","v":365},{"$f":"IF(AccountInfo!$B367=\"\",\"\",AccountInfo!B367)","v":""},{"$nulls":7},"Check"]
[{"$f":"AccountInfo!$A368","v":366},{"$f":"IF(AccountInfo!$B368=\"\",\"\",AccountInfo!B368)","v":""},{"$nulls":7},"Check"]
[{"$f":"AccountInfo!$A369","v":367},{"$f":"IF(AccountInfo!$B369=\"\",\"\",AccountInfo!B369)","v":""},{"$nulls":7},"Check"]
[{"$f":"AccountInfo!$A370","v":368},{"$f":"IF(AccountInfo!$B370=\"\",\"\",AccountInfo!B370)","v":""},{"$nulls":7},"Check"]
[{"$f":"AccountInfo!$A371","v":369},{"$f":"IF(AccountInfo!$B371=\"\",\"\",AccountInfo!B371)","v":""},{"$nulls":7},"Check"]
[{"$f":"AccountInfo!$A372","v":370},{"$f":"IF(AccountInfo!$B372=\"\",\"\",AccountInfo!B372)","v":""},{"$nulls":7},"Check"]
[{"$f":"AccountInfo!$A373","v":371},{"$f":"IF(AccountInfo!$B373=\"\",\"\",AccountInfo!B373)","v":""},{"$nulls":7},"Check"]
[{"$f":"AccountInfo!$A374","v":372},{"$f":"IF(AccountInfo!$B374=\"\",\"\",AccountInfo!B374)","v":""},{"$nulls":7},"Check"]
[{"$f":"AccountInfo!$A375","v":373},{"$f":"IF(AccountInfo!$B375=\"\",\"\",AccountInfo!B375)","v":""},{"$nulls":7},"Check"]
[{"$f":"AccountInfo!$A376","v":374},{"$f":"IF(AccountInfo!$B376=\"\",\"\",AccountInfo!B376)","v":""},{"$nulls":7},"Check"]
[{"$f":"AccountInfo!$A377","v":375},{"$f":"IF(AccountInfo!$B377=\"\",\"\",AccountInfo!B377)","v":""},{"$nulls":7},"Check"]
[{"$f":"AccountInfo!$A378","v":376},{"$f":"IF(AccountInfo!$B378=\"\",\"\",AccountInfo!B378)","v":""},{"$nulls":7},"Check"]
[{"$f":"AccountInfo!$A379","v":377},{"$f":"IF(AccountInfo!$B379=\"\",\"\",AccountInfo!B379)","v":""},{"$nulls":7},"Check"]
[{"$f":"AccountInfo!$A380","v":378},{"$f":"IF(AccountInfo!$B380=\"\",\"\",AccountInfo!B380)","v":""},{"$nulls":7},"Check"]
[{"$f":"AccountInfo!$A381","v":379},{"$f":"IF(AccountInfo!$B381=\"\",\"\",AccountInfo!B381)","v":""},{"$nulls":7},"Check"]
[{"$f":"AccountInfo!$A382","v":380},{"$f":"IF(AccountInfo!$B382=\"\",\"\",AccountInfo!B382)","v":""},{"$nulls":7},"Check"]
[{"$f":"AccountInfo!$A383","v":381},{"$f":"IF(AccountInfo!$B383=\"\",\"\",AccountInfo!B383)","v":""},{"$nulls":7},"Check"]
[{"$f":"AccountInfo!$A384","v":382},{"$f":"IF(AccountInfo!$B384=\"\",\"\",AccountInfo!B384)","v":""},{"$nulls":7},"Check"]
[{"$f":"AccountInfo!$A385","v":383},{"$f":"IF(AccountInfo!$B385=\"\",\"\",AccountInfo!B385)","v":""},{"$nulls":7},"Check"]
[{"$f":"AccountInfo!$A386","v":384},{"$f":"IF(AccountInfo!$B386=\"\",\"\",AccountInfo!B386)","v":""},{"$nulls":7},"Check"]
[{"$f":"AccountInfo!$A387","v":385},{"$f":"IF(AccountInfo!$B387=\"\",\"\",AccountInfo!B387)","v":""},{"$nulls":7},"Check"]
[{"$f":"AccountInfo!$A388","v":386},{"$f":"IF(AccountInfo!$B388=\"\",\"\",AccountInfo!B388)","v":""},{"$nulls":7},{"$f":"IF(AND(D388<=E388, E388<=F388, F388<=G388, G388<=IF(H388=\"\", 1000000000000, H388)), \"Check\", \"Error\")","v":"Check"}]
[{"$f":"AccountInfo!$A389","v":387},{"$f":"IF(AccountInfo!$B389=\"\",\"\",AccountInfo!B389)","v":""},{"$nulls":7},"Check"]
[{"$f":"AccountInfo!$A390","v":388},{"$f":"IF(AccountInfo!$B390=\"\",\"\",AccountInfo!B390)","v":""},{"$nulls":7},"Check"]
[{"$f":"AccountInfo!$A391","v":389},{"$f":"IF(AccountInfo!$B391=\"\",\"\",AccountInfo!B391)","v":""},{"$nulls":7},"Check"]
[{"$f":"AccountInfo!$A392","v":390},{"$f":"IF(AccountInfo!$B392=\"\",\"\",AccountInfo!B392)","v":""},{"$nulls":7},"Check"]
[{"$f":"AccountInfo!$A393","v":391},{"$f":"IF(AccountInfo!$B393=\"\",\"\",AccountInfo!B393)","v":""},{"$nulls":7},"Check"]
[{"$f":"AccountInfo!$A394","v":392},{"$f":"IF(AccountInfo!$B394=\"\",\"\",AccountInfo!B394)","v":""},{"$nulls":7},"Check"]
[{"$f":"AccountInfo!$A395","v":393},{"$f":"IF(AccountInfo!$B395=\"\",\"\",AccountInfo!B395)","v":""},{"$nulls":7},"Check"]
[{"$f":"AccountInfo!$A396","v":394},{"$f":"IF(AccountInfo!$B396=\"\",\"\",AccountInfo!B396)","v":""},{"$nulls":7},"Check"]
[{"$f":"AccountInfo!$A397","v":395},{"$f":"IF(AccountInfo!$B397=\"\",\"\",AccountInfo!B397)","v":""},{"$nulls":7},"Check"]
[{"$f":"AccountInfo!$A398","v":396},{"$f":"IF(AccountInfo!$B398=\"\",\"\",AccountInfo!B398)","v":""},{"$nulls":7},"Check"]
[{"$f":"AccountInfo!$A399","v":397},{"$f":"IF(AccountInfo!$B399=\"\",\"\",AccountInfo!B399)","v":""},{"$nulls":7},"Check"]
[{"$f":"AccountInfo!$A400","v":398},{"$f":"IF(AccountInfo!$B400=\"\",\"\",AccountInfo!B400)","v":""},{"$nulls":7},"Check"]
[{"$f":"AccountInfo!$A401","v":399},{"$f":"IF(AccountInfo!$B401=\"\",\"\",AccountInfo!B401)","v":""},{"$nulls":7},"Check"]
[{"$f":"AccountInfo!$A402","v":400},{"$f":"IF(AccountInfo!$B402=\"\",\"\",AccountInfo!B402)","v":""},{"$nulls":7},"Check"]
[{"$f":"AccountInfo!$A403","v":401},{"$f":"IF(AccountInfo!$B403=\"\",\"\",AccountInfo!B403)","v":""},{"$nulls":7},"Check"]
[{"$f":"AccountInfo!$A404","v":402},{"$f":"IF(AccountInfo!$B404=\"\",\"\",AccountInfo!B404)","v":""},{"$nulls":7},"Check"]
[{"$f":"AccountInfo!$A405","v":403},{"$f":"IF(AccountInfo!$B405=\"\",\"\",AccountInfo!B405)","v":""},{"$nulls":7},"Check"]
[{"$f":"AccountInfo!$A406","v":404},{"$f":"IF(AccountInfo!$B406=\"\",\"\",AccountInfo!B406)","v":""},{"$nulls":7},"Check"]
[{"$f":"AccountInfo!$A407","v":405},{"$f":"IF(AccountInfo!$B407=\"\",\"\",AccountInfo!B407)","v":""},{"$nulls":7},"Check"]
[{"$f":"AccountInfo!$A408","v":406},{"$f":"IF(AccountInfo!$B408=\"\",\"\",AccountInfo!B408)","v":""},{"$nulls":7},"Check"]
[{"$f":"AccountInfo!$A409","v":407},{"$f":"IF(AccountInfo!$B409=\"\",\"\",AccountInfo!B409)","v":""},{"$nulls":7},"Check"]
[{"$f":"AccountInfo!$A410","v":408},{"$f":"IF(AccountInfo!$B410=\"\",\"\",AccountInfo!B410)","v":""},{"$nulls":7},"Check"]
[{"$f":"AccountInfo!$A411","v":409},{"$f":"IF(AccountInfo!$B411=\"\",\"\",AccountInfo!B411)","v":""},{"$nulls":7},"Check"]
[{"$f":"AccountInfo!$A412","v":410},{"$f":"IF(AccountInfo!$B412=\"\",\"\",AccountInfo!B412)","v":""},{"$nulls":7},"Check"]
[{"$f":"AccountInfo!$A413","v":411},{"$f":"IF(AccountInfo!$B413=\"\",\"\",AccountInfo!B413)","v":""},{"$nulls":7},"Check"]
[{"$f":"AccountInfo!$A414","v":412},{"$f":"IF(AccountInfo!$B414=\"\",\"\",AccountInfo!B414)","v":""},{"$nulls":7},"Check"]
[{"$f":"AccountInfo!$A415","v":413},{"$f":"IF(AccountInfo!$B415=\"\",\"\",AccountInfo!B415)","v":""},{"$nulls":7},"Check"]
[{"$f":"AccountInfo!$A416","v":414},{"$f":"IF(AccountInfo!$B416=\"\",\"\",AccountInfo!B416)","v":""},{"$nulls":7},"Check"]
[{"$f":"AccountInfo!$A417","v":415},{"$f":"IF(AccountInfo!$B417=\"\",\"\",AccountInfo!B417)","v":""},{"$nulls":7},"Check"]
[{"$f":"AccountInfo!$A418","v":416},{"$f":"IF(AccountInfo!$B418=\"\",\"\",AccountInfo!B418)","v":""},{"$nulls":7},"Check"]
[{"$f":"AccountInfo!$A419","v":417},{"$f":"IF(AccountInfo!$B419=\"\",\"\",AccountInfo!B419)","v":""},{"$nulls":7},"Check"]
[{"$f":"AccountInfo!$A420","v":418},{"$f":"IF(AccountInfo!$B420=\"\",\"\",AccountInfo!B420)","v":""},{"$nulls":7},"Check"]
[{"$f":"AccountInfo!$A421","v":419},{"$f":"IF(AccountInfo!$B421=\"\",\"\",AccountInfo!B421)","v":""},{"$nulls":7},"Check"]
[{"$f":"AccountInfo!$A422","v":420},{"$f":"IF(AccountInfo!$B422=\"\",\"\",AccountInfo!B422)","v":""},{"$nulls":7},"Check"]
[{"$f":"AccountInfo!$A423","v":421},{"$f":"IF(AccountInfo!$B423=\"\",\"\",AccountInfo!B423)","v":""},{"$nulls":7},"Check"]
[{"$f":"AccountInfo!$A424","v":422},{"$f":"IF(AccountInfo!$B424=\"\",\"\",AccountInfo!B424)","v":""},{"$nulls":7},"Check"]
[{"$f":"AccountInfo!$A425","v":423},{"$f":"IF(AccountInfo!$B425=\"\",\"\",AccountInfo!B425)","v":""},{"$nulls":7},"Check"]
[{"$f":"AccountInfo!$A426","v":424},{"$f":"IF(AccountInfo!$B426=\"\",\"\",AccountInfo!B426)","v":""},{"$nulls":7},"Check"]
[{"$f":"AccountInfo!$A427","v":425},{"$f":"IF(AccountInfo!$B427=\"\",\"\",AccountInfo!B427)","v":""},{"$nulls":7},"Check"]
[{"$f":"AccountInfo!$A428","v":426},{"$f":"IF(AccountInfo!$B428=\"\",\"\",AccountInfo!B428)","v":""},{"$nulls":7},"Check"]
[{"$f":"AccountInfo!$A429","v":427},{"$f":"IF(AccountInfo!$B429=\"\",\"\",AccountInfo!B429)","v":""},{"$nulls":7},"Check"]
[{"$f":"AccountInfo!$A430","v":428},{"$f":"IF(AccountInfo!$B430=\"\",\"\",AccountInfo!B430)","v":""},{"$nulls":7},"Check"]
[{"$f":"AccountInfo!$A431","v":429},{"$f":"IF(AccountInfo!$B431=\"\",\"\",AccountInfo!B431)","v":""},{"$nulls":7},"Check"]
[{"$f":"AccountInfo!$A432","v":430},{"$f":"IF(AccountInfo!$B432=\"\",\"\",AccountInfo!B432)","v":""},{"$nulls":7},"Check"]
[{"$f":"AccountInfo!$A433","v":431},{"$f":"IF(AccountInfo!$B433=\"\",\"\",AccountInfo!B433)","v":""},{"$nulls":7},"Check"]
[{"$f":"AccountInfo!$A434","v":432},{"$f":"IF(AccountInfo!$B434=\"\",\"\",AccountInfo!B434)","v":""},{"$nulls":7},"Check"]
[{"$f":"AccountInfo!$A435","v":433},{"$f":"IF(AccountInfo!$B435=\"\",\"\",AccountInfo!B435)","v":""},{"$nulls":7},"Check"]
[{"$f":"AccountInfo!$A436","v":434},{"$f":"IF(AccountInfo!$B436=\"\",\"\",AccountInfo!B436)","v":""},{"$nulls":7},"Check"]
[{"$f":"AccountInfo!$A437","v":435},{"$f":"IF(AccountInfo!$B437=\"\",\"\",AccountInfo!B437)","v":""},{"$nulls":7},"Check"]
[{"$f":"AccountInfo!$A438","v":436},{"$f":"IF(AccountInfo!$B438=\"\",\"\",AccountInfo!B438)","v":""},{"$nulls":7},"Check"]
[{"$f":"AccountInfo!$A439","v":437},{"$f":"IF(AccountInfo!$B439=\"\",\"\",AccountInfo!B439)","v":""},{"$nulls":7},"Check"]
[{"$f":"AccountInfo!$A440","v":438},{"$f":"IF(AccountInfo!$B440=\"\",\"\",AccountInfo!B440)","v":""},{"$nulls":7},"Check"]
[{"$f":"AccountInfo!$A441","v":439},{"$f":"IF(AccountInfo!$B441=\"\",\"\",AccountInfo!B441)","v":""},{"$nulls":7},"Check"]
[{"$f":"AccountInfo!$A442","v":440},{"$f":"IF(AccountInfo!$B442=\"\",\"\",AccountInfo!B442)","v":""},{"$nulls":7},"Check"]
[{"$f":"AccountInfo!$A443","v":441},{"$f":"IF(AccountInfo!$B443=\"\",\"\",AccountInfo!B443)","v":""},{"$nulls":7},"Check"]
[{"$f":"AccountInfo!$A444","v":442},{"$f":"IF(AccountInfo!$B444=\"\",\"\",AccountInfo!B444)","v":""},{"$nulls":7},"Check"]
[{"$f":"AccountInfo!$A445","v":443},{"$f":"IF(AccountInfo!$B445=\"\",\"\",AccountInfo!B445)","v":""},{"$nulls":7},"Check"]
[{"$f":"AccountInfo!$A446","v":444},{"$f":"IF(AccountInfo!$B446=\"\",\"\",AccountInfo!B446)","v":""},{"$nulls":7},"Check"]
[{"$f":"AccountInfo!$A447","v":445},{"$f":"IF(AccountInfo!$B447=\"\",\"\",AccountInfo!B447)","v":""},{"$nulls":7},"Check"]
[{"$f":"AccountInfo!$A448","v":446},{"$f":"IF(AccountInfo!$B448=\"\",\"\",AccountInfo!B448)","v":""},{"$nulls":7},"Check"]
[{"$f":"AccountInfo!$A449","v":447},{"$f":"IF(AccountInfo!$B449=\"\",\"\",AccountInfo!B449)","v":""},{"$nulls":7},"Check"]
[{"$f":"AccountInfo!$A450","v":448},{"$f":"IF(AccountInfo!$B450=\"\",\"\",AccountInfo!B450)","v":""},{"$nulls":7},"Check"]
[{"$f":"AccountInfo!$A451","v":449},{"$f":"IF(AccountInfo!$B451=\"\",\"\",AccountInfo!B451)","v":""},{"$nulls":7},"Check"]
[{"$f":"AccountInfo!$A452","v":450},{"$f":"IF(AccountInfo!$B452=\"\",\"\",AccountInfo!B452)","v":""},{"$nulls":7},{"$f":"IF(AND(D452<=E452, E452<=F452, F452<=G452, G452<=IF(H452=\"\", 1000000000000, H452)), \"Check\", \"Error\")","v":"Check"}]
[{"$f":"AccountInfo!$A453","v":451},{"$f":"IF(AccountInfo!$B453=\"\",\"\",AccountInfo!B453)","v":""},{"$nulls":7},"Check"]
[{"$f":"AccountInfo!$A454","v":452},{"$f":"IF(AccountInfo!$B454=\"\",\"\",AccountInfo!B454)","v":""},{"$nulls":7},"Check"]
[{"$f":"AccountInfo!$A455","v":453},{"$f":"IF(AccountInfo!$B455=\"\",\"\",AccountInfo!B455)","v":""},{"$nulls":7},"Check"]
[{"$f":"AccountInfo!$A456","v":454},{"$f":"IF(AccountInfo!$B456=\"\",\"\",AccountInfo!B456)","v":""},{"$nulls":7},"Check"]
[{"$f":"AccountInfo!$A457","v":455},{"$f":"IF(AccountInfo!$B457=\"\",\"\",AccountInfo!B457)","v":""},{"$nulls":7},"Check"]
[{"$f":"AccountInfo!$A458","v":456},{"$f":"IF(AccountInfo!$B458=\"\",\"\",AccountInfo!B458)","v":""},{"$nulls":7},"Check"]
[{"$f":"AccountInfo!$A459","v":457},{"$f":"IF(AccountInfo!$B459=\"\",\"\",AccountInfo!B459)","v":""},{"$nulls":7},"Check"]
[{"$f":"AccountInfo!$A460","v":458},{"$f":"IF(AccountInfo!$B460=\"\",\"\",AccountInfo!B460)","v":""},{"$nulls":7},"Check"]
[{"$f":"AccountInfo!$A461","v":459},{"$f":"IF(AccountInfo!$B461=\"\",\"\",AccountInfo!B461)","v":""},{"$nulls":7},"Check"]
[{"$f":"AccountInfo!$A462","v":460},{"$f":"IF(AccountInfo!$B462=\"\",\"\",AccountInfo!B462)","v":""},{"$nulls":7},"Check"]
[{"$f":"AccountInfo!$A463","v":461},{"$f":"IF(AccountInfo!$B463=\"\",\"\",AccountInfo!B463)","v":""},{"$nulls":7},"Check"]
[{"$f":"AccountInfo!$A464","v":462},{"$f":"IF(AccountInfo!$B464=\"\",\"\",AccountInfo!B464)","v":""},{"$nulls":7},"Check"]
[{"$f":"AccountInfo!$A465","v":463},{"$f":"IF(AccountInfo!$B465=\"\",\"\",AccountInfo!B465)","v":""},{"$nulls":7},"Check"]
[{"$f":"AccountInfo!$A466","v":464},{"$f":"IF(AccountInfo!$B466=\"\",\"\",AccountInfo!B466)","v":""},{"$nulls":7},"Check"]
[{"$f":"AccountInfo!$A467","v":465},{"$f":"IF(AccountInfo!$B467=\"\",\"\",AccountInfo!B467)","v":""},{"$nulls":7},"Check"]
[{"$f":"AccountInfo!$A468","v":466},{"$f":"IF(AccountInfo!$B468=\"\",\"\",AccountInfo!B468)","v":""},{"$nulls":7},"Check"]
[{"$f":"AccountInfo!$A469","v":467},{"$f":"IF(AccountInfo!$B469=\"\",\"\",AccountInfo!B469)","v":""},{"$nulls":7},"Check"]
[{"$f":"AccountInfo!$A470","v":468},{"$f":"IF(AccountInfo!$B470=\"\",\"\",AccountInfo!B470)","v":""},{"$nulls":7},"Check"]
[{"$f":"AccountInfo!$A471","v":469},{"$f":"IF(AccountInfo!$B471=\"\",\"\",AccountInfo!B471)","v":""},{"$nulls":7},"Check"]
[{"$f":"AccountInfo!$A472","v":470},{"$f":"IF(AccountInfo!$B472=\"\",\"\",AccountInfo!B472)","v":""},{"$nulls":7},"Check"]
[{"$f":"AccountInfo!$A473","v":471},{"$f":"IF(AccountInfo!$B473=\"\",\"\",AccountInfo!B473)","v":""},{"$nulls":7},"Check"]
[{"$f":"AccountInfo!$A474","v":472},{"$f":"IF(AccountInfo!$B474=\"\",\"\",AccountInfo!B474)","v":""},{"$nulls":7},"Check"]
[{"$f":"AccountInfo!$A475","v":473},{"$f":"IF(AccountInfo!$B475=\"\",\"\",AccountInfo!B475)","v":""},{"$nulls":7},"Check"]
[{"$f":"AccountInfo!$A476","v":474},{"$f":"IF(AccountInfo!$B476=\"\",\"\",AccountInfo!B476)","v":""},{"$nulls":7},"Check"]
[{"$f":"AccountInfo!$A477","v":475},{"$f":"IF(AccountInfo!$B477=\"\",\"\",AccountInfo!B477)","v":""},{"$nulls":7},"Check"]
[{"$f":"AccountInfo!$A478","v":476},{"$f":"IF(AccountInfo!$B478=\"\",\"\",AccountInfo!B478)","v":""},{"$nulls":7},"Check"]
[{"$f":"AccountInfo!$A479","v":477},{"$f":"IF(AccountInfo!$B479=\"\",\"\",AccountInfo!B479)","v":""},{"$nulls":7},"Check"]
[{"$f":"AccountInfo!$A480","v":478},{"$f":"IF(AccountInfo!$B480=\"\",\"\",AccountInfo!B480)","v":""},{"$nulls":7},"Check"]
[{"$f":"AccountInfo!$A481","v":479},{"$f":"IF(AccountInfo!$B481=\"\",\"\",AccountInfo!B481)","v":""},{"$nulls":7},"Check"]
[{"$f":"AccountInfo!$A482","v":480},{"$f":"IF(AccountInfo!$B482=\"\",\"\",AccountInfo!B482)","v":""},{"$nulls":7},"Check"]
[{"$f":"AccountInfo!$A483","v":481},{"$f":"IF(AccountInfo!$B483=\"\",\"\",AccountInfo!B483)","v":""},{"$nulls":7},"Check"]
[{"$f":"AccountInfo!$A484","v":482},{"$f":"IF(AccountInfo!$B484=\"\",\"\",AccountInfo!B484)","v":""},{"$nulls":7},"Check"]
[{"$f":"AccountInfo!$A485","v":483},{"$f":"IF(AccountInfo!$B485=\"\",\"\",AccountInfo!B485)","v":""},{"$nulls":7},"Check"]
[{"$f":"AccountInfo!$A486","v":484},{"$f":"IF(AccountInfo!$B486=\"\",\"\",AccountInfo!B486)","v":""},{"$nulls":7},"Check"]
[{"$f":"AccountInfo!$A487","v":485},{"$f":"IF(AccountInfo!$B487=\"\",\"\",AccountInfo!B487)","v":""},{"$nulls":7},"Check"]
[{"$f":"AccountInfo!$A488","v":486},{"$f":"IF(AccountInfo!$B488=\"\",\"\",AccountInfo!B488)","v":""},{"$nulls":7},"Check"]
[{"$f":"AccountInfo!$A489","v":487},{"$f":"IF(AccountInfo!$B489=\"\",\"\",AccountInfo!B489)","v":""},{"$nulls":7},"Check"]
[{"$f":"AccountInfo!$A490","v":488},{"$f":"IF(AccountInfo!$B490=\"\",\"\",AccountInfo!B490)","v":""},{"$nulls":7},"Check"]
[{"$f":"AccountInfo!$A491","v":489},{"$f":"IF(AccountInfo!$B491=\"\",\"\",AccountInfo!B491)","v":""},{"$nulls":7},"Check"]
[{"$f":"AccountInfo!$A492","v":490},{"$f":"IF(AccountInfo!$B492=\"\",\"\",AccountInfo!B492)","v":""},{"$nulls":7},"Check"]
[{"$f":"AccountInfo!$A493","v":491},{"$f":"IF(AccountInfo!$B493=\"\",\"\",AccountInfo!B493)","v":""},{"$nulls":7},"Check"]
[{"$f":"AccountInfo!$A494","v":492},{"$f":"IF(AccountInfo!$B494=\"\",\"\",AccountInfo!B494)","v":""},{"$nulls":7},"Check"]
[{"$f":"AccountInfo!$A495","v":493},{"$f":"IF(AccountInfo!$B495=\"\",\"\",AccountInfo!B495)","v":""},{"$nulls":7},"Check"]
[{"$f":"AccountInfo!$A496","v":494},{"$f":"IF(AccountInfo!$B496=\"\",\"\",AccountInfo!B496)","v":""},{"$nulls":7},"Check"]
[{"$f":"AccountInfo!$A497","v":495},{"$f":"IF(AccountInfo!$B497=\"\",\"\",AccountInfo!B497)","v":""},{"$nulls":7},"Check"]
[{"$f":"AccountInfo!$A498","v":496},{"$f":"IF(AccountInfo!$B498=\"\",\"\",AccountInfo!B498)","v":""},{"$nulls":7},"Check"]
[{"$f":"AccountInfo!$A499","v":497},{"$f":"IF(AccountInfo!$B499=\"\",\"\",AccountInfo!B499)","v":""},{"$nulls":7},"Check"]
[{"$f":"AccountInfo!$A500","v":498},{"$f":"IF(AccountInfo!$B500=\"\",\"\",AccountInfo!B500)","v":""},{"$nulls":7},"Check"]
[{"$f":"AccountInfo!$A501","v":499},{"$f":"IF(AccountInfo!$B501=\"\",\"\",AccountInfo!B501)","v":""},{"$nulls":7},"Check"]
[{"$f":"AccountInfo!$A502","v":500},{"$f":"IF(AccountInfo!$B502=\"\",\"\",AccountInfo!B502)","v":""},{"$nulls":7},"Check"]
[{"$f":"AccountInfo!$A503","v":501},{"$f":"IF(AccountInfo!$B503=\"\",\"\",AccountInfo!B503)","v":""},{"$nulls":7},"Check"]
[{"$f":"AccountInfo!$A504","v":502},{"$f":"IF(AccountInfo!$B504=\"\",\"\",AccountInfo!B504)","v":""},{"$nulls":7},"Check"]
[{"$f":"AccountInfo!$A505","v":503},{"$f":"IF(AccountInfo!$B505=\"\",\"\",AccountInfo!B505)","v":""},{"$nulls":7},"Check"]
[{"$f":"AccountInfo!$A506","v":504},{"$f":"IF(AccountInfo!$B506=\"\",\"\",AccountInfo!B506)","v":""},{"$nulls":7},"Check"]
[{"$f":"AccountInfo!$A507","v":505},{"$f":"IF(AccountInfo!$B507=\"\",\"\",AccountInfo!B507)","v":""},{"$nulls":7},"Check"]
[{"$f":"AccountInfo!$A508","v":506},{"$f":"IF(AccountInfo!$B508=\"\",\"\",AccountInfo!B508)","v":""},{"$nulls":7},"Check"]
[{"$f":"AccountInfo!$A509","v":507},{"$f":"IF(AccountInfo!$B509=\"\",\"\",AccountInfo!B509)","v":""},{"$nulls":7},"Check"]
[{"$f":"AccountInfo!$A510","v":508},{"$f":"IF(AccountInfo!$B510=\"\",\"\",AccountInfo!B510)","v":""},{"$nulls":7},"Check"]
[{"$f":"AccountInfo!$A511","v":509},{"$f":"IF(AccountInfo!$B511=\"\",\"\",AccountInfo!B511)","v":""},{"$nulls":7},"Check"]
[{"$f":"AccountInfo!$A512","v":510},{"$f":"IF(AccountInfo!$B512=\"\",\"\",AccountInfo!B512)","v":""},{"$nulls":7},"Check"]
[{"$f":"AccountInfo!$A513","v":511},{"$f":"IF(AccountInfo!$B513=\"\",\"\",AccountInfo!B513)","v":""},{"$nulls":7},"Check"]
[{"$f":"AccountInfo!$A514","v":512},{"$f":"IF(AccountInfo!$B514=\"\",\"\",AccountInfo!B514)","v":""},{"$nulls":7},"Check"]
[{"$f":"AccountInfo!$A515","v":513},{"$f":"IF(AccountInfo!$B515=\"\",\"\",AccountInfo!B515)","v":""},{"$nulls":7},"Check"]
[{"$f":"AccountInfo!$A516","v":514},{"$f":"IF(AccountInfo!$B516=\"\",\"\",AccountInfo!B516)","v":""},{"$nulls":7},{"$f":"IF(AND(D516<=E516, E516<=F516, F516<=G516, G516<=IF(H516=\"\", 1000000000000, H516)), \"Check\", \"Error\")","v":"Check"}]
[{"$f":"AccountInfo!$A517","v":515},{"$f":"IF(AccountInfo!$B517=\"\",\"\",AccountInfo!B517)","v":""},{"$nulls":7},"Check"]
[{"$f":"AccountInfo!$A518","v":516},{"$f":"IF(AccountInfo!$B518=\"\",\"\",AccountInfo!B518)","v":""},{"$nulls":7},"Check"]
[{"$f":"AccountInfo!$A519","v":517},{"$f":"IF(AccountInfo!$B519=\"\",\"\",AccountInfo!B519)","v":""},{"$nulls":7},"Check"]
[{"$f":"AccountInfo!$A520","v":518},{"$f":"IF(AccountInfo!$B520=\"\",\"\",AccountInfo!B520)","v":""},{"$nulls":7},"Check"]
[{"$f":"AccountInfo!$A521","v":519},{"$f":"IF(AccountInfo!$B521=\"\",\"\",AccountInfo!B521)","v":""},{"$nulls":7},"Check"]
[{"$f":"AccountInfo!$A522","v":520},{"$f":"IF(AccountInfo!$B522=\"\",\"\",AccountInfo!B522)","v":""},{"$nulls":7},"Check"]
[{"$f":"AccountInfo!$A523","v":521},{"$f":"IF(AccountInfo!$B523=\"\",\"\",AccountInfo!B523)","v":""},{"$nulls":7},"Check"]
[{"$f":"AccountInfo!$A524","v":522},{"$f":"IF(AccountInfo!$B524=\"\",\"\",AccountInfo!B524)","v":""},{"$nulls":7},"Check"]
[{"$f":"AccountInfo!$A525","v":523},{"$f":"IF(AccountInfo!$B525=\"\",\"\",AccountInfo!B525)","v":""},{"$nulls":7},"Check"]
[{"$f":"AccountInfo!$A526","v":524},{"$f":"IF(AccountInfo!$B526=\"\",\"\",AccountInfo!B526)","v":""},{"$nulls":7},"Check"]
[{"$f":"AccountInfo!$A527","v":525},{"$f":"IF(AccountInfo!$B527=\"\",\"\",AccountInfo!B527)","v":""},{"$nulls":7},"Check"]
[{"$f":"AccountInfo!$A528","v":526},{"$f":"IF(AccountInfo!$B528=\"\",\"\",AccountInfo!B528)","v":""},{"$nulls":7},"Check"]
[{"$f":"AccountInfo!$A529","v":527},{"$f":"IF(AccountInfo!$B529=\"\",\"\",AccountInfo!B529)","v":""},{"$nulls":7},"Check"]
[{"$f":"AccountInfo!$A530","v":528},{"$f":"IF(AccountInfo!$B530=\"\",\"\",AccountInfo!B530)","v":""},{"$nulls":7},"Check"]
[{"$f":"AccountInfo!$A531","v":529},{"$f":"IF(AccountInfo!$B531=\"\",\"\",AccountInfo!B531)","v":""},{"$nulls":7},"Check"]
[{"$f":"AccountInfo!$A532","v":530},{"$f":"IF(AccountInfo!$B532=\"\",\"\",AccountInfo!B532)","v":""},{"$nulls":7},"Check"]
[{"$f":"AccountInfo!$A533","v":531},{"$f":"IF(AccountInfo!$B533=\"\",\"\",AccountInfo!B533)","v":""},{"$nulls":7},"Check"]
[{"$f":"AccountInfo!$A534","v":532},{"$f":"IF(AccountInfo!$B534=\"\",\"\",AccountInfo!B534)","v":""},{"$nulls":7},"Check"]
[{"$f":"AccountInfo!$A535","v":533},{"$f":"IF(AccountInfo!$B535=\"\",\"\",AccountInfo!B535)","v":""},{"$nulls":7},"Check"]
[{"$f":"AccountInfo!$A536","v":534},{"$f":"IF(AccountInfo!$B536=\"\",\"\",AccountInfo!B536)","v":""},{"$nulls":7},"Check"]
[{"$f":"AccountInfo!$A537","v":535},{"$f":"IF(AccountInfo!$B537=\"\",\"\",AccountInfo!B537)","v":""},{"$nulls":7},"Check"]
[{"$f":"AccountInfo!$A538","v":536},{"$f":"IF(AccountInfo!$B538=\"\",\"\",AccountInfo!B538)","v":""},{"$nulls":7},"Check"]
[{"$f":"AccountInfo!$A539","v":537},{"$f":"IF(AccountInfo!$B539=\"\",\"\",AccountInfo!B539)","v":""},{"$nulls":7},"Check"]
[{"$f":"AccountInfo!$A540","v":538},{"$f":"IF(AccountInfo!$B540=\"\",\"\",AccountInfo!B540)","v":""},{"$nulls":7},"Check"]
[{"$f":"AccountInfo!$A541","v":539},{"$f":"IF(AccountInfo!$B541=\"\",\"\",AccountInfo!B541)","v":""},{"$nulls":7},"Check"]
[{"$f":"AccountInfo!$A542","v":540},{"$f":"IF(AccountInfo!$B542=\"\",\"\",AccountInfo!B542)","v":""},{"$nulls":7},"Check"]
[{"$f":"AccountInfo!$A543","v":541},{"$f":"IF(AccountInfo!$B543=\"\",\"\",AccountInfo!B543)","v":""},{"$nulls":7},"Check"]
[{"$f":"AccountInfo!$A544","v":542},{"$f":"IF(AccountInfo!$B544=\"\",\"\",AccountInfo!B544)","v":""},{"$nulls":7},"Check"]
[{"$f":"AccountInfo!$A545","v":543},{"$f":"IF(AccountInfo!$B545=\"\",\"\",AccountInfo!B545)","v":""},{"$nulls":7},"Check"]
[{"$f":"AccountInfo!$A546","v":544},{"$f":"IF(AccountInfo!$B546=\"\",\"\",AccountInfo!B546)","v":""},{"$nulls":7},"Check"]
[{"$f":"AccountInfo!$A547","v":545},{"$f":"IF(AccountInfo!$B547=\"\",\"\",AccountInfo!B547)","v":""},{"$nulls":7},"Check"]
[{"$f":"AccountInfo!$A548","v":546},{"$f":"IF(AccountInfo!$B548=\"\",\"\",AccountInfo!B548)","v":""},{"$nulls":7},"Check"]
[{"$f":"AccountInfo!$A549","v":547},{"$f":"IF(AccountInfo!$B549=\"\",\"\",AccountInfo!B549)","v":""},{"$nulls":7},"Check"]
[{"$f":"AccountInfo!$A550","v":548},{"$f":"IF(AccountInfo!$B550=\"\",\"\",AccountInfo!B550)","v":""},{"$nulls":7},"Check"]
[{"$f":"AccountInfo!$A551","v":549},{"$f":"IF(AccountInfo!$B551=\"\",\"\",AccountInfo!B551)","v":""},{"$nulls":7},"Check"]
[{"$f":"AccountInfo!$A552","v":550},{"$f":"IF(AccountInfo!$B552=\"\",\"\",AccountInfo!B552)","v":""},{"$nulls":7},"Check"]
[{"$f":"AccountInfo!$A553","v":551},{"$f":"IF(AccountInfo!$B553=\"\",\"\",AccountInfo!B553)","v":""},{"$nulls":7},"Check"]
[{"$f":"AccountInfo!$A554","v":552},{"$f":"IF(AccountInfo!$B554=\"\",\"\",AccountInfo!B554)","v":""},{"$nulls":7},"Check"]
[{"$f":"AccountInfo!$A555","v":553},{"$f":"IF(AccountInfo!$B555=\"\",\"\",AccountInfo!B555)","v":""},{"$nulls":7},"Check"]
[{"$f":"AccountInfo!$A556","v":554},{"$f":"IF(AccountInfo!$B556=\"\",\"\",AccountInfo!B556)","v":""},{"$nulls":7},"Check"]
[{"$f":"AccountInfo!$A557","v":555},{"$f":"IF(AccountInfo!$B557=\"\",\"\",AccountInfo!B557)","v":""},{"$nulls":7},"Check"]
[{"$f":"AccountInfo!$A558","v":556},{"$f":"IF(AccountInfo!$B558=\"\",\"\",AccountInfo!B558)","v":""},{"$nulls":7},"Check"]
[{"$f":"AccountInfo!$A559","v":557},{"$f":"IF(AccountInfo!$B559=\"\",\"\",AccountInfo!B559)","v":""},{"$nulls":7},"Check"]
[{"$f":"AccountInfo!$A560","v":558},{"$f":"IF(AccountInfo!$B560=\"\",\"\",AccountInfo!B560)","v":""},{"$nulls":7},"Check"]
[{"$f":"AccountInfo!$A561","v":559},{"$f":"IF(AccountInfo!$B561=\"\",\"\",AccountInfo!B561)","v":""},{"$nulls":7},"Check"]
[{"$f":"AccountInfo!$A562","v":560},{"$f":"IF(AccountInfo!$B562=\"\",\"\",AccountInfo!B562)","v":""},{"$nulls":7},"Check"]
[{"$f":"AccountInfo!$A563","v":561},{"$f":"IF(AccountInfo!$B563=\"\",\"\",AccountInfo!B563)","v":""},{"$nulls":7},"Check"]
[{"$f":"AccountInfo!$A564","v":562},{"$f":"IF(AccountInfo!$B564=\"\",\"\",AccountInfo!B564)","v":""},{"$nulls":7},"Check"]
[{"$f":"AccountInfo!$A565","v":563},{"$f":"IF(AccountInfo!$B565=\"\",\"\",AccountInfo!B565)","v":""},{"$nulls":7},"Check"]
[{"$f":"AccountInfo!$A566","v":564},{"$f":"IF(AccountInfo!$B566=\"\",\"\",AccountInfo!B566)","v":""},{"$nulls":7},"Check"]
[{"$f":"AccountInfo!$A567","v":565},{"$f":"IF(AccountInfo!$B567=\"\",\"\",AccountInfo!B567)","v":""},{"$nulls":7},"Check"]
[{"$f":"AccountInfo!$A568","v":566},{"$f":"IF(AccountInfo!$B568=\"\",\"\",AccountInfo!B568)","v":""},{"$nulls":7},"Check"]
[{"$f":"AccountInfo!$A569","v":567},{"$f":"IF(AccountInfo!$B569=\"\",\"\",AccountInfo!B569)","v":""},{"$nulls":7},"Check"]
[{"$f":"AccountInfo!$A570","v":568},{"$f":"IF(AccountInfo!$B570=\"\",\"\",AccountInfo!B570)","v":""},{"$nulls":7},"Check"]
[{"$f":"AccountInfo!$A571","v":569},{"$f":"IF(AccountInfo!$B571=\"\",\"\",AccountInfo!B571)","v":""},{"$nulls":7},"Check"]
[{"$f":"AccountInfo!$A572","v":570},{"$f":"IF(AccountInfo!$B572=\"\",\"\",AccountInfo!B572)","v":""},{"$nulls":7},"Check"]
[{"$f":"AccountInfo!$A573","v":571},{"$f":"IF(AccountInfo!$B573=\"\",\"\",AccountInfo!B573)","v":""},{"$nulls":7},"Check"]
[{"$f":"AccountInfo!$A574","v":572},{"$f":"IF(AccountInfo!$B574=\"\",\"\",AccountInfo!B574)","v":""},{"$nulls":7},"Check"]
[{"$f":"AccountInfo!$A575","v":573},{"$f":"IF(AccountInfo!$B575=\"\",\"\",AccountInfo!B575)","v":""},{"$nulls":7},"Check"]
[{"$f":"AccountInfo!$A576","v":574},{"$f":"IF(AccountInfo!$B576=\"\",\"\",AccountInfo!B576)","v":""},{"$nulls":7},"Check"]
[{"$f":"AccountInfo!$A577","v":575},{"$f":"IF(AccountInfo!$B577=\"\",\"\",AccountInfo!B577)","v":""},{"$nulls":7},"Check"]
[{"$f":"AccountInfo!$A578","v":576},{"$f":"IF(AccountInfo!$B578=\"\",\"\",AccountInfo!B578)","v":""},{"$nulls":7},"Check"]
[{"$f":"AccountInfo!$A579","v":577},{"$f":"IF(AccountInfo!$B579=\"\",\"\",AccountInfo!B579)","v":""},{"$nulls":7},"Check"]
[{"$f":"AccountInfo!$A580","v":578},{"$f":"IF(AccountInfo!$B580=\"\",\"\",AccountInfo!B580)","v":""},{"$nulls":7},{"$f":"IF(AND(D580<=E580, E580<=F580, F580<=G580, G580<=IF(H580=\"\", 1000000000000, H580)), \"Check\", \"Error\")","v":"Check"}]
[{"$f":"AccountInfo!$A581","v":579},{"$f":"IF(AccountInfo!$B581=\"\",\"\",AccountInfo!B581)","v":""},{"$nulls":7},"Check"]
[{"$f":"AccountInfo!$A582","v":580},{"$f":"IF(AccountInfo!$B582=\"\",\"\",AccountInfo!B582)","v":""},{"$nulls":7},"Check"]
[{"$f":"AccountInfo!$A583","v":581},{"$f":"IF(AccountInfo!$B583=\"\",\"\",AccountInfo!B583)","v":""},{"$nulls":7},"Check"]
[{"$f":"AccountInfo!$A584","v":582},{"$f":"IF(AccountInfo!$B584=\"\",\"\",AccountInfo!B584)","v":""},{"$nulls":7},"Check"]
[{"$f":"AccountInfo!$A585","v":583},{"$f":"IF(AccountInfo!$B585=\"\",\"\",AccountInfo!B585)","v":""},{"$nulls":7},"Check"]
[{"$f":"AccountInfo!$A586","v":584},{"$f":"IF(AccountInfo!$B586=\"\",\"\",AccountInfo!B586)","v":""},{"$nulls":7},"Check"]
[{"$f":"AccountInfo!$A587","v":585},{"$f":"IF(AccountInfo!$B587=\"\",\"\",AccountInfo!B587)","v":""},{"$nulls":7},"Check"]
[{"$f":"AccountInfo!$A588","v":586},{"$f":"IF(AccountInfo!$B588=\"\",\"\",AccountInfo!B588)","v":""},{"$nulls":7},"Check"]
[{"$f":"AccountInfo!$A589","v":587},{"$f":"IF(AccountInfo!$B589=\"\",\"\",AccountInfo!B589)","v":""},{"$nulls":7},"Check"]
[{"$f":"AccountInfo!$A590","v":588},{"$f":"IF(AccountInfo!$B590=\"\",\"\",AccountInfo!B590)","v":""},{"$nulls":7},"Check"]
[{"$f":"AccountInfo!$A591","v":589},{"$f":"IF(AccountInfo!$B591=\"\",\"\",AccountInfo!B591)","v":""},{"$nulls":7},"Check"]
[{"$f":"AccountInfo!$A592","v":590},{"$f":"IF(AccountInfo!$B592=\"\",\"\",AccountInfo!B592)","v":""},{"$nulls":7},"Check"]
[{"$f":"AccountInfo!$A593","v":591},{"$f":"IF(AccountInfo!$B593=\"\",\"\",AccountInfo!B593)","v":""},{"$nulls":7},"Check"]
[{"$f":"AccountInfo!$A594","v":592},{"$f":"IF(AccountInfo!$B594=\"\",\"\",AccountInfo!B594)","v":""},{"$nulls":7},"Check"]
[{"$f":"AccountInfo!$A595","v":593},{"$f":"IF(AccountInfo!$B595=\"\",\"\",AccountInfo!B595)","v":""},{"$nulls":7},"Check"]
[{"$f":"AccountInfo!$A596","v":594},{"$f":"IF(AccountInfo!$B596=\"\",\"\",AccountInfo!B596)","v":""},{"$nulls":7},"Check"]
[{"$f":"AccountInfo!$A597","v":595},{"$f":"IF(AccountInfo!$B597=\"\",\"\",AccountInfo!B597)","v":""},{"$nulls":7},"Check"]
[{"$f":"AccountInfo!$A598","v":596},{"$f":"IF(AccountInfo!$B598=\"\",\"\",AccountInfo!B598)","v":""},{"$nulls":7},"Check"]
[{"$f":"AccountInfo!$A599","v":597},{"$f":"IF(AccountInfo!$B599=\"\",\"\",AccountInfo!B599)","v":""},{"$nulls":7},"Check"]
[{"$f":"AccountInfo!$A600","v":598},{"$f":"IF(AccountInfo!$B600=\"\",\"\",AccountInfo!B600)","v":""},{"$nulls":7},"Check"]
[{"$f":"AccountInfo!$A601","v":599},{"$f":"IF(AccountInfo!$B601=\"\",\"\",AccountInfo!B601)","v":""},{"$nulls":7},"Check"]
[{"$f":"AccountInfo!$A602","v":600},{"$f":"IF(AccountInfo!$B602=\"\",\"\",AccountInfo!B602)","v":""},{"$nulls":7},"Check"]
[{"$f":"AccountInfo!$A603","v":601},{"$f":"IF(AccountInfo!$B603=\"\",\"\",AccountInfo!B603)","v":""},{"$nulls":7},"Check"]
[{"$f":"AccountInfo!$A604","v":602},{"$f":"IF(AccountInfo!$B604=\"\",\"\",AccountInfo!B604)","v":""},{"$nulls":7},"Check"]
[{"$f":"AccountInfo!$A605","v":603},{"$f":"IF(AccountInfo!$B605=\"\",\"\",AccountInfo!B605)","v":""},{"$nulls":7},"Check"]
[{"$f":"AccountInfo!$A606","v":604},{"$f":"IF(AccountInfo!$B606=\"\",\"\",AccountInfo!B606)","v":""},{"$nulls":7},"Check"]
[{"$f":"AccountInfo!$A607","v":605},{"$f":"IF(AccountInfo!$B607=\"\",\"\",AccountInfo!B607)","v":""},{"$nulls":7},"Check"]
[{"$f":"AccountInfo!$A608","v":606},{"$f":"IF(AccountInfo!$B608=\"\",\"\",AccountInfo!B608)","v":""},{"$nulls":7},"Check"]
[{"$f":"AccountInfo!$A609","v":607},{"$f":"IF(AccountInfo!$B609=\"\",\"\",AccountInfo!B609)","v":""},{"$nulls":7},"Check"]
[{"$f":"AccountInfo!$A610","v":608},{"$f":"IF(AccountInfo!$B610=\"\",\"\",AccountInfo!B610)","v":""},{"$nulls":7},"Check"]
[{"$f":"AccountInfo!$A611","v":609},{"$f":"IF(AccountInfo!$B611=\"\",\"\",AccountInfo!B611)","v":""},{"$nulls":7},"Check"]
[{"$f":"AccountInfo!$A612","v":610},{"$f":"IF(AccountInfo!$B612=\"\",\"\",AccountInfo!B612)","v":""},{"$nulls":7},"Check"]
[{"$f":"AccountInfo!$A613","v":611},{"$f":"IF(AccountInfo!$B613=\"\",\"\",AccountInfo!B613)","v":""},{"$nulls":7},"Check"]
[{"$f":"AccountInfo!$A614","v":612},{"$f":"IF(AccountInfo!$B614=\"\",\"\",AccountInfo!B614)","v":""},{"$nulls":7},"Check"]
[{"$f":"AccountInfo!$A615","v":613},{"$f":"IF(AccountInfo!$B615=\"\",\"\",AccountInfo!B615)","v":""},{"$nulls":7},"Check"]
[{"$f":"AccountInfo!$A616","v":614},{"$f":"IF(AccountInfo!$B616=\"\",\"\",AccountInfo!B616)","v":""},{"$nulls":7},"Check"]
[{"$f":"AccountInfo!$A617","v":615},{"$f":"IF(AccountInfo!$B617=\"\",\"\",AccountInfo!B617)","v":""},{"$nulls":7},"Check"]
[{"$f":"AccountInfo!$A618","v":616},{"$f":"IF(AccountInfo!$B618=\"\",\"\",AccountInfo!B618)","v":""},{"$nulls":7},"Check"]
[{"$f":"AccountInfo!$A619","v":617},{"$f":"IF(AccountInfo!$B619=\"\",\"\",AccountInfo!B619)","v":""},{"$nulls":7},"Check"]
[{"$f":"AccountInfo!$A620","v":618},{"$f":"IF(AccountInfo!$B620=\"\",\"\",AccountInfo!B620)","v":""},{"$nulls":7},"Check"]
[{"$f":"AccountInfo!$A621","v":619},{"$f":"IF(AccountInfo!$B621=\"\",\"\",AccountInfo!B621)","v":""},{"$nulls":7},"Check"]
[{"$f":"AccountInfo!$A622","v":620},{"$f":"IF(AccountInfo!$B622=\"\",\"\",AccountInfo!B622)","v":""},{"$nulls":7},"Check"]
[{"$f":"AccountInfo!$A623","v":621},{"$f":"IF(AccountInfo!$B623=\"\",\"\",AccountInfo!B623)","v":""},{"$nulls":7},"Check"]
[{"$f":"AccountInfo!$A624","v":622},{"$f":"IF(AccountInfo!$B624=\"\",\"\",AccountInfo!B624)","v":""},{"$nulls":7},"Check"]
[{"$f":"AccountInfo!$A625","v":623},{"$f":"IF(AccountInfo!$B625=\"\",\"\",AccountInfo!B625)","v":""},{"$nulls":7},"Check"]
[{"$f":"AccountInfo!$A626","v":624},{"$f":"IF(AccountInfo!$B626=\"\",\"\",AccountInfo!B626)","v":""},{"$nulls":7},"Check"]
[{"$f":"AccountInfo!$A627","v":625},{"$f":"IF(AccountInfo!$B627=\"\",\"\",AccountInfo!B627)","v":""},{"$nulls":7},"Check"]
[{"$f":"AccountInfo!$A628","v":626},{"$f":"IF(AccountInfo!$B628=\"\",\"\",AccountInfo!B628)","v":""},{"$nulls":7},"Check"]
[{"$f":"AccountInfo!$A629","v":627},{"$f":"IF(AccountInfo!$B629=\"\",\"\",AccountInfo!B629)","v":""},{"$nulls":7},"Check"]
[{"$f":"AccountInfo!$A630","v":628},{"$f":"IF(AccountInfo!$B630=\"\",\"\",AccountInfo!B630)","v":""},{"$nulls":7},"Check"]
[{"$f":"AccountInfo!$A631","v":629},{"$f":"IF(AccountInfo!$B631=\"\",\"\",AccountInfo!B631)","v":""},{"$nulls":7},"Check"]
[{"$f":"AccountInfo!$A632","v":630},{"$f":"IF(AccountInfo!$B632=\"\",\"\",AccountInfo!B632)","v":""},{"$nulls":7},"Check"]
[{"$f":"AccountInfo!$A633","v":631},{"$f":"IF(AccountInfo!$B633=\"\",\"\",AccountInfo!B633)","v":""},{"$nulls":7},"Check"]
[{"$f":"AccountInfo!$A634","v":632},{"$f":"IF(AccountInfo!$B634=\"\",\"\",AccountInfo!B634)","v":""},{"$nulls":7},"Check"]
[{"$f":"AccountInfo!$A635","v":633},{"$f":"IF(AccountInfo!$B635=\"\",\"\",AccountInfo!B635)","v":""},{"$nulls":7},"Check"]
[{"$f":"AccountInfo!$A636","v":634},{"$f":"IF(AccountInfo!$B636=\"\",\"\",AccountInfo!B636)","v":""},{"$nulls":7},"Check"]
[{"$f":"AccountInfo!$A637","v":635},{"$f":"IF(AccountInfo!$B637=\"\",\"\",AccountInfo!B637)","v":""},{"$nulls":7},"Check"]
[{"$f":"AccountInfo!$A638","v":636},{"$f":"IF(AccountInfo!$B638=\"\",\"\",AccountInfo!B638)","v":""},{"$nulls":7},"Check"]
[{"$f":"AccountInfo!$A639","v":637},{"$f":"IF(AccountInfo!$B639=\"\",\"\",AccountInfo!B639)","v":""},{"$nulls":7},"Check"]
[{"$f":"AccountInfo!$A640","v":638},{"$f":"IF(AccountInfo!$B640=\"\",\"\",AccountInfo!B640)","v":""},{"$nulls":7},"Check"]
[{"$f":"AccountInfo!$A641","v":639},{"$f":"IF(AccountInfo!$B641=\"\",\"\",AccountInfo!B641)","v":""},{"$nulls":7},"Check"]
[{"$f":"AccountInfo!$A642","v":640},{"$f":"IF(AccountInfo!$B642=\"\",\"\",AccountInfo!B642)","v":""},{"$nulls":7},"Check"]
[{"$f":"AccountInfo!$A643","v":641},{"$f":"IF(AccountInfo!$B643=\"\",\"\",AccountInfo!B643)","v":""},{"$nulls":7},"Check"]
[{"$f":"AccountInfo!$A644","v":642},{"$f":"IF(AccountInfo!$B644=\"\",\"\",AccountInfo!B644)","v":""},{"$nulls":7},{"$f":"IF(AND(D644<=E644, E644<=F644, F644<=G644, G644<=IF(H644=\"\", 1000000000000, H644)), \"Check\", \"Error\")","v":"Check"}]
[{"$f":"AccountInfo!$A645","v":643},{"$f":"IF(AccountInfo!$B645=\"\",\"\",AccountInfo!B645)","v":""},{"$nulls":7},"Check"]
[{"$f":"AccountInfo!$A646","v":644},{"$f":"IF(AccountInfo!$B646=\"\",\"\",AccountInfo!B646)","v":""},{"$nulls":7},"Check"]
[{"$f":"AccountInfo!$A647","v":645},{"$f":"IF(AccountInfo!$B647=\"\",\"\",AccountInfo!B647)","v":""},{"$nulls":7},"Check"]
[{"$f":"AccountInfo!$A648","v":646},{"$f":"IF(AccountInfo!$B648=\"\",\"\",AccountInfo!B648)","v":""},{"$nulls":7},"Check"]
[{"$f":"AccountInfo!$A649","v":647},{"$f":"IF(AccountInfo!$B649=\"\",\"\",AccountInfo!B649)","v":""},{"$nulls":7},"Check"]
[{"$f":"AccountInfo!$A650","v":648},{"$f":"IF(AccountInfo!$B650=\"\",\"\",AccountInfo!B650)","v":""},{"$nulls":7},"Check"]
[{"$f":"AccountInfo!$A651","v":649},{"$f":"IF(AccountInfo!$B651=\"\",\"\",AccountInfo!B651)","v":""},{"$nulls":7},"Check"]
[{"$f":"AccountInfo!$A652","v":650},{"$f":"IF(AccountInfo!$B652=\"\",\"\",AccountInfo!B652)","v":""},{"$nulls":7},"Check"]
[{"$f":"AccountInfo!$A653","v":651},{"$f":"IF(AccountInfo!$B653=\"\",\"\",AccountInfo!B653)","v":""},{"$nulls":7},"Check"]
[{"$f":"AccountInfo!$A654","v":652},{"$f":"IF(AccountInfo!$B654=\"\",\"\",AccountInfo!B654)","v":""},{"$nulls":7},"Check"]
[{"$f":"AccountInfo!$A655","v":653},{"$f":"IF(AccountInfo!$B655=\"\",\"\",AccountInfo!B655)","v":""},{"$nulls":7},"Check"]
[{"$f":"AccountInfo!$A656","v":654},{"$f":"IF(AccountInfo!$B656=\"\",\"\",AccountInfo!B656)","v":""},{"$nulls":7},"Check"]
[{"$f":"AccountInfo!$A657","v":655},{"$f":"IF(AccountInfo!$B657=\"\",\"\",AccountInfo!B657)","v":""},{"$nulls":7},"Check"]
[{"$f":"AccountInfo!$A658","v":656},{"$f":"IF(AccountInfo!$B658=\"\",\"\",AccountInfo!B658)","v":""},{"$nulls":7},"Check"]
[{"$f":"AccountInfo!$A659","v":657},{"$f":"IF(AccountInfo!$B659=\"\",\"\",AccountInfo!B659)","v":""},{"$nulls":7},"Check"]
[{"$f":"AccountInfo!$A660","v":658},{"$f":"IF(AccountInfo!$B660=\"\",\"\",AccountInfo!B660)","v":""},{"$nulls":7},"Check"]
[{"$f":"AccountInfo!$A661","v":659},{"$f":"IF(AccountInfo!$B661=\"\",\"\",AccountInfo!B661)","v":""},{"$nulls":7},"Check"]
[{"$f":"AccountInfo!$A662","v":660},{"$f":"IF(AccountInfo!$B662=\"\",\"\",AccountInfo!B662)","v":""},{"$nulls":7},"Check"]
[{"$f":"AccountInfo!$A663","v":661},{"$f":"IF(AccountInfo!$B663=\"\",\"\",AccountInfo!B663)","v":""},{"$nulls":7},"Check"]
[{"$f":"AccountInfo!$A664","v":662},{"$f":"IF(AccountInfo!$B664=\"\",\"\",AccountInfo!B664)","v":""},{"$nulls":7},"Check"]
[{"$f":"AccountInfo!$A665","v":663},{"$f":"IF(AccountInfo!$B665=\"\",\"\",AccountInfo!B665)","v":""},{"$nulls":7},"Check"]
[{"$f":"AccountInfo!$A666","v":664},{"$f":"IF(AccountInfo!$B666=\"\",\"\",AccountInfo!B666)","v":""},{"$nulls":7},"Check"]
[{"$f":"AccountInfo!$A667","v":665},{"$f":"IF(AccountInfo!$B667=\"\",\"\",AccountInfo!B667)","v":""},{"$nulls":7},"Check"]
[{"$f":"AccountInfo!$A668","v":666},{"$f":"IF(AccountInfo!$B668=\"\",\"\",AccountInfo!B668)","v":""},{"$nulls":7},"Check"]
[{"$f":"AccountInfo!$A669","v":667},{"$f":"IF(AccountInfo!$B669=\"\",\"\",AccountInfo!B669)","v":""},{"$nulls":7},"Check"]
[{"$f":"AccountInfo!$A670","v":668},{"$f":"IF(AccountInfo!$B670=\"\",\"\",AccountInfo!B670)","v":""},{"$nulls":7},"Check"]
[{"$f":"AccountInfo!$A671","v":669},{"$f":"IF(AccountInfo!$B671=\"\",\"\",AccountInfo!B671)","v":""},{"$nulls":7},"Check"]
[{"$f":"AccountInfo!$A672","v":670},{"$f":"IF(AccountInfo!$B672=\"\",\"\",AccountInfo!B672)","v":""},{"$nulls":7},"Check"]
[{"$f":"AccountInfo!$A673","v":671},{"$f":"IF(AccountInfo!$B673=\"\",\"\",AccountInfo!B673)","v":""},{"$nulls":7},"Check"]
[{"$f":"AccountInfo!$A674","v":672},{"$f":"IF(AccountInfo!$B674=\"\",\"\",AccountInfo!B674)","v":""},{"$nulls":7},"Check"]
[{"$f":"AccountInfo!$A675","v":673},{"$f":"IF(AccountInfo!$B675=\"\",\"\",AccountInfo!B675)","v":""},{"$nulls":7},"Check"]
[{"$f":"AccountInfo!$A676","v":674},{"$f":"IF(AccountInfo!$B676=\"\",\"\",AccountInfo!B676)","v":""},{"$nulls":7},"Check"]
[{"$f":"AccountInfo!$A677","v":675},{"$f":"IF(AccountInfo!$B677=\"\",\"\",AccountInfo!B677)","v":""},{"$nulls":7},"Check"]
[{"$f":"AccountInfo!$A678","v":676},{"$f":"IF(AccountInfo!$B678=\"\",\"\",AccountInfo!B678)","v":""},{"$nulls":7},"Check"]
[{"$f":"AccountInfo!$A679","v":677},{"$f":"IF(AccountInfo!$B679=\"\",\"\",AccountInfo!B679)","v":""},{"$nulls":7},"Check"]
[{"$f":"AccountInfo!$A680","v":678},{"$f":"IF(AccountInfo!$B680=\"\",\"\",AccountInfo!B680)","v":""},{"$nulls":7},"Check"]
[{"$f":"AccountInfo!$A681","v":679},{"$f":"IF(AccountInfo!$B681=\"\",\"\",AccountInfo!B681)","v":""},{"$nulls":7},"Check"]
[{"$f":"AccountInfo!$A682","v":680},{"$f":"IF(AccountInfo!$B682=\"\",\"\",AccountInfo!B682)","v":""},{"$nulls":7},"Check"]
[{"$f":"AccountInfo!$A683","v":681},{"$f":"IF(AccountInfo!$B683=\"\",\"\",AccountInfo!B683)","v":""},{"$nulls":7},"Check"]
[{"$f":"AccountInfo!$A684","v":682},{"$f":"IF(AccountInfo!$B684=\"\",\"\",AccountInfo!B684)","v":""},{"$nulls":7},"Check"]
[{"$f":"AccountInfo!$A685","v":683},{"$f":"IF(AccountInfo!$B685=\"\",\"\",AccountInfo!B685)","v":""},{"$nulls":7},"Check"]
[{"$f":"AccountInfo!$A686","v":684},{"$f":"IF(AccountInfo!$B686=\"\",\"\",AccountInfo!B686)","v":""},{"$nulls":7},"Check"]
[{"$f":"AccountInfo!$A687","v":685},{"$f":"IF(AccountInfo!$B687=\"\",\"\",AccountInfo!B687)","v":""},{"$nulls":7},"Check"]
[{"$f":"AccountInfo!$A688","v":686},{"$f":"IF(AccountInfo!$B688=\"\",\"\",AccountInfo!B688)","v":""},{"$nulls":7},"Check"]
[{"$f":"AccountInfo!$A689","v":687},{"$f":"IF(AccountInfo!$B689=\"\",\"\",AccountInfo!B689)","v":""},{"$nulls":7},"Check"]
[{"$f":"AccountInfo!$A690","v":688},{"$f":"IF(AccountInfo!$B690=\"\",\"\",AccountInfo!B690)","v":""},{"$nulls":7},"Check"]
[{"$f":"AccountInfo!$A691","v":689},{"$f":"IF(AccountInfo!$B691=\"\",\"\",AccountInfo!B691)","v":""},{"$nulls":7},"Check"]
[{"$f":"AccountInfo!$A692","v":690},{"$f":"IF(AccountInfo!$B692=\"\",\"\",AccountInfo!B692)","v":""},{"$nulls":7},"Check"]
[{"$f":"AccountInfo!$A693","v":691},{"$f":"IF(AccountInfo!$B693=\"\",\"\",AccountInfo!B693)","v":""},{"$nulls":7},"Check"]
[{"$f":"AccountInfo!$A694","v":692},{"$f":"IF(AccountInfo!$B694=\"\",\"\",AccountInfo!B694)","v":""},{"$nulls":7},"Check"]
[{"$f":"AccountInfo!$A695","v":693},{"$f":"IF(AccountInfo!$B695=\"\",\"\",AccountInfo!B695)","v":""},{"$nulls":7},"Check"]
[{"$f":"AccountInfo!$A696","v":694},{"$f":"IF(AccountInfo!$B696=\"\",\"\",AccountInfo!B696)","v":""},{"$nulls":7},"Check"]
[{"$f":"AccountInfo!$A697","v":695},{"$f":"IF(AccountInfo!$B697=\"\",\"\",AccountInfo!B697)","v":""},{"$nulls":7},"Check"]
[{"$f":"AccountInfo!$A698","v":696},{"$f":"IF(AccountInfo!$B698=\"\",\"\",AccountInfo!B698)","v":""},{"$nulls":7},"Check"]
[{"$f":"AccountInfo!$A699","v":697},{"$f":"IF(AccountInfo!$B699=\"\",\"\",AccountInfo!B699)","v":""},{"$nulls":7},"Check"]
[{"$f":"AccountInfo!$A700","v":698},{"$f":"IF(AccountInfo!$B700=\"\",\"\",AccountInfo!B700)","v":""},{"$nulls":7},"Check"]
[{"$f":"AccountInfo!$A701","v":699},{"$f":"IF(AccountInfo!$B701=\"\",\"\",AccountInfo!B701)","v":""},{"$nulls":7},"Check"]
[{"$f":"AccountInfo!$A702","v":700},{"$f":"IF(AccountInfo!$B702=\"\",\"\",AccountInfo!B702)","v":""},{"$nulls":7},"Check"]
[{"$f":"AccountInfo!$A703","v":701},{"$f":"IF(AccountInfo!$B703=\"\",\"\",AccountInfo!B703)","v":""},{"$nulls":7},"Check"]
[{"$f":"AccountInfo!$A704","v":702},{"$f":"IF(AccountInfo!$B704=\"\",\"\",AccountInfo!B704)","v":""},{"$nulls":7},"Check"]
[{"$f":"AccountInfo!$A705","v":703},{"$f":"IF(AccountInfo!$B705=\"\",\"\",AccountInfo!B705)","v":""},{"$nulls":7},"Check"]
[{"$f":"AccountInfo!$A706","v":704},{"$f":"IF(AccountInfo!$B706=\"\",\"\",AccountInfo!B706)","v":""},{"$nulls":7},"Check"]
[{"$f":"AccountInfo!$A707","v":705},{"$f":"IF(AccountInfo!$B707=\"\",\"\",AccountInfo!B707)","v":""},{"$nulls":7},"Check"]
[{"$f":"AccountInfo!$A708","v":706},{"$f":"IF(AccountInfo!$B708=\"\",\"\",AccountInfo!B708)","v":""},{"$nulls":7},{"$f":"IF(AND(D708<=E708, E708<=F708, F708<=G708, G708<=IF(H708=\"\", 1000000000000, H708)), \"Check\", \"Error\")","v":"Check"}]
[{"$f":"AccountInfo!$A709","v":707},{"$f":"IF(AccountInfo!$B709=\"\",\"\",AccountInfo!B709)","v":""},{"$nulls":7},"Check"]
[{"$f":"AccountInfo!$A710","v":708},{"$f":"IF(AccountInfo!$B710=\"\",\"\",AccountInfo!B710)","v":""},{"$nulls":7},"Check"]
[{"$f":"AccountInfo!$A711","v":709},{"$f":"IF(AccountInfo!$B711=\"\",\"\",AccountInfo!B711)","v":""},{"$nulls":7},"Check"]
[{"$f":"AccountInfo!$A712","v":710},{"$f":"IF(AccountInfo!$B712=\"\",\"\",AccountInfo!B712)","v":""},{"$nulls":7},"Check"]
[{"$f":"AccountInfo!$A713","v":711},{"$f":"IF(AccountInfo!$B713=\"\",\"\",AccountInfo!B713)","v":""},{"$nulls":7},"Check"]
[{"$f":"AccountInfo!$A714","v":712},{"$f":"IF(AccountInfo!$B714=\"\",\"\",AccountInfo!B714)","v":""},{"$nulls":7},"Check"]
[{"$f":"AccountInfo!$A715","v":713},{"$f":"IF(AccountInfo!$B715=\"\",\"\",AccountInfo!B715)","v":""},{"$nulls":7},"Check"]
[{"$f":"AccountInfo!$A716","v":714},{"$f":"IF(AccountInfo!$B716=\"\",\"\",AccountInfo!B716)","v":""},{"$nulls":7},"Check"]
[{"$f":"AccountInfo!$A717","v":715},{"$f":"IF(AccountInfo!$B717=\"\",\"\",AccountInfo!B717)","v":""},{"$nulls":7},"Check"]
[{"$f":"AccountInfo!$A718","v":716},{"$f":"IF(AccountInfo!$B718=\"\",\"\",AccountInfo!B718)","v":""},{"$nulls":7},"Check"]
[{"$f":"AccountInfo!$A719","v":717},{"$f":"IF(AccountInfo!$B719=\"\",\"\",AccountInfo!B719)","v":""},{"$nulls":7},"Check"]
[{"$f":"AccountInfo!$A720","v":718},{"$f":"IF(AccountInfo!$B720=\"\",\"\",AccountInfo!B720)","v":""},{"$nulls":7},"Check"]
[{"$f":"AccountInfo!$A721","v":719},{"$f":"IF(AccountInfo!$B721=\"\",\"\",AccountInfo!B721)","v":""},{"$nulls":7},"Check"]
[{"$f":"AccountInfo!$A722","v":720},{"$f":"IF(AccountInfo!$B722=\"\",\"\",AccountInfo!B722)","v":""},{"$nulls":7},"Check"]
[{"$f":"AccountInfo!$A723","v":721},{"$f":"IF(AccountInfo!$B723=\"\",\"\",AccountInfo!B723)","v":""},{"$nulls":7},"Check"]
[{"$f":"AccountInfo!$A724","v":722},{"$f":"IF(AccountInfo!$B724=\"\",\"\",AccountInfo!B724)","v":""},{"$nulls":7},"Check"]
[{"$f":"AccountInfo!$A725","v":723},{"$f":"IF(AccountInfo!$B725=\"\",\"\",AccountInfo!B725)","v":""},{"$nulls":7},"Check"]
[{"$f":"AccountInfo!$A726","v":724},{"$f":"IF(AccountInfo!$B726=\"\",\"\",AccountInfo!B726)","v":""},{"$nulls":7},"Check"]
[{"$f":"AccountInfo!$A727","v":725},{"$f":"IF(AccountInfo!$B727=\"\",\"\",AccountInfo!B727)","v":""},{"$nulls":7},"Check"]
[{"$f":"AccountInfo!$A728","v":726},{"$f":"IF(AccountInfo!$B728=\"\",\"\",AccountInfo!B728)","v":""},{"$nulls":7},"Check"]
[{"$f":"AccountInfo!$A729","v":727},{"$f":"IF(AccountInfo!$B729=\"\",\"\",AccountInfo!B729)","v":""},{"$nulls":7},"Check"]
[{"$f":"AccountInfo!$A730","v":728},{"$f":"IF(AccountInfo!$B730=\"\",\"\",AccountInfo!B730)","v":""},{"$nulls":7},"Check"]
[{"$f":"AccountInfo!$A731","v":729},{"$f":"IF(AccountInfo!$B731=\"\",\"\",AccountInfo!B731)","v":""},{"$nulls":7},"Check"]
[{"$f":"AccountInfo!$A732","v":730},{"$f":"IF(AccountInfo!$B732=\"\",\"\",AccountInfo!B732)","v":""},{"$nulls":7},"Check"]
[{"$f":"AccountInfo!$A733","v":731},{"$f":"IF(AccountInfo!$B733=\"\",\"\",AccountInfo!B733)","v":""},{"$nulls":7},"Check"]
[{"$f":"AccountInfo!$A734","v":732},{"$f":"IF(AccountInfo!$B734=\"\",\"\",AccountInfo!B734)","v":""},{"$nulls":7},"Check"]
[{"$f":"AccountInfo!$A735","v":733},{"$f":"IF(AccountInfo!$B735=\"\",\"\",AccountInfo!B735)","v":""},{"$nulls":7},"Check"]
[{"$f":"AccountInfo!$A736","v":734},{"$f":"IF(AccountInfo!$B736=\"\",\"\",AccountInfo!B736)","v":""},{"$nulls":7},"Check"]
[{"$f":"AccountInfo!$A737","v":735},{"$f":"IF(AccountInfo!$B737=\"\",\"\",AccountInfo!B737)","v":""},{"$nulls":7},"Check"]
[{"$f":"AccountInfo!$A738","v":736},{"$f":"IF(AccountInfo!$B738=\"\",\"\",AccountInfo!B738)","v":""},{"$nulls":7},"Check"]
[{"$f":"AccountInfo!$A739","v":737},{"$f":"IF(AccountInfo!$B739=\"\",\"\",AccountInfo!B739)","v":""},{"$nulls":7},"Check"]
[{"$f":"AccountInfo!$A740","v":738},{"$f":"IF(AccountInfo!$B740=\"\",\"\",AccountInfo!B740)","v":""},{"$nulls":7},"Check"]
[{"$f":"AccountInfo!$A741","v":739},{"$f":"IF(AccountInfo!$B741=\"\",\"\",AccountInfo!B741)","v":""},{"$nulls":7},"Check"]
[{"$f":"AccountInfo!$A742","v":740},{"$f":"IF(AccountInfo!$B742=\"\",\"\",AccountInfo!B742)","v":""},{"$nulls":7},"Check"]
[{"$f":"AccountInfo!$A743","v":741},{"$f":"IF(AccountInfo!$B743=\"\",\"\",AccountInfo!B743)","v":""},{"$nulls":7},"Check"]
[{"$f":"AccountInfo!$A744","v":742},{"$f":"IF(AccountInfo!$B744=\"\",\"\",AccountInfo!B744)","v":""},{"$nulls":7},"Check"]
[{"$f":"AccountInfo!$A745","v":743},{"$f":"IF(AccountInfo!$B745=\"\",\"\",AccountInfo!B745)","v":""},{"$nulls":7},"Check"]
[{"$f":"AccountInfo!$A746","v":744},{"$f":"IF(AccountInfo!$B746=\"\",\"\",AccountInfo!B746)","v":""},{"$nulls":7},"Check"]
[{"$f":"AccountInfo!$A747","v":745},{"$f":"IF(AccountInfo!$B747=\"\",\"\",AccountInfo!B747)","v":""},{"$nulls":7},"Check"]
[{"$f":"AccountInfo!$A748","v":746},{"$f":"IF(AccountInfo!$B748=\"\",\"\",AccountInfo!B748)","v":""},{"$nulls":7},"Check"]
[{"$f":"AccountInfo!$A749","v":747},{"$f":"IF(AccountInfo!$B749=\"\",\"\",AccountInfo!B749)","v":""},{"$nulls":7},"Check"]
[{"$f":"AccountInfo!$A750","v":748},{"$f":"IF(AccountInfo!$B750=\"\",\"\",AccountInfo!B750)","v":""},{"$nulls":7},"Check"]
[{"$f":"AccountInfo!$A751","v":749},{"$f":"IF(AccountInfo!$B751=\"\",\"\",AccountInfo!B751)","v":""},{"$nulls":7},"Check"]
[{"$f":"AccountInfo!$A752","v":750},{"$f":"IF(AccountInfo!$B752=\"\",\"\",AccountInfo!B752)","v":""},{"$nulls":7},"Check"]
[{"$f":"AccountInfo!$A753","v":751},{"$f":"IF(AccountInfo!$B753=\"\",\"\",AccountInfo!B753)","v":""},{"$nulls":7},"Check"]
[{"$f":"AccountInfo!$A754","v":752},{"$f":"IF(AccountInfo!$B754=\"\",\"\",AccountInfo!B754)","v":""},{"$nulls":7},"Check"]
[{"$f":"AccountInfo!$A755","v":753},{"$f":"IF(AccountInfo!$B755=\"\",\"\",AccountInfo!B755)","v":""},{"$nulls":7},"Check"]
[{"$f":"AccountInfo!$A756","v":754},{"$f":"IF(AccountInfo!$B756=\"\",\"\",AccountInfo!B756)","v":""},{"$nulls":7},"Check"]
[{"$f":"AccountInfo!$A757","v":755},{"$f":"IF(AccountInfo!$B757=\"\",\"\",AccountInfo!B757)","v":""},{"$nulls":7},"Check"]
[{"$f":"AccountInfo!$A758","v":756},{"$f":"IF(AccountInfo!$B758=\"\",\"\",AccountInfo!B758)","v":""},{"$nulls":7},"Check"]
[{"$f":"AccountInfo!$A759","v":757},{"$f":"IF(AccountInfo!$B759=\"\",\"\",AccountInfo!B759)","v":""},{"$nulls":7},"Check"]
[{"$f":"AccountInfo!$A760","v":758},{"$f":"IF(AccountInfo!$B760=\"\",\"\",AccountInfo!B760)","v":""},{"$nulls":7},"Check"]
[{"$f":"AccountInfo!$A761","v":759},{"$f":"IF(AccountInfo!$B761=\"\",\"\",AccountInfo!B761)","v":""},{"$nulls":7},"Check"]
[{"$f":"AccountInfo!$A762","v":760},{"$f":"IF(AccountInfo!$B762=\"\",\"\",AccountInfo!B762)","v":""},{"$nulls":7},"Check"]
[{"$f":"AccountInfo!$A763","v":761},{"$f":"IF(AccountInfo!$B763=\"\",\"\",AccountInfo!B763)","v":""},{"$nulls":7},"Check"]
[{"$f":"AccountInfo!$A764","v":762},{"$f":"IF(AccountInfo!$B764=\"\",\"\",AccountInfo!B764)","v":""},{"$nulls":7},"Check"]
[{"$f":"AccountInfo!$A765","v":763},{"$f":"IF(AccountInfo!$B765=\"\",\"\",AccountInfo!B765)","v":""},{"$nulls":7},"Check"]
[{"$f":"AccountInfo!$A766","v":764},{"$f":"IF(AccountInfo!$B766=\"\",\"\",AccountInfo!B766)","v":""},{"$nulls":7},"Check"]
[{"$f":"AccountInfo!$A767","v":765},{"$f":"IF(AccountInfo!$B767=\"\",\"\",AccountInfo!B767)","v":""},{"$nulls":7},"Check"]
[{"$f":"AccountInfo!$A768","v":766},{"$f":"IF(AccountInfo!$B768=\"\",\"\",AccountInfo!B768)","v":""},{"$nulls":7},"Check"]
[{"$f":"AccountInfo!$A769","v":767},{"$f":"IF(AccountInfo!$B769=\"\",\"\",AccountInfo!B769)","v":""},{"$nulls":7},"Check"]
[{"$f":"AccountInfo!$A770","v":768},{"$f":"IF(AccountInfo!$B770=\"\",\"\",AccountInfo!B770)","v":""},{"$nulls":7},"Check"]
[{"$f":"AccountInfo!$A771","v":769},{"$f":"IF(AccountInfo!$B771=\"\",\"\",AccountInfo!B771)","v":""},{"$nulls":7},"Check"]
[{"$f":"AccountInfo!$A772","v":770},{"$f":"IF(AccountInfo!$B772=\"\",\"\",AccountInfo!B772)","v":""},{"$nulls":7},{"$f":"IF(AND(D772<=E772, E772<=F772, F772<=G772, G772<=IF(H772=\"\", 1000000000000, H772)), \"Check\", \"Error\")","v":"Check"}]
[{"$f":"AccountInfo!$A773","v":771},{"$f":"IF(AccountInfo!$B773=\"\",\"\",AccountInfo!B773)","v":""},{"$nulls":7},"Check"]
[{"$f":"AccountInfo!$A774","v":772},{"$f":"IF(AccountInfo!$B774=\"\",\"\",AccountInfo!B774)","v":""},{"$nulls":7},"Check"]
[{"$f":"AccountInfo!$A775","v":773},{"$f":"IF(AccountInfo!$B775=\"\",\"\",AccountInfo!B775)","v":""},{"$nulls":7},"Check"]
[{"$f":"AccountInfo!$A776","v":774},{"$f":"IF(AccountInfo!$B776=\"\",\"\",AccountInfo!B776)","v":""},{"$nulls":7},"Check"]
[{"$f":"AccountInfo!$A777","v":775},{"$f":"IF(AccountInfo!$B777=\"\",\"\",AccountInfo!B777)","v":""},{"$nulls":7},"Check"]
[{"$f":"AccountInfo!$A778","v":776},{"$f":"IF(AccountInfo!$B778=\"\",\"\",AccountInfo!B778)","v":""},{"$nulls":7},"Check"]
[{"$f":"AccountInfo!$A779","v":777},{"$f":"IF(AccountInfo!$B779=\"\",\"\",AccountInfo!B779)","v":""},{"$nulls":7},"Check"]
[{"$f":"AccountInfo!$A780","v":778},{"$f":"IF(AccountInfo!$B780=\"\",\"\",AccountInfo!B780)","v":""},{"$nulls":7},"Check"]
[{"$f":"AccountInfo!$A781","v":779},{"$f":"IF(AccountInfo!$B781=\"\",\"\",AccountInfo!B781)","v":""},{"$nulls":7},"Check"]
[{"$f":"AccountInfo!$A782","v":780},{"$f":"IF(AccountInfo!$B782=\"\",\"\",AccountInfo!B782)","v":""},{"$nulls":7},"Check"]
[{"$f":"AccountInfo!$A783","v":781},{"$f":"IF(AccountInfo!$B783=\"\",\"\",AccountInfo!B783)","v":""},{"$nulls":7},"Check"]
[{"$f":"AccountInfo!$A784","v":782},{"$f":"IF(AccountInfo!$B784=\"\",\"\",AccountInfo!B784)","v":""},{"$nulls":7},"Check"]
[{"$f":"AccountInfo!$A785","v":783},{"$f":"IF(AccountInfo!$B785=\"\",\"\",AccountInfo!B785)","v":""},{"$nulls":7},"Check"]
[{"$f":"AccountInfo!$A786","v":784},{"$f":"IF(AccountInfo!$B786=\"\",\"\",AccountInfo!B786)","v":""},{"$nulls":7},"Check"]
[{"$f":"AccountInfo!$A787","v":785},{"$f":"IF(AccountInfo!$B787=\"\",\"\",AccountInfo!B787)","v":""},{"$nulls":7},"Check"]
[{"$f":"AccountInfo!$A788","v":786},{"$f":"IF(AccountInfo!$B788=\"\",\"\",AccountInfo!B788)","v":""},{"$nulls":7},"Check"]
[{"$f":"AccountInfo!$A789","v":787},{"$f":"IF(AccountInfo!$B789=\"\",\"\",AccountInfo!B789)","v":""},{"$nulls":7},"Check"]
[{"$f":"AccountInfo!$A790","v":788},{"$f":"IF(AccountInfo!$B790=\"\",\"\",AccountInfo!B790)","v":""},{"$nulls":7},"Check"]
[{"$f":"AccountInfo!$A791","v":789},{"$f":"IF(AccountInfo!$B791=\"\",\"\",AccountInfo!B791)","v":""},{"$nulls":7},"Check"]
[{"$f":"AccountInfo!$A792","v":790},{"$f":"IF(AccountInfo!$B792=\"\",\"\",AccountInfo!B792)","v":""},{"$nulls":7},"Check"]
[{"$f":"AccountInfo!$A793","v":791},{"$f":"IF(AccountInfo!$B793=\"\",\"\",AccountInfo!B793)","v":""},{"$nulls":7},"Check"]
[{"$f":"AccountInfo!$A794","v":792},{"$f":"IF(AccountInfo!$B794=\"\",\"\",AccountInfo!B794)","v":""},{"$nulls":7},"Check"]
[{"$f":"AccountInfo!$A795","v":793},{"$f":"IF(AccountInfo!$B795=\"\",\"\",AccountInfo!B795)","v":""},{"$nulls":7},"Check"]
[{"$f":"AccountInfo!$A796","v":794},{"$f":"IF(AccountInfo!$B796=\"\",\"\",AccountInfo!B796)","v":""},{"$nulls":7},"Check"]
[{"$f":"AccountInfo!$A797","v":795},{"$f":"IF(AccountInfo!$B797=\"\",\"\",AccountInfo!B797)","v":""},{"$nulls":7},"Check"]
[{"$f":"AccountInfo!$A798","v":796},{"$f":"IF(AccountInfo!$B798=\"\",\"\",AccountInfo!B798)","v":""},{"$nulls":7},"Check"]
[{"$f":"AccountInfo!$A799","v":797},{"$f":"IF(AccountInfo!$B799=\"\",\"\",AccountInfo!B799)","v":""},{"$nulls":7},"Check"]
[{"$f":"AccountInfo!$A800","v":798},{"$f":"IF(AccountInfo!$B800=\"\",\"\",AccountInfo!B800)","v":""},{"$nulls":7},"Check"]
[{"$f":"AccountInfo!$A801","v":799},{"$f":"IF(AccountInfo!$B801=\"\",\"\",AccountInfo!B801)","v":""},{"$nulls":7},"Check"]
[{"$f":"AccountInfo!$A802","v":800},{"$f":"IF(AccountInfo!$B802=\"\",\"\",AccountInfo!B802)","v":""},{"$nulls":7},"Check"]
[{"$f":"AccountInfo!$A803","v":801},{"$f":"IF(AccountInfo!$B803=\"\",\"\",AccountInfo!B803)","v":""},{"$nulls":7},"Check"]
[{"$f":"AccountInfo!$A804","v":802},{"$f":"IF(AccountInfo!$B804=\"\",\"\",AccountInfo!B804)","v":""},{"$nulls":7},"Check"]
[{"$f":"AccountInfo!$A805","v":803},{"$f":"IF(AccountInfo!$B805=\"\",\"\",AccountInfo!B805)","v":""},{"$nulls":7},"Check"]
[{"$f":"AccountInfo!$A806","v":804},{"$f":"IF(AccountInfo!$B806=\"\",\"\",AccountInfo!B806)","v":""},{"$nulls":7},"Check"]
[{"$f":"AccountInfo!$A807","v":805},{"$f":"IF(AccountInfo!$B807=\"\",\"\",AccountInfo!B807)","v":""},{"$nulls":7},"Check"]
[{"$f":"AccountInfo!$A808","v":806},{"$f":"IF(AccountInfo!$B808=\"\",\"\",AccountInfo!B808)","v":""},{"$nulls":7},"Check"]
[{"$f":"AccountInfo!$A809","v":807},{"$f":"IF(AccountInfo!$B809=\"\",\"\",AccountInfo!B809)","v":""},{"$nulls":7},"Check"]
[{"$f":"AccountInfo!$A810","v":808},{"$f":"IF(AccountInfo!$B810=\"\",\"\",AccountInfo!B810)","v":""},{"$nulls":7},"Check"]
[{"$f":"AccountInfo!$A811","v":809},{"$f":"IF(AccountInfo!$B811=\"\",\"\",AccountInfo!B811)","v":""},{"$nulls":7},"Check"]
[{"$f":"AccountInfo!$A812","v":810},{"$f":"IF(AccountInfo!$B812=\"\",\"\",AccountInfo!B812)","v":""},{"$nulls":7},"Check"]
[{"$f":"AccountInfo!$A813","v":811},{"$f":"IF(AccountInfo!$B813=\"\",\"\",AccountInfo!B813)","v":""},{"$nulls":7},"Check"]
[{"$f":"AccountInfo!$A814","v":812},{"$f":"IF(AccountInfo!$B814=\"\",\"\",AccountInfo!B814)","v":""},{"$nulls":7},"Check"]
[{"$f":"AccountInfo!$A815","v":813},{"$f":"IF(AccountInfo!$B815=\"\",\"\",AccountInfo!B815)","v":""},{"$nulls":7},"Check"]
[{"$f":"AccountInfo!$A816","v":814},{"$f":"IF(AccountInfo!$B816=\"\",\"\",AccountInfo!B816)","v":""},{"$nulls":7},"Check"]
[{"$f":"AccountInfo!$A817","v":815},{"$f":"IF(AccountInfo!$B817=\"\",\"\",AccountInfo!B817)","v":""},{"$nulls":7},"Check"]
[{"$f":"AccountInfo!$A818","v":816},{"$f":"IF(AccountInfo!$B818=\"\",\"\",AccountInfo!B818)","v":""},{"$nulls":7},"Check"]
[{"$f":"AccountInfo!$A819","v":817},{"$f":"IF(AccountInfo!$B819=\"\",\"\",AccountInfo!B819)","v":""},{"$nulls":7},"Check"]
[{"$f":"AccountInfo!$A820","v":818},{"$f":"IF(AccountInfo!$B820=\"\",\"\",AccountInfo!B820)","v":""},{"$nulls":7},"Check"]
[{"$f":"AccountInfo!$A821","v":819},{"$f":"IF(AccountInfo!$B821=\"\",\"\",AccountInfo!B821)","v":""},{"$nulls":7},"Check"]
[{"$f":"AccountInfo!$A822","v":820},{"$f":"IF(AccountInfo!$B822=\"\",\"\",AccountInfo!B822)","v":""},{"$nulls":7},"Check"]
[{"$f":"AccountInfo!$A823","v":821},{"$f":"IF(AccountInfo!$B823=\"\",\"\",AccountInfo!B823)","v":""},{"$nulls":7},"Check"]
[{"$f":"AccountInfo!$A824","v":822},{"$f":"IF(AccountInfo!$B824=\"\",\"\",AccountInfo!B824)","v":""},{"$nulls":7},"Check"]
[{"$f":"AccountInfo!$A825","v":823},{"$f":"IF(AccountInfo!$B825=\"\",\"\",AccountInfo!B825)","v":""},{"$nulls":7},"Check"]
[{"$f":"AccountInfo!$A826","v":824},{"$f":"IF(AccountInfo!$B826=\"\",\"\",AccountInfo!B826)","v":""},{"$nulls":7},"Check"]
[{"$f":"AccountInfo!$A827","v":825},{"$f":"IF(AccountInfo!$B827=\"\",\"\",AccountInfo!B827)","v":""},{"$nulls":7},"Check"]
[{"$f":"AccountInfo!$A828","v":826},{"$f":"IF(AccountInfo!$B828=\"\",\"\",AccountInfo!B828)","v":""},{"$nulls":7},"Check"]
[{"$f":"AccountInfo!$A829","v":827},{"$f":"IF(AccountInfo!$B829=\"\",\"\",AccountInfo!B829)","v":""},{"$nulls":7},"Check"]
[{"$f":"AccountInfo!$A830","v":828},{"$f":"IF(AccountInfo!$B830=\"\",\"\",AccountInfo!B830)","v":""},{"$nulls":7},"Check"]
[{"$f":"AccountInfo!$A831","v":829},{"$f":"IF(AccountInfo!$B831=\"\",\"\",AccountInfo!B831)","v":""},{"$nulls":7},"Check"]
[{"$f":"AccountInfo!$A832","v":830},{"$f":"IF(AccountInfo!$B832=\"\",\"\",AccountInfo!B832)","v":""},{"$nulls":7},"Check"]
[{"$f":"AccountInfo!$A833","v":831},{"$f":"IF(AccountInfo!$B833=\"\",\"\",AccountInfo!B833)","v":""},{"$nulls":7},"Check"]
[{"$f":"AccountInfo!$A834","v":832},{"$f":"IF(AccountInfo!$B834=\"\",\"\",AccountInfo!B834)","v":""},{"$nulls":7},"Check"]
[{"$f":"AccountInfo!$A835","v":833},{"$f":"IF(AccountInfo!$B835=\"\",\"\",AccountInfo!B835)","v":""},{"$nulls":7},"Check"]
[{"$f":"AccountInfo!$A836","v":834},{"$f":"IF(AccountInfo!$B836=\"\",\"\",AccountInfo!B836)","v":""},{"$nulls":7},{"$f":"IF(AND(D836<=E836, E836<=F836, F836<=G836, G836<=IF(H836=\"\", 1000000000000, H836)), \"Check\", \"Error\")","v":"Check"}]
[{"$f":"AccountInfo!$A837","v":835},{"$f":"IF(AccountInfo!$B837=\"\",\"\",AccountInfo!B837)","v":""},{"$nulls":7},"Check"]
[{"$f":"AccountInfo!$A838","v":836},{"$f":"IF(AccountInfo!$B838=\"\",\"\",AccountInfo!B838)","v":""},{"$nulls":7},"Check"]
[{"$f":"AccountInfo!$A839","v":837},{"$f":"IF(AccountInfo!$B839=\"\",\"\",AccountInfo!B839)","v":""},{"$nulls":7},"Check"]
[{"$f":"AccountInfo!$A840","v":838},{"$f":"IF(AccountInfo!$B840=\"\",\"\",AccountInfo!B840)","v":""},{"$nulls":7},"Check"]
[{"$f":"AccountInfo!$A841","v":839},{"$f":"IF(AccountInfo!$B841=\"\",\"\",AccountInfo!B841)","v":""},{"$nulls":7},"Check"]
[{"$f":"AccountInfo!$A842","v":840},{"$f":"IF(AccountInfo!$B842=\"\",\"\",AccountInfo!B842)","v":""},{"$nulls":7},"Check"]
[{"$f":"AccountInfo!$A843","v":841},{"$f":"IF(AccountInfo!$B843=\"\",\"\",AccountInfo!B843)","v":""},{"$nulls":7},"Check"]
[{"$f":"AccountInfo!$A844","v":842},{"$f":"IF(AccountInfo!$B844=\"\",\"\",AccountInfo!B844)","v":""},{"$nulls":7},"Check"]
[{"$f":"AccountInfo!$A845","v":843},{"$f":"IF(AccountInfo!$B845=\"\",\"\",AccountInfo!B845)","v":""},{"$nulls":7},"Check"]
[{"$f":"AccountInfo!$A846","v":844},{"$f":"IF(AccountInfo!$B846=\"\",\"\",AccountInfo!B846)","v":""},{"$nulls":7},"Check"]
[{"$f":"AccountInfo!$A847","v":845},{"$f":"IF(AccountInfo!$B847=\"\",\"\",AccountInfo!B847)","v":""},{"$nulls":7},"Check"]
[{"$f":"AccountInfo!$A848","v":846},{"$f":"IF(AccountInfo!$B848=\"\",\"\",AccountInfo!B848)","v":""},{"$nulls":7},"Check"]
[{"$f":"AccountInfo!$A849","v":847},{"$f":"IF(AccountInfo!$B849=\"\",\"\",AccountInfo!B849)","v":""},{"$nulls":7},"Check"]
[{"$f":"AccountInfo!$A850","v":848},{"$f":"IF(AccountInfo!$B850=\"\",\"\",AccountInfo!B850)","v":""},{"$nulls":7},"Check"]
[{"$f":"AccountInfo!$A851","v":849},{"$f":"IF(AccountInfo!$B851=\"\",\"\",AccountInfo!B851)","v":""},{"$nulls":7},"Check"]
[{"$f":"AccountInfo!$A852","v":850},{"$f":"IF(AccountInfo!$B852=\"\",\"\",AccountInfo!B852)","v":""},{"$nulls":7},"Check"]
[{"$f":"AccountInfo!$A853","v":851},{"$f":"IF(AccountInfo!$B853=\"\",\"\",AccountInfo!B853)","v":""},{"$nulls":7},"Check"]
[{"$f":"AccountInfo!$A854","v":852},{"$f":"IF(AccountInfo!$B854=\"\",\"\",AccountInfo!B854)","v":""},{"$nulls":7},"Check"]
[{"$f":"AccountInfo!$A855","v":853},{"$f":"IF(AccountInfo!$B855=\"\",\"\",AccountInfo!B855)","v":""},{"$nulls":7},"Check"]
[{"$f":"AccountInfo!$A856","v":854},{"$f":"IF(AccountInfo!$B856=\"\",\"\",AccountInfo!B856)","v":""},{"$nulls":7},"Check"]
[{"$f":"AccountInfo!$A857","v":855},{"$f":"IF(AccountInfo!$B857=\"\",\"\",AccountInfo!B857)","v":""},{"$nulls":7},"Check"]
[{"$f":"AccountInfo!$A858","v":856},{"$f":"IF(AccountInfo!$B858=\"\",\"\",AccountInfo!B858)","v":""},{"$nulls":7},"Check"]
[{"$f":"AccountInfo!$A859","v":857},{"$f":"IF(AccountInfo!$B859=\"\",\"\",AccountInfo!B859)","v":""},{"$nulls":7},"Check"]
[{"$f":"AccountInfo!$A860","v":858},{"$f":"IF(AccountInfo!$B860=\"\",\"\",AccountInfo!B860)","v":""},{"$nulls":7},"Check"]
[{"$f":"AccountInfo!$A861","v":859},{"$f":"IF(AccountInfo!$B861=\"\",\"\",AccountInfo!B861)","v":""},{"$nulls":7},"Check"]
[{"$f":"AccountInfo!$A862","v":860},{"$f":"IF(AccountInfo!$B862=\"\",\"\",AccountInfo!B862)","v":""},{"$nulls":7},"Check"]
[{"$f":"AccountInfo!$A863","v":861},{"$f":"IF(AccountInfo!$B863=\"\",\"\",AccountInfo!B863)","v":""},{"$nulls":7},"Check"]
[{"$f":"AccountInfo!$A864","v":862},{"$f":"IF(AccountInfo!$B864=\"\",\"\",AccountInfo!B864)","v":""},{"$nulls":7},"Check"]
[{"$f":"AccountInfo!$A865","v":863},{"$f":"IF(AccountInfo!$B865=\"\",\"\",AccountInfo!B865)","v":""},{"$nulls":7},"Check"]
[{"$f":"AccountInfo!$A866","v":864},{"$f":"IF(AccountInfo!$B866=\"\",\"\",AccountInfo!B866)","v":""},{"$nulls":7},"Check"]
[{"$f":"AccountInfo!$A867","v":865},{"$f":"IF(AccountInfo!$B867=\"\",\"\",AccountInfo!B867)","v":""},{"$nulls":7},"Check"]
[{"$f":"AccountInfo!$A868","v":866},{"$f":"IF(AccountInfo!$B868=\"\",\"\",AccountInfo!B868)","v":""},{"$nulls":7},"Check"]
[{"$f":"AccountInfo!$A869","v":867},{"$f":"IF(AccountInfo!$B869=\"\",\"\",AccountInfo!B869)","v":""},{"$nulls":7},"Check"]
[{"$f":"AccountInfo!$A870","v":868},{"$f":"IF(AccountInfo!$B870=\"\",\"\",AccountInfo!B870)","v":""},{"$nulls":7},"Check"]
[{"$f":"AccountInfo!$A871","v":869},{"$f":"IF(AccountInfo!$B871=\"\",\"\",AccountInfo!B871)","v":""},{"$nulls":7},"Check"]
[{"$f":"AccountInfo!$A872","v":870},{"$f":"IF(AccountInfo!$B872=\"\",\"\",AccountInfo!B872)","v":""},{"$nulls":7},"Check"]
[{"$f":"AccountInfo!$A873","v":871},{"$f":"IF(AccountInfo!$B873=\"\",\"\",AccountInfo!B873)","v":""},{"$nulls":7},"Check"]
[{"$f":"AccountInfo!$A874","v":872},{"$f":"IF(AccountInfo!$B874=\"\",\"\",AccountInfo!B874)","v":""},{"$nulls":7},"Check"]
[{"$f":"AccountInfo!$A875","v":873},{"$f":"IF(AccountInfo!$B875=\"\",\"\",AccountInfo!B875)","v":""},{"$nulls":7},"Check"]
[{"$f":"AccountInfo!$A876","v":874},{"$f":"IF(AccountInfo!$B876=\"\",\"\",AccountInfo!B876)","v":""},{"$nulls":7},"Check"]
[{"$f":"AccountInfo!$A877","v":875},{"$f":"IF(AccountInfo!$B877=\"\",\"\",AccountInfo!B877)","v":""},{"$nulls":7},"Check"]
[{"$f":"AccountInfo!$A878","v":876},{"$f":"IF(AccountInfo!$B878=\"\",\"\",AccountInfo!B878)","v":""},{"$nulls":7},"Check"]
[{"$f":"AccountInfo!$A879","v":877},{"$f":"IF(AccountInfo!$B879=\"\",\"\",AccountInfo!B879)","v":""},{"$nulls":7},"Check"]
[{"$f":"AccountInfo!$A880","v":878},{"$f":"IF(AccountInfo!$B880=\"\",\"\",AccountInfo!B880)","v":""},{"$nulls":7},"Check"]
[{"$f":"AccountInfo!$A881","v":879},{"$f":"IF(AccountInfo!$B881=\"\",\"\",AccountInfo!B881)","v":""},{"$nulls":7},"Check"]
[{"$f":"AccountInfo!$A882","v":880},{"$f":"IF(AccountInfo!$B882=\"\",\"\",AccountInfo!B882)","v":""},{"$nulls":7},"Check"]
[{"$f":"AccountInfo!$A883","v":881},{"$f":"IF(AccountInfo!$B883=\"\",\"\",AccountInfo!B883)","v":""},{"$nulls":7},"Check"]
[{"$f":"AccountInfo!$A884","v":882},{"$f":"IF(AccountInfo!$B884=\"\",\"\",AccountInfo!B884)","v":""},{"$nulls":7},"Check"]
[{"$f":"AccountInfo!$A885","v":883},{"$f":"IF(AccountInfo!$B885=\"\",\"\",AccountInfo!B885)","v":""},{"$nulls":7},"Check"]
[{"$f":"AccountInfo!$A886","v":884},{"$f":"IF(AccountInfo!$B886=\"\",\"\",AccountInfo!B886)","v":""},{"$nulls":7},"Check"]
[{"$f":"AccountInfo!$A887","v":885},{"$f":"IF(AccountInfo!$B887=\"\",\"\",AccountInfo!B887)","v":""},{"$nulls":7},"Check"]
[{"$f":"AccountInfo!$A888","v":886},{"$f":"IF(AccountInfo!$B888=\"\",\"\",AccountInfo!B888)","v":""},{"$nulls":7},"Check"]
[{"$f":"AccountInfo!$A889","v":887},{"$f":"IF(AccountInfo!$B889=\"\",\"\",AccountInfo!B889)","v":""},{"$nulls":7},"Check"]
[{"$f":"AccountInfo!$A890","v":888},{"$f":"IF(AccountInfo!$B890=\"\",\"\",AccountInfo!B890)","v":""},{"$nulls":7},"Check"]
[{"$f":"AccountInfo!$A891","v":889},{"$f":"IF(AccountInfo!$B891=\"\",\"\",AccountInfo!B891)","v":""},{"$nulls":7},"Check"]
[{"$f":"AccountInfo!$A892","v":890},{"$f":"IF(AccountInfo!$B892=\"\",\"\",AccountInfo!B892)","v":""},{"$nulls":7},"Check"]
[{"$f":"AccountInfo!$A893","v":891},{"$f":"IF(AccountInfo!$B893=\"\",\"\",AccountInfo!B893)","v":""},{"$nulls":7},"Check"]
[{"$f":"AccountInfo!$A894","v":892},{"$f":"IF(AccountInfo!$B894=\"\",\"\",AccountInfo!B894)","v":""},{"$nulls":7},"Check"]
[{"$f":"AccountInfo!$A895","v":893},{"$f":"IF(AccountInfo!$B895=\"\",\"\",AccountInfo!B895)","v":""},{"$nulls":7},"Check"]
[{"$f":"AccountInfo!$A896","v":894},{"$f":"IF(AccountInfo!$B896=\"\",\"\",AccountInfo!B896)","v":""},{"$nulls":7},"Check"]
[{"$f":"AccountInfo!$A897","v":895},{"$f":"IF(AccountInfo!$B897=\"\",\"\",AccountInfo!B897)","v":""},{"$nulls":7},"Check"]
[{"$f":"AccountInfo!$A898","v":896},{"$f":"IF(AccountInfo!$B898=\"\",\"\",AccountInfo!B898)","v":""},{"$nulls":7},"Check"]
[{"$f":"AccountInfo!$A899","v":897},{"$f":"IF(AccountInfo!$B899=\"\",\"\",AccountInfo!B899)","v":""},{"$nulls":7},"Check"]
[{"$f":"AccountInfo!$A900","v":898},{"$f":"IF(AccountInfo!$B900=\"\",\"\",AccountInfo!B900)","v":""},{"$nulls":7},{"$f":"IF(AND(D900<=E900, E900<=F900, F900<=G900, G900<=IF(H900=\"\", 1000000000000, H900)), \"Check\", \"Error\")","v":"Check"}]
[{"$f":"AccountInfo!$A901","v":899},{"$f":"IF(AccountInfo!$B901=\"\",\"\",AccountInfo!B901)","v":""},{"$nulls":7},"Check"]
[{"$f":"AccountInfo!$A902","v":900},{"$f":"IF(AccountInfo!$B902=\"\",\"\",AccountInfo!B902)","v":""},{"$nulls":7},"Check"]
[{"$f":"AccountInfo!$A903","v":901},{"$f":"IF(AccountInfo!$B903=\"\",\"\",AccountInfo!B903)","v":""},{"$nulls":7},"Check"]
[{"$f":"AccountInfo!$A904","v":902},{"$f":"IF(AccountInfo!$B904=\"\",\"\",AccountInfo!B904)","v":""},{"$nulls":7},"Check"]
[{"$f":"AccountInfo!$A905","v":903},{"$f":"IF(AccountInfo!$B905=\"\",\"\",AccountInfo!B905)","v":""},{"$nulls":7},"Check"]
[{"$f":"AccountInfo!$A906","v":904},{"$f":"IF(AccountInfo!$B906=\"\",\"\",AccountInfo!B906)","v":""},{"$nulls":7},"Check"]
[{"$f":"AccountInfo!$A907","v":905},{"$f":"IF(AccountInfo!$B907=\"\",\"\",AccountInfo!B907)","v":""},{"$nulls":7},"Check"]
[{"$f":"AccountInfo!$A908","v":906},{"$f":"IF(AccountInfo!$B908=\"\",\"\",AccountInfo!B908)","v":""},{"$nulls":7},"Check"]
[{"$f":"AccountInfo!$A909","v":907},{"$f":"IF(AccountInfo!$B909=\"\",\"\",AccountInfo!B909)","v":""},{"$nulls":7},"Check"]
[{"$f":"AccountInfo!$A910","v":908},{"$f":"IF(AccountInfo!$B910=\"\",\"\",AccountInfo!B910)","v":""},{"$nulls":7},"Check"]
[{"$f":"AccountInfo!$A911","v":909},{"$f":"IF(AccountInfo!$B911=\"\",\"\",AccountInfo!B911)","v":""},{"$nulls":7},"Check"]
[{"$f":"AccountInfo!$A912","v":910},{"$f":"IF(AccountInfo!$B912=\"\",\"\",AccountInfo!B912)","v":""},{"$nulls":7},"Check"]
[{"$f":"AccountInfo!$A913","v":911},{"$f":"IF(AccountInfo!$B913=\"\",\"\",AccountInfo!B913)","v":""},{"$nulls":7},"Check"]
[{"$f":"AccountInfo!$A914","v":912},{"$f":"IF(AccountInfo!$B914=\"\",\"\",AccountInfo!B914)","v":""},{"$nulls":7},"Check"]
[{"$f":"AccountInfo!$A915","v":913},{"$f":"IF(AccountInfo!$B915=\"\",\"\",AccountInfo!B915)","v":""},{"$nulls":7},"Check"]
[{"$f":"AccountInfo!$A916","v":914},{"$f":"IF(AccountInfo!$B916=\"\",\"\",AccountInfo!B916)","v":""},{"$nulls":7},"Check"]
[{"$f":"AccountInfo!$A917","v":915},{"$f":"IF(AccountInfo!$B917=\"\",\"\",AccountInfo!B917)","v":""},{"$nulls":7},"Check"]
[{"$f":"AccountInfo!$A918","v":916},{"$f":"IF(AccountInfo!$B918=\"\",\"\",AccountInfo!B918)","v":""},{"$nulls":7},"Check"]
[{"$f":"AccountInfo!$A919","v":917},{"$f":"IF(AccountInfo!$B919=\"\",\"\",AccountInfo!B919)","v":""},{"$nulls":7},"Check"]
[{"$f":"AccountInfo!$A920","v":918},{"$f":"IF(AccountInfo!$B920=\"\",\"\",AccountInfo!B920)","v":""},{"$nulls":7},"Check"]
[{"$f":"AccountInfo!$A921","v":919},{"$f":"IF(AccountInfo!$B921=\"\",\"\",AccountInfo!B921)","v":""},{"$nulls":7},"Check"]
[{"$f":"AccountInfo!$A922","v":920},{"$f":"IF(AccountInfo!$B922=\"\",\"\",AccountInfo!B922)","v":""},{"$nulls":7},"Check"]
[{"$f":"AccountInfo!$A923","v":921},{"$f":"IF(AccountInfo!$B923=\"\",\"\",AccountInfo!B923)","v":""},{"$nulls":7},"Check"]
[{"$f":"AccountInfo!$A924","v":922},{"$f":"IF(AccountInfo!$B924=\"\",\"\",AccountInfo!B924)","v":""},{"$nulls":7},"Check"]
[{"$f":"AccountInfo!$A925","v":923},{"$f":"IF(AccountInfo!$B925=\"\",\"\",AccountInfo!B925)","v":""},{"$nulls":7},"Check"]
[{"$f":"AccountInfo!$A926","v":924},{"$f":"IF(AccountInfo!$B926=\"\",\"\",AccountInfo!B926)","v":""},{"$nulls":7},"Check"]
[{"$f":"AccountInfo!$A927","v":925},{"$f":"IF(AccountInfo!$B927=\"\",\"\",AccountInfo!B927)","v":""},{"$nulls":7},"Check"]
[{"$f":"AccountInfo!$A928","v":926},{"$f":"IF(AccountInfo!$B928=\"\",\"\",AccountInfo!B928)","v":""},{"$nulls":7},"Check"]
[{"$f":"AccountInfo!$A929","v":927},{"$f":"IF(AccountInfo!$B929=\"\",\"\",AccountInfo!B929)","v":""},{"$nulls":7},"Check"]
[{"$f":"AccountInfo!$A930","v":928},{"$f":"IF(AccountInfo!$B930=\"\",\"\",AccountInfo!B930)","v":""},{"$nulls":7},"Check"]
[{"$f":"AccountInfo!$A931","v":929},{"$f":"IF(AccountInfo!$B931=\"\",\"\",AccountInfo!B931)","v":""},{"$nulls":7},"Check"]
[{"$f":"AccountInfo!$A932","v":930},{"$f":"IF(AccountInfo!$B932=\"\",\"\",AccountInfo!B932)","v":""},{"$nulls":7},"Check"]
[{"$f":"AccountInfo!$A933","v":931},{"$f":"IF(AccountInfo!$B933=\"\",\"\",AccountInfo!B933)","v":""},{"$nulls":7},"Check"]
[{"$f":"AccountInfo!$A934","v":932},{"$f":"IF(AccountInfo!$B934=\"\",\"\",AccountInfo!B934)","v":""},{"$nulls":7},"Check"]
[{"$f":"AccountInfo!$A935","v":933},{"$f":"IF(AccountInfo!$B935=\"\",\"\",AccountInfo!B935)","v":""},{"$nulls":7},"Check"]
[{"$f":"AccountInfo!$A936","v":934},{"$f":"IF(AccountInfo!$B936=\"\",\"\",AccountInfo!B936)","v":""},{"$nulls":7},"Check"]
[{"$f":"AccountInfo!$A937","v":935},{"$f":"IF(AccountInfo!$B937=\"\",\"\",AccountInfo!B937)","v":""},{"$nulls":7},"Check"]
[{"$f":"AccountInfo!$A938","v":936},{"$f":"IF(AccountInfo!$B938=\"\",\"\",AccountInfo!B938)","v":""},{"$nulls":7},"Check"]
[{"$f":"AccountInfo!$A939","v":937},{"$f":"IF(AccountInfo!$B939=\"\",\"\",AccountInfo!B939)","v":""},{"$nulls":7},"Check"]
[{"$f":"AccountInfo!$A940","v":938},{"$f":"IF(AccountInfo!$B940=\"\",\"\",AccountInfo!B940)","v":""},{"$nulls":7},"Check"]
[{"$f":"AccountInfo!$A941","v":939},{"$f":"IF(AccountInfo!$B941=\"\",\"\",AccountInfo!B941)","v":""},{"$nulls":7},"Check"]
[{"$f":"AccountInfo!$A942","v":940},{"$f":"IF(AccountInfo!$B942=\"\",\"\",AccountInfo!B942)","v":""},{"$nulls":7},"Check"]
[{"$f":"AccountInfo!$A943","v":941},{"$f":"IF(AccountInfo!$B943=\"\",\"\",AccountInfo!B943)","v":""},{"$nulls":7},"Check"]
[{"$f":"AccountInfo!$A944","v":942},{"$f":"IF(AccountInfo!$B944=\"\",\"\",AccountInfo!B944)","v":""},{"$nulls":7},"Check"]
[{"$f":"AccountInfo!$A945","v":943},{"$f":"IF(AccountInfo!$B945=\"\",\"\",AccountInfo!B945)","v":""},{"$nulls":7},"Check"]
[{"$f":"AccountInfo!$A946","v":944},{"$f":"IF(AccountInfo!$B946=\"\",\"\",AccountInfo!B946)","v":""},{"$nulls":7},"Check"]
[{"$f":"AccountInfo!$A947","v":945},{"$f":"IF(AccountInfo!$B947=\"\",\"\",AccountInfo!B947)","v":""},{"$nulls":7},"Check"]
[{"$f":"AccountInfo!$A948","v":946},{"$f":"IF(AccountInfo!$B948=\"\",\"\",AccountInfo!B948)","v":""},{"$nulls":7},"Check"]
[{"$f":"AccountInfo!$A949","v":947},{"$f":"IF(AccountInfo!$B949=\"\",\"\",AccountInfo!B949)","v":""},{"$nulls":7},"Check"]
[{"$f":"AccountInfo!$A950","v":948},{"$f":"IF(AccountInfo!$B950=\"\",\"\",AccountInfo!B950)","v":""},{"$nulls":7},"Check"]
[{"$f":"AccountInfo!$A951","v":949},{"$f":"IF(AccountInfo!$B951=\"\",\"\",AccountInfo!B951)","v":""},{"$nulls":7},"Check"]
[{"$f":"AccountInfo!$A952","v":950},{"$f":"IF(AccountInfo!$B952=\"\",\"\",AccountInfo!B952)","v":""},{"$nulls":7},"Check"]
[{"$f":"AccountInfo!$A953","v":951},{"$f":"IF(AccountInfo!$B953=\"\",\"\",AccountInfo!B953)","v":""},{"$nulls":7},"Check"]
[{"$f":"AccountInfo!$A954","v":952},{"$f":"IF(AccountInfo!$B954=\"\",\"\",AccountInfo!B954)","v":""},{"$nulls":7},"Check"]
[{"$f":"AccountInfo!$A955","v":953},{"$f":"IF(AccountInfo!$B955=\"\",\"\",AccountInfo!B955)","v":""},{"$nulls":7},"Check"]
[{"$f":"AccountInfo!$A956","v":954},{"$f":"IF(AccountInfo!$B956=\"\",\"\",AccountInfo!B956)","v":""},{"$nulls":7},"Check"]
[{"$f":"AccountInfo!$A957","v":955},{"$f":"IF(AccountInfo!$B957=\"\",\"\",AccountInfo!B957)","v":""},{"$nulls":7},"Check"]
[{"$f":"AccountInfo!$A958","v":956},{"$f":"IF(AccountInfo!$B958=\"\",\"\",AccountInfo!B958)","v":""},{"$nulls":7},"Check"]
[{"$f":"AccountInfo!$A959","v":957},{"$f":"IF(AccountInfo!$B959=\"\",\"\",AccountInfo!B959)","v":""},{"$nulls":7},"Check"]
[{"$f":"AccountInfo!$A960","v":958},{"$f":"IF(AccountInfo!$B960=\"\",\"\",AccountInfo!B960)","v":""},{"$nulls":7},"Check"]
[{"$f":"AccountInfo!$A961","v":959},{"$f":"IF(AccountInfo!$B961=\"\",\"\",AccountInfo!B961)","v":""},{"$nulls":7},"Check"]
[{"$f":"AccountInfo!$A962","v":960},{"$f":"IF(AccountInfo!$B962=\"\",\"\",AccountInfo!B962)","v":""},{"$nulls":7},"Check"]
[{"$f":"AccountInfo!$A963","v":961},{"$f":"IF(AccountInfo!$B963=\"\",\"\",AccountInfo!B963)","v":""},{"$nulls":7},"Check"]
[{"$f":"AccountInfo!$A964","v":962},{"$f":"IF(AccountInfo!$B964=\"\",\"\",AccountInfo!B964)","v":""},{"$nulls":7},{"$f":"IF(AND(D964<=E964, E964<=F964, F964<=G964, G964<=IF(H964=\"\", 1000000000000, H964)), \"Check\", \"Error\")","v":"Check"}]
[{"$f":"AccountInfo!$A965","v":963},{"$f":"IF(AccountInfo!$B965=\"\",\"\",AccountInfo!B965)","v":""},{"$nulls":7},"Check"]
[{"$f":"AccountInfo!$A966","v":964},{"$f":"IF(AccountInfo!$B966=\"\",\"\",AccountInfo!B966)","v":""},{"$nulls":7},"Check"]
[{"$f":"AccountInfo!$A967","v":965},{"$f":"IF(AccountInfo!$B967=\"\",\"\",AccountInfo!B967)","v":""},{"$nulls":7},"Check"]
[{"$f":"AccountInfo!$A968","v":966},{"$f":"IF(AccountInfo!$B968=\"\",\"\",AccountInfo!B968)","v":""},{"$nulls":7},"Check"]
[{"$f":"AccountInfo!$A969","v":967},{"$f":"IF(AccountInfo!$B969=\"\",\"\",AccountInfo!B969)","v":""},{"$nulls":7},"Check"]
[{"$f":"AccountInfo!$A970","v":968},{"$f":"IF(AccountInfo!$B970=\"\",\"\",AccountInfo!B970)","v":""},{"$nulls":7},"Check"]
[{"$f":"AccountInfo!$A971","v":969},{"$f":"IF(AccountInfo!$B971=\"\",\"\",AccountInfo!B971)","v":""},{"$nulls":7},"Check"]
[{"$f":"AccountInfo!$A972","v":970},{"$f":"IF(AccountInfo!$B972=\"\",\"\",AccountInfo!B972)","v":""},{"$nulls":7},"Check"]
[{"$f":"AccountInfo!$A973","v":971},{"$f":"IF(AccountInfo!$B973=\"\",\"\",AccountInfo!B973)","v":""},{"$nulls":7},"Check"]
[{"$f":"AccountInfo!$A974","v":972},{"$f":"IF(AccountInfo!$B974=\"\",\"\",AccountInfo!B974)","v":""},{"$nulls":7},"Check"]
[{"$f":"AccountInfo!$A975","v":973},{"$f":"IF(AccountInfo!$B975=\"\",\"\",AccountInfo!B975)","v":""},{"$nulls":7},"Check"]
[{"$f":"AccountInfo!$A976","v":974},{"$f":"IF(AccountInfo!$B976=\"\",\"\",AccountInfo!B976)","v":""},{"$nulls":7},"Check"]
[{"$f":"AccountInfo!$A977","v":975},{"$f":"IF(AccountInfo!$B977=\"\",\"\",AccountInfo!B977)","v":""},{"$nulls":7},"Check"]
[{"$f":"AccountInfo!$A978","v":976},{"$f":"IF(AccountInfo!$B978=\"\",\"\",AccountInfo!B978)","v":""},{"$nulls":7},"Check"]
[{"$f":"AccountInfo!$A979","v":977},{"$f":"IF(AccountInfo!$B979=\"\",\"\",AccountInfo!B979)","v":""},{"$nulls":7},"Check"]
[{"$f":"AccountInfo!$A980","v":978},{"$f":"IF(AccountInfo!$B980=\"\",\"\",AccountInfo!B980)","v":""},{"$nulls":7},"Check"]
[{"$f":"AccountInfo!$A981","v":979},{"$f":"IF(AccountInfo!$B981=\"\",\"\",AccountInfo!B981)","v":""},{"$nulls":7},"Check"]
[{"$f":"AccountInfo!$A982","v":980},{"$f":"IF(AccountInfo!$B982=\"\",\"\",AccountInfo!B982)","v":""},{"$nulls":7},"Check"]
[{"$f":"AccountInfo!$A983","v":981},{"$f":"IF(AccountInfo!$B983=\"\",\"\",AccountInfo!B983)","v":""},{"$nulls":7},"Check"]
[{"$f":"AccountInfo!$A984","v":982},{"$f":"IF(AccountInfo!$B984=\"\",\"\",AccountInfo!B984)","v":""},{"$nulls":7},"Check"]
[{"$f":"AccountInfo!$A985","v":983},{"$f":"IF(AccountInfo!$B985=\"\",\"\",AccountInfo!B985)","v":""},{"$nulls":7},"Check"]
[{"$f":"AccountInfo!$A986","v":984},{"$f":"IF(AccountInfo!$B986=\"\",\"\",AccountInfo!B986)","v":""},{"$nulls":7},"Check"]
[{"$f":"AccountInfo!$A987","v":985},{"$f":"IF(AccountInfo!$B987=\"\",\"\",AccountInfo!B987)","v":""},{"$nulls":7},"Check"]
[{"$f":"AccountInfo!$A988","v":986},{"$f":"IF(AccountInfo!$B988=\"\",\"\",AccountInfo!B988)","v":""},{"$nulls":7},"Check"]
[{"$f":"AccountInfo!$A989","v":987},{"$f":"IF(AccountInfo!$B989=\"\",\"\",AccountInfo!B989)","v":""},{"$nulls":7},"Check"]
[{"$f":"AccountInfo!$A990","v":988},{"$f":"IF(AccountInfo!$B990=\"\",\"\",AccountInfo!B990)","v":""},{"$nulls":7},"Check"]
[{"$f":"AccountInfo!$A991","v":989},{"$f":"IF(AccountInfo!$B991=\"\",\"\",AccountInfo!B991)","v":""},{"$nulls":7},"Check"]
[{"$f":"AccountInfo!$A992","v":990},{"$f":"IF(AccountInfo!$B992=\"\",\"\",AccountInfo!B992)","v":""},{"$nulls":7},"Check"]
[{"$f":"AccountInfo!$A993","v":991},{"$f":"IF(AccountInfo!$B993=\"\",\"\",AccountInfo!B993)","v":""},{"$nulls":7},"Check"]
[{"$f":"AccountInfo!$A994","v":992},{"$f":"IF(AccountInfo!$B994=\"\",\"\",AccountInfo!B994)","v":""},{"$nulls":7},"Check"]
[{"$f":"AccountInfo!$A995","v":993},{"$f":"IF(AccountInfo!$B995=\"\",\"\",AccountInfo!B995)","v":""},{"$nulls":7},"Check"]
[{"$f":"AccountInfo!$A996","v":994},{"$f":"IF(AccountInfo!$B996=\"\",\"\",AccountInfo!B996)","v":""},{"$nulls":7},"Check"]
[{"$f":"AccountInfo!$A997","v":995},{"$f":"IF(AccountInfo!$B997=\"\",\"\",AccountInfo!B997)","v":""},{"$nulls":7},"Check"]
[{"$f":"AccountInfo!$A998","v":996},{"$f":"IF(AccountInfo!$B998=\"\",\"\",AccountInfo!B998)","v":""},{"$nulls":7},"Check"]
[{"$f":"AccountInfo!$A999","v":997},{"$f":"IF(AccountInfo!$B999=\"\",\"\",AccountInfo!B999)","v":""},{"$nulls":7},"Check"]
[{"$f":"AccountInfo!$A1000","v":998},{"$f":"IF(AccountInfo!$B1000=\"\",\"\",AccountInfo!B1000)","v":""},{"$nulls":7},"Check"]
[{"$f":"AccountInfo!$A1001","v":999},{"$f":"IF(AccountInfo!$B1001=\"\",\"\",AccountInfo!B1001)","v":""},{"$nulls":7},"Check"]
[{"$f":"AccountInfo!$A1002","v":1000},{"$f":"IF(AccountInfo!$B1002=\"\",\"\",AccountInfo!B1002)","v":""},{"$nulls":7},"Check"]

{"sheet":"UnitsSold","index":3,"n_rows":1002,"n_cols":12,"rows_kept":1002,"merged":[[0,2,0,8]]}
[null,null,"Units Sold [units]"]
["Opp_ID",{"$f":"AccountInfo!B2","v":"Opp_Name"},"Reasons for Low","LowConstr",0.1,0.5,0.9,"HighConstr","Reasons for High","Check",null,"Instructions"]
[{"$f":"AccountInfo!$A3","v":1},{"$f":"IF(AccountInfo!$B3=\"\",\"\",AccountInfo!B3)","v":"Whiskers and Fleas"},null,0,{"v":5,"d":"5 "},{"v":6,"d":"6 "},{"v":6,"d":"6 "},null,null,{"$f":"IF(AND(D3<=E3, E3<=F3, F3<=G3, G3<=IF(H3=\"\", 1000000000000, H3)), \"Check\", \"Error\")","v":"Check"},null,"For a given opportunity, provide reasons for low values first."]
[{"$f":"AccountInfo!$A4","v":2},{"$f":"IF(AccountInfo!$B4=\"\",\"\",AccountInfo!B4)","v":"Cheddar Cheese"},null,0,{"v":4,"d":"4 "},{"v":5,"d":"5 "},{"v":6,"d":"6 "},null,null,{"$f":"IF(AND(D4<=E4, E4<=F4, F4<=G4, G4<=IF(H4=\"\", 1000000000000, H4)), \"Check\", \"Error\")","v":"Check"},null,"Provide reasons for high values."]
[{"$f":"AccountInfo!$A5","v":3},{"$f":"IF(AccountInfo!$B5=\"\",\"\",AccountInfo!B5)","v":"Abominable Snowman"},null,0,{"v":5,"d":"5 "},{"v":7,"d":"7 "},{"v":12,"d":"12 "},null,null,"Check",null,"Estimate the p10."]
[{"$f":"AccountInfo!$A6","v":4},{"$f":"IF(AccountInfo!$B6=\"\",\"\",AccountInfo!B6)","v":"Treason on the High Seas"},null,0,{"v":4,"d":"4 "},{"v":6,"d":"6 "},{"v":6,"d":"6 "},null,null,"Check",null,"Estimate the p90."]
[{"$f":"AccountInfo!$A7","v":5},{"$f":"IF(AccountInfo!$B7=\"\",\"\",AccountInfo!B7)","v":"Pinky and the Brain"},null,0,{"v":5,"d":"5 "},{"v":5,"d":"5 "},{"v":5,"d":"5 "},null,null,"Check",null,"Always estimate the p50 last, no exceptions."]
[{"$f":"AccountInfo!$A8","v":6},{"$f":"IF(AccountInfo!$B8=\"\",\"\",AccountInfo!B8)","v":"Clams and Mushrooms"},null,0,{"v":5,"d":"5 "},{"v":5,"d":"5 "},{"v":8,"d":"8 "},null,null,"Check",null,"If there is a required Min other than 0, enter that value; otherwise, leave the Required Min as 0."]
[{"$f":"AccountInfo!$A9","v":7},{"$f":"IF(AccountInfo!$B9=\"\",\"\",AccountInfo!B9)","v":"Concert at Red Rocks"},null,0,{"v":5,"d":"5 "},{"v":5,"d":"5 "},{"v":6,"d":"6 "},null,null,"Check",null,"If there is a required Max, enter that value; otherwise, leave the Required Max blank."]
[{"$f":"AccountInfo!$A10","v":8},{"$f":"IF(AccountInfo!$B10=\"\",\"\",AccountInfo!B10)","v":"Fast Times at Ridgemont High"},null,0,{"v":5,"d":"5 "},{"v":5,"d":"5 "},{"v":6,"d":"6 "},null,null,"Check",null,"The estimates should strictly follow Min<p10<p50<p90<Max."]
[{"$f":"AccountInfo!$A11","v":9},{"$f":"IF(AccountInfo!$B11=\"\",\"\",AccountInfo!B11)","v":"Monkey See Monkey Do"},null,0,{"v":6,"d":"6 "},{"v":9,"d":"9 "},{"v":21,"d":"21 "},null,null,"Check"]
[{"$f":"AccountInfo!$A12","v":10},{"$f":"IF(AccountInfo!$B12=\"\",\"\",AccountInfo!B12)","v":"Mine Eyes Have Seen the Glory"},null,0,{"v":6,"d":"6 "},{"v":7,"d":"7 "},{"v":10,"d":"10 "},null,null,"Check"]
[{"$f":"AccountInfo!$A13","v":11},{"$f":"IF(AccountInfo!$B13=\"\",\"\",AccountInfo!B13)","v":"Punky Brewster Lives"},null,0,5,6,8,null,null,"Check"]
[{"$f":"AccountInfo!$A14","v":12},{"$f":"IF(AccountInfo!$B14=\"\",\"\",AccountInfo!B14)","v":"Live at the Magic Kingdom"},null,0,6,6,6,null,null,"Check"]
[{"$f":"AccountInfo!$A15","v":13},{"$f":"IF(AccountInfo!$B15=\"\",\"\",AccountInfo!B15)","v":"House Music"},null,0,4,6,10,null,null,"Check"]
[{"$f":"AccountInfo!$A16","v":14},{"$f":"IF(AccountInfo!$B16=\"\",\"\",AccountInfo!B16)","v":"Kindle Fire Truck"},null,0,7,10,16,null,null,"Check"]
[{"$f":"AccountInfo!$A17","v":15},{"$f":"IF(AccountInfo!$B17=\"\",\"\",AccountInfo!B17)","v":""},{"$nulls":7},"Check"]
[{"$f":"AccountInfo!$A18","v":16},{"$f":"IF(AccountInfo!$B18=\"\",\"\",AccountInfo!B18)","v":""},{"$nulls":7},"Check"]
[{"$f":"AccountInfo!$A19","v":17},{"$f":"IF(AccountInfo!$B19=\"\",\"\",AccountInfo!B19)","v":""},{"$nulls":7},"Check"]
[{"$f":"AccountInfo!$A20","v":18},{"$f":"IF(AccountInfo!$B20=\"\",\"\",AccountInfo!B20)","v":""},{"$nulls":7},"Check"]
[{"$f":"AccountInfo!$A21","v":19},{"$f":"IF(AccountInfo!$B21=\"\",\"\",AccountInfo!B21)","v":""},{"$nulls":7},"Check"]
[{"$f":"AccountInfo!$A22","v":20},{"$f":"IF(AccountInfo!$B22=\"\",\"\",AccountInfo!B22)","v":""},{"$nulls":7},"Check"]
[{"$f":"AccountInfo!$A23","v":21},{"$f":"IF(AccountInfo!$B23=\"\",\"\",AccountInfo!B23)","v":""},{"$nulls":7},"Check"]
[{"$f":"AccountInfo!$A24","v":22},{"$f":"IF(AccountInfo!$B24=\"\",\"\",AccountInfo!B24)","v":""},{"$nulls":7},"Check"]
[{"$f":"AccountInfo!$A25","v":23},{"$f":"IF(AccountInfo!$B25=\"\",\"\",AccountInfo!B25)","v":""},{"$nulls":7},"Check"]
[{"$f":"AccountInfo!$A26","v":24},{"$f":"IF(AccountInfo!$B26=\"\",\"\",AccountInfo!B26)","v":""},{"$nulls":7},"Check"]
[{"$f":"AccountInfo!$A27","v":25},{"$f":"IF(AccountInfo!$B27=\"\",\"\",AccountInfo!B27)","v":""},{"$nulls":7},"Check"]
[{"$f":"AccountInfo!$A28","v":26},{"$f":"IF(AccountInfo!$B28=\"\",\"\",AccountInfo!B28)","v":""},{"$nulls":7},"Check"]
[{"$f":"AccountInfo!$A29","v":27},{"$f":"IF(AccountInfo!$B29=\"\",\"\",AccountInfo!B29)","v":""},{"$nulls":7},"Check"]
[{"$f":"AccountInfo!$A30","v":28},{"$f":"IF(AccountInfo!$B30=\"\",\"\",AccountInfo!B30)","v":""},{"$nulls":7},"Check"]
[{"$f":"AccountInfo!$A31","v":29},{"$f":"IF(AccountInfo!$B31=\"\",\"\",AccountInfo!B31)","v":""},{"$nulls":7},"Check"]
[{"$f":"AccountInfo!$A32","v":30},{"$f":"IF(AccountInfo!$B32=\"\",\"\",AccountInfo!B32)","v":""},{"$nulls":7},"Check"]
[{"$f":"AccountInfo!$A33","v":31},{"$f":"IF(AccountInfo!$B33=\"\",\"\",AccountInfo!B33)","v":""},{"$nulls":7},"Check"]
[{"$f":"AccountInfo!$A34","v":32},{"$f":"IF(AccountInfo!$B34=\"\",\"\",AccountInfo!B34)","v":""},{"$nulls":7},"Check"]
[{"$f":"AccountInfo!$A35","v":33},{"$f":"IF(AccountInfo!$B35=\"\",\"\",AccountInfo!B35)","v":""},{"$nulls":7},"Check"]
[{"$f":"AccountInfo!$A36","v":34},{"$f":"IF(AccountInfo!$B36=\"\",\"\",AccountInfo!B36)","v":""},{"$nulls":7},"Check"]
[{"$f":"AccountInfo!$A37","v":35},{"$f":"IF(AccountInfo!$B37=\"\",\"\",AccountInfo!B37)","v":""},{"$nulls":7},"Check"]
[{"$f":"AccountInfo!$A38","v":36},{"$f":"IF(AccountInfo!$B38=\"\",\"\",AccountInfo!B38)","v":""},{"$nulls":7},"Check"]
[{"$f":"AccountInfo!$A39","v":37},{"$f":"IF(AccountInfo!$B39=\"\",\"\",AccountInfo!B39)","v":""},{"$nulls":7},"Check"]
[{"$f":"AccountInfo!$A40","v":38},{"$f":"IF(AccountInfo!$B40=\"\",\"\",AccountInfo!B40)","v":""},{"$nulls":7},"Check"]
[{"$f":"AccountInfo!$A41","v":39},{"$f":"IF(AccountInfo!$B41=\"\",\"\",AccountInfo!B41)","v":""},{"$nulls":7},"Check"]
[{"$f":"AccountInfo!$A42","v":40},{"$f":"IF(AccountInfo!$B42=\"\",\"\",AccountInfo!B42)","v":""},{"$nulls":7},"Check"]
[{"$f":"AccountInfo!$A43","v":41},{"$f":"IF(AccountInfo!$B43=\"\",\"\",AccountInfo!B43)","v":""},{"$nulls":7},"Check"]
[{"$f":"AccountInfo!$A44","v":42},{"$f":"IF(AccountInfo!$B44=\"\",\"\",AccountInfo!B44)","v":""},{"$nulls":7},"Check"]
[{"$f":"AccountInfo!$A45","v":43},{"$f":"IF(AccountInfo!$B45=\"\",\"\",AccountInfo!B45)","v":""},{"$nulls":7},"Check"]
[{"$f":"AccountInfo!$A46","v":44},{"$f":"IF(AccountInfo!$B46=\"\",\"\",AccountInfo!B46)","v":""},{"$nulls":7},"Check"]
[{"$f":"AccountInfo!$A47","v":45},{"$f":"IF(AccountInfo!$B47=\"\",\"\",AccountInfo!B47)","v":""},{"$nulls":7},"Check"]
[{"$f":"AccountInfo!$A48","v":46},{"$f":"IF(AccountInfo!$B48=\"\",\"\",AccountInfo!B48)","v":""},{"$nulls":7},"Check"]
[{"$f":"AccountInfo!$A49","v":47},{"$f":"IF(AccountInfo!$B49=\"\",\"\",AccountInfo!B49)","v":""},{"$nulls":7},"Check"]
[{"$f":"AccountInfo!$A50","v":48},{"$f":"IF(AccountInfo!$B50=\"\",\"\",AccountInfo!B50)","v":""},{"$nulls":7},"Check"]
[{"$f":"AccountInfo!$A51","v":49},{"$f":"IF(AccountInfo!$B51=\"\",\"\",AccountInfo!B51)","v":""},{"$nulls":7},"Check"]
[{"$f":"AccountInfo!$A52","v":50},{"$f":"IF(AccountInfo!$B52=\"\",\"\",AccountInfo!B52)","v":""},{"$nulls":7},"Check"]
[{"$f":"AccountInfo!$A53","v":51},{"$f":"IF(AccountInfo!$B53=\"\",\"\",AccountInfo!B53)","v":""},{"$nulls":7},"Check"]
[{"$f":"AccountInfo!$A54","v":52},{"$f":"IF(AccountInfo!$B54=\"\",\"\",AccountInfo!B54)","v":""},{"$nulls":7},"Check"]
[{"$f":"AccountInfo!$A55","v":53},{"$f":"IF(AccountInfo!$B55=\"\",\"\",AccountInfo!B55)","v":""},{"$nulls":7},"Check"]
[{"$f":"AccountInfo!$A56","v":54},{"$f":"IF(AccountInfo!$B56=\"\",\"\",AccountInfo!B56)","v":""},{"$nulls":7},"Check"]
[{"$f":"AccountInfo!$A57","v":55},{"$f":"IF(AccountInfo!$B57=\"\",\"\",AccountInfo!B57)","v":""},{"$nulls":7},"Check"]
[{"$f":"AccountInfo!$A58","v":56},{"$f":"IF(AccountInfo!$B58=\"\",\"\",AccountInfo!B58)","v":""},{"$nulls":7},"Check"]
[{"$f":"AccountInfo!$A59","v":57},{"$f":"IF(AccountInfo!$B59=\"\",\"\",AccountInfo!B59)","v":""},{"$nulls":7},"Check"]
[{"$f":"AccountInfo!$A60","v":58},{"$f":"IF(AccountInfo!$B60=\"\",\"\",AccountInfo!B60)","v":""},{"$nulls":7},"Check"]
[{"$f":"AccountInfo!$A61","v":59},{"$f":"IF(AccountInfo!$B61=\"\",\"\",AccountInfo!B61)","v":""},{"$nulls":7},"Check"]
[{"$f":"AccountInfo!$A62","v":60},{"$f":"IF(AccountInfo!$B62=\"\",\"\",AccountInfo!B62)","v":""},{"$nulls":7},"Check"]
[{"$f":"AccountInfo!$A63","v":61},{"$f":"IF(AccountInfo!$B63=\"\",\"\",AccountInfo!B63)","v":""},{"$nulls":7},"Check"]
[{"$f":"AccountInfo!$A64","v":62},{"$f":"IF(AccountInfo!$B64=\"\",\"\",AccountInfo!B64)","v":""},{"$nulls":7},"Check"]
[{"$f":"AccountInfo!$A65","v":63},{"$f":"IF(AccountInfo!$B65=\"\",\"\",AccountInfo!B65)","v":""},{"$nulls":7},"Check"]
[{"$f":"AccountInfo!$A66","v":64},{"$f":"IF(AccountInfo!$B66=\"\",\"\",AccountInfo!B66)","v":""},{"$nulls":7},"Check"]
[{"$f":"AccountInfo!$A67","v":65},{"$f":"IF(AccountInfo!$B67=\"\",\"\",AccountInfo!B67)","v":""},{"$nulls":7},"Check"]
[{"$f":"AccountInfo!$A68","v":66},{"$f":"IF(AccountInfo!$B68=\"\",\"\",AccountInfo!B68)","v":""},{"$nulls":7},{"$f":"IF(AND(D68<=E68, E68<=F68, F68<=G68, G68<=IF(H68=\"\", 1000000000000, H68)), \"Check\", \"Error\")","v":"Check"}]
[{"$f":"AccountInfo!$A69","v":67},{"$f":"IF(AccountInfo!$B69=\"\",\"\",AccountInfo!B69)","v":""},{"$nulls":7},"Check"]
[{"$f":"AccountInfo!$A70","v":68},{"$f":"IF(AccountInfo!$B70=\"\",\"\",AccountInfo!B70)","v":""},{"$nulls":7},"Check"]
[{"$f":"AccountInfo!$A71","v":69},{"$f":"IF(AccountInfo!$B71=\"\",\"\",AccountInfo!B71)","v":""},{"$nulls":7},"Check"]
[{"$f":"AccountInfo!$A72","v":70},{"$f":"IF(AccountInfo!$B72=\"\",\"\",AccountInfo!B72)","v":""},{"$nulls":7},"Check"]
[{"$f":"AccountInfo!$A73","v":71},{"$f":"IF(AccountInfo!$B73=\"\",\"\",AccountInfo!B73)","v":""},{"$nulls":7},"Check"]
[{"$f":"AccountInfo!$A74","v":72},{"$f":"IF(AccountInfo!$B74=\"\",\"\",AccountInfo!B74)","v":""},{"$nulls":7},"Check"]
[{"$f":"AccountInfo!$A75","v":73},{"$f":"IF(AccountInfo!$B75=\"\",\"\",AccountInfo!B75)","v":""},{"$nulls":7},"Check"]
[{"$f":"AccountInfo!$A76","v":74},{"$f":"IF(AccountInfo!$B76=\"\",\"\",AccountInfo!B76)","v":""},{"$nulls":7},"Check"]
[{"$f":"AccountInfo!$A77","v":75},{"$f":"IF(AccountInfo!$B77=\"\",\"\",AccountInfo!B77)","v":""},{"$nulls":7},"Check"]
[{"$f":"AccountInfo!$A78","v":76},{"$f":"IF(AccountInfo!$B78=\"\",\"\",AccountInfo!B78)","v":""},{"$nulls":7},"Check"]
[{"$f":"AccountInfo!$A79","v":77},{"$f":"IF(AccountInfo!$B79=\"\",\"\",AccountInfo!B79)","v":""},{"$nulls":7},"Check"]
[{"$f":"AccountInfo!$A80","v":78},{"$f":"IF(AccountInfo!$B80=\"\",\"\",AccountInfo!B80)","v":""},{"$nulls":7},"Check"]
[{"$f":"AccountInfo!$A81","v":79},{"$f":"IF(AccountInfo!$B81=\"\",\"\",AccountInfo!B81)","v":""},{"$nulls":7},"Check"]
[{"$f":"AccountInfo!$A82","v":80},{"$f":"IF(AccountInfo!$B82=\"\",\"\",AccountInfo!B82)","v":""},{"$nulls":7},"Check"]
[{"$f":"AccountInfo!$A83","v":81},{"$f":"IF(AccountInfo!$B83=\"\",\"\",AccountInfo!B83)","v":""},{"$nulls":7},"Check"]
[{"$f":"AccountInfo!$A84","v":82},{"$f":"IF(AccountInfo!$B84=\"\",\"\",AccountInfo!B84)","v":""},{"$nulls":7},"Check"]
[{"$f":"AccountInfo!$A85","v":83},{"$f":"IF(AccountInfo!$B85=\"\",\"\",AccountInfo!B85)","v":""},{"$nulls":7},"Check"]
[{"$f":"AccountInfo!$A86","v":84},{"$f":"IF(AccountInfo!$B86=\"\",\"\",AccountInfo!B86)","v":""},{"$nulls":7},"Check"]
[{"$f":"AccountInfo!$A87","v":85},{"$f":"IF(AccountInfo!$B87=\"\",\"\",AccountInfo!B87)","v":""},{"$nulls":7},"Check"]
[{"$f":"AccountInfo!$A88","v":86},{"$f":"IF(AccountInfo!$B88=\"\",\"\",AccountInfo!B88)","v":""},{"$nulls":7},"Check"]
[{"$f":"AccountInfo!$A89","v":87},{"$f":"IF(AccountInfo!$B89=\"\",\"\",AccountInfo!B89)","v":""},{"$nulls":7},"Check"]
[{"$f":"AccountInfo!$A90","v":88},{"$f":"IF(AccountInfo!$B90=\"\",\"\",AccountInfo!B90)","v":""},{"$nulls":7},"Check"]
[{"$f":"AccountInfo!$A91","v":89},{"$f":"IF(AccountInfo!$B91=\"\",\"\",AccountInfo!B91)","v":""},{"$nulls":7},"Check"]
[{"$f":"AccountInfo!$A92","v":90},{"$f":"IF(AccountInfo!$B92=\"\",\"\",AccountInfo!B92)","v":""},{"$nulls":7},"Check"]
[{"$f":"AccountInfo!$A93","v":91},{"$f":"IF(AccountInfo!$B93=\"\",\"\",AccountInfo!B93)","v":""},{"$nulls":7},"Check"]
[{"$f":"AccountInfo!$A94","v":92},{"$f":"IF(AccountInfo!$B94=\"\",\"\",AccountInfo!B94)","v":""},{"$nulls":7},"Check"]
[{"$f":"AccountInfo!$A95","v":93},{"$f":"IF(AccountInfo!$B95=\"\",\"\",AccountInfo!B95)","v":""},{"$nulls":7},"Check"]
[{"$f":"AccountInfo!$A96","v":94},{"$f":"IF(AccountInfo!$B96=\"\",\"\",AccountInfo!B96)","v":""},{"$nulls":7},"Check"]
[{"$f":"AccountInfo!$A97","v":95},{"$f":"IF(AccountInfo!$B97=\"\",\"\",AccountInfo!B97)","v":""},{"$nulls":7},"Check"]
[{"$f":"AccountInfo!$A98","v":96},{"$f":"IF(AccountInfo!$B98=\"\",\"\",AccountInfo!B98)","v":""},{"$nulls":7},"Check"]
[{"$f":"AccountInfo!$A99","v":97},{"$f":"IF(AccountInfo!$B99=\"\",\"\",AccountInfo!B99)","v":""},{"$nulls":7},"Check"]
[{"$f":"AccountInfo!$A100","v":98},{"$f":"IF(AccountInfo!$B100=\"\",\"\",AccountInfo!B100)","v":""},{"$nulls":7},"Check"]
[{"$f":"AccountInfo!$A101","v":99},{"$f":"IF(AccountInfo!$B101=\"\",\"\",AccountInfo!B101)","v":""},{"$nulls":7},"Check"]
[{"$f":"AccountInfo!$A102","v":100},{"$f":"IF(AccountInfo!$B102=\"\",\"\",AccountInfo!B102)","v":""},{"$nulls":7},"Check"]
[{"$f":"AccountInfo!$A103","v":101},{"$f":"IF(AccountInfo!$B103=\"\",\"\",AccountInfo!B103)","v":""},{"$nulls":7},"Check"]
[{"$f":"AccountInfo!$A104","v":102},{"$f":"IF(AccountInfo!$B104=\"\",\"\",AccountInfo!B104)","v":""},{"$nulls":7},"Check"]
[{"$f":"AccountInfo!$A105","v":103},{"$f":"IF(AccountInfo!$B105=\"\",\"\",AccountInfo!B105)","v":""},{"$nulls":7},"Check"]
[{"$f":"AccountInfo!$A106","v":104},{"$f":"IF(AccountInfo!$B106=\"\",\"\",AccountInfo!B106)","v":""},{"$nulls":7},"Check"]
[{"$f":"AccountInfo!$A107","v":105},{"$f":"IF(AccountInfo!$B107=\"\",\"\",AccountInfo!B107)","v":""},{"$nulls":7},"Check"]
[{"$f":"AccountInfo!$A108","v":106},{"$f":"IF(AccountInfo!$B108=\"\",\"\",AccountInfo!B108)","v":""},{"$nulls":7},"Check"]
[{"$f":"AccountInfo!$A109","v":107},{"$f":"IF(AccountInfo!$B109=\"\",\"\",AccountInfo!B109)","v":""},{"$nulls":7},"Check"]
[{"$f":"AccountInfo!$A110","v":108},{"$f":"IF(AccountInfo!$B110=\"\",\"\",AccountInfo!B110)","v":""},{"$nulls":7},"Check"]
[{"$f":"AccountInfo!$A111","v":109},{"$f":"IF(AccountInfo!$B111=\"\",\"\",AccountInfo!B111)","v":""},{"$nulls":7},"Check"]
[{"$f":"AccountInfo!$A112","v":110},{"$f":"IF(AccountInfo!$B112=\"\",\"\",AccountInfo!B112)","v":""},{"$nulls":7},"Check"]
[{"$f":"AccountInfo!$A113","v":111},{"$f":"IF(AccountInfo!$B113=\"\",\"\",AccountInfo!B113)","v":""},{"$nulls":7},"Check"]
[{"$f":"AccountInfo!$A114","v":112},{"$f":"IF(AccountInfo!$B114=\"\",\"\",AccountInfo!B114)","v":""},{"$nulls":7},"Check"]
[{"$f":"AccountInfo!$A115","v":113},{"$f":"IF(AccountInfo!$B115=\"\",\"\",AccountInfo!B115)","v":""},{"$nulls":7},"Check"]
[{"$f":"AccountInfo!$A116","v":114},{"$f":"IF(AccountInfo!$B116=\"\",\"\",AccountInfo!B116)","v":""},{"$nulls":7},"Check"]
[{"$f":"AccountInfo!$A117","v":115},{"$f":"IF(AccountInfo!$B117=\"\",\"\",AccountInfo!B117)","v":""},{"$nulls":7},"Check"]
[{"$f":"AccountInfo!$A118","v":116},{"$f":"IF(AccountInfo!$B118=\"\",\"\",AccountInfo!B118)","v":""},{"$nulls":7},"Check"]
[{"$f":"AccountInfo!$A119","v":117},{"$f":"IF(AccountInfo!$B119=\"\",\"\",AccountInfo!B119)","v":""},{"$nulls":7},"Check"]
[{"$f":"AccountInfo!$A120","v":118},{"$f":"IF(AccountInfo!$B120=\"\",\"\",AccountInfo!B120)","v":""},{"$nulls":7},"Check"]
[{"$f":"AccountInfo!$A121","v":119},{"$f":"IF(AccountInfo!$B121=\"\",\"\",AccountInfo!B121)","v":""},{"$nulls":7},"Check"]
[{"$f":"AccountInfo!$A122","v":120},{"$f":"IF(AccountInfo!$B122=\"\",\"\",AccountInfo!B122)","v":""},{"$nulls":7},"Check"]
[{"$f":"AccountInfo!$A123","v":121},{"$f":"IF(AccountInfo!$B123=\"\",\"\",AccountInfo!B123)","v":""},{"$nulls":7},"Check"]
[{"$f":"AccountInfo!$A124","v":122},{"$f":"IF(AccountInfo!$B124=\"\",\"\",AccountInfo!B124)","v":""},{"$nulls":7},"Check"]
[{"$f":"AccountInfo!$A125","v":123},{"$f":"IF(AccountInfo!$B125=\"\",\"\",AccountInfo!B125)","v":""},{"$nulls":7},"Check"]
[{"$f":"AccountInfo!$A126","v":124},{"$f":"IF(AccountInfo!$B126=\"\",\"\",AccountInfo!B126)","v":""},{"$nulls":7},"Check"]
[{"$f":"AccountInfo!$A127","v":125},{"$f":"IF(AccountInfo!$B127=\"\",\"\",AccountInfo!B127)","v":""},{"$nulls":7},"Check"]
[{"$f":"AccountInfo!$A128","v":126},{"$f":"IF(AccountInfo!$B128=\"\",\"\",AccountInfo!B128)","v":""},{"$nulls":7},"Check"]
[{"$f":"AccountInfo!$A129","v":127},{"$f":"IF(AccountInfo!$B129=\"\",\"\",AccountInfo!B129)","v":""},{"$nulls":7},"Check"]
[{"$f":"AccountInfo!$A130","v":128},{"$f":"IF(AccountInfo!$B130=\"\",\"\",AccountInfo!B130)","v":""},{"$nulls":7},"Check"]
[{"$f":"AccountInfo!$A131","v":129},{"$f":"IF(AccountInfo!$B131=\"\",\"\",AccountInfo!B131)","v":""},{"$nulls":7},"Check"]
[{"$f":"AccountInfo!$A132","v":130},{"$f":"IF(AccountInfo!$B132=\"\",\"\",AccountInfo!B132)","v":""},{"$nulls":7},{"$f":"IF(AND(D132<=E132, E132<=F132, F132<=G132, G132<=IF(H132=\"\", 1000000000000, H132)), \"Check\", \"Error\")","v":"Check"}]
[{"$f":"AccountInfo!$A133","v":131},{"$f":"IF(AccountInfo!$B133=\"\",\"\",AccountInfo!B133)","v":""},{"$nulls":7},"Check"]
[{"$f":"AccountInfo!$A134","v":132},{"$f":"IF(AccountInfo!$B134=\"\",\"\",AccountInfo!B134)","v":""},{"$nulls":7},"Check"]
[{"$f":"AccountInfo!$A135","v":133},{"$f":"IF(AccountInfo!$B135=\"\",\"\",AccountInfo!B135)","v":""},{"$nulls":7},"Check"]
[{"$f":"AccountInfo!$A136","v":134},{"$f":"IF(AccountInfo!$B136=\"\",\"\",AccountInfo!B136)","v":""},{"$nulls":7},"Check"]
[{"$f":"AccountInfo!$A137","v":135},{"$f":"IF(AccountInfo!$B137=\"\",\"\",AccountInfo!B137)","v":""},{"$nulls":7},"Check"]
[{"$f":"AccountInfo!$A138","v":136},{"$f":"IF(AccountInfo!$B138=\"\",\"\",AccountInfo!B138)","v":""},{"$nulls":7},"Check"]
[{"$f":"AccountInfo!$A139","v":137},{"$f":"IF(AccountInfo!$B139=\"\",\"\",AccountInfo!B139)","v":""},{"$nulls":7},"Check"]
[{"$f":"AccountInfo!$A140","v":138},{"$f":"IF(AccountInfo!$B140=\"\",\"\",AccountInfo!B140)","v":""},{"$nulls":7},"Check"]
[{"$f":"AccountInfo!$A141","v":139},{"$f":"IF(AccountInfo!$B141=\"\",\"\",AccountInfo!B141)","v":""},{"$nulls":7},"Check"]
[{"$f":"AccountInfo!$A142","v":140},{"$f":"IF(AccountInfo!$B142=\"\",\"\",AccountInfo!B142)","v":""},{"$nulls":7},"Check"]
[{"$f":"AccountInfo!$A143","v":141},{"$f":"IF(AccountInfo!$B143=\"\",\"\",AccountInfo!B143)","v":""},{"$nulls":7},"Check"]
[{"$f":"AccountInfo!$A144","v":142},{"$f":"IF(AccountInfo!$B144=\"\",\"\",AccountInfo!B144)","v":""},{"$nulls":7},"Check"]
[{"$f":"AccountInfo!$A145","v":143},{"$f":"IF(AccountInfo!$B145=\"\",\"\",AccountInfo!B145)","v":""},{"$nulls":7},"Check"]
[{"$f":"AccountInfo!$A146","v":144},{"$f":"IF(AccountInfo!$B146=\"\",\"\",AccountInfo!B146)","v":""},{"$nulls":7},"Check"]
[{"$f":"AccountInfo!$A147","v":145},{"$f":"IF(AccountInfo!$B147=\"\",\"\",AccountInfo!B147)","v":""},{"$nulls":7},"Check"]
[{"$f":"AccountInfo!$A148","v":146},{"$f":"IF(AccountInfo!$B148=\"\",\"\",AccountInfo!B148)","v":""},{"$nulls":7},"Check"]
[{"$f":"AccountInfo!$A149","v":147},{"$f":"IF(AccountInfo!$B149=\"\",\"\",AccountInfo!B149)","v":""},{"$nulls":7},"Check"]
[{"$f":"AccountInfo!$A150","v":148},{"$f":"IF(AccountInfo!$B150=\"\",\"\",AccountInfo!B150)","v":""},{"$nulls":7},"Check"]
[{"$f":"AccountInfo!$A151","v":149},{"$f":"IF(AccountInfo!$B151=\"\",\"\",AccountInfo!B151)","v":""},{"$nulls":7},"Check"]
[{"$f":"AccountInfo!$A152","v":150},{"$f":"IF(AccountInfo!$B152=\"\",\"\",AccountInfo!B152)","v":""},{"$nulls":7},"Check"]
[{"$f":"AccountInfo!$A153","v":151},{"$f":"IF(AccountInfo!$B153=\"\",\"\",AccountInfo!B153)","v":""},{"$nulls":7},"Check"]
[{"$f":"AccountInfo!$A154","v":152},{"$f":"IF(AccountInfo!$B154=\"\",\"\",AccountInfo!B154)","v":""},{"$nulls":7},"Check"]
[{"$f":"AccountInfo!$A155","v":153},{"$f":"IF(AccountInfo!$B155=\"\",\"\",AccountInfo!B155)","v":""},{"$nulls":7},"Check"]
[{"$f":"AccountInfo!$A156","v":154},{"$f":"IF(AccountInfo!$B156=\"\",\"\",AccountInfo!B156)","v":""},{"$nulls":7},"Check"]
[{"$f":"AccountInfo!$A157","v":155},{"$f":"IF(AccountInfo!$B157=\"\",\"\",AccountInfo!B157)","v":""},{"$nulls":7},"Check"]
[{"$f":"AccountInfo!$A158","v":156},{"$f":"IF(AccountInfo!$B158=\"\",\"\",AccountInfo!B158)","v":""},{"$nulls":7},"Check"]
[{"$f":"AccountInfo!$A159","v":157},{"$f":"IF(AccountInfo!$B159=\"\",\"\",AccountInfo!B159)","v":""},{"$nulls":7},"Check"]
[{"$f":"AccountInfo!$A160","v":158},{"$f":"IF(AccountInfo!$B160=\"\",\"\",AccountInfo!B160)","v":""},{"$nulls":7},"Check"]
[{"$f":"AccountInfo!$A161","v":159},{"$f":"IF(AccountInfo!$B161=\"\",\"\",AccountInfo!B161)","v":""},{"$nulls":7},"Check"]
[{"$f":"AccountInfo!$A162","v":160},{"$f":"IF(AccountInfo!$B162=\"\",\"\",AccountInfo!B162)","v":""},{"$nulls":7},"Check"]
[{"$f":"AccountInfo!$A163","v":161},{"$f":"IF(AccountInfo!$B163=\"\",\"\",AccountInfo!B163)","v":""},{"$nulls":7},"Check"]
[{"$f":"AccountInfo!$A164","v":162},{"$f":"IF(AccountInfo!$B164=\"\",\"\",AccountInfo!B164)","v":""},{"$nulls":7},"Check"]
[{"$f":"AccountInfo!$A165","v":163},{"$f":"IF(AccountInfo!$B165=\"\",\"\",AccountInfo!B165)","v":""},{"$nulls":7},"Check"]
[{"$f":"AccountInfo!$A166","v":164},{"$f":"IF(AccountInfo!$B166=\"\",\"\",AccountInfo!B166)","v":""},{"$nulls":7},"Check"]
[{"$f":"AccountInfo!$A167","v":165},{"$f":"IF(AccountInfo!$B167=\"\",\"\",AccountInfo!B167)","v":""},{"$nulls":7},"Check"]
[{"$f":"AccountInfo!$A168","v":166},{"$f":"IF(AccountInfo!$B168=\"\",\"\",AccountInfo!B168)","v":""},{"$nulls":7},"Check"]
[{"$f":"AccountInfo!$A169","v":167},{"$f":"IF(AccountInfo!$B169=\"\",\"\",AccountInfo!B169)","v":""},{"$nulls":7},"Check"]
[{"$f":"AccountInfo!$A170","v":168},{"$f":"IF(AccountInfo!$B170=\"\",\"\",AccountInfo!B170)","v":""},{"$nulls":7},"Check"]
[{"$f":"AccountInfo!$A171","v":169},{"$f":"IF(AccountInfo!$B171=\"\",\"\",AccountInfo!B171)","v":""},{"$nulls":7},"Check"]
[{"$f":"AccountInfo!$A172","v":170},{"$f":"IF(AccountInfo!$B172=\"\",\"\",AccountInfo!B172)","v":""},{"$nulls":7},"Check"]
[{"$f":"AccountInfo!$A173","v":171},{"$f":"IF(AccountInfo!$B173=\"\",\"\",AccountInfo!B173)","v":""},{"$nulls":7},"Check"]
[{"$f":"AccountInfo!$A174","v":172},{"$f":"IF(AccountInfo!$B174=\"\",\"\",AccountInfo!B174)","v":""},{"$nulls":7},"Check"]
[{"$f":"AccountInfo!$A175","v":173},{"$f":"IF(AccountInfo!$B175=\"\",\"\",AccountInfo!B175)","v":""},{"$nulls":7},"Check"]
[{"$f":"AccountInfo!$A176","v":174},{"$f":"IF(AccountInfo!$B176=\"\",\"\",AccountInfo!B176)","v":""},{"$nulls":7},"Check"]
[{"$f":"AccountInfo!$A177","v":175},{"$f":"IF(AccountInfo!$B177=\"\",\"\",AccountInfo!B177)","v":""},{"$nulls":7},"Check"]
[{"$f":"AccountInfo!$A178","v":176},{"$f":"IF(AccountInfo!$B178=\"\",\"\",AccountInfo!B178)","v":""},{"$nulls":7},"Check"]
[{"$f":"AccountInfo!$A179","v":177},{"$f":"IF(AccountInfo!$B179=\"\",\"\",AccountInfo!B179)","v":""},{"$nulls":7},"Check"]
[{"$f":"AccountInfo!$A180","v":178},{"$f":"IF(AccountInfo!$B180=\"\",\"\",AccountInfo!B180)","v":""},{"$nulls":7},"Check"]
[{"$f":"AccountInfo!$A181","v":179},{"$f":"IF(AccountInfo!$B181=\"\",\"\",AccountInfo!B181)","v":""},{"$nulls":7},"Check"]
[{"$f":"AccountInfo!$A182","v":180},{"$f":"IF(AccountInfo!$B182=\"\",\"\",AccountInfo!B182)","v":""},{"$nulls":7},"Check"]
[{"$f":"AccountInfo!$A183","v":181},{"$f":"IF(AccountInfo!$B183=\"\",\"\",AccountInfo!B183)","v":""},{"$nulls":7},"Check"]
[{"$f":"AccountInfo!$A184","v":182},{"$f":"IF(AccountInfo!$B184=\"\",\"\",AccountInfo!B184)","v":""},{"$nulls":7},"Check"]
[{"$f":"AccountInfo!$A185","v":183},{"$f":"IF(AccountInfo!$B185=\"\",\"\",AccountInfo!B185)","v":""},{"$nulls":7},"Check"]
[{"$f":"AccountInfo!$A186","v":184},{"$f":"IF(AccountInfo!$B186=\"\",\"\",AccountInfo!B186)","v":""},{"$nulls":7},"Check"]
[{"$f":"AccountInfo!$A187","v":185},{"$f":"IF(AccountInfo!$B187=\"\",\"\",AccountInfo!B187)","v":""},{"$nulls":7},"Check"]
[{"$f":"AccountInfo!$A188","v":186},{"$f":"IF(AccountInfo!$B188=\"\",\"\",AccountInfo!B188)","v":""},{"$nulls":7},"Check"]
[{"$f":"AccountInfo!$A189","v":187},{"$f":"IF(AccountInfo!$B189=\"\",\"\",AccountInfo!B189)","v":""},{"$nulls":7},"Check"]
[{"$f":"AccountInfo!$A190","v":188},{"$f":"IF(AccountInfo!$B190=\"\",\"\",AccountInfo!B190)","v":""},{"$nulls":7},"Check"]
[{"$f":"AccountInfo!$A191","v":189},{"$f":"IF(AccountInfo!$B191=\"\",\"\",AccountInfo!B191)","v":""},{"$nulls":7},"Check"]
[{"$f":"AccountInfo!$A192","v":190},{"$f":"IF(AccountInfo!$B192=\"\",\"\",AccountInfo!B192)","v":""},{"$nulls":7},"Check"]
[{"$f":"AccountInfo!$A193","v":191},{"$f":"IF(AccountInfo!$B193=\"\",\"\",AccountInfo!B193)","v":""},{"$nulls":7},"Check"]
[{"$f":"AccountInfo!$A194","v":192},{"$f":"IF(AccountInfo!$B194=\"\",\"\",AccountInfo!B194)","v":""},{"$nulls":7},"Check"]
[{"$f":"AccountInfo!$A195","v":193},{"$f":"IF(AccountInfo!$B195=\"\",\"\",AccountInfo!B195)","v":""},{"$nulls":7},"Check"]
[{"$f":"AccountInfo!$A196","v":194},{"$f":"IF(AccountInfo!$B196=\"\",\"\",AccountInfo!B196)","v":""},{"$nulls":7},{"$f":"IF(AND(D196<=E196, E196<=F196, F196<=G196, G196<=IF(H196=\"\", 1000000000000, H196)), \"Check\", \"Error\")","v":"Check"}]
[{"$f":"AccountInfo!$A197","v":195},{"$f":"IF(AccountInfo!$B197=\"\",\"\",AccountInfo!B197)","v":""},{"$nulls":7},"Check"]
[{"$f":"AccountInfo!$A198","v":196},{"$f":"IF(AccountInfo!$B198=\"\",\"\",AccountInfo!B198)","v":""},{"$nulls":7},"Check"]
[{"$f":"AccountInfo!$A199","v":197},{"$f":"IF(AccountInfo!$B199=\"\",\"\",AccountInfo!B199)","v":""},{"$nulls":7},"Check"]
[{"$f":"AccountInfo!$A200","v":198},{"$f":"IF(AccountInfo!$B200=\"\",\"\",AccountInfo!B200)","v":""},{"$nulls":7},"Check"]
[{"$f":"AccountInfo!$A201","v":199},{"$f":"IF(AccountInfo!$B201=\"\",\"\",AccountInfo!B201)","v":""},{"$nulls":7},"Check"]
[{"$f":"AccountInfo!$A202","v":200},{"$f":"IF(AccountInfo!$B202=\"\",\"\",AccountInfo!B202)","v":""},{"$nulls":7},"Check"]
[{"$f":"AccountInfo!$A203","v":201},{"$f":"IF(AccountInfo!$B203=\"\",\"\",AccountInfo!B203)","v":""},{"$nulls":7},"Check"]
[{"$f":"AccountInfo!$A204","v":202},{"$f":"IF(AccountInfo!$B204=\"\",\"\",AccountInfo!B204)","v":""},{"$nulls":7},"Check"]
[{"$f":"AccountInfo!$A205","v":203},{"$f":"IF(AccountInfo!$B205=\"\",\"\",AccountInfo!B205)","v":""},{"$nulls":7},"Check"]
[{"$f":"AccountInfo!$A206","v":204},{"$f":"IF(AccountInfo!$B206=\"\",\"\",AccountInfo!B206)","v":""},{"$nulls":7},"Check"]
[{"$f":"AccountInfo!$A207","v":205},{"$f":"IF(AccountInfo!$B207=\"\",\"\",AccountInfo!B207)","v":""},{"$nulls":7},"Check"]
[{"$f":"AccountInfo!$A208","v":206},{"$f":"IF(AccountInfo!$B208=\"\",\"\",AccountInfo!B208)","v":""},{"$nulls":7},"Check"]
[{"$f":"AccountInfo!$A209","v":207},{"$f":"IF(AccountInfo!$B209=\"\",\"\",AccountInfo!B209)","v":""},{"$nulls":7},"Check"]
[{"$f":"AccountInfo!$A210","v":208},{"$f":"IF(AccountInfo!$B210=\"\",\"\",AccountInfo!B210)","v":""},{"$nulls":7},"Check"]
[{"$f":"AccountInfo!$A211","v":209},{"$f":"IF(AccountInfo!$B211=\"\",\"\",AccountInfo!B211)","v":""},{"$nulls":7},"Check"]
[{"$f":"AccountInfo!$A212","v":210},{"$f":"IF(AccountInfo!$B212=\"\",\"\",AccountInfo!B212)","v":""},{"$nulls":7},"Check"]
[{"$f":"AccountInfo!$A213","v":211},{"$f":"IF(AccountInfo!$B213=\"\",\"\",AccountInfo!B213)","v":""},{"$nulls":7},"Check"]
[{"$f":"AccountInfo!$A214","v":212},{"$f":"IF(AccountInfo!$B214=\"\",\"\",AccountInfo!B214)","v":""},{"$nulls":7},"Check"]
[{"$f":"AccountInfo!$A215","v":213},{"$f":"IF(AccountInfo!$B215=\"\",\"\",AccountInfo!B215)","v":""},{"$nulls":7},"Check"]
[{"$f":"AccountInfo!$A216","v":214},{"$f":"IF(AccountInfo!$B216=\"\",\"\",AccountInfo!B216)","v":""},{"$nulls":7},"Check"]
[{"$f":"AccountInfo!$A217","v":215},{"$f":"IF(AccountInfo!$B217=\"\",\"\",AccountInfo!B217)","v":""},{"$nulls":7},"Check"]
[{"$f":"AccountInfo!$A218","v":216},{"$f":"IF(AccountInfo!$B218=\"\",\"\",AccountInfo!B218)","v":""},{"$nulls":7},"Check"]
[{"$f":"AccountInfo!$A219","v":217},{"$f":"IF(AccountInfo!$B219=\"\",\"\",AccountInfo!B219)","v":""},{"$nulls":7},"Check"]
[{"$f":"AccountInfo!$A220","v":218},{"$f":"IF(AccountInfo!$B220=\"\",\"\",AccountInfo!B220)","v":""},{"$nulls":7},"Check"]
[{"$f":"AccountInfo!$A221","v":219},{"$f":"IF(AccountInfo!$B221=\"\",\"\",AccountInfo!B221)","v":""},{"$nulls":7},"Check"]
[{"$f":"AccountInfo!$A222","v":220},{"$f":"IF(AccountInfo!$B222=\"\",\"\",AccountInfo!B222)","v":""},{"$nulls":7},"Check"]
[{"$f":"AccountInfo!$A223","v":221},{"$f":"IF(AccountInfo!$B223=\"\",\"\",AccountInfo!B223)","v":""},{"$nulls":7},"Check"]
[{"$f":"AccountInfo!$A224","v":222},{"$f":"IF(AccountInfo!$B224=\"\",\"\",AccountInfo!B224)","v":""},{"$nulls":7},"Check"]
[{"$f":"AccountInfo!$A225","v":223},{"$f":"IF(AccountInfo!$B225=\"\",\"\",AccountInfo!B225)","v":""},{"$nulls":7},"Check"]
[{"$f":"AccountInfo!$A226","v":224},{"$f":"IF(AccountInfo!$B226=\"\",\"\",AccountInfo!B226)","v":""},{"$nulls":7},"Check"]
[{"$f":"AccountInfo!$A227","v":225},{"$f":"IF(AccountInfo!$B227=\"\",\"\",AccountInfo!B227)","v":""},{"$nulls":7},"Check"]
[{"$f":"AccountInfo!$A228","v":226},{"$f":"IF(AccountInfo!$B228=\"\",\"\",AccountInfo!B228)","v":""},{"$nulls":7},"Check"]
[{"$f":"AccountInfo!$A229","v":227},{"$f":"IF(AccountInfo!$B229=\"\",\"\",AccountInfo!B229)","v":""},{"$nulls":7},"Check"]
[{"$f":"AccountInfo!$A230","v":228},{"$f":"IF(AccountInfo!$B230=\"\",\"\",AccountInfo!B230)","v":""},{"$nulls":7},"Check"]
[{"$f":"AccountInfo!$A231","v":229},{"$f":"IF(AccountInfo!$B231=\"\",\"\",AccountInfo!B231)","v":""},{"$nulls":7},"Check"]
[{"$f":"AccountInfo!$A232","v":230},{"$f":"IF(AccountInfo!$B232=\"\",\"\",AccountInfo!B232)","v":""},{"$nulls":7},"Check"]
[{"$f":"AccountInfo!$A233","v":231},{"$f":"IF(AccountInfo!$B233=\"\",\"\",AccountInfo!B233)","v":""},{"$nulls":7},"Check"]
[{"$f":"AccountInfo!$A234","v":232},{"$f":"IF(AccountInfo!$B234=\"\",\"\",AccountInfo!B234)","v":""},{"$nulls":7},"Check"]
[{"$f":"AccountInfo!$A235","v":233},{"$f":"IF(AccountInfo!$B235=\"\",\"\",AccountInfo!B235)","v":""},{"$nulls":7},"Check"]
[{"$f":"AccountInfo!$A236","v":234},{"$f":"IF(AccountInfo!$B236=\"\",\"\",AccountInfo!B236)","v":""},{"$nulls":7},"Check"]
[{"$f":"AccountInfo!$A237","v":235},{"$f":"IF(AccountInfo!$B237=\"\",\"\",AccountInfo!B237)","v":""},{"$nulls":7},"Check"]
[{"$f":"AccountInfo!$A238","v":236},{"$f":"IF(AccountInfo!$B238=\"\",\"\",AccountInfo!B238)","v":""},{"$nulls":7},"Check"]
[{"$f":"AccountInfo!$A239","v":237},{"$f":"IF(AccountInfo!$B239=\"\",\"\",AccountInfo!B239)","v":""},{"$nulls":7},"Check"]
[{"$f":"AccountInfo!$A240","v":238},{"$f":"IF(AccountInfo!$B240=\"\",\"\",AccountInfo!B240)","v":""},{"$nulls":7},"Check"]
[{"$f":"AccountInfo!$A241","v":239},{"$f":"IF(AccountInfo!$B241=\"\",\"\",AccountInfo!B241)","v":""},{"$nulls":7},"Check"]
[{"$f":"AccountInfo!$A242","v":240},{"$f":"IF(AccountInfo!$B242=\"\",\"\",AccountInfo!B242)","v":""},{"$nulls":7},"Check"]
[{"$f":"AccountInfo!$A243","v":241},{"$f":"IF(AccountInfo!$B243=\"\",\"\",AccountInfo!B243)","v":""},{"$nulls":7},"Check"]
[{"$f":"AccountInfo!$A244","v":242},{"$f":"IF(AccountInfo!$B244=\"\",\"\",AccountInfo!B244)","v":""},{"$nulls":7},"Check"]
[{"$f":"AccountInfo!$A245","v":243},{"$f":"IF(AccountInfo!$B245=\"\",\"\",AccountInfo!B245)","v":""},{"$nulls":7},"Check"]
[{"$f":"AccountInfo!$A246","v":244},{"$f":"IF(AccountInfo!$B246=\"\",\"\",AccountInfo!B246)","v":""},{"$nulls":7},"Check"]
[{"$f":"AccountInfo!$A247","v":245},{"$f":"IF(AccountInfo!$B247=\"\",\"\",AccountInfo!B247)","v":""},{"$nulls":7},"Check"]
[{"$f":"AccountInfo!$A248","v":246},{"$f":"IF(AccountInfo!$B248=\"\",\"\",AccountInfo!B248)","v":""},{"$nulls":7},"Check"]
[{"$f":"AccountInfo!$A249","v":247},{"$f":"IF(AccountInfo!$B249=\"\",\"\",AccountInfo!B249)","v":""},{"$nulls":7},"Check"]
[{"$f":"AccountInfo!$A250","v":248},{"$f":"IF(AccountInfo!$B250=\"\",\"\",AccountInfo!B250)","v":""},{"$nulls":7},"Check"]
[{"$f":"AccountInfo!$A251","v":249},{"$f":"IF(AccountInfo!$B251=\"\",\"\",AccountInfo!B251)","v":""},{"$nulls":7},"Check"]
[{"$f":"AccountInfo!$A252","v":250},{"$f":"IF(AccountInfo!$B252=\"\",\"\",AccountInfo!B252)","v":""},{"$nulls":7},"Check"]
[{"$f":"AccountInfo!$A253","v":251},{"$f":"IF(AccountInfo!$B253=\"\",\"\",AccountInfo!B253)","v":""},{"$nulls":7},"Check"]
[{"$f":"AccountInfo!$A254","v":252},{"$f":"IF(AccountInfo!$B254=\"\",\"\",AccountInfo!B254)","v":""},{"$nulls":7},"Check"]
[{"$f":"AccountInfo!$A255","v":253},{"$f":"IF(AccountInfo!$B255=\"\",\"\",AccountInfo!B255)","v":""},{"$nulls":7},"Check"]
[{"$f":"AccountInfo!$A256","v":254},{"$f":"IF(AccountInfo!$B256=\"\",\"\",AccountInfo!B256)","v":""},{"$nulls":7},"Check"]
[{"$f":"AccountInfo!$A257","v":255},{"$f":"IF(AccountInfo!$B257=\"\",\"\",AccountInfo!B257)","v":""},{"$nulls":7},"Check"]
[{"$f":"AccountInfo!$A258","v":256},{"$f":"IF(AccountInfo!$B258=\"\",\"\",AccountInfo!B258)","v":""},{"$nulls":7},"Check"]
[{"$f":"AccountInfo!$A259","v":257},{"$f":"IF(AccountInfo!$B259=\"\",\"\",AccountInfo!B259)","v":""},{"$nulls":7},"Check"]
[{"$f":"AccountInfo!$A260","v":258},{"$f":"IF(AccountInfo!$B260=\"\",\"\",AccountInfo!B260)","v":""},{"$nulls":7},{"$f":"IF(AND(D260<=E260, E260<=F260, F260<=G260, G260<=IF(H260=\"\", 1000000000000, H260)), \"Check\", \"Error\")","v":"Check"}]
[{"$f":"AccountInfo!$A261","v":259},{"$f":"IF(AccountInfo!$B261=\"\",\"\",AccountInfo!B261)","v":""},{"$nulls":7},"Check"]
[{"$f":"AccountInfo!$A262","v":260},{"$f":"IF(AccountInfo!$B262=\"\",\"\",AccountInfo!B262)","v":""},{"$nulls":7},"Check"]
[{"$f":"AccountInfo!$A263","v":261},{"$f":"IF(AccountInfo!$B263=\"\",\"\",AccountInfo!B263)","v":""},{"$nulls":7},"Check"]
[{"$f":"AccountInfo!$A264","v":262},{"$f":"IF(AccountInfo!$B264=\"\",\"\",AccountInfo!B264)","v":""},{"$nulls":7},"Check"]
[{"$f":"AccountInfo!$A265","v":263},{"$f":"IF(AccountInfo!$B265=\"\",\"\",AccountInfo!B265)","v":""},{"$nulls":7},"Check"]
[{"$f":"AccountInfo!$A266","v":264},{"$f":"IF(AccountInfo!$B266=\"\",\"\",AccountInfo!B266)","v":""},{"$nulls":7},"Check"]
[{"$f":"AccountInfo!$A267","v":265},{"$f":"IF(AccountInfo!$B267=\"\",\"\",AccountInfo!B267)","v":""},{"$nulls":7},"Check"]
[{"$f":"AccountInfo!$A268","v":266},{"$f":"IF(AccountInfo!$B268=\"\",\"\",AccountInfo!B268)","v":""},{"$nulls":7},"Check"]
[{"$f":"AccountInfo!$A269","v":267},{"$f":"IF(AccountInfo!$B269=\"\",\"\",AccountInfo!B269)","v":""},{"$nulls":7},"Check"]
[{"$f":"AccountInfo!$A270","v":268},{"$f":"IF(AccountInfo!$B270=\"\",\"\",AccountInfo!B270)","v":""},{"$nulls":7},"Check"]
[{"$f":"AccountInfo!$A271","v":269},{"$f":"IF(AccountInfo!$B271=\"\",\"\",AccountInfo!B271)","v":""},{"$nulls":7},"Check"]
[{"$f":"AccountInfo!$A272","v":270},{"$f":"IF(AccountInfo!$B272=\"\",\"\",AccountInfo!B272)","v":""},{"$nulls":7},"Check"]
[{"$f":"AccountInfo!$A273","v":271},{"$f":"IF(AccountInfo!$B273=\"\",\"\",AccountInfo!B273)","v":""},{"$nulls":7},"Check"]
[{"$f":"AccountInfo!$A274","v":272},{"$f":"IF(AccountInfo!$B274=\"\",\"\",AccountInfo!B274)","v":""},{"$nulls":7},"Check"]
[{"$f":"AccountInfo!$A275","v":273},{"$f":"IF(AccountInfo!$B275=\"\",\"\",AccountInfo!B275)","v":""},{"$nulls":7},"Check"]
[{"$f":"AccountInfo!$A276","v":274},{"$f":"IF(AccountInfo!$B276=\"\",\"\",AccountInfo!B276)","v":""},{"$nulls":7},"Check"]
[{"$f":"AccountInfo!$A277","v":275},{"$f":"IF(AccountInfo!$B277=\"\",\"\",AccountInfo!B277)","v":""},{"$nulls":7},"Check"]
[{"$f":"AccountInfo!$A278","v":276},{"$f":"IF(AccountInfo!$B278=\"\",\"\",AccountInfo!B278)","v":""},{"$nulls":7},"Check"]
[{"$f":"AccountInfo!$A279","v":277},{"$f":"IF(AccountInfo!$B279=\"\",\"\",AccountInfo!B279)","v":""},{"$nulls":7},"Check"]
[{"$f":"AccountInfo!$A280","v":278},{"$f":"IF(AccountInfo!$B280=\"\",\"\",AccountInfo!B280)","v":""},{"$nulls":7},"Check"]
[{"$f":"AccountInfo!$A281","v":279},{"$f":"IF(AccountInfo!$B281=\"\",\"\",AccountInfo!B281)","v":""},{"$nulls":7},"Check"]
[{"$f":"AccountInfo!$A282","v":280},{"$f":"IF(AccountInfo!$B282=\"\",\"\",AccountInfo!B282)","v":""},{"$nulls":7},"Check"]
[{"$f":"AccountInfo!$A283","v":281},{"$f":"IF(AccountInfo!$B283=\"\",\"\",AccountInfo!B283)","v":""},{"$nulls":7},"Check"]
[{"$f":"AccountInfo!$A284","v":282},{"$f":"IF(AccountInfo!$B284=\"\",\"\",AccountInfo!B284)","v":""},{"$nulls":7},"Check"]
[{"$f":"AccountInfo!$A285","v":283},{"$f":"IF(AccountInfo!$B285=\"\",\"\",AccountInfo!B285)","v":""},{"$nulls":7},"Check"]
[{"$f":"AccountInfo!$A286","v":284},{"$f":"IF(AccountInfo!$B286=\"\",\"\",AccountInfo!B286)","v":""},{"$nulls":7},"Check"]
[{"$f":"AccountInfo!$A287","v":285},{"$f":"IF(AccountInfo!$B287=\"\",\"\",AccountInfo!B287)","v":""},{"$nulls":7},"Check"]
[{"$f":"AccountInfo!$A288","v":286},{"$f":"IF(AccountInfo!$B288=\"\",\"\",AccountInfo!B288)","v":""},{"$nulls":7},"Check"]
[{"$f":"AccountInfo!$A289","v":287},{"$f":"IF(AccountInfo!$B289=\"\",\"\",AccountInfo!B289)","v":""},{"$nulls":7},"Check"]
[{"$f":"AccountInfo!$A290","v":288},{"$f":"IF(AccountInfo!$B290=\"\",\"\",AccountInfo!B290)","v":""},{"$nulls":7},"Check"]
[{"$f":"AccountInfo!$A291","v":289},{"$f":"IF(AccountInfo!$B291=\"\",\"\",AccountInfo!B291)","v":""},{"$nulls":7},"Check"]
[{"$f":"AccountInfo!$A292","v":290},{"$f":"IF(AccountInfo!$B292=\"\",\"\",AccountInfo!B292)","v":""},{"$nulls":7},"Check"]
[{"$f":"AccountInfo!$A293","v":291},{"$f":"IF(AccountInfo!$B293=\"\",\"\",AccountInfo!B293)","v":""},{"$nulls":7},"Check"]
[{"$f":"AccountInfo!$A294","v":292},{"$f":"IF(AccountInfo!$B294=\"\",\"\",AccountInfo!B294)","v":""},{"$nulls":7},"Check"]
[{"$f":"AccountInfo!$A295","v":293},{"$f":"IF(AccountInfo!$B295=\"\",\"\",AccountInfo!B295)","v":""},{"$nulls":7},"Check"]
[{"$f":"AccountInfo!$A296","v":294},{"$f":"IF(AccountInfo!$B296=\"\",\"\",AccountInfo!B296)","v":""},{"$nulls":7},"Check"]
[{"$f":"AccountInfo!$A297","v":295},{"$f":"IF(AccountInfo!$B297=\"\",\"\",AccountInfo!B297)","v":""},{"$nulls":7},"Check"]
[{"$f":"AccountInfo!$A298","v":296},{"$f":"IF(AccountInfo!$B298=\"\",\"\",AccountInfo!B298)","v":""},{"$nulls":7},"Check"]
[{"$f":"AccountInfo!$A299","v":297},{"$f":"IF(AccountInfo!$B299=\"\",\"\",AccountInfo!B299)","v":""},{"$nulls":7},"Check"]
[{"$f":"AccountInfo!$A300","v":298},{"$f":"IF(AccountInfo!$B300=\"\",\"\",AccountInfo!B300)","v":""},{"$nulls":7},"Check"]
[{"$f":"AccountInfo!$A301","v":299},{"$f":"IF(AccountInfo!$B301=\"\",\"\",AccountInfo!B301)","v":""},{"$nulls":7},"Check"]
[{"$f":"AccountInfo!$A302","v":300},{"$f":"IF(AccountInfo!$B302=\"\",\"\",AccountInfo!B302)","v":""},{"$nulls":7},"Check"]
[{"$f":"AccountInfo!$A303","v":301},{"$f":"IF(AccountInfo!$B303=\"\",\"\",AccountInfo!B303)","v":""},{"$nulls":7},"Check"]
[{"$f":"AccountInfo!$A304","v":302},{"$f":"IF(AccountInfo!$B304=\"\",\"\",AccountInfo!B304)","v":""},{"$nulls":7},"Check"]
[{"$f":"AccountInfo!$A305","v":303},{"$f":"IF(AccountInfo!$B305=\"\",\"\",AccountInfo!B305)","v":""},{"$nulls":7},"Check"]
[{"$f":"AccountInfo!$A306","v":304},{"$f":"IF(AccountInfo!$B306=\"\",\"\",AccountInfo!B306)","v":""},{"$nulls":7},"Check"]
[{"$f":"AccountInfo!$A307","v":305},{"$f":"IF(AccountInfo!$B307=\"\",\"\",AccountInfo!B307)","v":""},{"$nulls":7},"Check"]
[{"$f":"AccountInfo!$A308","v":306},{"$f":"IF(AccountInfo!$B308=\"\",\"\",AccountInfo!B308)","v":""},{"$nulls":7},"Check"]
[{"$f":"AccountInfo!$A309","v":307},{"$f":"IF(AccountInfo!$B309=\"\",\"\",AccountInfo!B309)","v":""},{"$nulls":7},"Check"]
[{"$f":"AccountInfo!$A310","v":308},{"$f":"IF(AccountInfo!$B310=\"\",\"\",AccountInfo!B310)","v":""},{"$nulls":7},"Check"]
[{"$f":"AccountInfo!$A311","v":309},{"$f":"IF(AccountInfo!$B311=\"\",\"\",AccountInfo!B311)","v":""},{"$nulls":7},"Check"]
[{"$f":"AccountInfo!$A312","v":310},{"$f":"IF(AccountInfo!$B312=\"\",\"\",AccountInfo!B312)","v":""},{"$nulls":7},"Check"]
[{"$f":"AccountInfo!$A313","v":311},{"$f":"IF(AccountInfo!$B313=\"\",\"\",AccountInfo!B313)","v":""},{"$nulls":7},"Check"]
[{"$f":"AccountInfo!$A314","v":312},{"$f":"IF(AccountInfo!$B314=\"\",\"\",AccountInfo!B314)","v":""},{"$nulls":7},"Check"]
[{"$f":"AccountInfo!$A315","v":313},{"$f":"IF(AccountInfo!$B315=\"\",\"\",AccountInfo!B315)","v":""},{"$nulls":7},"Check"]
[{"$f":"AccountInfo!$A316","v":314},{"$f":"IF(AccountInfo!$B316=\"\",\"\",AccountInfo!B316)","v":""},{"$nulls":7},"Check"]
[{"$f":"AccountInfo!$A317","v":315},{"$f":"IF(AccountInfo!$B317=\"\",\"\",AccountInfo!B317)","v":""},{"$nulls":7},"Check"]
[{"$f":"AccountInfo!$A318","v":316},{"$f":"IF(AccountInfo!$B318=\"\",\"\",AccountInfo!B318)","v":""},{"$nulls":7},"Check"]
[{"$f":"AccountInfo!$A319","v":317},{"$f":"IF(AccountInfo!$B319=\"\",\"\",AccountInfo!B319)","v":""},{"$nulls":7},"Check"]
[{"$f":"AccountInfo!$A320","v":318},{"$f":"IF(AccountInfo!$B320=\"\",\"\",AccountInfo!B320)","v":""},{"$nulls":7},"Check"]
[{"$f":"AccountInfo!$A321","v":319},{"$f":"IF(AccountInfo!$B321=\"\",\"\",AccountInfo!B321)","v":""},{"$nulls":7},"Check"]
[{"$f":"AccountInfo!$A322","v":320},{"$f":"IF(AccountInfo!$B322=\"\",\"\",AccountInfo!B322)","v":""},{"$nulls":7},"Check"]
[{"$f":"AccountInfo!$A323","v":321},{"$f":"IF(AccountInfo!$B323=\"\",\"\",AccountInfo!B323)","v":""},{"$nulls":7},"Check"]
[{"$f":"AccountInfo!$A324","v":322},{"$f":"IF(AccountInfo!$B324=\"\",\"\",AccountInfo!B324)","v":""},{"$nulls":7},{"$f":"IF(AND(D324<=E324, E324<=F324, F324<=G324, G324<=IF(H324=\"\", 1000000000000, H324)), \"Check\", \"Error\")","v":"Check"}]
[{"$f":"AccountInfo!$A325","v":323},{"$f":"IF(AccountInfo!$B325=\"\",\"\",AccountInfo!B325)","v":""},{"$nulls":7},"Check"]
[{"$f":"AccountInfo!$A326","v":324},{"$f":"IF(AccountInfo!$B326=\"\",\"\",AccountInfo!B326)","v":""},{"$nulls":7},"Check"]
[{"$f":"AccountInfo!$A327","v":325},{"$f":"IF(AccountInfo!$B327=\"\",\"\",AccountInfo!B327)","v":""},{"$nulls":7},"Check"]
[{"$f":"AccountInfo!$A328","v":326},{"$f":"IF(AccountInfo!$B328=\"\",\"\",AccountInfo!B328)","v":""},{"$nulls":7},"Check"]
[{"$f":"AccountInfo!$A329","v":327},{"$f":"IF(AccountInfo!$B329=\"\",\"\",AccountInfo!B329)","v":""},{"$nulls":7},"Check"]
[{"$f":"AccountInfo!$A330","v":328},{"$f":"IF(AccountInfo!$B330=\"\",\"\",AccountInfo!B330)","v":""},{"$nulls":7},"Check"]
[{"$f":"AccountInfo!$A331","v":329},{"$f":"IF(AccountInfo!$B331=\"\",\"\",AccountInfo!B331)","v":""},{"$nulls":7},"Check"]
[{"$f":"AccountInfo!$A332","v":330},{"$f":"IF(AccountInfo!$B332=\"\",\"\",AccountInfo!B332)","v":""},{"$nulls":7},"Check"]
[{"$f":"AccountInfo!$A333","v":331},{"$f":"IF(AccountInfo!$B333=\"\",\"\",AccountInfo!B333)","v":""},{"$nulls":7},"Check"]
[{"$f":"AccountInfo!$A334","v":332},{"$f":"IF(AccountInfo!$B334=\"\",\"\",AccountInfo!B334)","v":""},{"$nulls":7},"Check"]
[{"$f":"AccountInfo!$A335","v":333},{"$f":"IF(AccountInfo!$B335=\"\",\"\",AccountInfo!B335)","v":""},{"$nulls":7},"Check"]
[{"$f":"AccountInfo!$A336","v":334},{"$f":"IF(AccountInfo!$B336=\"\",\"\",AccountInfo!B336)","v":""},{"$nulls":7},"Check"]
[{"$f":"AccountInfo!$A337","v":335},{"$f":"IF(AccountInfo!$B337=\"\",\"\",AccountInfo!B337)","v":""},{"$nulls":7},"Check"]
[{"$f":"AccountInfo!$A338","v":336},{"$f":"IF(AccountInfo!$B338=\"\",\"\",AccountInfo!B338)","v":""},{"$nulls":7},"Check"]
[{"$f":"AccountInfo!$A339","v":337},{"$f":"IF(AccountInfo!$B339=\"\",\"\",AccountInfo!B339)","v":""},{"$nulls":7},"Check"]
[{"$f":"AccountInfo!$A340","v":338},{"$f":"IF(AccountInfo!$B340=\"\",\"\",AccountInfo!B340)","v":""},{"$nulls":7},"Check"]
[{"$f":"AccountInfo!$A341","v":339},{"$f":"IF(AccountInfo!$B341=\"\",\"\",AccountInfo!B341)","v":""},{"$nulls":7},"Check"]
[{"$f":"AccountInfo!$A342","v":340},{"$f":"IF(AccountInfo!$B342=\"\",\"\",AccountInfo!B342)","v":""},{"$nulls":7},"Check"]
[{"$f":"AccountInfo!$A343","v":341},{"$f":"IF(AccountInfo!$B343=\"\",\"\",AccountInfo!B343)","v":""},{"$nulls":7},"Check"]
[{"$f":"AccountInfo!$A344","v":342},{"$f":"IF(AccountInfo!$B344=\"\",\"\",AccountInfo!B344)","v":""},{"$nulls":7},"Check"]
[{"$f":"AccountInfo!$A345","v":343},{"$f":"IF(AccountInfo!$B345=\"\",\"\",AccountInfo!B345)","v":""},{"$nulls":7},"Check"]
[{"$f":"AccountInfo!$A346","v":344},{"$f":"IF(AccountInfo!$B346=\"\",\"\",AccountInfo!B346)","v":""},{"$nulls":7},"Check"]
[{"$f":"AccountInfo!$A347","v":345},{"$f":"IF(AccountInfo!$B347=\"\",\"\",AccountInfo!B347)","v":""},{"$nulls":7},"Check"]
[{"$f":"AccountInfo!$A348","v":346},{"$f":"IF(AccountInfo!$B348=\"\",\"\",AccountInfo!B348)","v":""},{"$nulls":7},"Check"]
[{"$f":"AccountInfo!$A349","v":347},{"$f":"IF(AccountInfo!$B349=\"\",\"\",AccountInfo!B349)","v":""},{"$nulls":7},"Check"]
[{"$f":"AccountInfo!$A350","v":348},{"$f":"IF(AccountInfo!$B350=\"\",\"\",AccountInfo!B350)","v":""},{"$nulls":7},"Check"]
[{"$f":"AccountInfo!$A351","v":349},{"$f":"IF(AccountInfo!$B351=\"\",\"\",AccountInfo!B351)","v":""},{"$nulls":7},"Check"]
[{"$f":"AccountInfo!$A352","v":350},{"$f":"IF(AccountInfo!$B352=\"\",\"\",AccountInfo!B352)","v":""},{"$nulls":7},"Check"]
[{"$f":"AccountInfo!$A353","v":351},{"$f":"IF(AccountInfo!$B353=\"\",\"\",AccountInfo!B353)","v":""},{"$nulls":7},"Check"]
[{"$f":"AccountInfo!$A354","v":352},{"$f":"IF(AccountInfo!$B354=\"\",\"\",AccountInfo!B354)","v":""},{"$nulls":7},"Check"]
[{"$f":"AccountInfo!$A355","v":353},{"$f":"IF(AccountInfo!$B355=\"\",\"\",AccountInfo!B355)","v":""},{"$nulls":7},"Check"]
[{"$f":"AccountInfo!$A356","v":354},{"$f":"IF(AccountInfo!$B356=\"\",\"\",AccountInfo!B356)","v":""},{"$nulls":7},"Check"]
[{"$f":"AccountInfo!$A357","v":355},{"$f":"IF(AccountInfo!$B357=\"\",\"\",AccountInfo!B357)","v":""},{"$nulls":7},"Check"]
[{"$f":"AccountInfo!$A358","v":356},{"$f":"IF(AccountInfo!$B358=\"\",\"\",AccountInfo!B358)","v":""},{"$nulls":7},"Check"]
[{"$f":"AccountInfo!$A359","v":357},{"$f":"IF(AccountInfo!$B359=\"\",\"\",AccountInfo!B359)","v":""},{"$nulls":7},"Check"]
[{"$f":"AccountInfo!$A360","v":358},{"$f":"IF(AccountInfo!$B360=\"\",\"\",AccountInfo!B360)","v":""},{"$nulls":7},"Check"]
[{"$f":"AccountInfo!$A361","v":359},{"$f":"IF(AccountInfo!$B361=\"\",\"\",AccountInfo!B361)","v":""},{"$nulls":7},"Check"]
[{"$f":"AccountInfo!$A362","v":360},{"$f":"IF(AccountInfo!$B362=\"\",\"\",AccountInfo!B362)","v":""},{"$nulls":7},"Check"]
[{"$f":"AccountInfo!$A363","v":361},{"$f":"IF(AccountInfo!$B363=\"\",\"\",AccountInfo!B363)","v":""},{"$nulls":7},"Check"]
[{"$f":"AccountInfo!$A364","v":362},{"$f":"IF(AccountInfo!$B364=\"\",\"\",AccountInfo!B364)","v":""},{"$nulls":7},"Check"]
[{"$f":"AccountInfo!$A365","v":363},{"$f":"IF(AccountInfo!$B365=\"\",\"\",AccountInfo!B365)","v":""},{"$nulls":7},"Check"]
[{"$f":"AccountInfo!$A366","v":364},{"$f":"IF(AccountInfo!$B366=\"\",\"\",AccountInfo!B366)","v":""},{"$nulls":7},"Check"]
[{"$f":"AccountInfo!$A367","v":365},{"$f":"IF(AccountInfo!$B367=\"\",\"\",AccountInfo!B367)","v":""},{"$nulls":7},"Check"]
[{"$f":"AccountInfo!$A368","v":366},{"$f":"IF(AccountInfo!$B368=\"\",\"\",AccountInfo!B368)","v":""},{"$nulls":7},"Check"]
[{"$f":"AccountInfo!$A369","v":367},{"$f":"IF(AccountInfo!$B369=\"\",\"\",AccountInfo!B369)","v":""},{"$nulls":7},"Check"]
[{"$f":"AccountInfo!$A370","v":368},{"$f":"IF(AccountInfo!$B370=\"\",\"\",AccountInfo!B370)","v":""},{"$nulls":7},"Check"]
[{"$f":"AccountInfo!$A371","v":369},{"$f":"IF(AccountInfo!$B371=\"\",\"\",AccountInfo!B371)","v":""},{"$nulls":7},"Check"]
[{"$f":"AccountInfo!$A372","v":370},{"$f":"IF(AccountInfo!$B372=\"\",\"\",AccountInfo!B372)","v":""},{"$nulls":7},"Check"]
[{"$f":"AccountInfo!$A373","v":371},{"$f":"IF(AccountInfo!$B373=\"\",\"\",AccountInfo!B373)","v":""},{"$nulls":7},"Check"]
[{"$f":"AccountInfo!$A374","v":372},{"$f":"IF(AccountInfo!$B374=\"\",\"\",AccountInfo!B374)","v":""},{"$nulls":7},"Check"]
[{"$f":"AccountInfo!$A375","v":373},{"$f":"IF(AccountInfo!$B375=\"\",\"\",AccountInfo!B375)","v":""},{"$nulls":7},"Check"]
[{"$f":"AccountInfo!$A376","v":374},{"$f":"IF(AccountInfo!$B376=\"\",\"\",AccountInfo!B376)","v":""},{"$nulls":7},"Check"]
[{"$f":"AccountInfo!$A377","v":375},{"$f":"IF(AccountInfo!$B377=\"\",\"\",AccountInfo!B377)","v":""},{"$nulls":7},"Check"]
[{"$f":"AccountInfo!$A378","v":376},{"$f":"IF(AccountInfo!$B378=\"\",\"\",AccountInfo!B378)","v":""},{"$nulls":7},"Check"]
[{"$f":"AccountInfo!$A379","v":377},{"$f":"IF(AccountInfo!$B379=\"\",\"\",AccountInfo!B379)","v":""},{"$nulls":7},"Check"]
[{"$f":"AccountInfo!$A380","v":378},{"$f":"IF(AccountInfo!$B380=\"\",\"\",AccountInfo!B380)","v":""},{"$nulls":7},"Check"]
[{"$f":"AccountInfo!$A381","v":379},{"$f":"IF(AccountInfo!$B381=\"\",\"\",AccountInfo!B381)","v":""},{"$nulls":7},"Check"]
[{"$f":"AccountInfo!$A382","v":380},{"$f":"IF(AccountInfo!$B382=\"\",\"\",AccountInfo!B382)","v":""},{"$nulls":7},"Check"]
[{"$f":"AccountInfo!$A383","v":381},{"$f":"IF(AccountInfo!$B383=\"\",\"\",AccountInfo!B383)","v":""},{"$nulls":7},"Check"]
[{"$f":"AccountInfo!$A384","v":382},{"$f":"IF(AccountInfo!$B384=\"\",\"\",AccountInfo!B384)","v":""},{"$nulls":7},"Check"]
[{"$f":"AccountInfo!$A385","v":383},{"$f":"IF(AccountInfo!$B385=\"\",\"\",AccountInfo!B385)","v":""},{"$nulls":7},"Check"]
[{"$f":"AccountInfo!$A386","v":384},{"$f":"IF(AccountInfo!$B386=\"\",\"\",AccountInfo!B386)","v":""},{"$nulls":7},"Check"]
[{"$f":"AccountInfo!$A387","v":385},{"$f":"IF(AccountInfo!$B387=\"\",\"\",AccountInfo!B387)","v":""},{"$nulls":7},"Check"]
[{"$f":"AccountInfo!$A388","v":386},{"$f":"IF(AccountInfo!$B388=\"\",\"\",AccountInfo!B388)","v":""},{"$nulls":7},{"$f":"IF(AND(D388<=E388, E388<=F388, F388<=G388, G388<=IF(H388=\"\", 1000000000000, H388)), \"Check\", \"Error\")","v":"Check"}]
[{"$f":"AccountInfo!$A389","v":387},{"$f":"IF(AccountInfo!$B389=\"\",\"\",AccountInfo!B389)","v":""},{"$nulls":7},"Check"]
[{"$f":"AccountInfo!$A390","v":388},{"$f":"IF(AccountInfo!$B390=\"\",\"\",AccountInfo!B390)","v":""},{"$nulls":7},"Check"]
[{"$f":"AccountInfo!$A391","v":389},{"$f":"IF(AccountInfo!$B391=\"\",\"\",AccountInfo!B391)","v":""},{"$nulls":7},"Check"]
[{"$f":"AccountInfo!$A392","v":390},{"$f":"IF(AccountInfo!$B392=\"\",\"\",AccountInfo!B392)","v":""},{"$nulls":7},"Check"]
[{"$f":"AccountInfo!$A393","v":391},{"$f":"IF(AccountInfo!$B393=\"\",\"\",AccountInfo!B393)","v":""},{"$nulls":7},"Check"]
[{"$f":"AccountInfo!$A394","v":392},{"$f":"IF(AccountInfo!$B394=\"\",\"\",AccountInfo!B394)","v":""},{"$nulls":7},"Check"]
[{"$f":"AccountInfo!$A395","v":393},{"$f":"IF(AccountInfo!$B395=\"\",\"\",AccountInfo!B395)","v":""},{"$nulls":7},"Check"]
[{"$f":"AccountInfo!$A396","v":394},{"$f":"IF(AccountInfo!$B396=\"\",\"\",AccountInfo!B396)","v":""},{"$nulls":7},"Check"]
[{"$f":"AccountInfo!$A397","v":395},{"$f":"IF(AccountInfo!$B397=\"\",\"\",AccountInfo!B397)","v":""},{"$nulls":7},"Check"]
[{"$f":"AccountInfo!$A398","v":396},{"$f":"IF(AccountInfo!$B398=\"\",\"\",AccountInfo!B398)","v":""},{"$nulls":7},"Check"]
[{"$f":"AccountInfo!$A399","v":397},{"$f":"IF(AccountInfo!$B399=\"\",\"\",AccountInfo!B399)","v":""},{"$nulls":7},"Check"]
[{"$f":"AccountInfo!$A400","v":398},{"$f":"IF(AccountInfo!$B400=\"\",\"\",AccountInfo!B400)","v":""},{"$nulls":7},"Check"]
[{"$f":"AccountInfo!$A401","v":399},{"$f":"IF(AccountInfo!$B401=\"\",\"\",AccountInfo!B401)","v":""},{"$nulls":7},"Check"]
[{"$f":"AccountInfo!$A402","v":400},{"$f":"IF(AccountInfo!$B402=\"\",\"\",AccountInfo!B402)","v":""},{"$nulls":7},"Check"]
[{"$f":"AccountInfo!$A403","v":401},{"$f":"IF(AccountInfo!$B403=\"\",\"\",AccountInfo!B403)","v":""},{"$nulls":7},"Check"]
[{"$f":"AccountInfo!$A404","v":402},{"$f":"IF(AccountInfo!$B404=\"\",\"\",AccountInfo!B404)","v":""},{"$nulls":7},"Check"]
[{"$f":"AccountInfo!$A405","v":403},{"$f":"IF(AccountInfo!$B405=\"\",\"\",AccountInfo!B405)","v":""},{"$nulls":7},"Check"]
[{"$f":"AccountInfo!$A406","v":404},{"$f":"IF(AccountInfo!$B406=\"\",\"\",AccountInfo!B406)","v":""},{"$nulls":7},"Check"]
[{"$f":"AccountInfo!$A407","v":405},{"$f":"IF(AccountInfo!$B407=\"\",\"\",AccountInfo!B407)","v":""},{"$nulls":7},"Check"]
[{"$f":"AccountInfo!$A408","v":406},{"$f":"IF(AccountInfo!$B408=\"\",\"\",AccountInfo!B408)","v":""},{"$nulls":7},"Check"]
[{"$f":"AccountInfo!$A409","v":407},{"$f":"IF(AccountInfo!$B409=\"\",\"\",AccountInfo!B409)","v":""},{"$nulls":7},"Check"]
[{"$f":"AccountInfo!$A410","v":408},{"$f":"IF(AccountInfo!$B410=\"\",\"\",AccountInfo!B410)","v":""},{"$nulls":7},"Check"]
[{"$f":"AccountInfo!$A411","v":409},{"$f":"IF(AccountInfo!$B411=\"\",\"\",AccountInfo!B411)","v":""},{"$nulls":7},"Check"]
[{"$f":"AccountInfo!$A412","v":410},{"$f":"IF(AccountInfo!$B412=\"\",\"\",AccountInfo!B412)","v":""},{"$nulls":7},"Check"]
[{"$f":"AccountInfo!$A413","v":411},{"$f":"IF(AccountInfo!$B413=\"\",\"\",AccountInfo!B413)","v":""},{"$nulls":7},"Check"]
[{"$f":"AccountInfo!$A414","v":412},{"$f":"IF(AccountInfo!$B414=\"\",\"\",AccountInfo!B414)","v":""},{"$nulls":7},"Check"]
[{"$f":"AccountInfo!$A415","v":413},{"$f":"IF(AccountInfo!$B415=\"\",\"\",AccountInfo!B415)","v":""},{"$nulls":7},"Check"]
[{"$f":"AccountInfo!$A416","v":414},{"$f":"IF(AccountInfo!$B416=\"\",\"\",AccountInfo!B416)","v":""},{"$nulls":7},"Check"]
[{"$f":"AccountInfo!$A417","v":415},{"$f":"IF(AccountInfo!$B417=\"\",\"\",AccountInfo!B417)","v":""},{"$nulls":7},"Check"]
[{"$f":"AccountInfo!$A418","v":416},{"$f":"IF(AccountInfo!$B418=\"\",\"\",AccountInfo!B418)","v":""},{"$nulls":7},"Check"]
[{"$f":"AccountInfo!$A419","v":417},{"$f":"IF(AccountInfo!$B419=\"\",\"\",AccountInfo!B419)","v":""},{"$nulls":7},"Check"]
[{"$f":"AccountInfo!$A420","v":418},{"$f":"IF(AccountInfo!$B420=\"\",\"\",AccountInfo!B420)","v":""},{"$nulls":7},"Check"]
[{"$f":"AccountInfo!$A421","v":419},{"$f":"IF(AccountInfo!$B421=\"\",\"\",AccountInfo!B421)","v":""},{"$nulls":7},"Check"]
[{"$f":"AccountInfo!$A422","v":420},{"$f":"IF(AccountInfo!$B422=\"\",\"\",AccountInfo!B422)","v":""},{"$nulls":7},"Check"]
[{"$f":"AccountInfo!$A423","v":421},{"$f":"IF(AccountInfo!$B423=\"\",\"\",AccountInfo!B423)","v":""},{"$nulls":7},"Check"]
[{"$f":"AccountInfo!$A424","v":422},{"$f":"IF(AccountInfo!$B424=\"\",\"\",AccountInfo!B424)","v":""},{"$nulls":7},"Check"]
[{"$f":"AccountInfo!$A425","v":423},{"$f":"IF(AccountInfo!$B425=\"\",\"\",AccountInfo!B425)","v":""},{"$nulls":7},"Check"]
[{"$f":"AccountInfo!$A426","v":424},{"$f":"IF(AccountInfo!$B426=\"\",\"\",AccountInfo!B426)","v":""},{"$nulls":7},"Check"]
[{"$f":"AccountInfo!$A427","v":425},{"$f":"IF(AccountInfo!$B427=\"\",\"\",AccountInfo!B427)","v":""},{"$nulls":7},"Check"]
[{"$f":"AccountInfo!$A428","v":426},{"$f":"IF(AccountInfo!$B428=\"\",\"\",AccountInfo!B428)","v":""},{"$nulls":7},"Check"]
[{"$f":"AccountInfo!$A429","v":427},{"$f":"IF(AccountInfo!$B429=\"\",\"\",AccountInfo!B429)","v":""},{"$nulls":7},"Check"]
[{"$f":"AccountInfo!$A430","v":428},{"$f":"IF(AccountInfo!$B430=\"\",\"\",AccountInfo!B430)","v":""},{"$nulls":7},"Check"]
[{"$f":"AccountInfo!$A431","v":429},{"$f":"IF(AccountInfo!$B431=\"\",\"\",AccountInfo!B431)","v":""},{"$nulls":7},"Check"]
[{"$f":"AccountInfo!$A432","v":430},{"$f":"IF(AccountInfo!$B432=\"\",\"\",AccountInfo!B432)","v":""},{"$nulls":7},"Check"]
[{"$f":"AccountInfo!$A433","v":431},{"$f":"IF(AccountInfo!$B433=\"\",\"\",AccountInfo!B433)","v":""},{"$nulls":7},"Check"]
[{"$f":"AccountInfo!$A434","v":432},{"$f":"IF(AccountInfo!$B434=\"\",\"\",AccountInfo!B434)","v":""},{"$nulls":7},"Check"]
[{"$f":"AccountInfo!$A435","v":433},{"$f":"IF(AccountInfo!$B435=\"\",\"\",AccountInfo!B435)","v":""},{"$nulls":7},"Check"]
[{"$f":"AccountInfo!$A436","v":434},{"$f":"IF(AccountInfo!$B436=\"\",\"\",AccountInfo!B436)","v":""},{"$nulls":7},"Check"]
[{"$f":"AccountInfo!$A437","v":435},{"$f":"IF(AccountInfo!$B437=\"\",\"\",AccountInfo!B437)","v":""},{"$nulls":7},"Check"]
[{"$f":"AccountInfo!$A438","v":436},{"$f":"IF(AccountInfo!$B438=\"\",\"\",AccountInfo!B438)","v":""},{"$nulls":7},"Check"]
[{"$f":"AccountInfo!$A439","v":437},{"$f":"IF(AccountInfo!$B439=\"\",\"\",AccountInfo!B439)","v":""},{"$nulls":7},"Check"]
[{"$f":"AccountInfo!$A440","v":438},{"$f":"IF(AccountInfo!$B440=\"\",\"\",AccountInfo!B440)","v":""},{"$nulls":7},"Check"]
[{"$f":"AccountInfo!$A441","v":439},{"$f":"IF(AccountInfo!$B441=\"\",\"\",AccountInfo!B441)","v":""},{"$nulls":7},"Check"]
[{"$f":"AccountInfo!$A442","v":440},{"$f":"IF(AccountInfo!$B442=\"\",\"\",AccountInfo!B442)","v":""},{"$nulls":7},"Check"]
[{"$f":"AccountInfo!$A443","v":441},{"$f":"IF(AccountInfo!$B443=\"\",\"\",AccountInfo!B443)","v":""},{"$nulls":7},"Check"]
[{"$f":"AccountInfo!$A444","v":442},{"$f":"IF(AccountInfo!$B444=\"\",\"\",AccountInfo!B444)","v":""},{"$nulls":7},"Check"]
[{"$f":"AccountInfo!$A445","v":443},{"$f":"IF(AccountInfo!$B445=\"\",\"\",AccountInfo!B445)","v":""},{"$nulls":7},"Check"]
[{"$f":"AccountInfo!$A446","v":444},{"$f":"IF(AccountInfo!$B446=\"\",\"\",AccountInfo!B446)","v":""},{"$nulls":7},"Check"]
[{"$f":"AccountInfo!$A447","v":445},{"$f":"IF(AccountInfo!$B447=\"\",\"\",AccountInfo!B447)","v":""},{"$nulls":7},"Check"]
[{"$f":"AccountInfo!$A448","v":446},{"$f":"IF(AccountInfo!$B448=\"\",\"\",AccountInfo!B448)","v":""},{"$nulls":7},"Check"]
[{"$f":"AccountInfo!$A449","v":447},{"$f":"IF(AccountInfo!$B449=\"\",\"\",AccountInfo!B449)","v":""},{"$nulls":7},"Check"]
[{"$f":"AccountInfo!$A450","v":448},{"$f":"IF(AccountInfo!$B450=\"\",\"\",AccountInfo!B450)","v":""},{"$nulls":7},"Check"]
[{"$f":"AccountInfo!$A451","v":449},{"$f":"IF(AccountInfo!$B451=\"\",\"\",AccountInfo!B451)","v":""},{"$nulls":7},"Check"]
[{"$f":"AccountInfo!$A452","v":450},{"$f":"IF(AccountInfo!$B452=\"\",\"\",AccountInfo!B452)","v":""},{"$nulls":7},{"$f":"IF(AND(D452<=E452, E452<=F452, F452<=G452, G452<=IF(H452=\"\", 1000000000000, H452)), \"Check\", \"Error\")","v":"Check"}]
[{"$f":"AccountInfo!$A453","v":451},{"$f":"IF(AccountInfo!$B453=\"\",\"\",AccountInfo!B453)","v":""},{"$nulls":7},"Check"]
[{"$f":"AccountInfo!$A454","v":452},{"$f":"IF(AccountInfo!$B454=\"\",\"\",AccountInfo!B454)","v":""},{"$nulls":7},"Check"]
[{"$f":"AccountInfo!$A455","v":453},{"$f":"IF(AccountInfo!$B455=\"\",\"\",AccountInfo!B455)","v":""},{"$nulls":7},"Check"]
[{"$f":"AccountInfo!$A456","v":454},{"$f":"IF(AccountInfo!$B456=\"\",\"\",AccountInfo!B456)","v":""},{"$nulls":7},"Check"]
[{"$f":"AccountInfo!$A457","v":455},{"$f":"IF(AccountInfo!$B457=\"\",\"\",AccountInfo!B457)","v":""},{"$nulls":7},"Check"]
[{"$f":"AccountInfo!$A458","v":456},{"$f":"IF(AccountInfo!$B458=\"\",\"\",AccountInfo!B458)","v":""},{"$nulls":7},"Check"]
[{"$f":"AccountInfo!$A459","v":457},{"$f":"IF(AccountInfo!$B459=\"\",\"\",AccountInfo!B459)","v":""},{"$nulls":7},"Check"]
[{"$f":"AccountInfo!$A460","v":458},{"$f":"IF(AccountInfo!$B460=\"\",\"\",AccountInfo!B460)","v":""},{"$nulls":7},"Check"]
[{"$f":"AccountInfo!$A461","v":459},{"$f":"IF(AccountInfo!$B461=\"\",\"\",AccountInfo!B461)","v":""},{"$nulls":7},"Check"]
[{"$f":"AccountInfo!$A462","v":460},{"$f":"IF(AccountInfo!$B462=\"\",\"\",AccountInfo!B462)","v":""},{"$nulls":7},"Check"]
[{"$f":"AccountInfo!$A463","v":461},{"$f":"IF(AccountInfo!$B463=\"\",\"\",AccountInfo!B463)","v":""},{"$nulls":7},"Check"]
[{"$f":"AccountInfo!$A464","v":462},{"$f":"IF(AccountInfo!$B464=\"\",\"\",AccountInfo!B464)","v":""},{"$nulls":7},"Check"]
[{"$f":"AccountInfo!$A465","v":463},{"$f":"IF(AccountInfo!$B465=\"\",\"\",AccountInfo!B465)","v":""},{"$nulls":7},"Check"]
[{"$f":"AccountInfo!$A466","v":464},{"$f":"IF(AccountInfo!$B466=\"\",\"\",AccountInfo!B466)","v":""},{"$nulls":7},"Check"]
[{"$f":"AccountInfo!$A467","v":465},{"$f":"IF(AccountInfo!$B467=\"\",\"\",AccountInfo!B467)","v":""},{"$nulls":7},"Check"]
[{"$f":"AccountInfo!$A468","v":466},{"$f":"IF(AccountInfo!$B468=\"\",\"\",AccountInfo!B468)","v":""},{"$nulls":7},"Check"]
[{"$f":"AccountInfo!$A469","v":467},{"$f":"IF(AccountInfo!$B469=\"\",\"\",AccountInfo!B469)","v":""},{"$nulls":7},"Check"]
[{"$f":"AccountInfo!$A470","v":468},{"$f":"IF(AccountInfo!$B470=\"\",\"\",AccountInfo!B470)","v":""},{"$nulls":7},"Check"]
[{"$f":"AccountInfo!$A471","v":469},{"$f":"IF(AccountInfo!$B471=\"\",\"\",AccountInfo!B471)","v":""},{"$nulls":7},"Check"]
[{"$f":"AccountInfo!$A472","v":470},{"$f":"IF(AccountInfo!$B472=\"\",\"\",AccountInfo!B472)","v":""},{"$nulls":7},"Check"]
[{"$f":"AccountInfo!$A473","v":471},{"$f":"IF(AccountInfo!$B473=\"\",\"\",AccountInfo!B473)","v":""},{"$nulls":7},"Check"]
[{"$f":"AccountInfo!$A474","v":472},{"$f":"IF(AccountInfo!$B474=\"\",\"\",AccountInfo!B474)","v":""},{"$nulls":7},"Check"]
[{"$f":"AccountInfo!$A475","v":473},{"$f":"IF(AccountInfo!$B475=\"\",\"\",AccountInfo!B475)","v":""},{"$nulls":7},"Check"]
[{"$f":"AccountInfo!$A476","v":474},{"$f":"IF(AccountInfo!$B476=\"\",\"\",AccountInfo!B476)","v":""},{"$nulls":7},"Check"]
[{"$f":"AccountInfo!$A477","v":475},{"$f":"IF(AccountInfo!$B477=\"\",\"\",AccountInfo!B477)","v":""},{"$nulls":7},"Check"]
[{"$f":"AccountInfo!$A478","v":476},{"$f":"IF(AccountInfo!$B478=\"\",\"\",AccountInfo!B478)","v":""},{"$nulls":7},"Check"]
[{"$f":"AccountInfo!$A479","v":477},{"$f":"IF(AccountInfo!$B479=\"\",\"\",AccountInfo!B479)","v":""},{"$nulls":7},"Check"]
[{"$f":"AccountInfo!$A480","v":478},{"$f":"IF(AccountInfo!$B480=\"\",\"\",AccountInfo!B480)","v":""},{"$nulls":7},"Check"]
[{"$f":"AccountInfo!$A481","v":479},{"$f":"IF(AccountInfo!$B481=\"\",\"\",AccountInfo!B481)","v":""},{"$nulls":7},"Check"]
[{"$f":"AccountInfo!$A482","v":480},{"$f":"IF(AccountInfo!$B482=\"\",\"\",AccountInfo!B482)","v":""},{"$nulls":7},"Check"]
[{"$f":"AccountInfo!$A483","v":481},{"$f":"IF(AccountInfo!$B483=\"\",\"\",AccountInfo!B483)","v":""},{"$nulls":7},"Check"]
[{"$f":"AccountInfo!$A484","v":482},{"$f":"IF(AccountInfo!$B484=\"\",\"\",AccountInfo!B484)","v":""},{"$nulls":7},"Check"]
[{"$f":"AccountInfo!$A485","v":483},{"$f":"IF(AccountInfo!$B485=\"\",\"\",AccountInfo!B485)","v":""},{"$nulls":7},"Check"]
[{"$f":"AccountInfo!$A486","v":484},{"$f":"IF(AccountInfo!$B486=\"\",\"\",AccountInfo!B486)","v":""},{"$nulls":7},"Check"]
[{"$f":"AccountInfo!$A487","v":485},{"$f":"IF(AccountInfo!$B487=\"\",\"\",AccountInfo!B487)","v":""},{"$nulls":7},"Check"]
[{"$f":"AccountInfo!$A488","v":486},{"$f":"IF(AccountInfo!$B488=\"\",\"\",AccountInfo!B488)","v":""},{"$nulls":7},"Check"]
[{"$f":"AccountInfo!$A489","v":487},{"$f":"IF(AccountInfo!$B489=\"\",\"\",AccountInfo!B489)","v":""},{"$nulls":7},"Check"]
[{"$f":"AccountInfo!$A490","v":488},{"$f":"IF(AccountInfo!$B490=\"\",\"\",AccountInfo!B490)","v":""},{"$nulls":7},"Check"]
[{"$f":"AccountInfo!$A491","v":489},{"$f":"IF(AccountInfo!$B491=\"\",\"\",AccountInfo!B491)","v":""},{"$nulls":7},"Check"]
[{"$f":"AccountInfo!$A492","v":490},{"$f":"IF(AccountInfo!$B492=\"\",\"\",AccountInfo!B492)","v":""},{"$nulls":7},"Check"]
[{"$f":"AccountInfo!$A493","v":491},{"$f":"IF(AccountInfo!$B493=\"\",\"\",AccountInfo!B493)","v":""},{"$nulls":7},"Check"]
[{"$f":"AccountInfo!$A494","v":492},{"$f":"IF(AccountInfo!$B494=\"\",\"\",AccountInfo!B494)","v":""},{"$nulls":7},"Check"]
[{"$f":"AccountInfo!$A495","v":493},{"$f":"IF(AccountInfo!$B495=\"\",\"\",AccountInfo!B495)","v":""},{"$nulls":7},"Check"]
[{"$f":"AccountInfo!$A496","v":494},{"$f":"IF(AccountInfo!$B496=\"\",\"\",AccountInfo!B496)","v":""},{"$nulls":7},"Check"]
[{"$f":"AccountInfo!$A497","v":495},{"$f":"IF(AccountInfo!$B497=\"\",\"\",AccountInfo!B497)","v":""},{"$nulls":7},"Check"]
[{"$f":"AccountInfo!$A498","v":496},{"$f":"IF(AccountInfo!$B498=\"\",\"\",AccountInfo!B498)","v":""},{"$nulls":7},"Check"]
[{"$f":"AccountInfo!$A499","v":497},{"$f":"IF(AccountInfo!$B499=\"\",\"\",AccountInfo!B499)","v":""},{"$nulls":7},"Check"]
[{"$f":"AccountInfo!$A500","v":498},{"$f":"IF(AccountInfo!$B500=\"\",\"\",AccountInfo!B500)","v":""},{"$nulls":7},"Check"]
[{"$f":"AccountInfo!$A501","v":499},{"$f":"IF(AccountInfo!$B501=\"\",\"\",AccountInfo!B501)","v":""},{"$nulls":7},"Check"]
[{"$f":"AccountInfo!$A502","v":500},{"$f":"IF(AccountInfo!$B502=\"\",\"\",AccountInfo!B502)","v":""},{"$nulls":7},"Check"]
[{"$f":"AccountInfo!$A503","v":501},{"$f":"IF(AccountInfo!$B503=\"\",\"\",AccountInfo!B503)","v":""},{"$nulls":7},"Check"]
[{"$f":"AccountInfo!$A504","v":502},{"$f":"IF(AccountInfo!$B504=\"\",\"\",AccountInfo!B504)","v":""},{"$nulls":7},"Check"]
[{"$f":"AccountInfo!$A505","v":503},{"$f":"IF(AccountInfo!$B505=\"\",\"\",AccountInfo!B505)","v":""},{"$nulls":7},"Check"]
[{"$f":"AccountInfo!$A506","v":504},{"$f":"IF(AccountInfo!$B506=\"\",\"\",AccountInfo!B506)","v":""},{"$nulls":7},"Check"]
[{"$f":"AccountInfo!$A507","v":505},{"$f":"IF(AccountInfo!$B507=\"\",\"\",AccountInfo!B507)","v":""},{"$nulls":7},"Check"]
[{"$f":"AccountInfo!$A508","v":506},{"$f":"IF(AccountInfo!$B508=\"\",\"\",AccountInfo!B508)","v":""},{"$nulls":7},"Check"]
[{"$f":"AccountInfo!$A509","v":507},{"$f":"IF(AccountInfo!$B509=\"\",\"\",AccountInfo!B509)","v":""},{"$nulls":7},"Check"]
[{"$f":"AccountInfo!$A510","v":508},{"$f":"IF(AccountInfo!$B510=\"\",\"\",AccountInfo!B510)","v":""},{"$nulls":7},"Check"]
[{"$f":"AccountInfo!$A511","v":509},{"$f":"IF(AccountInfo!$B511=\"\",\"\",AccountInfo!B511)","v":""},{"$nulls":7},"Check"]
[{"$f":"AccountInfo!$A512","v":510},{"$f":"IF(AccountInfo!$B512=\"\",\"\",AccountInfo!B512)","v":""},{"$nulls":7},"Check"]
[{"$f":"AccountInfo!$A513","v":511},{"$f":"IF(AccountInfo!$B513=\"\",\"\",AccountInfo!B513)","v":""},{"$nulls":7},"Check"]
[{"$f":"AccountInfo!$A514","v":512},{"$f":"IF(AccountInfo!$B514=\"\",\"\",AccountInfo!B514)","v":""},{"$nulls":7},"Check"]
[{"$f":"AccountInfo!$A515","v":513},{"$f":"IF(AccountInfo!$B515=\"\",\"\",AccountInfo!B515)","v":""},{"$nulls":7},"Check"]
[{"$f":"AccountInfo!$A516","v":514},{"$f":"IF(AccountInfo!$B516=\"\",\"\",AccountInfo!B516)","v":""},{"$nulls":7},{"$f":"IF(AND(D516<=E516, E516<=F516, F516<=G516, G516<=IF(H516=\"\", 1000000000000, H516)), \"Check\", \"Error\")","v":"Check"}]
[{"$f":"AccountInfo!$A517","v":515},{"$f":"IF(AccountInfo!$B517=\"\",\"\",AccountInfo!B517)","v":""},{"$nulls":7},"Check"]
[{"$f":"AccountInfo!$A518","v":516},{"$f":"IF(AccountInfo!$B518=\"\",\"\",AccountInfo!B518)","v":""},{"$nulls":7},"Check"]
[{"$f":"AccountInfo!$A519","v":517},{"$f":"IF(AccountInfo!$B519=\"\",\"\",AccountInfo!B519)","v":""},{"$nulls":7},"Check"]
[{"$f":"AccountInfo!$A520","v":518},{"$f":"IF(AccountInfo!$B520=\"\",\"\",AccountInfo!B520)","v":""},{"$nulls":7},"Check"]
[{"$f":"AccountInfo!$A521","v":519},{"$f":"IF(AccountInfo!$B521=\"\",\"\",AccountInfo!B521)","v":""},{"$nulls":7},"Check"]
[{"$f":"AccountInfo!$A522","v":520},{"$f":"IF(AccountInfo!$B522=\"\",\"\",AccountInfo!B522)","v":""},{"$nulls":7},"Check"]
[{"$f":"AccountInfo!$A523","v":521},{"$f":"IF(AccountInfo!$B523=\"\",\"\",AccountInfo!B523)","v":""},{"$nulls":7},"Check"]
[{"$f":"AccountInfo!$A524","v":522},{"$f":"IF(AccountInfo!$B524=\"\",\"\",AccountInfo!B524)","v":""},{"$nulls":7},"Check"]
[{"$f":"AccountInfo!$A525","v":523},{"$f":"IF(AccountInfo!$B525=\"\",\"\",AccountInfo!B525)","v":""},{"$nulls":7},"Check"]
[{"$f":"AccountInfo!$A526","v":524},{"$f":"IF(AccountInfo!$B526=\"\",\"\",AccountInfo!B526)","v":""},{"$nulls":7},"Check"]
[{"$f":"AccountInfo!$A527","v":525},{"$f":"IF(AccountInfo!$B527=\"\",\"\",AccountInfo!B527)","v":""},{"$nulls":7},"Check"]
[{"$f":"AccountInfo!$A528","v":526},{"$f":"IF(AccountInfo!$B528=\"\",\"\",AccountInfo!B528)","v":""},{"$nulls":7},"Check"]
[{"$f":"AccountInfo!$A529","v":527},{"$f":"IF(AccountInfo!$B529=\"\",\"\",AccountInfo!B529)","v":""},{"$nulls":7},"Check"]
[{"$f":"AccountInfo!$A530","v":528},{"$f":"IF(AccountInfo!$B530=\"\",\"\",AccountInfo!B530)","v":""},{"$nulls":7},"Check"]
[{"$f":"AccountInfo!$A531","v":529},{"$f":"IF(AccountInfo!$B531=\"\",\"\",AccountInfo!B531)","v":""},{"$nulls":7},"Check"]
[{"$f":"AccountInfo!$A532","v":530},{"$f":"IF(AccountInfo!$B532=\"\",\"\",AccountInfo!B532)","v":""},{"$nulls":7},"Check"]
[{"$f":"AccountInfo!$A533","v":531},{"$f":"IF(AccountInfo!$B533=\"\",\"\",AccountInfo!B533)","v":""},{"$nulls":7},"Check"]
[{"$f":"AccountInfo!$A534","v":532},{"$f":"IF(AccountInfo!$B534=\"\",\"\",AccountInfo!B534)","v":""},{"$nulls":7},"Check"]
[{"$f":"AccountInfo!$A535","v":533},{"$f":"IF(AccountInfo!$B535=\"\",\"\",AccountInfo!B535)","v":""},{"$nulls":7},"Check"]
[{"$f":"AccountInfo!$A536","v":534},{"$f":"IF(AccountInfo!$B536=\"\",\"\",AccountInfo!B536)","v":""},{"$nulls":7},"Check"]
[{"$f":"AccountInfo!$A537","v":535},{"$f":"IF(AccountInfo!$B537=\"\",\"\",AccountInfo!B537)","v":""},{"$nulls":7},"Check"]
[{"$f":"AccountInfo!$A538","v":536},{"$f":"IF(AccountInfo!$B538=\"\",\"\",AccountInfo!B538)","v":""},{"$nulls":7},"Check"]
[{"$f":"AccountInfo!$A539","v":537},{"$f":"IF(AccountInfo!$B539=\"\",\"\",AccountInfo!B539)","v":""},{"$nulls":7},"Check"]
[{"$f":"AccountInfo!$A540","v":538},{"$f":"IF(AccountInfo!$B540=\"\",\"\",AccountInfo!B540)","v":""},{"$nulls":7},"Check"]
[{"$f":"AccountInfo!$A541","v":539},{"$f":"IF(AccountInfo!$B541=\"\",\"\",AccountInfo!B541)","v":""},{"$nulls":7},"Check"]
[{"$f":"AccountInfo!$A542","v":540},{"$f":"IF(AccountInfo!$B542=\"\",\"\",AccountInfo!B542)","v":""},{"$nulls":7},"Check"]
[{"$f":"AccountInfo!$A543","v":541},{"$f":"IF(AccountInfo!$B543=\"\",\"\",AccountInfo!B543)","v":""},{"$nulls":7},"Check"]
[{"$f":"AccountInfo!$A544","v":542},{"$f":"IF(AccountInfo!$B544=\"\",\"\",AccountInfo!B544)","v":""},{"$nulls":7},"Check"]
[{"$f":"AccountInfo!$A545","v":543},{"$f":"IF(AccountInfo!$B545=\"\",\"\",AccountInfo!B545)","v":""},{"$nulls":7},"Check"]
[{"$f":"AccountInfo!$A546","v":544},{"$f":"IF(AccountInfo!$B546=\"\",\"\",AccountInfo!B546)","v":""},{"$nulls":7},"Check"]
[{"$f":"AccountInfo!$A547","v":545},{"$f":"IF(AccountInfo!$B547=\"\",\"\",AccountInfo!B547)","v":""},{"$nulls":7},"Check"]
[{"$f":"AccountInfo!$A548","v":546},{"$f":"IF(AccountInfo!$B548=\"\",\"\",AccountInfo!B548)","v":""},{"$nulls":7},"Check"]
[{"$f":"AccountInfo!$A549","v":547},{"$f":"IF(AccountInfo!$B549=\"\",\"\",AccountInfo!B549)","v":""},{"$nulls":7},"Check"]
[{"$f":"AccountInfo!$A550","v":548},{"$f":"IF(AccountInfo!$B550=\"\",\"\",AccountInfo!B550)","v":""},{"$nulls":7},"Check"]
[{"$f":"AccountInfo!$A551","v":549},{"$f":"IF(AccountInfo!$B551=\"\",\"\",AccountInfo!B551)","v":""},{"$nulls":7},"Check"]
[{"$f":"AccountInfo!$A552","v":550},{"$f":"IF(AccountInfo!$B552=\"\",\"\",AccountInfo!B552)","v":""},{"$nulls":7},"Check"]
[{"$f":"AccountInfo!$A553","v":551},{"$f":"IF(AccountInfo!$B553=\"\",\"\",AccountInfo!B553)","v":""},{"$nulls":7},"Check"]
[{"$f":"AccountInfo!$A554","v":552},{"$f":"IF(AccountInfo!$B554=\"\",\"\",AccountInfo!B554)","v":""},{"$nulls":7},"Check"]
[{"$f":"AccountInfo!$A555","v":553},{"$f":"IF(AccountInfo!$B555=\"\",\"\",AccountInfo!B555)","v":""},{"$nulls":7},"Check"]
[{"$f":"AccountInfo!$A556","v":554},{"$f":"IF(AccountInfo!$B556=\"\",\"\",AccountInfo!B556)","v":""},{"$nulls":7},"Check"]
[{"$f":"AccountInfo!$A557","v":555},{"$f":"IF(AccountInfo!$B557=\"\",\"\",AccountInfo!B557)","v":""},{"$nulls":7},"Check"]
[{"$f":"AccountInfo!$A558","v":556},{"$f":"IF(AccountInfo!$B558=\"\",\"\",AccountInfo!B558)","v":""},{"$nulls":7},"Check"]
[{"$f":"AccountInfo!$A559","v":557},{"$f":"IF(AccountInfo!$B559=\"\",\"\",AccountInfo!B559)","v":""},{"$nulls":7},"Check"]
[{"$f":"AccountInfo!$A560","v":558},{"$f":"IF(AccountInfo!$B560=\"\",\"\",AccountInfo!B560)","v":""},{"$nulls":7},"Check"]
[{"$f":"AccountInfo!$A561","v":559},{"$f":"IF(AccountInfo!$B561=\"\",\"\",AccountInfo!B561)","v":""},{"$nulls":7},"Check"]
[{"$f":"AccountInfo!$A562","v":560},{"$f":"IF(AccountInfo!$B562=\"\",\"\",AccountInfo!B562)","v":""},{"$nulls":7},"Check"]
[{"$f":"AccountInfo!$A563","v":561},{"$f":"IF(AccountInfo!$B563=\"\",\"\",AccountInfo!B563)","v":""},{"$nulls":7},"Check"]
[{"$f":"AccountInfo!$A564","v":562},{"$f":"IF(AccountInfo!$B564=\"\",\"\",AccountInfo!B564)","v":""},{"$nulls":7},"Check"]
[{"$f":"AccountInfo!$A565","v":563},{"$f":"IF(AccountInfo!$B565=\"\",\"\",AccountInfo!B565)","v":""},{"$nulls":7},"Check"]
[{"$f":"AccountInfo!$A566","v":564},{"$f":"IF(AccountInfo!$B566=\"\",\"\",AccountInfo!B566)","v":""},{"$nulls":7},"Check"]
[{"$f":"AccountInfo!$A567","v":565},{"$f":"IF(AccountInfo!$B567=\"\",\"\",AccountInfo!B567)","v":""},{"$nulls":7},"Check"]
[{"$f":"AccountInfo!$A568","v":566},{"$f":"IF(AccountInfo!$B568=\"\",\"\",AccountInfo!B568)","v":""},{"$nulls":7},"Check"]
[{"$f":"AccountInfo!$A569","v":567},{"$f":"IF(AccountInfo!$B569=\"\",\"\",AccountInfo!B569)","v":""},{"$nulls":7},"Check"]
[{"$f":"AccountInfo!$A570","v":568},{"$f":"IF(AccountInfo!$B570=\"\",\"\",AccountInfo!B570)","v":""},{"$nulls":7},"Check"]
[{"$f":"AccountInfo!$A571","v":569},{"$f":"IF(AccountInfo!$B571=\"\",\"\",AccountInfo!B571)","v":""},{"$nulls":7},"Check"]
[{"$f":"AccountInfo!$A572","v":570},{"$f":"IF(AccountInfo!$B572=\"\",\"\",AccountInfo!B572)","v":""},{"$nulls":7},"Check"]
[{"$f":"AccountInfo!$A573","v":571},{"$f":"IF(AccountInfo!$B573=\"\",\"\",AccountInfo!B573)","v":""},{"$nulls":7},"Check"]
[{"$f":"AccountInfo!$A574","v":572},{"$f":"IF(AccountInfo!$B574=\"\",\"\",AccountInfo!B574)","v":""},{"$nulls":7},"Check"]
[{"$f":"AccountInfo!$A575","v":573},{"$f":"IF(AccountInfo!$B575=\"\",\"\",AccountInfo!B575)","v":""},{"$nulls":7},"Check"]
[{"$f":"AccountInfo!$A576","v":574},{"$f":"IF(AccountInfo!$B576=\"\",\"\",AccountInfo!B576)","v":""},{"$nulls":7},"Check"]
[{"$f":"AccountInfo!$A577","v":575},{"$f":"IF(AccountInfo!$B577=\"\",\"\",AccountInfo!B577)","v":""},{"$nulls":7},"Check"]
[{"$f":"AccountInfo!$A578","v":576},{"$f":"IF(AccountInfo!$B578=\"\",\"\",AccountInfo!B578)","v":""},{"$nulls":7},"Check"]
[{"$f":"AccountInfo!$A579","v":577},{"$f":"IF(AccountInfo!$B579=\"\",\"\",AccountInfo!B579)","v":""},{"$nulls":7},"Check"]
[{"$f":"AccountInfo!$A580","v":578},{"$f":"IF(AccountInfo!$B580=\"\",\"\",AccountInfo!B580)","v":""},{"$nulls":7},{"$f":"IF(AND(D580<=E580, E580<=F580, F580<=G580, G580<=IF(H580=\"\", 1000000000000, H580)), \"Check\", \"Error\")","v":"Check"}]
[{"$f":"AccountInfo!$A581","v":579},{"$f":"IF(AccountInfo!$B581=\"\",\"\",AccountInfo!B581)","v":""},{"$nulls":7},"Check"]
[{"$f":"AccountInfo!$A582","v":580},{"$f":"IF(AccountInfo!$B582=\"\",\"\",AccountInfo!B582)","v":""},{"$nulls":7},"Check"]
[{"$f":"AccountInfo!$A583","v":581},{"$f":"IF(AccountInfo!$B583=\"\",\"\",AccountInfo!B583)","v":""},{"$nulls":7},"Check"]
[{"$f":"AccountInfo!$A584","v":582},{"$f":"IF(AccountInfo!$B584=\"\",\"\",AccountInfo!B584)","v":""},{"$nulls":7},"Check"]
[{"$f":"AccountInfo!$A585","v":583},{"$f":"IF(AccountInfo!$B585=\"\",\"\",AccountInfo!B585)","v":""},{"$nulls":7},"Check"]
[{"$f":"AccountInfo!$A586","v":584},{"$f":"IF(AccountInfo!$B586=\"\",\"\",AccountInfo!B586)","v":""},{"$nulls":7},"Check"]
[{"$f":"AccountInfo!$A587","v":585},{"$f":"IF(AccountInfo!$B587=\"\",\"\",AccountInfo!B587)","v":""},{"$nulls":7},"Check"]
[{"$f":"AccountInfo!$A588","v":586},{"$f":"IF(AccountInfo!$B588=\"\",\"\",AccountInfo!B588)","v":""},{"$nulls":7},"Check"]
[{"$f":"AccountInfo!$A589","v":587},{"$f":"IF(AccountInfo!$B589=\"\",\"\",AccountInfo!B589)","v":""},{"$nulls":7},"Check"]
[{"$f":"AccountInfo!$A590","v":588},{"$f":"IF(AccountInfo!$B590=\"\",\"\",AccountInfo!B590)","v":""},{"$nulls":7},"Check"]
[{"$f":"AccountInfo!$A591","v":589},{"$f":"IF(AccountInfo!$B591=\"\",\"\",AccountInfo!B591)","v":""},{"$nulls":7},"Check"]
[{"$f":"AccountInfo!$A592","v":590},{"$f":"IF(AccountInfo!$B592=\"\",\"\",AccountInfo!B592)","v":""},{"$nulls":7},"Check"]
[{"$f":"AccountInfo!$A593","v":591},{"$f":"IF(AccountInfo!$B593=\"\",\"\",AccountInfo!B593)","v":""},{"$nulls":7},"Check"]
[{"$f":"AccountInfo!$A594","v":592},{"$f":"IF(AccountInfo!$B594=\"\",\"\",AccountInfo!B594)","v":""},{"$nulls":7},"Check"]
[{"$f":"AccountInfo!$A595","v":593},{"$f":"IF(AccountInfo!$B595=\"\",\"\",AccountInfo!B595)","v":""},{"$nulls":7},"Check"]
[{"$f":"AccountInfo!$A596","v":594},{"$f":"IF(AccountInfo!$B596=\"\",\"\",AccountInfo!B596)","v":""},{"$nulls":7},"Check"]
[{"$f":"AccountInfo!$A597","v":595},{"$f":"IF(AccountInfo!$B597=\"\",\"\",AccountInfo!B597)","v":""},{"$nulls":7},"Check"]
[{"$f":"AccountInfo!$A598","v":596},{"$f":"IF(AccountInfo!$B598=\"\",\"\",AccountInfo!B598)","v":""},{"$nulls":7},"Check"]
[{"$f":"AccountInfo!$A599","v":597},{"$f":"IF(AccountInfo!$B599=\"\",\"\",AccountInfo!B599)","v":""},{"$nulls":7},"Check"]
[{"$f":"AccountInfo!$A600","v":598},{"$f":"IF(AccountInfo!$B600=\"\",\"\",AccountInfo!B600)","v":""},{"$nulls":7},"Check"]
[{"$f":"AccountInfo!$A601","v":599},{"$f":"IF(AccountInfo!$B601=\"\",\"\",AccountInfo!B601)","v":""},{"$nulls":7},"Check"]
[{"$f":"AccountInfo!$A602","v":600},{"$f":"IF(AccountInfo!$B602=\"\",\"\",AccountInfo!B602)","v":""},{"$nulls":7},"Check"]
[{"$f":"AccountInfo!$A603","v":601},{"$f":"IF(AccountInfo!$B603=\"\",\"\",AccountInfo!B603)","v":""},{"$nulls":7},"Check"]
[{"$f":"AccountInfo!$A604","v":602},{"$f":"IF(AccountInfo!$B604=\"\",\"\",AccountInfo!B604)","v":""},{"$nulls":7},"Check"]
[{"$f":"AccountInfo!$A605","v":603},{"$f":"IF(AccountInfo!$B605=\"\",\"\",AccountInfo!B605)","v":""},{"$nulls":7},"Check"]
[{"$f":"AccountInfo!$A606","v":604},{"$f":"IF(AccountInfo!$B606=\"\",\"\",AccountInfo!B606)","v":""},{"$nulls":7},"Check"]
[{"$f":"AccountInfo!$A607","v":605},{"$f":"IF(AccountInfo!$B607=\"\",\"\",AccountInfo!B607)","v":""},{"$nulls":7},"Check"]
[{"$f":"AccountInfo!$A608","v":606},{"$f":"IF(AccountInfo!$B608=\"\",\"\",AccountInfo!B608)","v":""},{"$nulls":7},"Check"]
[{"$f":"AccountInfo!$A609","v":607},{"$f":"IF(AccountInfo!$B609=\"\",\"\",AccountInfo!B609)","v":""},{"$nulls":7},"Check"]
[{"$f":"AccountInfo!$A610","v":608},{"$f":"IF(AccountInfo!$B610=\"\",\"\",AccountInfo!B610)","v":""},{"$nulls":7},"Check"]
[{"$f":"AccountInfo!$A611","v":609},{"$f":"IF(AccountInfo!$B611=\"\",\"\",AccountInfo!B611)","v":""},{"$nulls":7},"Check"]
[{"$f":"AccountInfo!$A612","v":610},{"$f":"IF(AccountInfo!$B612=\"\",\"\",AccountInfo!B612)","v":""},{"$nulls":7},"Check"]
[{"$f":"AccountInfo!$A613","v":611},{"$f":"IF(AccountInfo!$B613=\"\",\"\",AccountInfo!B613)","v":""},{"$nulls":7},"Check"]
[{"$f":"AccountInfo!$A614","v":612},{"$f":"IF(AccountInfo!$B614=\"\",\"\",AccountInfo!B614)","v":""},{"$nulls":7},"Check"]
[{"$f":"AccountInfo!$A615","v":613},{"$f":"IF(AccountInfo!$B615=\"\",\"\",AccountInfo!B615)","v":""},{"$nulls":7},"Check"]
[{"$f":"AccountInfo!$A616","v":614},{"$f":"IF(AccountInfo!$B616=\"\",\"\",AccountInfo!B616)","v":""},{"$nulls":7},"Check"]
[{"$f":"AccountInfo!$A617","v":615},{"$f":"IF(AccountInfo!$B617=\"\",\"\",AccountInfo!B617)","v":""},{"$nulls":7},"Check"]
[{"$f":"AccountInfo!$A618","v":616},{"$f":"IF(AccountInfo!$B618=\"\",\"\",AccountInfo!B618)","v":""},{"$nulls":7},"Check"]
[{"$f":"AccountInfo!$A619","v":617},{"$f":"IF(AccountInfo!$B619=\"\",\"\",AccountInfo!B619)","v":""},{"$nulls":7},"Check"]
[{"$f":"AccountInfo!$A620","v":618},{"$f":"IF(AccountInfo!$B620=\"\",\"\",AccountInfo!B620)","v":""},{"$nulls":7},"Check"]
[{"$f":"AccountInfo!$A621","v":619},{"$f":"IF(AccountInfo!$B621=\"\",\"\",AccountInfo!B621)","v":""},{"$nulls":7},"Check"]
[{"$f":"AccountInfo!$A622","v":620},{"$f":"IF(AccountInfo!$B622=\"\",\"\",AccountInfo!B622)","v":""},{"$nulls":7},"Check"]
[{"$f":"AccountInfo!$A623","v":621},{"$f":"IF(AccountInfo!$B623=\"\",\"\",AccountInfo!B623)","v":""},{"$nulls":7},"Check"]
[{"$f":"AccountInfo!$A624","v":622},{"$f":"IF(AccountInfo!$B624=\"\",\"\",AccountInfo!B624)","v":""},{"$nulls":7},"Check"]
[{"$f":"AccountInfo!$A625","v":623},{"$f":"IF(AccountInfo!$B625=\"\",\"\",AccountInfo!B625)","v":""},{"$nulls":7},"Check"]
[{"$f":"AccountInfo!$A626","v":624},{"$f":"IF(AccountInfo!$B626=\"\",\"\",AccountInfo!B626)","v":""},{"$nulls":7},"Check"]
[{"$f":"AccountInfo!$A627","v":625},{"$f":"IF(AccountInfo!$B627=\"\",\"\",AccountInfo!B627)","v":""},{"$nulls":7},"Check"]
[{"$f":"AccountInfo!$A628","v":626},{"$f":"IF(AccountInfo!$B628=\"\",\"\",AccountInfo!B628)","v":""},{"$nulls":7},"Check"]
[{"$f":"AccountInfo!$A629","v":627},{"$f":"IF(AccountInfo!$B629=\"\",\"\",AccountInfo!B629)","v":""},{"$nulls":7},"Check"]
[{"$f":"AccountInfo!$A630","v":628},{"$f":"IF(AccountInfo!$B630=\"\",\"\",AccountInfo!B630)","v":""},{"$nulls":7},"Check"]
[{"$f":"AccountInfo!$A631","v":629},{"$f":"IF(AccountInfo!$B631=\"\",\"\",AccountInfo!B631)","v":""},{"$nulls":7},"Check"]
[{"$f":"AccountInfo!$A632","v":630},{"$f":"IF(AccountInfo!$B632=\"\",\"\",AccountInfo!B632)","v":""},{"$nulls":7},"Check"]
[{"$f":"AccountInfo!$A633","v":631},{"$f":"IF(AccountInfo!$B633=\"\",\"\",AccountInfo!B633)","v":""},{"$nulls":7},"Check"]
[{"$f":"AccountInfo!$A634","v":632},{"$f":"IF(AccountInfo!$B634=\"\",\"\",AccountInfo!B634)","v":""},{"$nulls":7},"Check"]
[{"$f":"AccountInfo!$A635","v":633},{"$f":"IF(AccountInfo!$B635=\"\",\"\",AccountInfo!B635)","v":""},{"$nulls":7},"Check"]
[{"$f":"AccountInfo!$A636","v":634},{"$f":"IF(AccountInfo!$B636=\"\",\"\",AccountInfo!B636)","v":""},{"$nulls":7},"Check"]
[{"$f":"AccountInfo!$A637","v":635},{"$f":"IF(AccountInfo!$B637=\"\",\"\",AccountInfo!B637)","v":""},{"$nulls":7},"Check"]
[{"$f":"AccountInfo!$A638","v":636},{"$f":"IF(AccountInfo!$B638=\"\",\"\",AccountInfo!B638)","v":""},{"$nulls":7},"Check"]
[{"$f":"AccountInfo!$A639","v":637},{"$f":"IF(AccountInfo!$B639=\"\",\"\",AccountInfo!B639)","v":""},{"$nulls":7},"Check"]
[{"$f":"AccountInfo!$A640","v":638},{"$f":"IF(AccountInfo!$B640=\"\",\"\",AccountInfo!B640)","v":""},{"$nulls":7},"Check"]
[{"$f":"AccountInfo!$A641","v":639},{"$f":"IF(AccountInfo!$B641=\"\",\"\",AccountInfo!B641)","v":""},{"$nulls":7},"Check"]
[{"$f":"AccountInfo!$A642","v":640},{"$f":"IF(AccountInfo!$B642=\"\",\"\",AccountInfo!B642)","v":""},{"$nulls":7},"Check"]
[{"$f":"AccountInfo!$A643","v":641},{"$f":"IF(AccountInfo!$B643=\"\",\"\",AccountInfo!B643)","v":""},{"$nulls":7},"Check"]
[{"$f":"AccountInfo!$A644","v":642},{"$f":"IF(AccountInfo!$B644=\"\",\"\",AccountInfo!B644)","v":""},{"$nulls":7},{"$f":"IF(AND(D644<=E644, E644<=F644, F644<=G644, G644<=IF(H644=\"\", 1000000000000, H644)), \"Check\", \"Error\")","v":"Check"}]
[{"$f":"AccountInfo!$A645","v":643},{"$f":"IF(AccountInfo!$B645=\"\",\"\",AccountInfo!B645)","v":""},{"$nulls":7},"Check"]
[{"$f":"AccountInfo!$A646","v":644},{"$f":"IF(AccountInfo!$B646=\"\",\"\",AccountInfo!B646)","v":""},{"$nulls":7},"Check"]
[{"$f":"AccountInfo!$A647","v":645},{"$f":"IF(AccountInfo!$B647=\"\",\"\",AccountInfo!B647)","v":""},{"$nulls":7},"Check"]
[{"$f":"AccountInfo!$A648","v":646},{"$f":"IF(AccountInfo!$B648=\"\",\"\",AccountInfo!B648)","v":""},{"$nulls":7},"Check"]
[{"$f":"AccountInfo!$A649","v":647},{"$f":"IF(AccountInfo!$B649=\"\",\"\",AccountInfo!B649)","v":""},{"$nulls":7},"Check"]
[{"$f":"AccountInfo!$A650","v":648},{"$f":"IF(AccountInfo!$B650=\"\",\"\",AccountInfo!B650)","v":""},{"$nulls":7},"Check"]
[{"$f":"AccountInfo!$A651","v":649},{"$f":"IF(AccountInfo!$B651=\"\",\"\",AccountInfo!B651)","v":""},{"$nulls":7},"Check"]
[{"$f":"AccountInfo!$A652","v":650},{"$f":"IF(AccountInfo!$B652=\"\",\"\",AccountInfo!B652)","v":""},{"$nulls":7},"Check"]
[{"$f":"AccountInfo!$A653","v":651},{"$f":"IF(AccountInfo!$B653=\"\",\"\",AccountInfo!B653)","v":""},{"$nulls":7},"Check"]
[{"$f":"AccountInfo!$A654","v":652},{"$f":"IF(AccountInfo!$B654=\"\",\"\",AccountInfo!B654)","v":""},{"$nulls":7},"Check"]
[{"$f":"AccountInfo!$A655","v":653},{"$f":"IF(AccountInfo!$B655=\"\",\"\",AccountInfo!B655)","v":""},{"$nulls":7},"Check"]
[{"$f":"AccountInfo!$A656","v":654},{"$f":"IF(AccountInfo!$B656=\"\",\"\",AccountInfo!B656)","v":""},{"$nulls":7},"Check"]
[{"$f":"AccountInfo!$A657","v":655},{"$f":"IF(AccountInfo!$B657=\"\",\"\",AccountInfo!B657)","v":""},{"$nulls":7},"Check"]
[{"$f":"AccountInfo!$A658","v":656},{"$f":"IF(AccountInfo!$B658=\"\",\"\",AccountInfo!B658)","v":""},{"$nulls":7},"Check"]
[{"$f":"AccountInfo!$A659","v":657},{"$f":"IF(AccountInfo!$B659=\"\",\"\",AccountInfo!B659)","v":""},{"$nulls":7},"Check"]
[{"$f":"AccountInfo!$A660","v":658},{"$f":"IF(AccountInfo!$B660=\"\",\"\",AccountInfo!B660)","v":""},{"$nulls":7},"Check"]
[{"$f":"AccountInfo!$A661","v":659},{"$f":"IF(AccountInfo!$B661=\"\",\"\",AccountInfo!B661)","v":""},{"$nulls":7},"Check"]
[{"$f":"AccountInfo!$A662","v":660},{"$f":"IF(AccountInfo!$B662=\"\",\"\",AccountInfo!B662)","v":""},{"$nulls":7},"Check"]
[{"$f":"AccountInfo!$A663","v":661},{"$f":"IF(AccountInfo!$B663=\"\",\"\",AccountInfo!B663)","v":""},{"$nulls":7},"Check"]
[{"$f":"AccountInfo!$A664","v":662},{"$f":"IF(AccountInfo!$B664=\"\",\"\",AccountInfo!B664)","v":""},{"$nulls":7},"Check"]
[{"$f":"AccountInfo!$A665","v":663},{"$f":"IF(AccountInfo!$B665=\"\",\"\",AccountInfo!B665)","v":""},{"$nulls":7},"Check"]
[{"$f":"AccountInfo!$A666","v":664},{"$f":"IF(AccountInfo!$B666=\"\",\"\",AccountInfo!B666)","v":""},{"$nulls":7},"Check"]
[{"$f":"AccountInfo!$A667","v":665},{"$f":"IF(AccountInfo!$B667=\"\",\"\",AccountInfo!B667)","v":""},{"$nulls":7},"Check"]
[{"$f":"AccountInfo!$A668","v":666},{"$f":"IF(AccountInfo!$B668=\"\",\"\",AccountInfo!B668)","v":""},{"$nulls":7},"Check"]
[{"$f":"AccountInfo!$A669","v":667},{"$f":"IF(AccountInfo!$B669=\"\",\"\",AccountInfo!B669)","v":""},{"$nulls":7},"Check"]
[{"$f":"AccountInfo!$A670","v":668},{"$f":"IF(AccountInfo!$B670=\"\",\"\",AccountInfo!B670)","v":""},{"$nulls":7},"Check"]
[{"$f":"AccountInfo!$A671","v":669},{"$f":"IF(AccountInfo!$B671=\"\",\"\",AccountInfo!B671)","v":""},{"$nulls":7},"Check"]
[{"$f":"AccountInfo!$A672","v":670},{"$f":"IF(AccountInfo!$B672=\"\",\"\",AccountInfo!B672)","v":""},{"$nulls":7},"Check"]
[{"$f":"AccountInfo!$A673","v":671},{"$f":"IF(AccountInfo!$B673=\"\",\"\",AccountInfo!B673)","v":""},{"$nulls":7},"Check"]
[{"$f":"AccountInfo!$A674","v":672},{"$f":"IF(AccountInfo!$B674=\"\",\"\",AccountInfo!B674)","v":""},{"$nulls":7},"Check"]
[{"$f":"AccountInfo!$A675","v":673},{"$f":"IF(AccountInfo!$B675=\"\",\"\",AccountInfo!B675)","v":""},{"$nulls":7},"Check"]
[{"$f":"AccountInfo!$A676","v":674},{"$f":"IF(AccountInfo!$B676=\"\",\"\",AccountInfo!B676)","v":""},{"$nulls":7},"Check"]
[{"$f":"AccountInfo!$A677","v":675},{"$f":"IF(AccountInfo!$B677=\"\",\"\",AccountInfo!B677)","v":""},{"$nulls":7},"Check"]
[{"$f":"AccountInfo!$A678","v":676},{"$f":"IF(AccountInfo!$B678=\"\",\"\",AccountInfo!B678)","v":""},{"$nulls":7},"Check"]
[{"$f":"AccountInfo!$A679","v":677},{"$f":"IF(AccountInfo!$B679=\"\",\"\",AccountInfo!B679)","v":""},{"$nulls":7},"Check"]
[{"$f":"AccountInfo!$A680","v":678},{"$f":"IF(AccountInfo!$B680=\"\",\"\",AccountInfo!B680)","v":""},{"$nulls":7},"Check"]
[{"$f":"AccountInfo!$A681","v":679},{"$f":"IF(AccountInfo!$B681=\"\",\"\",AccountInfo!B681)","v":""},{"$nulls":7},"Check"]
[{"$f":"AccountInfo!$A682","v":680},{"$f":"IF(AccountInfo!$B682=\"\",\"\",AccountInfo!B682)","v":""},{"$nulls":7},"Check"]
[{"$f":"AccountInfo!$A683","v":681},{"$f":"IF(AccountInfo!$B683=\"\",\"\",AccountInfo!B683)","v":""},{"$nulls":7},"Check"]
[{"$f":"AccountInfo!$A684","v":682},{"$f":"IF(AccountInfo!$B684=\"\",\"\",AccountInfo!B684)","v":""},{"$nulls":7},"Check"]
[{"$f":"AccountInfo!$A685","v":683},{"$f":"IF(AccountInfo!$B685=\"\",\"\",AccountInfo!B685)","v":""},{"$nulls":7},"Check"]
[{"$f":"AccountInfo!$A686","v":684},{"$f":"IF(AccountInfo!$B686=\"\",\"\",AccountInfo!B686)","v":""},{"$nulls":7},"Check"]
[{"$f":"AccountInfo!$A687","v":685},{"$f":"IF(AccountInfo!$B687=\"\",\"\",AccountInfo!B687)","v":""},{"$nulls":7},"Check"]
[{"$f":"AccountInfo!$A688","v":686},{"$f":"IF(AccountInfo!$B688=\"\",\"\",AccountInfo!B688)","v":""},{"$nulls":7},"Check"]
[{"$f":"AccountInfo!$A689","v":687},{"$f":"IF(AccountInfo!$B689=\"\",\"\",AccountInfo!B689)","v":""},{"$nulls":7},"Check"]
[{"$f":"AccountInfo!$A690","v":688},{"$f":"IF(AccountInfo!$B690=\"\",\"\",AccountInfo!B690)","v":""},{"$nulls":7},"Check"]
[{"$f":"AccountInfo!$A691","v":689},{"$f":"IF(AccountInfo!$B691=\"\",\"\",AccountInfo!B691)","v":""},{"$nulls":7},"Check"]
[{"$f":"AccountInfo!$A692","v":690},{"$f":"IF(AccountInfo!$B692=\"\",\"\",AccountInfo!B692)","v":""},{"$nulls":7},"Check"]
[{"$f":"AccountInfo!$A693","v":691},{"$f":"IF(AccountInfo!$B693=\"\",\"\",AccountInfo!B693)","v":""},{"$nulls":7},"Check"]
[{"$f":"AccountInfo!$A694","v":692},{"$f":"IF(AccountInfo!$B694=\"\",\"\",AccountInfo!B694)","v":""},{"$nulls":7},"Check"]
[{"$f":"AccountInfo!$A695","v":693},{"$f":"IF(AccountInfo!$B695=\"\",\"\",AccountInfo!B695)","v":""},{"$nulls":7},"Check"]
[{"$f":"AccountInfo!$A696","v":694},{"$f":"IF(AccountInfo!$B696=\"\",\"\",AccountInfo!B696)","v":""},{"$nulls":7},"Check"]
[{"$f":"AccountInfo!$A697","v":695},{"$f":"IF(AccountInfo!$B697=\"\",\"\",AccountInfo!B697)","v":""},{"$nulls":7},"Check"]
[{"$f":"AccountInfo!$A698","v":696},{"$f":"IF(AccountInfo!$B698=\"\",\"\",AccountInfo!B698)","v":""},{"$nulls":7},"Check"]
[{"$f":"AccountInfo!$A699","v":697},{"$f":"IF(AccountInfo!$B699=\"\",\"\",AccountInfo!B699)","v":""},{"$nulls":7},"Check"]
[{"$f":"AccountInfo!$A700","v":698},{"$f":"IF(AccountInfo!$B700=\"\",\"\",AccountInfo!B700)","v":""},{"$nulls":7},"Check"]
[{"$f":"AccountInfo!$A701","v":699},{"$f":"IF(AccountInfo!$B701=\"\",\"\",AccountInfo!B701)","v":""},{"$nulls":7},"Check"]
[{"$f":"AccountInfo!$A702","v":700},{"$f":"IF(AccountInfo!$B702=\"\",\"\",AccountInfo!B702)","v":""},{"$nulls":7},"Check"]
[{"$f":"AccountInfo!$A703","v":701},{"$f":"IF(AccountInfo!$B703=\"\",\"\",AccountInfo!B703)","v":""},{"$nulls":7},"Check"]
[{"$f":"AccountInfo!$A704","v":702},{"$f":"IF(AccountInfo!$B704=\"\",\"\",AccountInfo!B704)","v":""},{"$nulls":7},"Check"]
[{"$f":"AccountInfo!$A705","v":703},{"$f":"IF(AccountInfo!$B705=\"\",\"\",AccountInfo!B705)","v":""},{"$nulls":7},"Check"]
[{"$f":"AccountInfo!$A706","v":704},{"$f":"IF(AccountInfo!$B706=\"\",\"\",AccountInfo!B706)","v":""},{"$nulls":7},"Check"]
[{"$f":"AccountInfo!$A707","v":705},{"$f":"IF(AccountInfo!$B707=\"\",\"\",AccountInfo!B707)","v":""},{"$nulls":7},"Check"]
[{"$f":"AccountInfo!$A708","v":706},{"$f":"IF(AccountInfo!$B708=\"\",\"\",AccountInfo!B708)","v":""},{"$nulls":7},{"$f":"IF(AND(D708<=E708, E708<=F708, F708<=G708, G708<=IF(H708=\"\", 1000000000000, H708)), \"Check\", \"Error\")","v":"Check"}]
[{"$f":"AccountInfo!$A709","v":707},{"$f":"IF(AccountInfo!$B709=\"\",\"\",AccountInfo!B709)","v":""},{"$nulls":7},"Check"]
[{"$f":"AccountInfo!$A710","v":708},{"$f":"IF(AccountInfo!$B710=\"\",\"\",AccountInfo!B710)","v":""},{"$nulls":7},"Check"]
[{"$f":"AccountInfo!$A711","v":709},{"$f":"IF(AccountInfo!$B711=\"\",\"\",AccountInfo!B711)","v":""},{"$nulls":7},"Check"]
[{"$f":"AccountInfo!$A712","v":710},{"$f":"IF(AccountInfo!$B712=\"\",\"\",AccountInfo!B712)","v":""},{"$nulls":7},"Check"]
[{"$f":"AccountInfo!$A713","v":711},{"$f":"IF(AccountInfo!$B713=\"\",\"\",AccountInfo!B713)","v":""},{"$nulls":7},"Check"]
[{"$f":"AccountInfo!$A714","v":712},{"$f":"IF(AccountInfo!$B714=\"\",\"\",AccountInfo!B714)","v":""},{"$nulls":7},"Check"]
[{"$f":"AccountInfo!$A715","v":713},{"$f":"IF(AccountInfo!$B715=\"\",\"\",AccountInfo!B715)","v":""},{"$nulls":7},"Check"]
[{"$f":"AccountInfo!$A716","v":714},{"$f":"IF(AccountInfo!$B716=\"\",\"\",AccountInfo!B716)","v":""},{"$nulls":7},"Check"]
[{"$f":"AccountInfo!$A717","v":715},{"$f":"IF(AccountInfo!$B717=\"\",\"\",AccountInfo!B717)","v":""},{"$nulls":7},"Check"]
[{"$f":"AccountInfo!$A718","v":716},{"$f":"IF(AccountInfo!$B718=\"\",\"\",AccountInfo!B718)","v":""},{"$nulls":7},"Check"]
[{"$f":"AccountInfo!$A719","v":717},{"$f":"IF(AccountInfo!$B719=\"\",\"\",AccountInfo!B719)","v":""},{"$nulls":7},"Check"]
[{"$f":"AccountInfo!$A720","v":718},{"$f":"IF(AccountInfo!$B720=\"\",\"\",AccountInfo!B720)","v":""},{"$nulls":7},"Check"]
[{"$f":"AccountInfo!$A721","v":719},{"$f":"IF(AccountInfo!$B721=\"\",\"\",AccountInfo!B721)","v":""},{"$nulls":7},"Check"]
[{"$f":"AccountInfo!$A722","v":720},{"$f":"IF(AccountInfo!$B722=\"\",\"\",AccountInfo!B722)","v":""},{"$nulls":7},"Check"]
[{"$f":"AccountInfo!$A723","v":721},{"$f":"IF(AccountInfo!$B723=\"\",\"\",AccountInfo!B723)","v":""},{"$nulls":7},"Check"]
[{"$f":"AccountInfo!$A724","v":722},{"$f":"IF(AccountInfo!$B724=\"\",\"\",AccountInfo!B724)","v":""},{"$nulls":7},"Check"]
[{"$f":"AccountInfo!$A725","v":723},{"$f":"IF(AccountInfo!$B725=\"\",\"\",AccountInfo!B725)","v":""},{"$nulls":7},"Check"]
[{"$f":"AccountInfo!$A726","v":724},{"$f":"IF(AccountInfo!$B726=\"\",\"\",AccountInfo!B726)","v":""},{"$nulls":7},"Check"]
[{"$f":"AccountInfo!$A727","v":725},{"$f":"IF(AccountInfo!$B727=\"\",\"\",AccountInfo!B727)","v":""},{"$nulls":7},"Check"]
[{"$f":"AccountInfo!$A728","v":726},{"$f":"IF(AccountInfo!$B728=\"\",\"\",AccountInfo!B728)","v":""},{"$nulls":7},"Check"]
[{"$f":"AccountInfo!$A729","v":727},{"$f":"IF(AccountInfo!$B729=\"\",\"\",AccountInfo!B729)","v":""},{"$nulls":7},"Check"]
[{"$f":"AccountInfo!$A730","v":728},{"$f":"IF(AccountInfo!$B730=\"\",\"\",AccountInfo!B730)","v":""},{"$nulls":7},"Check"]
[{"$f":"AccountInfo!$A731","v":729},{"$f":"IF(AccountInfo!$B731=\"\",\"\",AccountInfo!B731)","v":""},{"$nulls":7},"Check"]
[{"$f":"AccountInfo!$A732","v":730},{"$f":"IF(AccountInfo!$B732=\"\",\"\",AccountInfo!B732)","v":""},{"$nulls":7},"Check"]
[{"$f":"AccountInfo!$A733","v":731},{"$f":"IF(AccountInfo!$B733=\"\",\"\",AccountInfo!B733)","v":""},{"$nulls":7},"Check"]
[{"$f":"AccountInfo!$A734","v":732},{"$f":"IF(AccountInfo!$B734=\"\",\"\",AccountInfo!B734)","v":""},{"$nulls":7},"Check"]
[{"$f":"AccountInfo!$A735","v":733},{"$f":"IF(AccountInfo!$B735=\"\",\"\",AccountInfo!B735)","v":""},{"$nulls":7},"Check"]
[{"$f":"AccountInfo!$A736","v":734},{"$f":"IF(AccountInfo!$B736=\"\",\"\",AccountInfo!B736)","v":""},{"$nulls":7},"Check"]
[{"$f":"AccountInfo!$A737","v":735},{"$f":"IF(AccountInfo!$B737=\"\",\"\",AccountInfo!B737)","v":""},{"$nulls":7},"Check"]
[{"$f":"AccountInfo!$A738","v":736},{"$f":"IF(AccountInfo!$B738=\"\",\"\",AccountInfo!B738)","v":""},{"$nulls":7},"Check"]
[{"$f":"AccountInfo!$A739","v":737},{"$f":"IF(AccountInfo!$B739=\"\",\"\",AccountInfo!B739)","v":""},{"$nulls":7},"Check"]
[{"$f":"AccountInfo!$A740","v":738},{"$f":"IF(AccountInfo!$B740=\"\",\"\",AccountInfo!B740)","v":""},{"$nulls":7},"Check"]
[{"$f":"AccountInfo!$A741","v":739},{"$f":"IF(AccountInfo!$B741=\"\",\"\",AccountInfo!B741)","v":""},{"$nulls":7},"Check"]
[{"$f":"AccountInfo!$A742","v":740},{"$f":"IF(AccountInfo!$B742=\"\",\"\",AccountInfo!B742)","v":""},{"$nulls":7},"Check"]
[{"$f":"AccountInfo!$A743","v":741},{"$f":"IF(AccountInfo!$B743=\"\",\"\",AccountInfo!B743)","v":""},{"$nulls":7},"Check"]
[{"$f":"AccountInfo!$A744","v":742},{"$f":"IF(AccountInfo!$B744=\"\",\"\",AccountInfo!B744)","v":""},{"$nulls":7},"Check"]
[{"$f":"AccountInfo!$A745","v":743},{"$f":"IF(AccountInfo!$B745=\"\",\"\",AccountInfo!B745)","v":""},{"$nulls":7},"Check"]
[{"$f":"AccountInfo!$A746","v":744},{"$f":"IF(AccountInfo!$B746=\"\",\"\",AccountInfo!B746)","v":""},{"$nulls":7},"Check"]
[{"$f":"AccountInfo!$A747","v":745},{"$f":"IF(AccountInfo!$B747=\"\",\"\",AccountInfo!B747)","v":""},{"$nulls":7},"Check"]
[{"$f":"AccountInfo!$A748","v":746},{"$f":"IF(AccountInfo!$B748=\"\",\"\",AccountInfo!B748)","v":""},{"$nulls":7},"Check"]
[{"$f":"AccountInfo!$A749","v":747},{"$f":"IF(AccountInfo!$B749=\"\",\"\",AccountInfo!B749)","v":""},{"$nulls":7},"Check"]
[{"$f":"AccountInfo!$A750","v":748},{"$f":"IF(AccountInfo!$B750=\"\",\"\",AccountInfo!B750)","v":""},{"$nulls":7},"Check"]
[{"$f":"AccountInfo!$A751","v":749},{"$f":"IF(AccountInfo!$B751=\"\",\"\",AccountInfo!B751)","v":""},{"$nulls":7},"Check"]
[{"$f":"AccountInfo!$A752","v":750},{"$f":"IF(AccountInfo!$B752=\"\",\"\",AccountInfo!B752)","v":""},{"$nulls":7},"Check"]
[{"$f":"AccountInfo!$A753","v":751},{"$f":"IF(AccountInfo!$B753=\"\",\"\",AccountInfo!B753)","v":""},{"$nulls":7},"Check"]
[{"$f":"AccountInfo!$A754","v":752},{"$f":"IF(AccountInfo!$B754=\"\",\"\",AccountInfo!B754)","v":""},{"$nulls":7},"Check"]
[{"$f":"AccountInfo!$A755","v":753},{"$f":"IF(AccountInfo!$B755=\"\",\"\",AccountInfo!B755)","v":""},{"$nulls":7},"Check"]
[{"$f":"AccountInfo!$A756","v":754},{"$f":"IF(AccountInfo!$B756=\"\",\"\",AccountInfo!B756)","v":""},{"$nulls":7},"Check"]
[{"$f":"AccountInfo!$A757","v":755},{"$f":"IF(AccountInfo!$B757=\"\",\"\",AccountInfo!B757)","v":""},{"$nulls":7},"Check"]
[{"$f":"AccountInfo!$A758","v":756},{"$f":"IF(AccountInfo!$B758=\"\",\"\",AccountInfo!B758)","v":""},{"$nulls":7},"Check"]
[{"$f":"AccountInfo!$A759","v":757},{"$f":"IF(AccountInfo!$B759=\"\",\"\",AccountInfo!B759)","v":""},{"$nulls":7},"Check"]
[{"$f":"AccountInfo!$A760","v":758},{"$f":"IF(AccountInfo!$B760=\"\",\"\",AccountInfo!B760)","v":""},{"$nulls":7},"Check"]
[{"$f":"AccountInfo!$A761","v":759},{"$f":"IF(AccountInfo!$B761=\"\",\"\",AccountInfo!B761)","v":""},{"$nulls":7},"Check"]
[{"$f":"AccountInfo!$A762","v":760},{"$f":"IF(AccountInfo!$B762=\"\",\"\",AccountInfo!B762)","v":""},{"$nulls":7},"Check"]
[{"$f":"AccountInfo!$A763","v":761},{"$f":"IF(AccountInfo!$B763=\"\",\"\",AccountInfo!B763)","v":""},{"$nulls":7},"Check"]
[{"$f":"AccountInfo!$A764","v":762},{"$f":"IF(AccountInfo!$B764=\"\",\"\",AccountInfo!B764)","v":""},{"$nulls":7},"Check"]
[{"$f":"AccountInfo!$A765","v":763},{"$f":"IF(AccountInfo!$B765=\"\",\"\",AccountInfo!B765)","v":""},{"$nulls":7},"Check"]
[{"$f":"AccountInfo!$A766","v":764},{"$f":"IF(AccountInfo!$B766=\"\",\"\",AccountInfo!B766)","v":""},{"$nulls":7},"Check"]
[{"$f":"AccountInfo!$A767","v":765},{"$f":"IF(AccountInfo!$B767=\"\",\"\",AccountInfo!B767)","v":""},{"$nulls":7},"Check"]
[{"$f":"AccountInfo!$A768","v":766},{"$f":"IF(AccountInfo!$B768=\"\",\"\",AccountInfo!B768)","v":""},{"$nulls":7},"Check"]
[{"$f":"AccountInfo!$A769","v":767},{"$f":"IF(AccountInfo!$B769=\"\",\"\",AccountInfo!B769)","v":""},{"$nulls":7},"Check"]
[{"$f":"AccountInfo!$A770","v":768},{"$f":"IF(AccountInfo!$B770=\"\",\"\",AccountInfo!B770)","v":""},{"$nulls":7},"Check"]
[{"$f":"AccountInfo!$A771","v":769},{"$f":"IF(AccountInfo!$B771=\"\",\"\",AccountInfo!B771)","v":""},{"$nulls":7},"Check"]
[{"$f":"AccountInfo!$A772","v":770},{"$f":"IF(AccountInfo!$B772=\"\",\"\",AccountInfo!B772)","v":""},{"$nulls":7},{"$f":"IF(AND(D772<=E772, E772<=F772, F772<=G772, G772<=IF(H772=\"\", 1000000000000, H772)), \"Check\", \"Error\")","v":"Check"}]
[{"$f":"AccountInfo!$A773","v":771},{"$f":"IF(AccountInfo!$B773=\"\",\"\",AccountInfo!B773)","v":""},{"$nulls":7},"Check"]
[{"$f":"AccountInfo!$A774","v":772},{"$f":"IF(AccountInfo!$B774=\"\",\"\",AccountInfo!B774)","v":""},{"$nulls":7},"Check"]
[{"$f":"AccountInfo!$A775","v":773},{"$f":"IF(AccountInfo!$B775=\"\",\"\",AccountInfo!B775)","v":""},{"$nulls":7},"Check"]
[{"$f":"AccountInfo!$A776","v":774},{"$f":"IF(AccountInfo!$B776=\"\",\"\",AccountInfo!B776)","v":""},{"$nulls":7},"Check"]
[{"$f":"AccountInfo!$A777","v":775},{"$f":"IF(AccountInfo!$B777=\"\",\"\",AccountInfo!B777)","v":""},{"$nulls":7},"Check"]
[{"$f":"AccountInfo!$A778","v":776},{"$f":"IF(AccountInfo!$B778=\"\",\"\",AccountInfo!B778)","v":""},{"$nulls":7},"Check"]
[{"$f":"AccountInfo!$A779","v":777},{"$f":"IF(AccountInfo!$B779=\"\",\"\",AccountInfo!B779)","v":""},{"$nulls":7},"Check"]
[{"$f":"AccountInfo!$A780","v":778},{"$f":"IF(AccountInfo!$B780=\"\",\"\",AccountInfo!B780)","v":""},{"$nulls":7},"Check"]
[{"$f":"AccountInfo!$A781","v":779},{"$f":"IF(AccountInfo!$B781=\"\",\"\",AccountInfo!B781)","v":""},{"$nulls":7},"Check"]
[{"$f":"AccountInfo!$A782","v":780},{"$f":"IF(AccountInfo!$B782=\"\",\"\",AccountInfo!B782)","v":""},{"$nulls":7},"Check"]
[{"$f":"AccountInfo!$A783","v":781},{"$f":"IF(AccountInfo!$B783=\"\",\"\",AccountInfo!B783)","v":""},{"$nulls":7},"Check"]
[{"$f":"AccountInfo!$A784","v":782},{"$f":"IF(AccountInfo!$B784=\"\",\"\",AccountInfo!B784)","v":""},{"$nulls":7},"Check"]
[{"$f":"AccountInfo!$A785","v":783},{"$f":"IF(AccountInfo!$B785=\"\",\"\",AccountInfo!B785)","v":""},{"$nulls":7},"Check"]
[{"$f":"AccountInfo!$A786","v":784},{"$f":"IF(AccountInfo!$B786=\"\",\"\",AccountInfo!B786)","v":""},{"$nulls":7},"Check"]
[{"$f":"AccountInfo!$A787","v":785},{"$f":"IF(AccountInfo!$B787=\"\",\"\",AccountInfo!B787)","v":""},{"$nulls":7},"Check"]
[{"$f":"AccountInfo!$A788","v":786},{"$f":"IF(AccountInfo!$B788=\"\",\"\",AccountInfo!B788)","v":""},{"$nulls":7},"Check"]
[{"$f":"AccountInfo!$A789","v":787},{"$f":"IF(AccountInfo!$B789=\"\",\"\",AccountInfo!B789)","v":""},{"$nulls":7},"Check"]
[{"$f":"AccountInfo!$A790","v":788},{"$f":"IF(AccountInfo!$B790=\"\",\"\",AccountInfo!B790)","v":""},{"$nulls":7},"Check"]
[{"$f":"AccountInfo!$A791","v":789},{"$f":"IF(AccountInfo!$B791=\"\",\"\",AccountInfo!B791)","v":""},{"$nulls":7},"Check"]
[{"$f":"AccountInfo!$A792","v":790},{"$f":"IF(AccountInfo!$B792=\"\",\"\",AccountInfo!B792)","v":""},{"$nulls":7},"Check"]
[{"$f":"AccountInfo!$A793","v":791},{"$f":"IF(AccountInfo!$B793=\"\",\"\",AccountInfo!B793)","v":""},{"$nulls":7},"Check"]
[{"$f":"AccountInfo!$A794","v":792},{"$f":"IF(AccountInfo!$B794=\"\",\"\",AccountInfo!B794)","v":""},{"$nulls":7},"Check"]
[{"$f":"AccountInfo!$A795","v":793},{"$f":"IF(AccountInfo!$B795=\"\",\"\",AccountInfo!B795)","v":""},{"$nulls":7},"Check"]
[{"$f":"AccountInfo!$A796","v":794},{"$f":"IF(AccountInfo!$B796=\"\",\"\",AccountInfo!B796)","v":""},{"$nulls":7},"Check"]
[{"$f":"AccountInfo!$A797","v":795},{"$f":"IF(AccountInfo!$B797=\"\",\"\",AccountInfo!B797)","v":""},{"$nulls":7},"Check"]
[{"$f":"AccountInfo!$A798","v":796},{"$f":"IF(AccountInfo!$B798=\"\",\"\",AccountInfo!B798)","v":""},{"$nulls":7},"Check"]
[{"$f":"AccountInfo!$A799","v":797},{"$f":"IF(AccountInfo!$B799=\"\",\"\",AccountInfo!B799)","v":""},{"$nulls":7},"Check"]
[{"$f":"AccountInfo!$A800","v":798},{"$f":"IF(AccountInfo!$B800=\"\",\"\",AccountInfo!B800)","v":""},{"$nulls":7},"Check"]
[{"$f":"AccountInfo!$A801","v":799},{"$f":"IF(AccountInfo!$B801=\"\",\"\",AccountInfo!B801)","v":""},{"$nulls":7},"Check"]
[{"$f":"AccountInfo!$A802","v":800},{"$f":"IF(AccountInfo!$B802=\"\",\"\",AccountInfo!B802)","v":""},{"$nulls":7},"Check"]
[{"$f":"AccountInfo!$A803","v":801},{"$f":"IF(AccountInfo!$B803=\"\",\"\",AccountInfo!B803)","v":""},{"$nulls":7},"Check"]
[{"$f":"AccountInfo!$A804","v":802},{"$f":"IF(AccountInfo!$B804=\"\",\"\",AccountInfo!B804)","v":""},{"$nulls":7},"Check"]
[{"$f":"AccountInfo!$A805","v":803},{"$f":"IF(AccountInfo!$B805=\"\",\"\",AccountInfo!B805)","v":""},{"$nulls":7},"Check"]
[{"$f":"AccountInfo!$A806","v":804},{"$f":"IF(AccountInfo!$B806=\"\",\"\",AccountInfo!B806)","v":""},{"$nulls":7},"Check"]
[{"$f":"AccountInfo!$A807","v":805},{"$f":"IF(AccountInfo!$B807=\"\",\"\",AccountInfo!B807)","v":""},{"$nulls":7},"Check"]
[{"$f":"AccountInfo!$A808","v":806},{"$f":"IF(AccountInfo!$B808=\"\",\"\",AccountInfo!B808)","v":""},{"$nulls":7},"Check"]
[{"$f":"AccountInfo!$A809","v":807},{"$f":"IF(AccountInfo!$B809=\"\",\"\",AccountInfo!B809)","v":""},{"$nulls":7},"Check"]
[{"$f":"AccountInfo!$A810","v":808},{"$f":"IF(AccountInfo!$B810=\"\",\"\",AccountInfo!B810)","v":""},{"$nulls":7},"Check"]
[{"$f":"AccountInfo!$A811","v":809},{"$f":"IF(AccountInfo!$B811=\"\",\"\",AccountInfo!B811)","v":""},{"$nulls":7},"Check"]
[{"$f":"AccountInfo!$A812","v":810},{"$f":"IF(AccountInfo!$B812=\"\",\"\",AccountInfo!B812)","v":""},{"$nulls":7},"Check"]
[{"$f":"AccountInfo!$A813","v":811},{"$f":"IF(AccountInfo!$B813=\"\",\"\",AccountInfo!B813)","v":""},{"$nulls":7},"Check"]
[{"$f":"AccountInfo!$A814","v":812},{"$f":"IF(AccountInfo!$B814=\"\",\"\",AccountInfo!B814)","v":""},{"$nulls":7},"Check"]
[{"$f":"AccountInfo!$A815","v":813},{"$f":"IF(AccountInfo!$B815=\"\",\"\",AccountInfo!B815)","v":""},{"$nulls":7},"Check"]
[{"$f":"AccountInfo!$A816","v":814},{"$f":"IF(AccountInfo!$B816=\"\",\"\",AccountInfo!B816)","v":""},{"$nulls":7},"Check"]
[{"$f":"AccountInfo!$A817","v":815},{"$f":"IF(AccountInfo!$B817=\"\",\"\",AccountInfo!B817)","v":""},{"$nulls":7},"Check"]
[{"$f":"AccountInfo!$A818","v":816},{"$f":"IF(AccountInfo!$B818=\"\",\"\",AccountInfo!B818)","v":""},{"$nulls":7},"Check"]
[{"$f":"AccountInfo!$A819","v":817},{"$f":"IF(AccountInfo!$B819=\"\",\"\",AccountInfo!B819)","v":""},{"$nulls":7},"Check"]
[{"$f":"AccountInfo!$A820","v":818},{"$f":"IF(AccountInfo!$B820=\"\",\"\",AccountInfo!B820)","v":""},{"$nulls":7},"Check"]
[{"$f":"AccountInfo!$A821","v":819},{"$f":"IF(AccountInfo!$B821=\"\",\"\",AccountInfo!B821)","v":""},{"$nulls":7},"Check"]
[{"$f":"AccountInfo!$A822","v":820},{"$f":"IF(AccountInfo!$B822=\"\",\"\",AccountInfo!B822)","v":""},{"$nulls":7},"Check"]
[{"$f":"AccountInfo!$A823","v":821},{"$f":"IF(AccountInfo!$B823=\"\",\"\",AccountInfo!B823)","v":""},{"$nulls":7},"Check"]
[{"$f":"AccountInfo!$A824","v":822},{"$f":"IF(AccountInfo!$B824=\"\",\"\",AccountInfo!B824)","v":""},{"$nulls":7},"Check"]
[{"$f":"AccountInfo!$A825","v":823},{"$f":"IF(AccountInfo!$B825=\"\",\"\",AccountInfo!B825)","v":""},{"$nulls":7},"Check"]
[{"$f":"AccountInfo!$A826","v":824},{"$f":"IF(AccountInfo!$B826=\"\",\"\",AccountInfo!B826)","v":""},{"$nulls":7},"Check"]
[{"$f":"AccountInfo!$A827","v":825},{"$f":"IF(AccountInfo!$B827=\"\",\"\",AccountInfo!B827)","v":""},{"$nulls":7},"Check"]
[{"$f":"AccountInfo!$A828","v":826},{"$f":"IF(AccountInfo!$B828=\"\",\"\",AccountInfo!B828)","v":""},{"$nulls":7},"Check"]
[{"$f":"AccountInfo!$A829","v":827},{"$f":"IF(AccountInfo!$B829=\"\",\"\",AccountInfo!B829)","v":""},{"$nulls":7},"Check"]
[{"$f":"AccountInfo!$A830","v":828},{"$f":"IF(AccountInfo!$B830=\"\",\"\",AccountInfo!B830)","v":""},{"$nulls":7},"Check"]
[{"$f":"AccountInfo!$A831","v":829},{"$f":"IF(AccountInfo!$B831=\"\",\"\",AccountInfo!B831)","v":""},{"$nulls":7},"Check"]
[{"$f":"AccountInfo!$A832","v":830},{"$f":"IF(AccountInfo!$B832=\"\",\"\",AccountInfo!B832)","v":""},{"$nulls":7},"Check"]
[{"$f":"AccountInfo!$A833","v":831},{"$f":"IF(AccountInfo!$B833=\"\",\"\",AccountInfo!B833)","v":""},{"$nulls":7},"Check"]
[{"$f":"AccountInfo!$A834","v":832},{"$f":"IF(AccountInfo!$B834=\"\",\"\",AccountInfo!B834)","v":""},{"$nulls":7},"Check"]
[{"$f":"AccountInfo!$A835","v":833},{"$f":"IF(AccountInfo!$B835=\"\",\"\",AccountInfo!B835)","v":""},{"$nulls":7},"Check"]
[{"$f":"AccountInfo!$A836","v":834},{"$f":"IF(AccountInfo!$B836=\"\",\"\",AccountInfo!B836)","v":""},{"$nulls":7},{"$f":"IF(AND(D836<=E836, E836<=F836, F836<=G836, G836<=IF(H836=\"\", 1000000000000, H836)), \"Check\", \"Error\")","v":"Check"}]
[{"$f":"AccountInfo!$A837","v":835},{"$f":"IF(AccountInfo!$B837=\"\",\"\",AccountInfo!B837)","v":""},{"$nulls":7},"Check"]
[{"$f":"AccountInfo!$A838","v":836},{"$f":"IF(AccountInfo!$B838=\"\",\"\",AccountInfo!B838)","v":""},{"$nulls":7},"Check"]
[{"$f":"AccountInfo!$A839","v":837},{"$f":"IF(AccountInfo!$B839=\"\",\"\",AccountInfo!B839)","v":""},{"$nulls":7},"Check"]
[{"$f":"AccountInfo!$A840","v":838},{"$f":"IF(AccountInfo!$B840=\"\",\"\",AccountInfo!B840)","v":""},{"$nulls":7},"Check"]
[{"$f":"AccountInfo!$A841","v":839},{"$f":"IF(AccountInfo!$B841=\"\",\"\",AccountInfo!B841)","v":""},{"$nulls":7},"Check"]
[{"$f":"AccountInfo!$A842","v":840},{"$f":"IF(AccountInfo!$B842=\"\",\"\",AccountInfo!B842)","v":""},{"$nulls":7},"Check"]
[{"$f":"AccountInfo!$A843","v":841},{"$f":"IF(AccountInfo!$B843=\"\",\"\",AccountInfo!B843)","v":""},{"$nulls":7},"Check"]
[{"$f":"AccountInfo!$A844","v":842},{"$f":"IF(AccountInfo!$B844=\"\",\"\",AccountInfo!B844)","v":""},{"$nulls":7},"Check"]
[{"$f":"AccountInfo!$A845","v":843},{"$f":"IF(AccountInfo!$B845=\"\",\"\",AccountInfo!B845)","v":""},{"$nulls":7},"Check"]
[{"$f":"AccountInfo!$A846","v":844},{"$f":"IF(AccountInfo!$B846=\"\",\"\",AccountInfo!B846)","v":""},{"$nulls":7},"Check"]
[{"$f":"AccountInfo!$A847","v":845},{"$f":"IF(AccountInfo!$B847=\"\",\"\",AccountInfo!B847)","v":""},{"$nulls":7},"Check"]
[{"$f":"AccountInfo!$A848","v":846},{"$f":"IF(AccountInfo!$B848=\"\",\"\",AccountInfo!B848)","v":""},{"$nulls":7},"Check"]
[{"$f":"AccountInfo!$A849","v":847},{"$f":"IF(AccountInfo!$B849=\"\",\"\",AccountInfo!B849)","v":""},{"$nulls":7},"Check"]
[{"$f":"AccountInfo!$A850","v":848},{"$f":"IF(AccountInfo!$B850=\"\",\"\",AccountInfo!B850)","v":""},{"$nulls":7},"Check"]
[{"$f":"AccountInfo!$A851","v":849},{"$f":"IF(AccountInfo!$B851=\"\",\"\",AccountInfo!B851)","v":""},{"$nulls":7},"Check"]
[{"$f":"AccountInfo!$A852","v":850},{"$f":"IF(AccountInfo!$B852=\"\",\"\",AccountInfo!B852)","v":""},{"$nulls":7},"Check"]
[{"$f":"AccountInfo!$A853","v":851},{"$f":"IF(AccountInfo!$B853=\"\",\"\",AccountInfo!B853)","v":""},{"$nulls":7},"Check"]
[{"$f":"AccountInfo!$A854","v":852},{"$f":"IF(AccountInfo!$B854=\"\",\"\",AccountInfo!B854)","v":""},{"$nulls":7},"Check"]
[{"$f":"AccountInfo!$A855","v":853},{"$f":"IF(AccountInfo!$B855=\"\",\"\",AccountInfo!B855)","v":""},{"$nulls":7},"Check"]
[{"$f":"AccountInfo!$A856","v":854},{"$f":"IF(AccountInfo!$B856=\"\",\"\",AccountInfo!B856)","v":""},{"$nulls":7},"Check"]
[{"$f":"AccountInfo!$A857","v":855},{"$f":"IF(AccountInfo!$B857=\"\",\"\",AccountInfo!B857)","v":""},{"$nulls":7},"Check"]
[{"$f":"AccountInfo!$A858","v":856},{"$f":"IF(AccountInfo!$B858=\"\",\"\",AccountInfo!B858)","v":""},{"$nulls":7},"Check"]
[{"$f":"AccountInfo!$A859","v":857},{"$f":"IF(AccountInfo!$B859=\"\",\"\",AccountInfo!B859)","v":""},{"$nulls":7},"Check"]
[{"$f":"AccountInfo!$A860","v":858},{"$f":"IF(AccountInfo!$B860=\"\",\"\",AccountInfo!B860)","v":""},{"$nulls":7},"Check"]
[{"$f":"AccountInfo!$A861","v":859},{"$f":"IF(AccountInfo!$B861=\"\",\"\",AccountInfo!B861)","v":""},{"$nulls":7},"Check"]
[{"$f":"AccountInfo!$A862","v":860},{"$f":"IF(AccountInfo!$B862=\"\",\"\",AccountInfo!B862)","v":""},{"$nulls":7},"Check"]
[{"$f":"AccountInfo!$A863","v":861},{"$f":"IF(AccountInfo!$B863=\"\",\"\",AccountInfo!B863)","v":""},{"$nulls":7},"Check"]
[{"$f":"AccountInfo!$A864","v":862},{"$f":"IF(AccountInfo!$B864=\"\",\"\",AccountInfo!B864)","v":""},{"$nulls":7},"Check"]
[{"$f":"AccountInfo!$A865","v":863},{"$f":"IF(AccountInfo!$B865=\"\",\"\",AccountInfo!B865)","v":""},{"$nulls":7},"Check"]
[{"$f":"AccountInfo!$A866","v":864},{"$f":"IF(AccountInfo!$B866=\"\",\"\",AccountInfo!B866)","v":""},{"$nulls":7},"Check"]
[{"$f":"AccountInfo!$A867","v":865},{"$f":"IF(AccountInfo!$B867=\"\",\"\",AccountInfo!B867)","v":""},{"$nulls":7},"Check"]
[{"$f":"AccountInfo!$A868","v":866},{"$f":"IF(AccountInfo!$B868=\"\",\"\",AccountInfo!B868)","v":""},{"$nulls":7},"Check"]
[{"$f":"AccountInfo!$A869","v":867},{"$f":"IF(AccountInfo!$B869=\"\",\"\",AccountInfo!B869)","v":""},{"$nulls":7},"Check"]
[{"$f":"AccountInfo!$A870","v":868},{"$f":"IF(AccountInfo!$B870=\"\",\"\",AccountInfo!B870)","v":""},{"$nulls":7},"Check"]
[{"$f":"AccountInfo!$A871","v":869},{"$f":"IF(AccountInfo!$B871=\"\",\"\",AccountInfo!B871)","v":""},{"$nulls":7},"Check"]
[{"$f":"AccountInfo!$A872","v":870},{"$f":"IF(AccountInfo!$B872=\"\",\"\",AccountInfo!B872)","v":""},{"$nulls":7},"Check"]
[{"$f":"AccountInfo!$A873","v":871},{"$f":"IF(AccountInfo!$B873=\"\",\"\",AccountInfo!B873)","v":""},{"$nulls":7},"Check"]
[{"$f":"AccountInfo!$A874","v":872},{"$f":"IF(AccountInfo!$B874=\"\",\"\",AccountInfo!B874)","v":""},{"$nulls":7},"Check"]
[{"$f":"AccountInfo!$A875","v":873},{"$f":"IF(AccountInfo!$B875=\"\",\"\",AccountInfo!B875)","v":""},{"$nulls":7},"Check"]
[{"$f":"AccountInfo!$A876","v":874},{"$f":"IF(AccountInfo!$B876=\"\",\"\",AccountInfo!B876)","v":""},{"$nulls":7},"Check"]
[{"$f":"AccountInfo!$A877","v":875},{"$f":"IF(AccountInfo!$B877=\"\",\"\",AccountInfo!B877)","v":""},{"$nulls":7},"Check"]
[{"$f":"AccountInfo!$A878","v":876},{"$f":"IF(AccountInfo!$B878=\"\",\"\",AccountInfo!B878)","v":""},{"$nulls":7},"Check"]
[{"$f":"AccountInfo!$A879","v":877},{"$f":"IF(AccountInfo!$B879=\"\",\"\",AccountInfo!B879)","v":""},{"$nulls":7},"Check"]
[{"$f":"AccountInfo!$A880","v":878},{"$f":"IF(AccountInfo!$B880=\"\",\"\",AccountInfo!B880)","v":""},{"$nulls":7},"Check"]
[{"$f":"AccountInfo!$A881","v":879},{"$f":"IF(AccountInfo!$B881=\"\",\"\",AccountInfo!B881)","v":""},{"$nulls":7},"Check"]
[{"$f":"AccountInfo!$A882","v":880},{"$f":"IF(AccountInfo!$B882=\"\",\"\",AccountInfo!B882)","v":""},{"$nulls":7},"Check"]
[{"$f":"AccountInfo!$A883","v":881},{"$f":"IF(AccountInfo!$B883=\"\",\"\",AccountInfo!B883)","v":""},{"$nulls":7},"Check"]
[{"$f":"AccountInfo!$A884","v":882},{"$f":"IF(AccountInfo!$B884=\"\",\"\",AccountInfo!B884)","v":""},{"$nulls":7},"Check"]
[{"$f":"AccountInfo!$A885","v":883},{"$f":"IF(AccountInfo!$B885=\"\",\"\",AccountInfo!B885)","v":""},{"$nulls":7},"Check"]
[{"$f":"AccountInfo!$A886","v":884},{"$f":"IF(AccountInfo!$B886=\"\",\"\",AccountInfo!B886)","v":""},{"$nulls":7},"Check"]
[{"$f":"AccountInfo!$A887","v":885},{"$f":"IF(AccountInfo!$B887=\"\",\"\",AccountInfo!B887)","v":""},{"$nulls":7},"Check"]
[{"$f":"AccountInfo!$A888","v":886},{"$f":"IF(AccountInfo!$B888=\"\",\"\",AccountInfo!B888)","v":""},{"$nulls":7},"Check"]
[{"$f":"AccountInfo!$A889","v":887},{"$f":"IF(AccountInfo!$B889=\"\",\"\",AccountInfo!B889)","v":""},{"$nulls":7},"Check"]
[{"$f":"AccountInfo!$A890","v":888},{"$f":"IF(AccountInfo!$B890=\"\",\"\",AccountInfo!B890)","v":""},{"$nulls":7},"Check"]
[{"$f":"AccountInfo!$A891","v":889},{"$f":"IF(AccountInfo!$B891=\"\",\"\",AccountInfo!B891)","v":""},{"$nulls":7},"Check"]
[{"$f":"AccountInfo!$A892","v":890},{"$f":"IF(AccountInfo!$B892=\"\",\"\",AccountInfo!B892)","v":""},{"$nulls":7},"Check"]
[{"$f":"AccountInfo!$A893","v":891},{"$f":"IF(AccountInfo!$B893=\"\",\"\",AccountInfo!B893)","v":""},{"$nulls":7},"Check"]
[{"$f":"AccountInfo!$A894","v":892},{"$f":"IF(AccountInfo!$B894=\"\",\"\",AccountInfo!B894)","v":""},{"$nulls":7},"Check"]
[{"$f":"AccountInfo!$A895","v":893},{"$f":"IF(AccountInfo!$B895=\"\",\"\",AccountInfo!B895)","v":""},{"$nulls":7},"Check"]
[{"$f":"AccountInfo!$A896","v":894},{"$f":"IF(AccountInfo!$B896=\"\",\"\",AccountInfo!B896)","v":""},{"$nulls":7},"Check"]
[{"$f":"AccountInfo!$A897","v":895},{"$f":"IF(AccountInfo!$B897=\"\",\"\",AccountInfo!B897)","v":""},{"$nulls":7},"Check"]
[{"$f":"AccountInfo!$A898","v":896},{"$f":"IF(AccountInfo!$B898=\"\",\"\",AccountInfo!B898)","v":""},{"$nulls":7},"Check"]
[{"$f":"AccountInfo!$A899","v":897},{"$f":"IF(AccountInfo!$B899=\"\",\"\",AccountInfo!B899)","v":""},{"$nulls":7},"Check"]
[{"$f":"AccountInfo!$A900","v":898},{"$f":"IF(AccountInfo!$B900=\"\",\"\",AccountInfo!B900)","v":""},{"$nulls":7},{"$f":"IF(AND(D900<=E900, E900<=F900, F900<=G900, G900<=IF(H900=\"\", 1000000000000, H900)), \"Check\", \"Error\")","v":"Check"}]
[{"$f":"AccountInfo!$A901","v":899},{"$f":"IF(AccountInfo!$B901=\"\",\"\",AccountInfo!B901)","v":""},{"$nulls":7},"Check"]
[{"$f":"AccountInfo!$A902","v":900},{"$f":"IF(AccountInfo!$B902=\"\",\"\",AccountInfo!B902)","v":""},{"$nulls":7},"Check"]
[{"$f":"AccountInfo!$A903","v":901},{"$f":"IF(AccountInfo!$B903=\"\",\"\",AccountInfo!B903)","v":""},{"$nulls":7},"Check"]
[{"$f":"AccountInfo!$A904","v":902},{"$f":"IF(AccountInfo!$B904=\"\",\"\",AccountInfo!B904)","v":""},{"$nulls":7},"Check"]
[{"$f":"AccountInfo!$A905","v":903},{"$f":"IF(AccountInfo!$B905=\"\",\"\",AccountInfo!B905)","v":""},{"$nulls":7},"Check"]
[{"$f":"AccountInfo!$A906","v":904},{"$f":"IF(AccountInfo!$B906=\"\",\"\",AccountInfo!B906)","v":""},{"$nulls":7},"Check"]
[{"$f":"AccountInfo!$A907","v":905},{"$f":"IF(AccountInfo!$B907=\"\",\"\",AccountInfo!B907)","v":""},{"$nulls":7},"Check"]
[{"$f":"AccountInfo!$A908","v":906},{"$f":"IF(AccountInfo!$B908=\"\",\"\",AccountInfo!B908)","v":""},{"$nulls":7},"Check"]
[{"$f":"AccountInfo!$A909","v":907},{"$f":"IF(AccountInfo!$B909=\"\",\"\",AccountInfo!B909)","v":""},{"$nulls":7},"Check"]
[{"$f":"AccountInfo!$A910","v":908},{"$f":"IF(AccountInfo!$B910=\"\",\"\",AccountInfo!B910)","v":""},{"$nulls":7},"Check"]
[{"$f":"AccountInfo!$A911","v":909},{"$f":"IF(AccountInfo!$B911=\"\",\"\",AccountInfo!B911)","v":""},{"$nulls":7},"Check"]
[{"$f":"AccountInfo!$A912","v":910},{"$f":"IF(AccountInfo!$B912=\"\",\"\",AccountInfo!B912)","v":""},{"$nulls":7},"Check"]
[{"$f":"AccountInfo!$A913","v":911},{"$f":"IF(AccountInfo!$B913=\"\",\"\",AccountInfo!B913)","v":""},{"$nulls":7},"Check"]
[{"$f":"AccountInfo!$A914","v":912},{"$f":"IF(AccountInfo!$B914=\"\",\"\",AccountInfo!B914)","v":""},{"$nulls":7},"Check"]
[{"$f":"AccountInfo!$A915","v":913},{"$f":"IF(AccountInfo!$B915=\"\",\"\",AccountInfo!B915)","v":""},{"$nulls":7},"Check"]
[{"$f":"AccountInfo!$A916","v":914},{"$f":"IF(AccountInfo!$B916=\"\",\"\",AccountInfo!B916)","v":""},{"$nulls":7},"Check"]
[{"$f":"AccountInfo!$A917","v":915},{"$f":"IF(AccountInfo!$B917=\"\",\"\",AccountInfo!B917)","v":""},{"$nulls":7},"Check"]
[{"$f":"AccountInfo!$A918","v":916},{"$f":"IF(AccountInfo!$B918=\"\",\"\",AccountInfo!B918)","v":""},{"$nulls":7},"Check"]
[{"$f":"AccountInfo!$A919","v":917},{"$f":"IF(AccountInfo!$B919=\"\",\"\",AccountInfo!B919)","v":""},{"$nulls":7},"Check"]
[{"$f":"AccountInfo!$A920","v":918},{"$f":"IF(AccountInfo!$B920=\"\",\"\",AccountInfo!B920)","v":""},{"$nulls":7},"Check"]
[{"$f":"AccountInfo!$A921","v":919},{"$f":"IF(AccountInfo!$B921=\"\",\"\",AccountInfo!B921)","v":""},{"$nulls":7},"Check"]
[{"$f":"AccountInfo!$A922","v":920},{"$f":"IF(AccountInfo!$B922=\"\",\"\",AccountInfo!B922)","v":""},{"$nulls":7},"Check"]
[{"$f":"AccountInfo!$A923","v":921},{"$f":"IF(AccountInfo!$B923=\"\",\"\",AccountInfo!B923)","v":""},{"$nulls":7},"Check"]
[{"$f":"AccountInfo!$A924","v":922},{"$f":"IF(AccountInfo!$B924=\"\",\"\",AccountInfo!B924)","v":""},{"$nulls":7},"Check"]
[{"$f":"AccountInfo!$A925","v":923},{"$f":"IF(AccountInfo!$B925=\"\",\"\",AccountInfo!B925)","v":""},{"$nulls":7},"Check"]
[{"$f":"AccountInfo!$A926","v":924},{"$f":"IF(AccountInfo!$B926=\"\",\"\",AccountInfo!B926)","v":""},{"$nulls":7},"Check"]
[{"$f":"AccountInfo!$A927","v":925},{"$f":"IF(AccountInfo!$B927=\"\",\"\",AccountInfo!B927)","v":""},{"$nulls":7},"Check"]
[{"$f":"AccountInfo!$A928","v":926},{"$f":"IF(AccountInfo!$B928=\"\",\"\",AccountInfo!B928)","v":""},{"$nulls":7},"Check"]
[{"$f":"AccountInfo!$A929","v":927},{"$f":"IF(AccountInfo!$B929=\"\",\"\",AccountInfo!B929)","v":""},{"$nulls":7},"Check"]
[{"$f":"AccountInfo!$A930","v":928},{"$f":"IF(AccountInfo!$B930=\"\",\"\",AccountInfo!B930)","v":""},{"$nulls":7},"Check"]
[{"$f":"AccountInfo!$A931","v":929},{"$f":"IF(AccountInfo!$B931=\"\",\"\",AccountInfo!B931)","v":""},{"$nulls":7},"Check"]
[{"$f":"AccountInfo!$A932","v":930},{"$f":"IF(AccountInfo!$B932=\"\",\"\",AccountInfo!B932)","v":""},{"$nulls":7},"Check"]
[{"$f":"AccountInfo!$A933","v":931},{"$f":"IF(AccountInfo!$B933=\"\",\"\",AccountInfo!B933)","v":""},{"$nulls":7},"Check"]
[{"$f":"AccountInfo!$A934","v":932},{"$f":"IF(AccountInfo!$B934=\"\",\"\",AccountInfo!B934)","v":""},{"$nulls":7},"Check"]
[{"$f":"AccountInfo!$A935","v":933},{"$f":"IF(AccountInfo!$B935=\"\",\"\",AccountInfo!B935)","v":""},{"$nulls":7},"Check"]
[{"$f":"AccountInfo!$A936","v":934},{"$f":"IF(AccountInfo!$B936=\"\",\"\",AccountInfo!B936)","v":""},{"$nulls":7},"Check"]
[{"$f":"AccountInfo!$A937","v":935},{"$f":"IF(AccountInfo!$B937=\"\",\"\",AccountInfo!B937)","v":""},{"$nulls":7},"Check"]
[{"$f":"AccountInfo!$A938","v":936},{"$f":"IF(AccountInfo!$B938=\"\",\"\",AccountInfo!B938)","v":""},{"$nulls":7},"Check"]
[{"$f":"AccountInfo!$A939","v":937},{"$f":"IF(AccountInfo!$B939=\"\",\"\",AccountInfo!B939)","v":""},{"$nulls":7},"Check"]
[{"$f":"AccountInfo!$A940","v":938},{"$f":"IF(AccountInfo!$B940=\"\",\"\",AccountInfo!B940)","v":""},{"$nulls":7},"Check"]
[{"$f":"AccountInfo!$A941","v":939},{"$f":"IF(AccountInfo!$B941=\"\",\"\",AccountInfo!B941)","v":""},{"$nulls":7},"Check"]
[{"$f":"AccountInfo!$A942","v":940},{"$f":"IF(AccountInfo!$B942=\"\",\"\",AccountInfo!B942)","v":""},{"$nulls":7},"Check"]
[{"$f":"AccountInfo!$A943","v":941},{"$f":"IF(AccountInfo!$B943=\"\",\"\",AccountInfo!B943)","v":""},{"$nulls":7},"Check"]
[{"$f":"AccountInfo!$A944","v":942},{"$f":"IF(AccountInfo!$B944=\"\",\"\",AccountInfo!B944)","v":""},{"$nulls":7},"Check"]
[{"$f":"AccountInfo!$A945","v":943},{"$f":"IF(AccountInfo!$B945=\"\",\"\",AccountInfo!B945)","v":""},{"$nulls":7},"Check"]
[{"$f":"AccountInfo!$A946","v":944},{"$f":"IF(AccountInfo!$B946=\"\",\"\",AccountInfo!B946)","v":""},{"$nulls":7},"Check"]
[{"$f":"AccountInfo!$A947","v":945},{"$f":"IF(AccountInfo!$B947=\"\",\"\",AccountInfo!B947)","v":""},{"$nulls":7},"Check"]
[{"$f":"AccountInfo!$A948","v":946},{"$f":"IF(AccountInfo!$B948=\"\",\"\",AccountInfo!B948)","v":""},{"$nulls":7},"Check"]
[{"$f":"AccountInfo!$A949","v":947},{"$f":"IF(AccountInfo!$B949=\"\",\"\",AccountInfo!B949)","v":""},{"$nulls":7},"Check"]
[{"$f":"AccountInfo!$A950","v":948},{"$f":"IF(AccountInfo!$B950=\"\",\"\",AccountInfo!B950)","v":""},{"$nulls":7},"Check"]
[{"$f":"AccountInfo!$A951","v":949},{"$f":"IF(AccountInfo!$B951=\"\",\"\",AccountInfo!B951)","v":""},{"$nulls":7},"Check"]
[{"$f":"AccountInfo!$A952","v":950},{"$f":"IF(AccountInfo!$B952=\"\",\"\",AccountInfo!B952)","v":""},{"$nulls":7},"Check"]
[{"$f":"AccountInfo!$A953","v":951},{"$f":"IF(AccountInfo!$B953=\"\",\"\",AccountInfo!B953)","v":""},{"$nulls":7},"Check"]
[{"$f":"AccountInfo!$A954","v":952},{"$f":"IF(AccountInfo!$B954=\"\",\"\",AccountInfo!B954)","v":""},{"$nulls":7},"Check"]
[{"$f":"AccountInfo!$A955","v":953},{"$f":"IF(AccountInfo!$B955=\"\",\"\",AccountInfo!B955)","v":""},{"$nulls":7},"Check"]
[{"$f":"AccountInfo!$A956","v":954},{"$f":"IF(AccountInfo!$B956=\"\",\"\",AccountInfo!B956)","v":""},{"$nulls":7},"Check"]
[{"$f":"AccountInfo!$A957","v":955},{"$f":"IF(AccountInfo!$B957=\"\",\"\",AccountInfo!B957)","v":""},{"$nulls":7},"Check"]
[{"$f":"AccountInfo!$A958","v":956},{"$f":"IF(AccountInfo!$B958=\"\",\"\",AccountInfo!B958)","v":""},{"$nulls":7},"Check"]
[{"$f":"AccountInfo!$A959","v":957},{"$f":"IF(AccountInfo!$B959=\"\",\"\",AccountInfo!B959)","v":""},{"$nulls":7},"Check"]
[{"$f":"AccountInfo!$A960","v":958},{"$f":"IF(AccountInfo!$B960=\"\",\"\",AccountInfo!B960)","v":""},{"$nulls":7},"Check"]
[{"$f":"AccountInfo!$A961","v":959},{"$f":"IF(AccountInfo!$B961=\"\",\"\",AccountInfo!B961)","v":""},{"$nulls":7},"Check"]
[{"$f":"AccountInfo!$A962","v":960},{"$f":"IF(AccountInfo!$B962=\"\",\"\",AccountInfo!B962)","v":""},{"$nulls":7},"Check"]
[{"$f":"AccountInfo!$A963","v":961},{"$f":"IF(AccountInfo!$B963=\"\",\"\",AccountInfo!B963)","v":""},{"$nulls":7},"Check"]
[{"$f":"AccountInfo!$A964","v":962},{"$f":"IF(AccountInfo!$B964=\"\",\"\",AccountInfo!B964)","v":""},{"$nulls":7},{"$f":"IF(AND(D964<=E964, E964<=F964, F964<=G964, G964<=IF(H964=\"\", 1000000000000, H964)), \"Check\", \"Error\")","v":"Check"}]
[{"$f":"AccountInfo!$A965","v":963},{"$f":"IF(AccountInfo!$B965=\"\",\"\",AccountInfo!B965)","v":""},{"$nulls":7},"Check"]
[{"$f":"AccountInfo!$A966","v":964},{"$f":"IF(AccountInfo!$B966=\"\",\"\",AccountInfo!B966)","v":""},{"$nulls":7},"Check"]
[{"$f":"AccountInfo!$A967","v":965},{"$f":"IF(AccountInfo!$B967=\"\",\"\",AccountInfo!B967)","v":""},{"$nulls":7},"Check"]
[{"$f":"AccountInfo!$A968","v":966},{"$f":"IF(AccountInfo!$B968=\"\",\"\",AccountInfo!B968)","v":""},{"$nulls":7},"Check"]
[{"$f":"AccountInfo!$A969","v":967},{"$f":"IF(AccountInfo!$B969=\"\",\"\",AccountInfo!B969)","v":""},{"$nulls":7},"Check"]
[{"$f":"AccountInfo!$A970","v":968},{"$f":"IF(AccountInfo!$B970=\"\",\"\",AccountInfo!B970)","v":""},{"$nulls":7},"Check"]
[{"$f":"AccountInfo!$A971","v":969},{"$f":"IF(AccountInfo!$B971=\"\",\"\",AccountInfo!B971)","v":""},{"$nulls":7},"Check"]
[{"$f":"AccountInfo!$A972","v":970},{"$f":"IF(AccountInfo!$B972=\"\",\"\",AccountInfo!B972)","v":""},{"$nulls":7},"Check"]
[{"$f":"AccountInfo!$A973","v":971},{"$f":"IF(AccountInfo!$B973=\"\",\"\",AccountInfo!B973)","v":""},{"$nulls":7},"Check"]
[{"$f":"AccountInfo!$A974","v":972},{"$f":"IF(AccountInfo!$B974=\"\",\"\",AccountInfo!B974)","v":""},{"$nulls":7},"Check"]
[{"$f":"AccountInfo!$A975","v":973},{"$f":"IF(AccountInfo!$B975=\"\",\"\",AccountInfo!B975)","v":""},{"$nulls":7},"Check"]
[{"$f":"AccountInfo!$A976","v":974},{"$f":"IF(AccountInfo!$B976=\"\",\"\",AccountInfo!B976)","v":""},{"$nulls":7},"Check"]
[{"$f":"AccountInfo!$A977","v":975},{"$f":"IF(AccountInfo!$B977=\"\",\"\",AccountInfo!B977)","v":""},{"$nulls":7},"Check"]
[{"$f":"AccountInfo!$A978","v":976},{"$f":"IF(AccountInfo!$B978=\"\",\"\",AccountInfo!B978)","v":""},{"$nulls":7},"Check"]
[{"$f":"AccountInfo!$A979","v":977},{"$f":"IF(AccountInfo!$B979=\"\",\"\",AccountInfo!B979)","v":""},{"$nulls":7},"Check"]
[{"$f":"AccountInfo!$A980","v":978},{"$f":"IF(AccountInfo!$B980=\"\",\"\",AccountInfo!B980)","v":""},{"$nulls":7},"Check"]
[{"$f":"AccountInfo!$A981","v":979},{"$f":"IF(AccountInfo!$B981=\"\",\"\",AccountInfo!B981)","v":""},{"$nulls":7},"Check"]
[{"$f":"AccountInfo!$A982","v":980},{"$f":"IF(AccountInfo!$B982=\"\",\"\",AccountInfo!B982)","v":""},{"$nulls":7},"Check"]
[{"$f":"AccountInfo!$A983","v":981},{"$f":"IF(AccountInfo!$B983=\"\",\"\",AccountInfo!B983)","v":""},{"$nulls":7},"Check"]
[{"$f":"AccountInfo!$A984","v":982},{"$f":"IF(AccountInfo!$B984=\"\",\"\",AccountInfo!B984)","v":""},{"$nulls":7},"Check"]
[{"$f":"AccountInfo!$A985","v":983},{"$f":"IF(AccountInfo!$B985=\"\",\"\",AccountInfo!B985)","v":""},{"$nulls":7},"Check"]
[{"$f":"AccountInfo!$A986","v":984},{"$f":"IF(AccountInfo!$B986=\"\",\"\",AccountInfo!B986)","v":""},{"$nulls":7},"Check"]
[{"$f":"AccountInfo!$A987","v":985},{"$f":"IF(AccountInfo!$B987=\"\",\"\",AccountInfo!B987)","v":""},{"$nulls":7},"Check"]
[{"$f":"AccountInfo!$A988","v":986},{"$f":"IF(AccountInfo!$B988=\"\",\"\",AccountInfo!B988)","v":""},{"$nulls":7},"Check"]
[{"$f":"AccountInfo!$A989","v":987},{"$f":"IF(AccountInfo!$B989=\"\",\"\",AccountInfo!B989)","v":""},{"$nulls":7},"Check"]
[{"$f":"AccountInfo!$A990","v":988},{"$f":"IF(AccountInfo!$B990=\"\",\"\",AccountInfo!B990)","v":""},{"$nulls":7},"Check"]
[{"$f":"AccountInfo!$A991","v":989},{"$f":"IF(AccountInfo!$B991=\"\",\"\",AccountInfo!B991)","v":""},{"$nulls":7},"Check"]
[{"$f":"AccountInfo!$A992","v":990},{"$f":"IF(AccountInfo!$B992=\"\",\"\",AccountInfo!B992)","v":""},{"$nulls":7},"Check"]
[{"$f":"AccountInfo!$A993","v":991},{"$f":"IF(AccountInfo!$B993=\"\",\"\",AccountInfo!B993)","v":""},{"$nulls":7},"Check"]
[{"$f":"AccountInfo!$A994","v":992},{"$f":"IF(AccountInfo!$B994=\"\",\"\",AccountInfo!B994)","v":""},{"$nulls":7},"Check"]
[{"$f":"AccountInfo!$A995","v":993},{"$f":"IF(AccountInfo!$B995=\"\",\"\",AccountInfo!B995)","v":""},{"$nulls":7},"Check"]
[{"$f":"AccountInfo!$A996","v":994},{"$f":"IF(AccountInfo!$B996=\"\",\"\",AccountInfo!B996)","v":""},{"$nulls":7},"Check"]
[{"$f":"AccountInfo!$A997","v":995},{"$f":"IF(AccountInfo!$B997=\"\",\"\",AccountInfo!B997)","v":""},{"$nulls":7},"Check"]
[{"$f":"AccountInfo!$A998","v":996},{"$f":"IF(AccountInfo!$B998=\"\",\"\",AccountInfo!B998)","v":""},{"$nulls":7},"Check"]
[{"$f":"AccountInfo!$A999","v":997},{"$f":"IF(AccountInfo!$B999=\"\",\"\",AccountInfo!B999)","v":""},{"$nulls":7},"Check"]
[{"$f":"AccountInfo!$A1000","v":998},{"$f":"IF(AccountInfo!$B1000=\"\",\"\",AccountInfo!B1000)","v":""},{"$nulls":7},"Check"]
[{"$f":"AccountInfo!$A1001","v":999},{"$f":"IF(AccountInfo!$B1001=\"\",\"\",AccountInfo!B1001)","v":""},{"$nulls":7},"Check"]
[{"$f":"AccountInfo!$A1002","v":1000},{"$f":"IF(AccountInfo!$B1002=\"\",\"\",AccountInfo!B1002)","v":""},{"$nulls":7},"Check"]

{"sheet":"AwardDate","index":4,"n_rows":1002,"n_cols":14,"rows_kept":1002,"merged":[[0,2,0,8]]}
[null,null,"Award Date [date]",{"$nulls":6},"[days]","[number]"]
["Opp_ID",{"$f":"AccountInfo!B2","v":"Opp_Name"},"Reasons for Low","LowConstr",0.1,0.5,0.9,"HighConstr","Reasons for High","Terms","Payments","Check",null,"Instructions"]
[{"$f":"AccountInfo!$A3","v":1},{"$f":"IF(AccountInfo!$B3=\"\",\"\",AccountInfo!B3)","v":"Whiskers and Fleas"},null,"2017-01-01","2017-04-22","2017-05-17","2017-06-20",{"$f":"D3 + (365.246*10)","v":"2027-01-01T11:02:24"},null,30,4,{"$f":"IF(AND(D3<=E3, E3<=F3, F3<=G3, G3<=IF(H3=\"\", 1000000000000, H3)), \"Check\", \"Error\")","v":"Check"},null,"For a given opportunity, provide reasons for low values first."]
[{"$f":"AccountInfo!$A4","v":2},{"$f":"IF(AccountInfo!$B4=\"\",\"\",AccountInfo!B4)","v":"Cheddar Cheese"},null,"2017-01-01","2017-06-15","2017-07-01","2017-07-29",{"$f":"D4 + (365.246*10)","v":"2027-01-01T11:02:24"},null,45,4,{"$f":"IF(AND(D4<=E4, E4<=F4, F4<=G4, G4<=IF(H4=\"\", 1000000000000, H4)), \"Check\", \"Error\")","v":"Check"},null,"Provide reasons for high values."]
[{"$f":"AccountInfo!$A5","v":3},{"$f":"IF(AccountInfo!$B5=\"\",\"\",AccountInfo!B5)","v":"Abominable Snowman"},null,"2017-01-01","2017-07-24","2017-07-26","2017-08-06","2027-01-01T11:02:24",null,30,4,"Check",null,"Estimate the p10."]
[{"$f":"AccountInfo!$A6","v":4},{"$f":"IF(AccountInfo!$B6=\"\",\"\",AccountInfo!B6)","v":"Treason on the High Seas"},null,"2017-01-01","2017-08-20","2017-08-27","2017-09-11","2027-01-01T11:02:24",null,30,4,"Check",null,"Estimate the p90."]
[{"$f":"AccountInfo!$A7","v":5},{"$f":"IF(AccountInfo!$B7=\"\",\"\",AccountInfo!B7)","v":"Pinky and the Brain"},null,"2017-01-01","2017-09-11","2017-09-21","2017-09-30","2027-01-01T11:02:24",null,45,4,"Check",null,"Always estimate the p50 last, no exceptions."]
[{"$f":"AccountInfo!$A8","v":6},{"$f":"IF(AccountInfo!$B8=\"\",\"\",AccountInfo!B8)","v":"Clams and Mushrooms"},null,"2017-01-01","2017-10-07","2017-10-08","2017-10-15","2027-01-01T11:02:24",null,30,4,"Check",null,"If there is a required Min other than 0, enter that value; otherwise, leave the Required Min as 0."]
[{"$f":"AccountInfo!$A9","v":7},{"$f":"IF(AccountInfo!$B9=\"\",\"\",AccountInfo!B9)","v":"Concert at Red Rocks"},null,"2017-01-01","2017-12-08","2017-12-14","2017-12-23","2027-01-01T11:02:24",null,30,4,"Check",null,"If there is a required Max, enter that value; otherwise, leave the Required Max blank."]
[{"$f":"AccountInfo!$A10","v":8},{"$f":"IF(AccountInfo!$B10=\"\",\"\",AccountInfo!B10)","v":"Fast Times at Ridgemont High"},null,"2017-01-01","2018-02-02","2018-02-09","2018-03-10","2027-01-01T11:02:24",null,45,4,"Check",null,"The estimates should strictly follow Min<p10<p50<p90<Max."]
[{"$f":"AccountInfo!$A11","v":9},{"$f":"IF(AccountInfo!$B11=\"\",\"\",AccountInfo!B11)","v":"Monkey See Monkey Do"},null,"2017-01-01","2018-03-30","2018-04-24","2018-05-06","2027-01-01T11:02:24",null,30,4,"Check"]
[{"$f":"AccountInfo!$A12","v":10},{"$f":"IF(AccountInfo!$B12=\"\",\"\",AccountInfo!B12)","v":"Mine Eyes Have Seen the Glory"},null,"2017-01-01","2018-05-14","2018-05-23","2018-06-05","2027-01-01T11:02:24",null,30,4,"Check"]
[{"$f":"AccountInfo!$A13","v":11},{"$f":"IF(AccountInfo!$B13=\"\",\"\",AccountInfo!B13)","v":"Punky Brewster Lives"},null,"2017-01-01","2018-07-01","2018-07-04","2018-07-24","2027-01-01T11:02:24",null,30,4,"Check"]
[{"$f":"AccountInfo!$A14","v":12},{"$f":"IF(AccountInfo!$B14=\"\",\"\",AccountInfo!B14)","v":"Live at the Magic Kingdom"},null,"2017-01-01","2018-08-18","2018-09-08","2018-10-12","2027-01-01T11:02:24",null,30,4,"Check"]
[{"$f":"AccountInfo!$A15","v":13},{"$f":"IF(AccountInfo!$B15=\"\",\"\",AccountInfo!B15)","v":"House Music"},null,"2017-01-01","2017-05-22","2017-06-22","2017-07-22","2027-01-01T11:02:24",null,30,4,"Check"]
[{"$f":"AccountInfo!$A16","v":14},{"$f":"IF(AccountInfo!$B16=\"\",\"\",AccountInfo!B16)","v":"Kindle Fire Truck"},null,"2017-01-01","2017-05-22","2017-06-22","2017-07-22","2027-01-01T11:02:24",null,30,4,"Check"]
[{"$f":"AccountInfo!$A17","v":15},{"$f":"IF(AccountInfo!$B17=\"\",\"\",AccountInfo!B17)","v":""},{"$nulls":9},"Check"]
[{"$f":"AccountInfo!$A18","v":16},{"$f":"IF(AccountInfo!$B18=\"\",\"\",AccountInfo!B18)","v":""},{"$nulls":9},"Check"]
[{"$f":"AccountInfo!$A19","v":17},{"$f":"IF(AccountInfo!$B19=\"\",\"\",AccountInfo!B19)","v":""},{"$nulls":9},"Check"]
[{"$f":"AccountInfo!$A20","v":18},{"$f":"IF(AccountInfo!$B20=\"\",\"\",AccountInfo!B20)","v":""},{"$nulls":9},"Check"]
[{"$f":"AccountInfo!$A21","v":19},{"$f":"IF(AccountInfo!$B21=\"\",\"\",AccountInfo!B21)","v":""},{"$nulls":9},"Check"]
[{"$f":"AccountInfo!$A22","v":20},{"$f":"IF(AccountInfo!$B22=\"\",\"\",AccountInfo!B22)","v":""},{"$nulls":9},"Check"]
[{"$f":"AccountInfo!$A23","v":21},{"$f":"IF(AccountInfo!$B23=\"\",\"\",AccountInfo!B23)","v":""},{"$nulls":9},"Check"]
[{"$f":"AccountInfo!$A24","v":22},{"$f":"IF(AccountInfo!$B24=\"\",\"\",AccountInfo!B24)","v":""},{"$nulls":9},"Check"]
[{"$f":"AccountInfo!$A25","v":23},{"$f":"IF(AccountInfo!$B25=\"\",\"\",AccountInfo!B25)","v":""},{"$nulls":9},"Check"]
[{"$f":"AccountInfo!$A26","v":24},{"$f":"IF(AccountInfo!$B26=\"\",\"\",AccountInfo!B26)","v":""},{"$nulls":9},"Check"]
[{"$f":"AccountInfo!$A27","v":25},{"$f":"IF(AccountInfo!$B27=\"\",\"\",AccountInfo!B27)","v":""},{"$nulls":9},"Check"]
[{"$f":"AccountInfo!$A28","v":26},{"$f":"IF(AccountInfo!$B28=\"\",\"\",AccountInfo!B28)","v":""},{"$nulls":9},"Check"]
[{"$f":"AccountInfo!$A29","v":27},{"$f":"IF(AccountInfo!$B29=\"\",\"\",AccountInfo!B29)","v":""},{"$nulls":9},"Check"]
[{"$f":"AccountInfo!$A30","v":28},{"$f":"IF(AccountInfo!$B30=\"\",\"\",AccountInfo!B30)","v":""},{"$nulls":9},"Check"]
[{"$f":"AccountInfo!$A31","v":29},{"$f":"IF(AccountInfo!$B31=\"\",\"\",AccountInfo!B31)","v":""},{"$nulls":9},"Check"]
[{"$f":"AccountInfo!$A32","v":30},{"$f":"IF(AccountInfo!$B32=\"\",\"\",AccountInfo!B32)","v":""},{"$nulls":9},"Check"]
[{"$f":"AccountInfo!$A33","v":31},{"$f":"IF(AccountInfo!$B33=\"\",\"\",AccountInfo!B33)","v":""},{"$nulls":9},"Check"]
[{"$f":"AccountInfo!$A34","v":32},{"$f":"IF(AccountInfo!$B34=\"\",\"\",AccountInfo!B34)","v":""},{"$nulls":9},"Check"]
[{"$f":"AccountInfo!$A35","v":33},{"$f":"IF(AccountInfo!$B35=\"\",\"\",AccountInfo!B35)","v":""},{"$nulls":9},"Check"]
[{"$f":"AccountInfo!$A36","v":34},{"$f":"IF(AccountInfo!$B36=\"\",\"\",AccountInfo!B36)","v":""},{"$nulls":9},"Check"]
[{"$f":"AccountInfo!$A37","v":35},{"$f":"IF(AccountInfo!$B37=\"\",\"\",AccountInfo!B37)","v":""},{"$nulls":9},"Check"]
[{"$f":"AccountInfo!$A38","v":36},{"$f":"IF(AccountInfo!$B38=\"\",\"\",AccountInfo!B38)","v":""},{"$nulls":9},"Check"]
[{"$f":"AccountInfo!$A39","v":37},{"$f":"IF(AccountInfo!$B39=\"\",\"\",AccountInfo!B39)","v":""},{"$nulls":9},"Check"]
[{"$f":"AccountInfo!$A40","v":38},{"$f":"IF(AccountInfo!$B40=\"\",\"\",AccountInfo!B40)","v":""},{"$nulls":9},"Check"]
[{"$f":"AccountInfo!$A41","v":39},{"$f":"IF(AccountInfo!$B41=\"\",\"\",AccountInfo!B41)","v":""},{"$nulls":9},"Check"]
[{"$f":"AccountInfo!$A42","v":40},{"$f":"IF(AccountInfo!$B42=\"\",\"\",AccountInfo!B42)","v":""},{"$nulls":9},"Check"]
[{"$f":"AccountInfo!$A43","v":41},{"$f":"IF(AccountInfo!$B43=\"\",\"\",AccountInfo!B43)","v":""},{"$nulls":9},"Check"]
[{"$f":"AccountInfo!$A44","v":42},{"$f":"IF(AccountInfo!$B44=\"\",\"\",AccountInfo!B44)","v":""},{"$nulls":9},"Check"]
[{"$f":"AccountInfo!$A45","v":43},{"$f":"IF(AccountInfo!$B45=\"\",\"\",AccountInfo!B45)","v":""},{"$nulls":9},"Check"]
[{"$f":"AccountInfo!$A46","v":44},{"$f":"IF(AccountInfo!$B46=\"\",\"\",AccountInfo!B46)","v":""},{"$nulls":9},"Check"]
[{"$f":"AccountInfo!$A47","v":45},{"$f":"IF(AccountInfo!$B47=\"\",\"\",AccountInfo!B47)","v":""},{"$nulls":9},"Check"]
[{"$f":"AccountInfo!$A48","v":46},{"$f":"IF(AccountInfo!$B48=\"\",\"\",AccountInfo!B48)","v":""},{"$nulls":9},"Check"]
[{"$f":"AccountInfo!$A49","v":47},{"$f":"IF(AccountInfo!$B49=\"\",\"\",AccountInfo!B49)","v":""},{"$nulls":9},"Check"]
[{"$f":"AccountInfo!$A50","v":48},{"$f":"IF(AccountInfo!$B50=\"\",\"\",AccountInfo!B50)","v":""},{"$nulls":9},"Check"]
[{"$f":"AccountInfo!$A51","v":49},{"$f":"IF(AccountInfo!$B51=\"\",\"\",AccountInfo!B51)","v":""},{"$nulls":9},"Check"]
[{"$f":"AccountInfo!$A52","v":50},{"$f":"IF(AccountInfo!$B52=\"\",\"\",AccountInfo!B52)","v":""},{"$nulls":9},"Check"]
[{"$f":"AccountInfo!$A53","v":51},{"$f":"IF(AccountInfo!$B53=\"\",\"\",AccountInfo!B53)","v":""},{"$nulls":9},"Check"]
[{"$f":"AccountInfo!$A54","v":52},{"$f":"IF(AccountInfo!$B54=\"\",\"\",AccountInfo!B54)","v":""},{"$nulls":9},"Check"]
[{"$f":"AccountInfo!$A55","v":53},{"$f":"IF(AccountInfo!$B55=\"\",\"\",AccountInfo!B55)","v":""},{"$nulls":9},"Check"]
[{"$f":"AccountInfo!$A56","v":54},{"$f":"IF(AccountInfo!$B56=\"\",\"\",AccountInfo!B56)","v":""},{"$nulls":9},"Check"]
[{"$f":"AccountInfo!$A57","v":55},{"$f":"IF(AccountInfo!$B57=\"\",\"\",AccountInfo!B57)","v":""},{"$nulls":9},"Check"]
[{"$f":"AccountInfo!$A58","v":56},{"$f":"IF(AccountInfo!$B58=\"\",\"\",AccountInfo!B58)","v":""},{"$nulls":9},"Check"]
[{"$f":"AccountInfo!$A59","v":57},{"$f":"IF(AccountInfo!$B59=\"\",\"\",AccountInfo!B59)","v":""},{"$nulls":9},"Check"]
[{"$f":"AccountInfo!$A60","v":58},{"$f":"IF(AccountInfo!$B60=\"\",\"\",AccountInfo!B60)","v":""},{"$nulls":9},"Check"]
[{"$f":"AccountInfo!$A61","v":59},{"$f":"IF(AccountInfo!$B61=\"\",\"\",AccountInfo!B61)","v":""},{"$nulls":9},"Check"]
[{"$f":"AccountInfo!$A62","v":60},{"$f":"IF(AccountInfo!$B62=\"\",\"\",AccountInfo!B62)","v":""},{"$nulls":9},"Check"]
[{"$f":"AccountInfo!$A63","v":61},{"$f":"IF(AccountInfo!$B63=\"\",\"\",AccountInfo!B63)","v":""},{"$nulls":9},"Check"]
[{"$f":"AccountInfo!$A64","v":62},{"$f":"IF(AccountInfo!$B64=\"\",\"\",AccountInfo!B64)","v":""},{"$nulls":9},"Check"]
[{"$f":"AccountInfo!$A65","v":63},{"$f":"IF(AccountInfo!$B65=\"\",\"\",AccountInfo!B65)","v":""},{"$nulls":9},"Check"]
[{"$f":"AccountInfo!$A66","v":64},{"$f":"IF(AccountInfo!$B66=\"\",\"\",AccountInfo!B66)","v":""},{"$nulls":9},"Check"]
[{"$f":"AccountInfo!$A67","v":65},{"$f":"IF(AccountInfo!$B67=\"\",\"\",AccountInfo!B67)","v":""},{"$nulls":9},"Check"]
[{"$f":"AccountInfo!$A68","v":66},{"$f":"IF(AccountInfo!$B68=\"\",\"\",AccountInfo!B68)","v":""},{"$nulls":9},{"$f":"IF(AND(D68<=E68, E68<=F68, F68<=G68, G68<=IF(H68=\"\", 1000000000000, H68)), \"Check\", \"Error\")","v":"Check"}]
[{"$f":"AccountInfo!$A69","v":67},{"$f":"IF(AccountInfo!$B69=\"\",\"\",AccountInfo!B69)","v":""},{"$nulls":9},"Check"]
[{"$f":"AccountInfo!$A70","v":68},{"$f":"IF(AccountInfo!$B70=\"\",\"\",AccountInfo!B70)","v":""},{"$nulls":9},"Check"]
[{"$f":"AccountInfo!$A71","v":69},{"$f":"IF(AccountInfo!$B71=\"\",\"\",AccountInfo!B71)","v":""},{"$nulls":9},"Check"]
[{"$f":"AccountInfo!$A72","v":70},{"$f":"IF(AccountInfo!$B72=\"\",\"\",AccountInfo!B72)","v":""},{"$nulls":9},"Check"]
[{"$f":"AccountInfo!$A73","v":71},{"$f":"IF(AccountInfo!$B73=\"\",\"\",AccountInfo!B73)","v":""},{"$nulls":9},"Check"]
[{"$f":"AccountInfo!$A74","v":72},{"$f":"IF(AccountInfo!$B74=\"\",\"\",AccountInfo!B74)","v":""},{"$nulls":9},"Check"]
[{"$f":"AccountInfo!$A75","v":73},{"$f":"IF(AccountInfo!$B75=\"\",\"\",AccountInfo!B75)","v":""},{"$nulls":9},"Check"]
[{"$f":"AccountInfo!$A76","v":74},{"$f":"IF(AccountInfo!$B76=\"\",\"\",AccountInfo!B76)","v":""},{"$nulls":9},"Check"]
[{"$f":"AccountInfo!$A77","v":75},{"$f":"IF(AccountInfo!$B77=\"\",\"\",AccountInfo!B77)","v":""},{"$nulls":9},"Check"]
[{"$f":"AccountInfo!$A78","v":76},{"$f":"IF(AccountInfo!$B78=\"\",\"\",AccountInfo!B78)","v":""},{"$nulls":9},"Check"]
[{"$f":"AccountInfo!$A79","v":77},{"$f":"IF(AccountInfo!$B79=\"\",\"\",AccountInfo!B79)","v":""},{"$nulls":9},"Check"]
[{"$f":"AccountInfo!$A80","v":78},{"$f":"IF(AccountInfo!$B80=\"\",\"\",AccountInfo!B80)","v":""},{"$nulls":9},"Check"]
[{"$f":"AccountInfo!$A81","v":79},{"$f":"IF(AccountInfo!$B81=\"\",\"\",AccountInfo!B81)","v":""},{"$nulls":9},"Check"]
[{"$f":"AccountInfo!$A82","v":80},{"$f":"IF(AccountInfo!$B82=\"\",\"\",AccountInfo!B82)","v":""},{"$nulls":9},"Check"]
[{"$f":"AccountInfo!$A83","v":81},{"$f":"IF(AccountInfo!$B83=\"\",\"\",AccountInfo!B83)","v":""},{"$nulls":9},"Check"]
[{"$f":"AccountInfo!$A84","v":82},{"$f":"IF(AccountInfo!$B84=\"\",\"\",AccountInfo!B84)","v":""},{"$nulls":9},"Check"]
[{"$f":"AccountInfo!$A85","v":83},{"$f":"IF(AccountInfo!$B85=\"\",\"\",AccountInfo!B85)","v":""},{"$nulls":9},"Check"]
[{"$f":"AccountInfo!$A86","v":84},{"$f":"IF(AccountInfo!$B86=\"\",\"\",AccountInfo!B86)","v":""},{"$nulls":9},"Check"]
[{"$f":"AccountInfo!$A87","v":85},{"$f":"IF(AccountInfo!$B87=\"\",\"\",AccountInfo!B87)","v":""},{"$nulls":9},"Check"]
[{"$f":"AccountInfo!$A88","v":86},{"$f":"IF(AccountInfo!$B88=\"\",\"\",AccountInfo!B88)","v":""},{"$nulls":9},"Check"]
[{"$f":"AccountInfo!$A89","v":87},{"$f":"IF(AccountInfo!$B89=\"\",\"\",AccountInfo!B89)","v":""},{"$nulls":9},"Check"]
[{"$f":"AccountInfo!$A90","v":88},{"$f":"IF(AccountInfo!$B90=\"\",\"\",AccountInfo!B90)","v":""},{"$nulls":9},"Check"]
[{"$f":"AccountInfo!$A91","v":89},{"$f":"IF(AccountInfo!$B91=\"\",\"\",AccountInfo!B91)","v":""},{"$nulls":9},"Check"]
[{"$f":"AccountInfo!$A92","v":90},{"$f":"IF(AccountInfo!$B92=\"\",\"\",AccountInfo!B92)","v":""},{"$nulls":9},"Check"]
[{"$f":"AccountInfo!$A93","v":91},{"$f":"IF(AccountInfo!$B93=\"\",\"\",AccountInfo!B93)","v":""},{"$nulls":9},"Check"]
[{"$f":"AccountInfo!$A94","v":92},{"$f":"IF(AccountInfo!$B94=\"\",\"\",AccountInfo!B94)","v":""},{"$nulls":9},"Check"]
[{"$f":"AccountInfo!$A95","v":93},{"$f":"IF(AccountInfo!$B95=\"\",\"\",AccountInfo!B95)","v":""},{"$nulls":9},"Check"]
[{"$f":"AccountInfo!$A96","v":94},{"$f":"IF(AccountInfo!$B96=\"\",\"\",AccountInfo!B96)","v":""},{"$nulls":9},"Check"]
[{"$f":"AccountInfo!$A97","v":95},{"$f":"IF(AccountInfo!$B97=\"\",\"\",AccountInfo!B97)","v":""},{"$nulls":9},"Check"]
[{"$f":"AccountInfo!$A98","v":96},{"$f":"IF(AccountInfo!$B98=\"\",\"\",AccountInfo!B98)","v":""},{"$nulls":9},"Check"]
[{"$f":"AccountInfo!$A99","v":97},{"$f":"IF(AccountInfo!$B99=\"\",\"\",AccountInfo!B99)","v":""},{"$nulls":9},"Check"]
[{"$f":"AccountInfo!$A100","v":98},{"$f":"IF(AccountInfo!$B100=\"\",\"\",AccountInfo!B100)","v":""},{"$nulls":9},"Check"]
[{"$f":"AccountInfo!$A101","v":99},{"$f":"IF(AccountInfo!$B101=\"\",\"\",AccountInfo!B101)","v":""},{"$nulls":9},"Check"]
[{"$f":"AccountInfo!$A102","v":100},{"$f":"IF(AccountInfo!$B102=\"\",\"\",AccountInfo!B102)","v":""},{"$nulls":9},"Check"]
[{"$f":"AccountInfo!$A103","v":101},{"$f":"IF(AccountInfo!$B103=\"\",\"\",AccountInfo!B103)","v":""},{"$nulls":9},"Check"]
[{"$f":"AccountInfo!$A104","v":102},{"$f":"IF(AccountInfo!$B104=\"\",\"\",AccountInfo!B104)","v":""},{"$nulls":9},"Check"]
[{"$f":"AccountInfo!$A105","v":103},{"$f":"IF(AccountInfo!$B105=\"\",\"\",AccountInfo!B105)","v":""},{"$nulls":9},"Check"]
[{"$f":"AccountInfo!$A106","v":104},{"$f":"IF(AccountInfo!$B106=\"\",\"\",AccountInfo!B106)","v":""},{"$nulls":9},"Check"]
[{"$f":"AccountInfo!$A107","v":105},{"$f":"IF(AccountInfo!$B107=\"\",\"\",AccountInfo!B107)","v":""},{"$nulls":9},"Check"]
[{"$f":"AccountInfo!$A108","v":106},{"$f":"IF(AccountInfo!$B108=\"\",\"\",AccountInfo!B108)","v":""},{"$nulls":9},"Check"]
[{"$f":"AccountInfo!$A109","v":107},{"$f":"IF(AccountInfo!$B109=\"\",\"\",AccountInfo!B109)","v":""},{"$nulls":9},"Check"]
[{"$f":"AccountInfo!$A110","v":108},{"$f":"IF(AccountInfo!$B110=\"\",\"\",AccountInfo!B110)","v":""},{"$nulls":9},"Check"]
[{"$f":"AccountInfo!$A111","v":109},{"$f":"IF(AccountInfo!$B111=\"\",\"\",AccountInfo!B111)","v":""},{"$nulls":9},"Check"]
[{"$f":"AccountInfo!$A112","v":110},{"$f":"IF(AccountInfo!$B112=\"\",\"\",AccountInfo!B112)","v":""},{"$nulls":9},"Check"]
[{"$f":"AccountInfo!$A113","v":111},{"$f":"IF(AccountInfo!$B113=\"\",\"\",AccountInfo!B113)","v":""},{"$nulls":9},"Check"]
[{"$f":"AccountInfo!$A114","v":112},{"$f":"IF(AccountInfo!$B114=\"\",\"\",AccountInfo!B114)","v":""},{"$nulls":9},"Check"]
[{"$f":"AccountInfo!$A115","v":113},{"$f":"IF(AccountInfo!$B115=\"\",\"\",AccountInfo!B115)","v":""},{"$nulls":9},"Check"]
[{"$f":"AccountInfo!$A116","v":114},{"$f":"IF(AccountInfo!$B116=\"\",\"\",AccountInfo!B116)","v":""},{"$nulls":9},"Check"]
[{"$f":"AccountInfo!$A117","v":115},{"$f":"IF(AccountInfo!$B117=\"\",\"\",AccountInfo!B117)","v":""},{"$nulls":9},"Check"]
[{"$f":"AccountInfo!$A118","v":116},{"$f":"IF(AccountInfo!$B118=\"\",\"\",AccountInfo!B118)","v":""},{"$nulls":9},"Check"]
[{"$f":"AccountInfo!$A119","v":117},{"$f":"IF(AccountInfo!$B119=\"\",\"\",AccountInfo!B119)","v":""},{"$nulls":9},"Check"]
[{"$f":"AccountInfo!$A120","v":118},{"$f":"IF(AccountInfo!$B120=\"\",\"\",AccountInfo!B120)","v":""},{"$nulls":9},"Check"]
[{"$f":"AccountInfo!$A121","v":119},{"$f":"IF(AccountInfo!$B121=\"\",\"\",AccountInfo!B121)","v":""},{"$nulls":9},"Check"]
[{"$f":"AccountInfo!$A122","v":120},{"$f":"IF(AccountInfo!$B122=\"\",\"\",AccountInfo!B122)","v":""},{"$nulls":9},"Check"]
[{"$f":"AccountInfo!$A123","v":121},{"$f":"IF(AccountInfo!$B123=\"\",\"\",AccountInfo!B123)","v":""},{"$nulls":9},"Check"]
[{"$f":"AccountInfo!$A124","v":122},{"$f":"IF(AccountInfo!$B124=\"\",\"\",AccountInfo!B124)","v":""},{"$nulls":9},"Check"]
[{"$f":"AccountInfo!$A125","v":123},{"$f":"IF(AccountInfo!$B125=\"\",\"\",AccountInfo!B125)","v":""},{"$nulls":9},"Check"]
[{"$f":"AccountInfo!$A126","v":124},{"$f":"IF(AccountInfo!$B126=\"\",\"\",AccountInfo!B126)","v":""},{"$nulls":9},"Check"]
[{"$f":"AccountInfo!$A127","v":125},{"$f":"IF(AccountInfo!$B127=\"\",\"\",AccountInfo!B127)","v":""},{"$nulls":9},"Check"]
[{"$f":"AccountInfo!$A128","v":126},{"$f":"IF(AccountInfo!$B128=\"\",\"\",AccountInfo!B128)","v":""},{"$nulls":9},"Check"]
[{"$f":"AccountInfo!$A129","v":127},{"$f":"IF(AccountInfo!$B129=\"\",\"\",AccountInfo!B129)","v":""},{"$nulls":9},"Check"]
[{"$f":"AccountInfo!$A130","v":128},{"$f":"IF(AccountInfo!$B130=\"\",\"\",AccountInfo!B130)","v":""},{"$nulls":9},"Check"]
[{"$f":"AccountInfo!$A131","v":129},{"$f":"IF(AccountInfo!$B131=\"\",\"\",AccountInfo!B131)","v":""},{"$nulls":9},"Check"]
[{"$f":"AccountInfo!$A132","v":130},{"$f":"IF(AccountInfo!$B132=\"\",\"\",AccountInfo!B132)","v":""},{"$nulls":9},{"$f":"IF(AND(D132<=E132, E132<=F132, F132<=G132, G132<=IF(H132=\"\", 1000000000000, H132)), \"Check\", \"Error\")","v":"Check"}]
[{"$f":"AccountInfo!$A133","v":131},{"$f":"IF(AccountInfo!$B133=\"\",\"\",AccountInfo!B133)","v":""},{"$nulls":9},"Check"]
[{"$f":"AccountInfo!$A134","v":132},{"$f":"IF(AccountInfo!$B134=\"\",\"\",AccountInfo!B134)","v":""},{"$nulls":9},"Check"]
[{"$f":"AccountInfo!$A135","v":133},{"$f":"IF(AccountInfo!$B135=\"\",\"\",AccountInfo!B135)","v":""},{"$nulls":9},"Check"]
[{"$f":"AccountInfo!$A136","v":134},{"$f":"IF(AccountInfo!$B136=\"\",\"\",AccountInfo!B136)","v":""},{"$nulls":9},"Check"]
[{"$f":"AccountInfo!$A137","v":135},{"$f":"IF(AccountInfo!$B137=\"\",\"\",AccountInfo!B137)","v":""},{"$nulls":9},"Check"]
[{"$f":"AccountInfo!$A138","v":136},{"$f":"IF(AccountInfo!$B138=\"\",\"\",AccountInfo!B138)","v":""},{"$nulls":9},"Check"]
[{"$f":"AccountInfo!$A139","v":137},{"$f":"IF(AccountInfo!$B139=\"\",\"\",AccountInfo!B139)","v":""},{"$nulls":9},"Check"]
[{"$f":"AccountInfo!$A140","v":138},{"$f":"IF(AccountInfo!$B140=\"\",\"\",AccountInfo!B140)","v":""},{"$nulls":9},"Check"]
[{"$f":"AccountInfo!$A141","v":139},{"$f":"IF(AccountInfo!$B141=\"\",\"\",AccountInfo!B141)","v":""},{"$nulls":9},"Check"]
[{"$f":"AccountInfo!$A142","v":140},{"$f":"IF(AccountInfo!$B142=\"\",\"\",AccountInfo!B142)","v":""},{"$nulls":9},"Check"]
[{"$f":"AccountInfo!$A143","v":141},{"$f":"IF(AccountInfo!$B143=\"\",\"\",AccountInfo!B143)","v":""},{"$nulls":9},"Check"]
[{"$f":"AccountInfo!$A144","v":142},{"$f":"IF(AccountInfo!$B144=\"\",\"\",AccountInfo!B144)","v":""},{"$nulls":9},"Check"]
[{"$f":"AccountInfo!$A145","v":143},{"$f":"IF(AccountInfo!$B145=\"\",\"\",AccountInfo!B145)","v":""},{"$nulls":9},"Check"]
[{"$f":"AccountInfo!$A146","v":144},{"$f":"IF(AccountInfo!$B146=\"\",\"\",AccountInfo!B146)","v":""},{"$nulls":9},"Check"]
[{"$f":"AccountInfo!$A147","v":145},{"$f":"IF(AccountInfo!$B147=\"\",\"\",AccountInfo!B147)","v":""},{"$nulls":9},"Check"]
[{"$f":"AccountInfo!$A148","v":146},{"$f":"IF(AccountInfo!$B148=\"\",\"\",AccountInfo!B148)","v":""},{"$nulls":9},"Check"]
[{"$f":"AccountInfo!$A149","v":147},{"$f":"IF(AccountInfo!$B149=\"\",\"\",AccountInfo!B149)","v":""},{"$nulls":9},"Check"]
[{"$f":"AccountInfo!$A150","v":148},{"$f":"IF(AccountInfo!$B150=\"\",\"\",AccountInfo!B150)","v":""},{"$nulls":9},"Check"]
[{"$f":"AccountInfo!$A151","v":149},{"$f":"IF(AccountInfo!$B151=\"\",\"\",AccountInfo!B151)","v":""},{"$nulls":9},"Check"]
[{"$f":"AccountInfo!$A152","v":150},{"$f":"IF(AccountInfo!$B152=\"\",\"\",AccountInfo!B152)","v":""},{"$nulls":9},"Check"]
[{"$f":"AccountInfo!$A153","v":151},{"$f":"IF(AccountInfo!$B153=\"\",\"\",AccountInfo!B153)","v":""},{"$nulls":9},"Check"]
[{"$f":"AccountInfo!$A154","v":152},{"$f":"IF(AccountInfo!$B154=\"\",\"\",AccountInfo!B154)","v":""},{"$nulls":9},"Check"]
[{"$f":"AccountInfo!$A155","v":153},{"$f":"IF(AccountInfo!$B155=\"\",\"\",AccountInfo!B155)","v":""},{"$nulls":9},"Check"]
[{"$f":"AccountInfo!$A156","v":154},{"$f":"IF(AccountInfo!$B156=\"\",\"\",AccountInfo!B156)","v":""},{"$nulls":9},"Check"]
[{"$f":"AccountInfo!$A157","v":155},{"$f":"IF(AccountInfo!$B157=\"\",\"\",AccountInfo!B157)","v":""},{"$nulls":9},"Check"]
[{"$f":"AccountInfo!$A158","v":156},{"$f":"IF(AccountInfo!$B158=\"\",\"\",AccountInfo!B158)","v":""},{"$nulls":9},"Check"]
[{"$f":"AccountInfo!$A159","v":157},{"$f":"IF(AccountInfo!$B159=\"\",\"\",AccountInfo!B159)","v":""},{"$nulls":9},"Check"]
[{"$f":"AccountInfo!$A160","v":158},{"$f":"IF(AccountInfo!$B160=\"\",\"\",AccountInfo!B160)","v":""},{"$nulls":9},"Check"]
[{"$f":"AccountInfo!$A161","v":159},{"$f":"IF(AccountInfo!$B161=\"\",\"\",AccountInfo!B161)","v":""},{"$nulls":9},"Check"]
[{"$f":"AccountInfo!$A162","v":160},{"$f":"IF(AccountInfo!$B162=\"\",\"\",AccountInfo!B162)","v":""},{"$nulls":9},"Check"]
[{"$f":"AccountInfo!$A163","v":161},{"$f":"IF(AccountInfo!$B163=\"\",\"\",AccountInfo!B163)","v":""},{"$nulls":9},"Check"]
[{"$f":"AccountInfo!$A164","v":162},{"$f":"IF(AccountInfo!$B164=\"\",\"\",AccountInfo!B164)","v":""},{"$nulls":9},"Check"]
[{"$f":"AccountInfo!$A165","v":163},{"$f":"IF(AccountInfo!$B165=\"\",\"\",AccountInfo!B165)","v":""},{"$nulls":9},"Check"]
[{"$f":"AccountInfo!$A166","v":164},{"$f":"IF(AccountInfo!$B166=\"\",\"\",AccountInfo!B166)","v":""},{"$nulls":9},"Check"]
[{"$f":"AccountInfo!$A167","v":165},{"$f":"IF(AccountInfo!$B167=\"\",\"\",AccountInfo!B167)","v":""},{"$nulls":9},"Check"]
[{"$f":"AccountInfo!$A168","v":166},{"$f":"IF(AccountInfo!$B168=\"\",\"\",AccountInfo!B168)","v":""},{"$nulls":9},"Check"]
[{"$f":"AccountInfo!$A169","v":167},{"$f":"IF(AccountInfo!$B169=\"\",\"\",AccountInfo!B169)","v":""},{"$nulls":9},"Check"]
[{"$f":"AccountInfo!$A170","v":168},{"$f":"IF(AccountInfo!$B170=\"\",\"\",AccountInfo!B170)","v":""},{"$nulls":9},"Check"]
[{"$f":"AccountInfo!$A171","v":169},{"$f":"IF(AccountInfo!$B171=\"\",\"\",AccountInfo!B171)","v":""},{"$nulls":9},"Check"]
[{"$f":"AccountInfo!$A172","v":170},{"$f":"IF(AccountInfo!$B172=\"\",\"\",AccountInfo!B172)","v":""},{"$nulls":9},"Check"]
[{"$f":"AccountInfo!$A173","v":171},{"$f":"IF(AccountInfo!$B173=\"\",\"\",AccountInfo!B173)","v":""},{"$nulls":9},"Check"]
[{"$f":"AccountInfo!$A174","v":172},{"$f":"IF(AccountInfo!$B174=\"\",\"\",AccountInfo!B174)","v":""},{"$nulls":9},"Check"]
[{"$f":"AccountInfo!$A175","v":173},{"$f":"IF(AccountInfo!$B175=\"\",\"\",AccountInfo!B175)","v":""},{"$nulls":9},"Check"]
[{"$f":"AccountInfo!$A176","v":174},{"$f":"IF(AccountInfo!$B176=\"\",\"\",AccountInfo!B176)","v":""},{"$nulls":9},"Check"]
[{"$f":"AccountInfo!$A177","v":175},{"$f":"IF(AccountInfo!$B177=\"\",\"\",AccountInfo!B177)","v":""},{"$nulls":9},"Check"]
[{"$f":"AccountInfo!$A178","v":176},{"$f":"IF(AccountInfo!$B178=\"\",\"\",AccountInfo!B178)","v":""},{"$nulls":9},"Check"]
[{"$f":"AccountInfo!$A179","v":177},{"$f":"IF(AccountInfo!$B179=\"\",\"\",AccountInfo!B179)","v":""},{"$nulls":9},"Check"]
[{"$f":"AccountInfo!$A180","v":178},{"$f":"IF(AccountInfo!$B180=\"\",\"\",AccountInfo!B180)","v":""},{"$nulls":9},"Check"]
[{"$f":"AccountInfo!$A181","v":179},{"$f":"IF(AccountInfo!$B181=\"\",\"\",AccountInfo!B181)","v":""},{"$nulls":9},"Check"]
[{"$f":"AccountInfo!$A182","v":180},{"$f":"IF(AccountInfo!$B182=\"\",\"\",AccountInfo!B182)","v":""},{"$nulls":9},"Check"]
[{"$f":"AccountInfo!$A183","v":181},{"$f":"IF(AccountInfo!$B183=\"\",\"\",AccountInfo!B183)","v":""},{"$nulls":9},"Check"]
[{"$f":"AccountInfo!$A184","v":182},{"$f":"IF(AccountInfo!$B184=\"\",\"\",AccountInfo!B184)","v":""},{"$nulls":9},"Check"]
[{"$f":"AccountInfo!$A185","v":183},{"$f":"IF(AccountInfo!$B185=\"\",\"\",AccountInfo!B185)","v":""},{"$nulls":9},"Check"]
[{"$f":"AccountInfo!$A186","v":184},{"$f":"IF(AccountInfo!$B186=\"\",\"\",AccountInfo!B186)","v":""},{"$nulls":9},"Check"]
[{"$f":"AccountInfo!$A187","v":185},{"$f":"IF(AccountInfo!$B187=\"\",\"\",AccountInfo!B187)","v":""},{"$nulls":9},"Check"]
[{"$f":"AccountInfo!$A188","v":186},{"$f":"IF(AccountInfo!$B188=\"\",\"\",AccountInfo!B188)","v":""},{"$nulls":9},"Check"]
[{"$f":"AccountInfo!$A189","v":187},{"$f":"IF(AccountInfo!$B189=\"\",\"\",AccountInfo!B189)","v":""},{"$nulls":9},"Check"]
[{"$f":"AccountInfo!$A190","v":188},{"$f":"IF(AccountInfo!$B190=\"\",\"\",AccountInfo!B190)","v":""},{"$nulls":9},"Check"]
[{"$f":"AccountInfo!$A191","v":189},{"$f":"IF(AccountInfo!$B191=\"\",\"\",AccountInfo!B191)","v":""},{"$nulls":9},"Check"]
[{"$f":"AccountInfo!$A192","v":190},{"$f":"IF(AccountInfo!$B192=\"\",\"\",AccountInfo!B192)","v":""},{"$nulls":9},"Check"]
[{"$f":"AccountInfo!$A193","v":191},{"$f":"IF(AccountInfo!$B193=\"\",\"\",AccountInfo!B193)","v":""},{"$nulls":9},"Check"]
[{"$f":"AccountInfo!$A194","v":192},{"$f":"IF(AccountInfo!$B194=\"\",\"\",AccountInfo!B194)","v":""},{"$nulls":9},"Check"]
[{"$f":"AccountInfo!$A195","v":193},{"$f":"IF(AccountInfo!$B195=\"\",\"\",AccountInfo!B195)","v":""},{"$nulls":9},"Check"]
[{"$f":"AccountInfo!$A196","v":194},{"$f":"IF(AccountInfo!$B196=\"\",\"\",AccountInfo!B196)","v":""},{"$nulls":9},{"$f":"IF(AND(D196<=E196, E196<=F196, F196<=G196, G196<=IF(H196=\"\", 1000000000000, H196)), \"Check\", \"Error\")","v":"Check"}]
[{"$f":"AccountInfo!$A197","v":195},{"$f":"IF(AccountInfo!$B197=\"\",\"\",AccountInfo!B197)","v":""},{"$nulls":9},"Check"]
[{"$f":"AccountInfo!$A198","v":196},{"$f":"IF(AccountInfo!$B198=\"\",\"\",AccountInfo!B198)","v":""},{"$nulls":9},"Check"]
[{"$f":"AccountInfo!$A199","v":197},{"$f":"IF(AccountInfo!$B199=\"\",\"\",AccountInfo!B199)","v":""},{"$nulls":9},"Check"]
[{"$f":"AccountInfo!$A200","v":198},{"$f":"IF(AccountInfo!$B200=\"\",\"\",AccountInfo!B200)","v":""},{"$nulls":9},"Check"]
[{"$f":"AccountInfo!$A201","v":199},{"$f":"IF(AccountInfo!$B201=\"\",\"\",AccountInfo!B201)","v":""},{"$nulls":9},"Check"]
[{"$f":"AccountInfo!$A202","v":200},{"$f":"IF(AccountInfo!$B202=\"\",\"\",AccountInfo!B202)","v":""},{"$nulls":9},"Check"]
[{"$f":"AccountInfo!$A203","v":201},{"$f":"IF(AccountInfo!$B203=\"\",\"\",AccountInfo!B203)","v":""},{"$nulls":9},"Check"]
[{"$f":"AccountInfo!$A204","v":202},{"$f":"IF(AccountInfo!$B204=\"\",\"\",AccountInfo!B204)","v":""},{"$nulls":9},"Check"]
[{"$f":"AccountInfo!$A205","v":203},{"$f":"IF(AccountInfo!$B205=\"\",\"\",AccountInfo!B205)","v":""},{"$nulls":9},"Check"]
[{"$f":"AccountInfo!$A206","v":204},{"$f":"IF(AccountInfo!$B206=\"\",\"\",AccountInfo!B206)","v":""},{"$nulls":9},"Check"]
[{"$f":"AccountInfo!$A207","v":205},{"$f":"IF(AccountInfo!$B207=\"\",\"\",AccountInfo!B207)","v":""},{"$nulls":9},"Check"]
[{"$f":"AccountInfo!$A208","v":206},{"$f":"IF(AccountInfo!$B208=\"\",\"\",AccountInfo!B208)","v":""},{"$nulls":9},"Check"]
[{"$f":"AccountInfo!$A209","v":207},{"$f":"IF(AccountInfo!$B209=\"\",\"\",AccountInfo!B209)","v":""},{"$nulls":9},"Check"]
[{"$f":"AccountInfo!$A210","v":208},{"$f":"IF(AccountInfo!$B210=\"\",\"\",AccountInfo!B210)","v":""},{"$nulls":9},"Check"]
[{"$f":"AccountInfo!$A211","v":209},{"$f":"IF(AccountInfo!$B211=\"\",\"\",AccountInfo!B211)","v":""},{"$nulls":9},"Check"]
[{"$f":"AccountInfo!$A212","v":210},{"$f":"IF(AccountInfo!$B212=\"\",\"\",AccountInfo!B212)","v":""},{"$nulls":9},"Check"]
[{"$f":"AccountInfo!$A213","v":211},{"$f":"IF(AccountInfo!$B213=\"\",\"\",AccountInfo!B213)","v":""},{"$nulls":9},"Check"]
[{"$f":"AccountInfo!$A214","v":212},{"$f":"IF(AccountInfo!$B214=\"\",\"\",AccountInfo!B214)","v":""},{"$nulls":9},"Check"]
[{"$f":"AccountInfo!$A215","v":213},{"$f":"IF(AccountInfo!$B215=\"\",\"\",AccountInfo!B215)","v":""},{"$nulls":9},"Check"]
[{"$f":"AccountInfo!$A216","v":214},{"$f":"IF(AccountInfo!$B216=\"\",\"\",AccountInfo!B216)","v":""},{"$nulls":9},"Check"]
[{"$f":"AccountInfo!$A217","v":215},{"$f":"IF(AccountInfo!$B217=\"\",\"\",AccountInfo!B217)","v":""},{"$nulls":9},"Check"]
[{"$f":"AccountInfo!$A218","v":216},{"$f":"IF(AccountInfo!$B218=\"\",\"\",AccountInfo!B218)","v":""},{"$nulls":9},"Check"]
[{"$f":"AccountInfo!$A219","v":217},{"$f":"IF(AccountInfo!$B219=\"\",\"\",AccountInfo!B219)","v":""},{"$nulls":9},"Check"]
[{"$f":"AccountInfo!$A220","v":218},{"$f":"IF(AccountInfo!$B220=\"\",\"\",AccountInfo!B220)","v":""},{"$nulls":9},"Check"]
[{"$f":"AccountInfo!$A221","v":219},{"$f":"IF(AccountInfo!$B221=\"\",\"\",AccountInfo!B221)","v":""},{"$nulls":9},"Check"]
[{"$f":"AccountInfo!$A222","v":220},{"$f":"IF(AccountInfo!$B222=\"\",\"\",AccountInfo!B222)","v":""},{"$nulls":9},"Check"]
[{"$f":"AccountInfo!$A223","v":221},{"$f":"IF(AccountInfo!$B223=\"\",\"\",AccountInfo!B223)","v":""},{"$nulls":9},"Check"]
[{"$f":"AccountInfo!$A224","v":222},{"$f":"IF(AccountInfo!$B224=\"\",\"\",AccountInfo!B224)","v":""},{"$nulls":9},"Check"]
[{"$f":"AccountInfo!$A225","v":223},{"$f":"IF(AccountInfo!$B225=\"\",\"\",AccountInfo!B225)","v":""},{"$nulls":9},"Check"]
[{"$f":"AccountInfo!$A226","v":224},{"$f":"IF(AccountInfo!$B226=\"\",\"\",AccountInfo!B226)","v":""},{"$nulls":9},"Check"]
[{"$f":"AccountInfo!$A227","v":225},{"$f":"IF(AccountInfo!$B227=\"\",\"\",AccountInfo!B227)","v":""},{"$nulls":9},"Check"]
[{"$f":"AccountInfo!$A228","v":226},{"$f":"IF(AccountInfo!$B228=\"\",\"\",AccountInfo!B228)","v":""},{"$nulls":9},"Check"]
[{"$f":"AccountInfo!$A229","v":227},{"$f":"IF(AccountInfo!$B229=\"\",\"\",AccountInfo!B229)","v":""},{"$nulls":9},"Check"]
[{"$f":"AccountInfo!$A230","v":228},{"$f":"IF(AccountInfo!$B230=\"\",\"\",AccountInfo!B230)","v":""},{"$nulls":9},"Check"]
[{"$f":"AccountInfo!$A231","v":229},{"$f":"IF(AccountInfo!$B231=\"\",\"\",AccountInfo!B231)","v":""},{"$nulls":9},"Check"]
[{"$f":"AccountInfo!$A232","v":230},{"$f":"IF(AccountInfo!$B232=\"\",\"\",AccountInfo!B232)","v":""},{"$nulls":9},"Check"]
[{"$f":"AccountInfo!$A233","v":231},{"$f":"IF(AccountInfo!$B233=\"\",\"\",AccountInfo!B233)","v":""},{"$nulls":9},"Check"]
[{"$f":"AccountInfo!$A234","v":232},{"$f":"IF(AccountInfo!$B234=\"\",\"\",AccountInfo!B234)","v":""},{"$nulls":9},"Check"]
[{"$f":"AccountInfo!$A235","v":233},{"$f":"IF(AccountInfo!$B235=\"\",\"\",AccountInfo!B235)","v":""},{"$nulls":9},"Check"]
[{"$f":"AccountInfo!$A236","v":234},{"$f":"IF(AccountInfo!$B236=\"\",\"\",AccountInfo!B236)","v":""},{"$nulls":9},"Check"]
[{"$f":"AccountInfo!$A237","v":235},{"$f":"IF(AccountInfo!$B237=\"\",\"\",AccountInfo!B237)","v":""},{"$nulls":9},"Check"]
[{"$f":"AccountInfo!$A238","v":236},{"$f":"IF(AccountInfo!$B238=\"\",\"\",AccountInfo!B238)","v":""},{"$nulls":9},"Check"]
[{"$f":"AccountInfo!$A239","v":237},{"$f":"IF(AccountInfo!$B239=\"\",\"\",AccountInfo!B239)","v":""},{"$nulls":9},"Check"]
[{"$f":"AccountInfo!$A240","v":238},{"$f":"IF(AccountInfo!$B240=\"\",\"\",AccountInfo!B240)","v":""},{"$nulls":9},"Check"]
[{"$f":"AccountInfo!$A241","v":239},{"$f":"IF(AccountInfo!$B241=\"\",\"\",AccountInfo!B241)","v":""},{"$nulls":9},"Check"]
[{"$f":"AccountInfo!$A242","v":240},{"$f":"IF(AccountInfo!$B242=\"\",\"\",AccountInfo!B242)","v":""},{"$nulls":9},"Check"]
[{"$f":"AccountInfo!$A243","v":241},{"$f":"IF(AccountInfo!$B243=\"\",\"\",AccountInfo!B243)","v":""},{"$nulls":9},"Check"]
[{"$f":"AccountInfo!$A244","v":242},{"$f":"IF(AccountInfo!$B244=\"\",\"\",AccountInfo!B244)","v":""},{"$nulls":9},"Check"]
[{"$f":"AccountInfo!$A245","v":243},{"$f":"IF(AccountInfo!$B245=\"\",\"\",AccountInfo!B245)","v":""},{"$nulls":9},"Check"]
[{"$f":"AccountInfo!$A246","v":244},{"$f":"IF(AccountInfo!$B246=\"\",\"\",AccountInfo!B246)","v":""},{"$nulls":9},"Check"]
[{"$f":"AccountInfo!$A247","v":245},{"$f":"IF(AccountInfo!$B247=\"\",\"\",AccountInfo!B247)","v":""},{"$nulls":9},"Check"]
[{"$f":"AccountInfo!$A248","v":246},{"$f":"IF(AccountInfo!$B248=\"\",\"\",AccountInfo!B248)","v":""},{"$nulls":9},"Check"]
[{"$f":"AccountInfo!$A249","v":247},{"$f":"IF(AccountInfo!$B249=\"\",\"\",AccountInfo!B249)","v":""},{"$nulls":9},"Check"]
[{"$f":"AccountInfo!$A250","v":248},{"$f":"IF(AccountInfo!$B250=\"\",\"\",AccountInfo!B250)","v":""},{"$nulls":9},"Check"]
[{"$f":"AccountInfo!$A251","v":249},{"$f":"IF(AccountInfo!$B251=\"\",\"\",AccountInfo!B251)","v":""},{"$nulls":9},"Check"]
[{"$f":"AccountInfo!$A252","v":250},{"$f":"IF(AccountInfo!$B252=\"\",\"\",AccountInfo!B252)","v":""},{"$nulls":9},"Check"]
[{"$f":"AccountInfo!$A253","v":251},{"$f":"IF(AccountInfo!$B253=\"\",\"\",AccountInfo!B253)","v":""},{"$nulls":9},"Check"]
[{"$f":"AccountInfo!$A254","v":252},{"$f":"IF(AccountInfo!$B254=\"\",\"\",AccountInfo!B254)","v":""},{"$nulls":9},"Check"]
[{"$f":"AccountInfo!$A255","v":253},{"$f":"IF(AccountInfo!$B255=\"\",\"\",AccountInfo!B255)","v":""},{"$nulls":9},"Check"]
[{"$f":"AccountInfo!$A256","v":254},{"$f":"IF(AccountInfo!$B256=\"\",\"\",AccountInfo!B256)","v":""},{"$nulls":9},"Check"]
[{"$f":"AccountInfo!$A257","v":255},{"$f":"IF(AccountInfo!$B257=\"\",\"\",AccountInfo!B257)","v":""},{"$nulls":9},"Check"]
[{"$f":"AccountInfo!$A258","v":256},{"$f":"IF(AccountInfo!$B258=\"\",\"\",AccountInfo!B258)","v":""},{"$nulls":9},"Check"]
[{"$f":"AccountInfo!$A259","v":257},{"$f":"IF(AccountInfo!$B259=\"\",\"\",AccountInfo!B259)","v":""},{"$nulls":9},"Check"]
[{"$f":"AccountInfo!$A260","v":258},{"$f":"IF(AccountInfo!$B260=\"\",\"\",AccountInfo!B260)","v":""},{"$nulls":9},{"$f":"IF(AND(D260<=E260, E260<=F260, F260<=G260, G260<=IF(H260=\"\", 1000000000000, H260)), \"Check\", \"Error\")","v":"Check"}]
[{"$f":"AccountInfo!$A261","v":259},{"$f":"IF(AccountInfo!$B261=\"\",\"\",AccountInfo!B261)","v":""},{"$nulls":9},"Check"]
[{"$f":"AccountInfo!$A262","v":260},{"$f":"IF(AccountInfo!$B262=\"\",\"\",AccountInfo!B262)","v":""},{"$nulls":9},"Check"]
[{"$f":"AccountInfo!$A263","v":261},{"$f":"IF(AccountInfo!$B263=\"\",\"\",AccountInfo!B263)","v":""},{"$nulls":9},"Check"]
[{"$f":"AccountInfo!$A264","v":262},{"$f":"IF(AccountInfo!$B264=\"\",\"\",AccountInfo!B264)","v":""},{"$nulls":9},"Check"]
[{"$f":"AccountInfo!$A265","v":263},{"$f":"IF(AccountInfo!$B265=\"\",\"\",AccountInfo!B265)","v":""},{"$nulls":9},"Check"]
[{"$f":"AccountInfo!$A266","v":264},{"$f":"IF(AccountInfo!$B266=\"\",\"\",AccountInfo!B266)","v":""},{"$nulls":9},"Check"]
[{"$f":"AccountInfo!$A267","v":265},{"$f":"IF(AccountInfo!$B267=\"\",\"\",AccountInfo!B267)","v":""},{"$nulls":9},"Check"]
[{"$f":"AccountInfo!$A268","v":266},{"$f":"IF(AccountInfo!$B268=\"\",\"\",AccountInfo!B268)","v":""},{"$nulls":9},"Check"]
[{"$f":"AccountInfo!$A269","v":267},{"$f":"IF(AccountInfo!$B269=\"\",\"\",AccountInfo!B269)","v":""},{"$nulls":9},"Check"]
[{"$f":"AccountInfo!$A270","v":268},{"$f":"IF(AccountInfo!$B270=\"\",\"\",AccountInfo!B270)","v":""},{"$nulls":9},"Check"]
[{"$f":"AccountInfo!$A271","v":269},{"$f":"IF(AccountInfo!$B271=\"\",\"\",AccountInfo!B271)","v":""},{"$nulls":9},"Check"]
[{"$f":"AccountInfo!$A272","v":270},{"$f":"IF(AccountInfo!$B272=\"\",\"\",AccountInfo!B272)","v":""},{"$nulls":9},"Check"]
[{"$f":"AccountInfo!$A273","v":271},{"$f":"IF(AccountInfo!$B273=\"\",\"\",AccountInfo!B273)","v":""},{"$nulls":9},"Check"]
[{"$f":"AccountInfo!$A274","v":272},{"$f":"IF(AccountInfo!$B274=\"\",\"\",AccountInfo!B274)","v":""},{"$nulls":9},"Check"]
[{"$f":"AccountInfo!$A275","v":273},{"$f":"IF(AccountInfo!$B275=\"\",\"\",AccountInfo!B275)","v":""},{"$nulls":9},"Check"]
[{"$f":"AccountInfo!$A276","v":274},{"$f":"IF(AccountInfo!$B276=\"\",\"\",AccountInfo!B276)","v":""},{"$nulls":9},"Check"]
[{"$f":"AccountInfo!$A277","v":275},{"$f":"IF(AccountInfo!$B277=\"\",\"\",AccountInfo!B277)","v":""},{"$nulls":9},"Check"]
[{"$f":"AccountInfo!$A278","v":276},{"$f":"IF(AccountInfo!$B278=\"\",\"\",AccountInfo!B278)","v":""},{"$nulls":9},"Check"]
[{"$f":"AccountInfo!$A279","v":277},{"$f":"IF(AccountInfo!$B279=\"\",\"\",AccountInfo!B279)","v":""},{"$nulls":9},"Check"]
[{"$f":"AccountInfo!$A280","v":278},{"$f":"IF(AccountInfo!$B280=\"\",\"\",AccountInfo!B280)","v":""},{"$nulls":9},"Check"]
[{"$f":"AccountInfo!$A281","v":279},{"$f":"IF(AccountInfo!$B281=\"\",\"\",AccountInfo!B281)","v":""},{"$nulls":9},"Check"]
[{"$f":"AccountInfo!$A282","v":280},{"$f":"IF(AccountInfo!$B282=\"\",\"\",AccountInfo!B282)","v":""},{"$nulls":9},"Check"]
[{"$f":"AccountInfo!$A283","v":281},{"$f":"IF(AccountInfo!$B283=\"\",\"\",AccountInfo!B283)","v":""},{"$nulls":9},"Check"]
[{"$f":"AccountInfo!$A284","v":282},{"$f":"IF(AccountInfo!$B284=\"\",\"\",AccountInfo!B284)","v":""},{"$nulls":9},"Check"]
[{"$f":"AccountInfo!$A285","v":283},{"$f":"IF(AccountInfo!$B285=\"\",\"\",AccountInfo!B285)","v":""},{"$nulls":9},"Check"]
[{"$f":"AccountInfo!$A286","v":284},{"$f":"IF(AccountInfo!$B286=\"\",\"\",AccountInfo!B286)","v":""},{"$nulls":9},"Check"]
[{"$f":"AccountInfo!$A287","v":285},{"$f":"IF(AccountInfo!$B287=\"\",\"\",AccountInfo!B287)","v":""},{"$nulls":9},"Check"]
[{"$f":"AccountInfo!$A288","v":286},{"$f":"IF(AccountInfo!$B288=\"\",\"\",AccountInfo!B288)","v":""},{"$nulls":9},"Check"]
[{"$f":"AccountInfo!$A289","v":287},{"$f":"IF(AccountInfo!$B289=\"\",\"\",AccountInfo!B289)","v":""},{"$nulls":9},"Check"]
[{"$f":"AccountInfo!$A290","v":288},{"$f":"IF(AccountInfo!$B290=\"\",\"\",AccountInfo!B290)","v":""},{"$nulls":9},"Check"]
[{"$f":"AccountInfo!$A291","v":289},{"$f":"IF(AccountInfo!$B291=\"\",\"\",AccountInfo!B291)","v":""},{"$nulls":9},"Check"]
[{"$f":"AccountInfo!$A292","v":290},{"$f":"IF(AccountInfo!$B292=\"\",\"\",AccountInfo!B292)","v":""},{"$nulls":9},"Check"]
[{"$f":"AccountInfo!$A293","v":291},{"$f":"IF(AccountInfo!$B293=\"\",\"\",AccountInfo!B293)","v":""},{"$nulls":9},"Check"]
[{"$f":"AccountInfo!$A294","v":292},{"$f":"IF(AccountInfo!$B294=\"\",\"\",AccountInfo!B294)","v":""},{"$nulls":9},"Check"]
[{"$f":"AccountInfo!$A295","v":293},{"$f":"IF(AccountInfo!$B295=\"\",\"\",AccountInfo!B295)","v":""},{"$nulls":9},"Check"]
[{"$f":"AccountInfo!$A296","v":294},{"$f":"IF(AccountInfo!$B296=\"\",\"\",AccountInfo!B296)","v":""},{"$nulls":9},"Check"]
[{"$f":"AccountInfo!$A297","v":295},{"$f":"IF(AccountInfo!$B297=\"\",\"\",AccountInfo!B297)","v":""},{"$nulls":9},"Check"]
[{"$f":"AccountInfo!$A298","v":296},{"$f":"IF(AccountInfo!$B298=\"\",\"\",AccountInfo!B298)","v":""},{"$nulls":9},"Check"]
[{"$f":"AccountInfo!$A299","v":297},{"$f":"IF(AccountInfo!$B299=\"\",\"\",AccountInfo!B299)","v":""},{"$nulls":9},"Check"]
[{"$f":"AccountInfo!$A300","v":298},{"$f":"IF(AccountInfo!$B300=\"\",\"\",AccountInfo!B300)","v":""},{"$nulls":9},"Check"]
[{"$f":"AccountInfo!$A301","v":299},{"$f":"IF(AccountInfo!$B301=\"\",\"\",AccountInfo!B301)","v":""},{"$nulls":9},"Check"]
[{"$f":"AccountInfo!$A302","v":300},{"$f":"IF(AccountInfo!$B302=\"\",\"\",AccountInfo!B302)","v":""},{"$nulls":9},"Check"]
[{"$f":"AccountInfo!$A303","v":301},{"$f":"IF(AccountInfo!$B303=\"\",\"\",AccountInfo!B303)","v":""},{"$nulls":9},"Check"]
[{"$f":"AccountInfo!$A304","v":302},{"$f":"IF(AccountInfo!$B304=\"\",\"\",AccountInfo!B304)","v":""},{"$nulls":9},"Check"]
[{"$f":"AccountInfo!$A305","v":303},{"$f":"IF(AccountInfo!$B305=\"\",\"\",AccountInfo!B305)","v":""},{"$nulls":9},"Check"]
[{"$f":"AccountInfo!$A306","v":304},{"$f":"IF(AccountInfo!$B306=\"\",\"\",AccountInfo!B306)","v":""},{"$nulls":9},"Check"]
[{"$f":"AccountInfo!$A307","v":305},{"$f":"IF(AccountInfo!$B307=\"\",\"\",AccountInfo!B307)","v":""},{"$nulls":9},"Check"]
[{"$f":"AccountInfo!$A308","v":306},{"$f":"IF(AccountInfo!$B308=\"\",\"\",AccountInfo!B308)","v":""},{"$nulls":9},"Check"]
[{"$f":"AccountInfo!$A309","v":307},{"$f":"IF(AccountInfo!$B309=\"\",\"\",AccountInfo!B309)","v":""},{"$nulls":9},"Check"]
[{"$f":"AccountInfo!$A310","v":308},{"$f":"IF(AccountInfo!$B310=\"\",\"\",AccountInfo!B310)","v":""},{"$nulls":9},"Check"]
[{"$f":"AccountInfo!$A311","v":309},{"$f":"IF(AccountInfo!$B311=\"\",\"\",AccountInfo!B311)","v":""},{"$nulls":9},"Check"]
[{"$f":"AccountInfo!$A312","v":310},{"$f":"IF(AccountInfo!$B312=\"\",\"\",AccountInfo!B312)","v":""},{"$nulls":9},"Check"]
[{"$f":"AccountInfo!$A313","v":311},{"$f":"IF(AccountInfo!$B313=\"\",\"\",AccountInfo!B313)","v":""},{"$nulls":9},"Check"]
[{"$f":"AccountInfo!$A314","v":312},{"$f":"IF(AccountInfo!$B314=\"\",\"\",AccountInfo!B314)","v":""},{"$nulls":9},"Check"]
[{"$f":"AccountInfo!$A315","v":313},{"$f":"IF(AccountInfo!$B315=\"\",\"\",AccountInfo!B315)","v":""},{"$nulls":9},"Check"]
[{"$f":"AccountInfo!$A316","v":314},{"$f":"IF(AccountInfo!$B316=\"\",\"\",AccountInfo!B316)","v":""},{"$nulls":9},"Check"]
[{"$f":"AccountInfo!$A317","v":315},{"$f":"IF(AccountInfo!$B317=\"\",\"\",AccountInfo!B317)","v":""},{"$nulls":9},"Check"]
[{"$f":"AccountInfo!$A318","v":316},{"$f":"IF(AccountInfo!$B318=\"\",\"\",AccountInfo!B318)","v":""},{"$nulls":9},"Check"]
[{"$f":"AccountInfo!$A319","v":317},{"$f":"IF(AccountInfo!$B319=\"\",\"\",AccountInfo!B319)","v":""},{"$nulls":9},"Check"]
[{"$f":"AccountInfo!$A320","v":318},{"$f":"IF(AccountInfo!$B320=\"\",\"\",AccountInfo!B320)","v":""},{"$nulls":9},"Check"]
[{"$f":"AccountInfo!$A321","v":319},{"$f":"IF(AccountInfo!$B321=\"\",\"\",AccountInfo!B321)","v":""},{"$nulls":9},"Check"]
[{"$f":"AccountInfo!$A322","v":320},{"$f":"IF(AccountInfo!$B322=\"\",\"\",AccountInfo!B322)","v":""},{"$nulls":9},"Check"]
[{"$f":"AccountInfo!$A323","v":321},{"$f":"IF(AccountInfo!$B323=\"\",\"\",AccountInfo!B323)","v":""},{"$nulls":9},"Check"]
[{"$f":"AccountInfo!$A324","v":322},{"$f":"IF(AccountInfo!$B324=\"\",\"\",AccountInfo!B324)","v":""},{"$nulls":9},{"$f":"IF(AND(D324<=E324, E324<=F324, F324<=G324, G324<=IF(H324=\"\", 1000000000000, H324)), \"Check\", \"Error\")","v":"Check"}]
[{"$f":"AccountInfo!$A325","v":323},{"$f":"IF(AccountInfo!$B325=\"\",\"\",AccountInfo!B325)","v":""},{"$nulls":9},"Check"]
[{"$f":"AccountInfo!$A326","v":324},{"$f":"IF(AccountInfo!$B326=\"\",\"\",AccountInfo!B326)","v":""},{"$nulls":9},"Check"]
[{"$f":"AccountInfo!$A327","v":325},{"$f":"IF(AccountInfo!$B327=\"\",\"\",AccountInfo!B327)","v":""},{"$nulls":9},"Check"]
[{"$f":"AccountInfo!$A328","v":326},{"$f":"IF(AccountInfo!$B328=\"\",\"\",AccountInfo!B328)","v":""},{"$nulls":9},"Check"]
[{"$f":"AccountInfo!$A329","v":327},{"$f":"IF(AccountInfo!$B329=\"\",\"\",AccountInfo!B329)","v":""},{"$nulls":9},"Check"]
[{"$f":"AccountInfo!$A330","v":328},{"$f":"IF(AccountInfo!$B330=\"\",\"\",AccountInfo!B330)","v":""},{"$nulls":9},"Check"]
[{"$f":"AccountInfo!$A331","v":329},{"$f":"IF(AccountInfo!$B331=\"\",\"\",AccountInfo!B331)","v":""},{"$nulls":9},"Check"]
[{"$f":"AccountInfo!$A332","v":330},{"$f":"IF(AccountInfo!$B332=\"\",\"\",AccountInfo!B332)","v":""},{"$nulls":9},"Check"]
[{"$f":"AccountInfo!$A333","v":331},{"$f":"IF(AccountInfo!$B333=\"\",\"\",AccountInfo!B333)","v":""},{"$nulls":9},"Check"]
[{"$f":"AccountInfo!$A334","v":332},{"$f":"IF(AccountInfo!$B334=\"\",\"\",AccountInfo!B334)","v":""},{"$nulls":9},"Check"]
[{"$f":"AccountInfo!$A335","v":333},{"$f":"IF(AccountInfo!$B335=\"\",\"\",AccountInfo!B335)","v":""},{"$nulls":9},"Check"]
[{"$f":"AccountInfo!$A336","v":334},{"$f":"IF(AccountInfo!$B336=\"\",\"\",AccountInfo!B336)","v":""},{"$nulls":9},"Check"]
[{"$f":"AccountInfo!$A337","v":335},{"$f":"IF(AccountInfo!$B337=\"\",\"\",AccountInfo!B337)","v":""},{"$nulls":9},"Check"]
[{"$f":"AccountInfo!$A338","v":336},{"$f":"IF(AccountInfo!$B338=\"\",\"\",AccountInfo!B338)","v":""},{"$nulls":9},"Check"]
[{"$f":"AccountInfo!$A339","v":337},{"$f":"IF(AccountInfo!$B339=\"\",\"\",AccountInfo!B339)","v":""},{"$nulls":9},"Check"]
[{"$f":"AccountInfo!$A340","v":338},{"$f":"IF(AccountInfo!$B340=\"\",\"\",AccountInfo!B340)","v":""},{"$nulls":9},"Check"]
[{"$f":"AccountInfo!$A341","v":339},{"$f":"IF(AccountInfo!$B341=\"\",\"\",AccountInfo!B341)","v":""},{"$nulls":9},"Check"]
[{"$f":"AccountInfo!$A342","v":340},{"$f":"IF(AccountInfo!$B342=\"\",\"\",AccountInfo!B342)","v":""},{"$nulls":9},"Check"]
[{"$f":"AccountInfo!$A343","v":341},{"$f":"IF(AccountInfo!$B343=\"\",\"\",AccountInfo!B343)","v":""},{"$nulls":9},"Check"]
[{"$f":"AccountInfo!$A344","v":342},{"$f":"IF(AccountInfo!$B344=\"\",\"\",AccountInfo!B344)","v":""},{"$nulls":9},"Check"]
[{"$f":"AccountInfo!$A345","v":343},{"$f":"IF(AccountInfo!$B345=\"\",\"\",AccountInfo!B345)","v":""},{"$nulls":9},"Check"]
[{"$f":"AccountInfo!$A346","v":344},{"$f":"IF(AccountInfo!$B346=\"\",\"\",AccountInfo!B346)","v":""},{"$nulls":9},"Check"]
[{"$f":"AccountInfo!$A347","v":345},{"$f":"IF(AccountInfo!$B347=\"\",\"\",AccountInfo!B347)","v":""},{"$nulls":9},"Check"]
[{"$f":"AccountInfo!$A348","v":346},{"$f":"IF(AccountInfo!$B348=\"\",\"\",AccountInfo!B348)","v":""},{"$nulls":9},"Check"]
[{"$f":"AccountInfo!$A349","v":347},{"$f":"IF(AccountInfo!$B349=\"\",\"\",AccountInfo!B349)","v":""},{"$nulls":9},"Check"]
[{"$f":"AccountInfo!$A350","v":348},{"$f":"IF(AccountInfo!$B350=\"\",\"\",AccountInfo!B350)","v":""},{"$nulls":9},"Check"]
[{"$f":"AccountInfo!$A351","v":349},{"$f":"IF(AccountInfo!$B351=\"\",\"\",AccountInfo!B351)","v":""},{"$nulls":9},"Check"]
[{"$f":"AccountInfo!$A352","v":350},{"$f":"IF(AccountInfo!$B352=\"\",\"\",AccountInfo!B352)","v":""},{"$nulls":9},"Check"]
[{"$f":"AccountInfo!$A353","v":351},{"$f":"IF(AccountInfo!$B353=\"\",\"\",AccountInfo!B353)","v":""},{"$nulls":9},"Check"]
[{"$f":"AccountInfo!$A354","v":352},{"$f":"IF(AccountInfo!$B354=\"\",\"\",AccountInfo!B354)","v":""},{"$nulls":9},"Check"]
[{"$f":"AccountInfo!$A355","v":353},{"$f":"IF(AccountInfo!$B355=\"\",\"\",AccountInfo!B355)","v":""},{"$nulls":9},"Check"]
[{"$f":"AccountInfo!$A356","v":354},{"$f":"IF(AccountInfo!$B356=\"\",\"\",AccountInfo!B356)","v":""},{"$nulls":9},"Check"]
[{"$f":"AccountInfo!$A357","v":355},{"$f":"IF(AccountInfo!$B357=\"\",\"\",AccountInfo!B357)","v":""},{"$nulls":9},"Check"]
[{"$f":"AccountInfo!$A358","v":356},{"$f":"IF(AccountInfo!$B358=\"\",\"\",AccountInfo!B358)","v":""},{"$nulls":9},"Check"]
[{"$f":"AccountInfo!$A359","v":357},{"$f":"IF(AccountInfo!$B359=\"\",\"\",AccountInfo!B359)","v":""},{"$nulls":9},"Check"]
[{"$f":"AccountInfo!$A360","v":358},{"$f":"IF(AccountInfo!$B360=\"\",\"\",AccountInfo!B360)","v":""},{"$nulls":9},"Check"]
[{"$f":"AccountInfo!$A361","v":359},{"$f":"IF(AccountInfo!$B361=\"\",\"\",AccountInfo!B361)","v":""},{"$nulls":9},"Check"]
[{"$f":"AccountInfo!$A362","v":360},{"$f":"IF(AccountInfo!$B362=\"\",\"\",AccountInfo!B362)","v":""},{"$nulls":9},"Check"]
[{"$f":"AccountInfo!$A363","v":361},{"$f":"IF(AccountInfo!$B363=\"\",\"\",AccountInfo!B363)","v":""},{"$nulls":9},"Check"]
[{"$f":"AccountInfo!$A364","v":362},{"$f":"IF(AccountInfo!$B364=\"\",\"\",AccountInfo!B364)","v":""},{"$nulls":9},"Check"]
[{"$f":"AccountInfo!$A365","v":363},{"$f":"IF(AccountInfo!$B365=\"\",\"\",AccountInfo!B365)","v":""},{"$nulls":9},"Check"]
[{"$f":"AccountInfo!$A366","v":364},{"$f":"IF(AccountInfo!$B366=\"\",\"\",AccountInfo!B366)","v":""},{"$nulls":9},"Check"]
[{"$f":"AccountInfo!$A367","v":365},{"$f":"IF(AccountInfo!$B367=\"\",\"\",AccountInfo!B367)","v":""},{"$nulls":9},"Check"]
[{"$f":"AccountInfo!$A368","v":366},{"$f":"IF(AccountInfo!$B368=\"\",\"\",AccountInfo!B368)","v":""},{"$nulls":9},"Check"]
[{"$f":"AccountInfo!$A369","v":367},{"$f":"IF(AccountInfo!$B369=\"\",\"\",AccountInfo!B369)","v":""},{"$nulls":9},"Check"]
[{"$f":"AccountInfo!$A370","v":368},{"$f":"IF(AccountInfo!$B370=\"\",\"\",AccountInfo!B370)","v":""},{"$nulls":9},"Check"]
[{"$f":"AccountInfo!$A371","v":369},{"$f":"IF(AccountInfo!$B371=\"\",\"\",AccountInfo!B371)","v":""},{"$nulls":9},"Check"]
[{"$f":"AccountInfo!$A372","v":370},{"$f":"IF(AccountInfo!$B372=\"\",\"\",AccountInfo!B372)","v":""},{"$nulls":9},"Check"]
[{"$f":"AccountInfo!$A373","v":371},{"$f":"IF(AccountInfo!$B373=\"\",\"\",AccountInfo!B373)","v":""},{"$nulls":9},"Check"]
[{"$f":"AccountInfo!$A374","v":372},{"$f":"IF(AccountInfo!$B374=\"\",\"\",AccountInfo!B374)","v":""},{"$nulls":9},"Check"]
[{"$f":"AccountInfo!$A375","v":373},{"$f":"IF(AccountInfo!$B375=\"\",\"\",AccountInfo!B375)","v":""},{"$nulls":9},"Check"]
[{"$f":"AccountInfo!$A376","v":374},{"$f":"IF(AccountInfo!$B376=\"\",\"\",AccountInfo!B376)","v":""},{"$nulls":9},"Check"]
[{"$f":"AccountInfo!$A377","v":375},{"$f":"IF(AccountInfo!$B377=\"\",\"\",AccountInfo!B377)","v":""},{"$nulls":9},"Check"]
[{"$f":"AccountInfo!$A378","v":376},{"$f":"IF(AccountInfo!$B378=\"\",\"\",AccountInfo!B378)","v":""},{"$nulls":9},"Check"]
[{"$f":"AccountInfo!$A379","v":377},{"$f":"IF(AccountInfo!$B379=\"\",\"\",AccountInfo!B379)","v":""},{"$nulls":9},"Check"]
[{"$f":"AccountInfo!$A380","v":378},{"$f":"IF(AccountInfo!$B380=\"\",\"\",AccountInfo!B380)","v":""},{"$nulls":9},"Check"]
[{"$f":"AccountInfo!$A381","v":379},{"$f":"IF(AccountInfo!$B381=\"\",\"\",AccountInfo!B381)","v":""},{"$nulls":9},"Check"]
[{"$f":"AccountInfo!$A382","v":380},{"$f":"IF(AccountInfo!$B382=\"\",\"\",AccountInfo!B382)","v":""},{"$nulls":9},"Check"]
[{"$f":"AccountInfo!$A383","v":381},{"$f":"IF(AccountInfo!$B383=\"\",\"\",AccountInfo!B383)","v":""},{"$nulls":9},"Check"]
[{"$f":"AccountInfo!$A384","v":382},{"$f":"IF(AccountInfo!$B384=\"\",\"\",AccountInfo!B384)","v":""},{"$nulls":9},"Check"]
[{"$f":"AccountInfo!$A385","v":383},{"$f":"IF(AccountInfo!$B385=\"\",\"\",AccountInfo!B385)","v":""},{"$nulls":9},"Check"]
[{"$f":"AccountInfo!$A386","v":384},{"$f":"IF(AccountInfo!$B386=\"\",\"\",AccountInfo!B386)","v":""},{"$nulls":9},"Check"]
[{"$f":"AccountInfo!$A387","v":385},{"$f":"IF(AccountInfo!$B387=\"\",\"\",AccountInfo!B387)","v":""},{"$nulls":9},"Check"]
[{"$f":"AccountInfo!$A388","v":386},{"$f":"IF(AccountInfo!$B388=\"\",\"\",AccountInfo!B388)","v":""},{"$nulls":9},{"$f":"IF(AND(D388<=E388, E388<=F388, F388<=G388, G388<=IF(H388=\"\", 1000000000000, H388)), \"Check\", \"Error\")","v":"Check"}]
[{"$f":"AccountInfo!$A389","v":387},{"$f":"IF(AccountInfo!$B389=\"\",\"\",AccountInfo!B389)","v":""},{"$nulls":9},"Check"]
[{"$f":"AccountInfo!$A390","v":388},{"$f":"IF(AccountInfo!$B390=\"\",\"\",AccountInfo!B390)","v":""},{"$nulls":9},"Check"]
[{"$f":"AccountInfo!$A391","v":389},{"$f":"IF(AccountInfo!$B391=\"\",\"\",AccountInfo!B391)","v":""},{"$nulls":9},"Check"]
[{"$f":"AccountInfo!$A392","v":390},{"$f":"IF(AccountInfo!$B392=\"\",\"\",AccountInfo!B392)","v":""},{"$nulls":9},"Check"]
[{"$f":"AccountInfo!$A393","v":391},{"$f":"IF(AccountInfo!$B393=\"\",\"\",AccountInfo!B393)","v":""},{"$nulls":9},"Check"]
[{"$f":"AccountInfo!$A394","v":392},{"$f":"IF(AccountInfo!$B394=\"\",\"\",AccountInfo!B394)","v":""},{"$nulls":9},"Check"]
[{"$f":"AccountInfo!$A395","v":393},{"$f":"IF(AccountInfo!$B395=\"\",\"\",AccountInfo!B395)","v":""},{"$nulls":9},"Check"]
[{"$f":"AccountInfo!$A396","v":394},{"$f":"IF(AccountInfo!$B396=\"\",\"\",AccountInfo!B396)","v":""},{"$nulls":9},"Check"]
[{"$f":"AccountInfo!$A397","v":395},{"$f":"IF(AccountInfo!$B397=\"\",\"\",AccountInfo!B397)","v":""},{"$nulls":9},"Check"]
[{"$f":"AccountInfo!$A398","v":396},{"$f":"IF(AccountInfo!$B398=\"\",\"\",AccountInfo!B398)","v":""},{"$nulls":9},"Check"]
[{"$f":"AccountInfo!$A399","v":397},{"$f":"IF(AccountInfo!$B399=\"\",\"\",AccountInfo!B399)","v":""},{"$nulls":9},"Check"]
[{"$f":"AccountInfo!$A400","v":398},{"$f":"IF(AccountInfo!$B400=\"\",\"\",AccountInfo!B400)","v":""},{"$nulls":9},"Check"]
[{"$f":"AccountInfo!$A401","v":399},{"$f":"IF(AccountInfo!$B401=\"\",\"\",AccountInfo!B401)","v":""},{"$nulls":9},"Check"]
[{"$f":"AccountInfo!$A402","v":400},{"$f":"IF(AccountInfo!$B402=\"\",\"\",AccountInfo!B402)","v":""},{"$nulls":9},"Check"]
[{"$f":"AccountInfo!$A403","v":401},{"$f":"IF(AccountInfo!$B403=\"\",\"\",AccountInfo!B403)","v":""},{"$nulls":9},"Check"]
[{"$f":"AccountInfo!$A404","v":402},{"$f":"IF(AccountInfo!$B404=\"\",\"\",AccountInfo!B404)","v":""},{"$nulls":9},"Check"]
[{"$f":"AccountInfo!$A405","v":403},{"$f":"IF(AccountInfo!$B405=\"\",\"\",AccountInfo!B405)","v":""},{"$nulls":9},"Check"]
[{"$f":"AccountInfo!$A406","v":404},{"$f":"IF(AccountInfo!$B406=\"\",\"\",AccountInfo!B406)","v":""},{"$nulls":9},"Check"]
[{"$f":"AccountInfo!$A407","v":405},{"$f":"IF(AccountInfo!$B407=\"\",\"\",AccountInfo!B407)","v":""},{"$nulls":9},"Check"]
[{"$f":"AccountInfo!$A408","v":406},{"$f":"IF(AccountInfo!$B408=\"\",\"\",AccountInfo!B408)","v":""},{"$nulls":9},"Check"]
[{"$f":"AccountInfo!$A409","v":407},{"$f":"IF(AccountInfo!$B409=\"\",\"\",AccountInfo!B409)","v":""},{"$nulls":9},"Check"]
[{"$f":"AccountInfo!$A410","v":408},{"$f":"IF(AccountInfo!$B410=\"\",\"\",AccountInfo!B410)","v":""},{"$nulls":9},"Check"]
[{"$f":"AccountInfo!$A411","v":409},{"$f":"IF(AccountInfo!$B411=\"\",\"\",AccountInfo!B411)","v":""},{"$nulls":9},"Check"]
[{"$f":"AccountInfo!$A412","v":410},{"$f":"IF(AccountInfo!$B412=\"\",\"\",AccountInfo!B412)","v":""},{"$nulls":9},"Check"]
[{"$f":"AccountInfo!$A413","v":411},{"$f":"IF(AccountInfo!$B413=\"\",\"\",AccountInfo!B413)","v":""},{"$nulls":9},"Check"]
[{"$f":"AccountInfo!$A414","v":412},{"$f":"IF(AccountInfo!$B414=\"\",\"\",AccountInfo!B414)","v":""},{"$nulls":9},"Check"]
[{"$f":"AccountInfo!$A415","v":413},{"$f":"IF(AccountInfo!$B415=\"\",\"\",AccountInfo!B415)","v":""},{"$nulls":9},"Check"]
[{"$f":"AccountInfo!$A416","v":414},{"$f":"IF(AccountInfo!$B416=\"\",\"\",AccountInfo!B416)","v":""},{"$nulls":9},"Check"]
[{"$f":"AccountInfo!$A417","v":415},{"$f":"IF(AccountInfo!$B417=\"\",\"\",AccountInfo!B417)","v":""},{"$nulls":9},"Check"]
[{"$f":"AccountInfo!$A418","v":416},{"$f":"IF(AccountInfo!$B418=\"\",\"\",AccountInfo!B418)","v":""},{"$nulls":9},"Check"]
[{"$f":"AccountInfo!$A419","v":417},{"$f":"IF(AccountInfo!$B419=\"\",\"\",AccountInfo!B419)","v":""},{"$nulls":9},"Check"]
[{"$f":"AccountInfo!$A420","v":418},{"$f":"IF(AccountInfo!$B420=\"\",\"\",AccountInfo!B420)","v":""},{"$nulls":9},"Check"]
[{"$f":"AccountInfo!$A421","v":419},{"$f":"IF(AccountInfo!$B421=\"\",\"\",AccountInfo!B421)","v":""},{"$nulls":9},"Check"]
[{"$f":"AccountInfo!$A422","v":420},{"$f":"IF(AccountInfo!$B422=\"\",\"\",AccountInfo!B422)","v":""},{"$nulls":9},"Check"]
[{"$f":"AccountInfo!$A423","v":421},{"$f":"IF(AccountInfo!$B423=\"\",\"\",AccountInfo!B423)","v":""},{"$nulls":9},"Check"]
[{"$f":"AccountInfo!$A424","v":422},{"$f":"IF(AccountInfo!$B424=\"\",\"\",AccountInfo!B424)","v":""},{"$nulls":9},"Check"]
[{"$f":"AccountInfo!$A425","v":423},{"$f":"IF(AccountInfo!$B425=\"\",\"\",AccountInfo!B425)","v":""},{"$nulls":9},"Check"]
[{"$f":"AccountInfo!$A426","v":424},{"$f":"IF(AccountInfo!$B426=\"\",\"\",AccountInfo!B426)","v":""},{"$nulls":9},"Check"]
[{"$f":"AccountInfo!$A427","v":425},{"$f":"IF(AccountInfo!$B427=\"\",\"\",AccountInfo!B427)","v":""},{"$nulls":9},"Check"]
[{"$f":"AccountInfo!$A428","v":426},{"$f":"IF(AccountInfo!$B428=\"\",\"\",AccountInfo!B428)","v":""},{"$nulls":9},"Check"]
[{"$f":"AccountInfo!$A429","v":427},{"$f":"IF(AccountInfo!$B429=\"\",\"\",AccountInfo!B429)","v":""},{"$nulls":9},"Check"]
[{"$f":"AccountInfo!$A430","v":428},{"$f":"IF(AccountInfo!$B430=\"\",\"\",AccountInfo!B430)","v":""},{"$nulls":9},"Check"]
[{"$f":"AccountInfo!$A431","v":429},{"$f":"IF(AccountInfo!$B431=\"\",\"\",AccountInfo!B431)","v":""},{"$nulls":9},"Check"]
[{"$f":"AccountInfo!$A432","v":430},{"$f":"IF(AccountInfo!$B432=\"\",\"\",AccountInfo!B432)","v":""},{"$nulls":9},"Check"]
[{"$f":"AccountInfo!$A433","v":431},{"$f":"IF(AccountInfo!$B433=\"\",\"\",AccountInfo!B433)","v":""},{"$nulls":9},"Check"]
[{"$f":"AccountInfo!$A434","v":432},{"$f":"IF(AccountInfo!$B434=\"\",\"\",AccountInfo!B434)","v":""},{"$nulls":9},"Check"]
[{"$f":"AccountInfo!$A435","v":433},{"$f":"IF(AccountInfo!$B435=\"\",\"\",AccountInfo!B435)","v":""},{"$nulls":9},"Check"]
[{"$f":"AccountInfo!$A436","v":434},{"$f":"IF(AccountInfo!$B436=\"\",\"\",AccountInfo!B436)","v":""},{"$nulls":9},"Check"]
[{"$f":"AccountInfo!$A437","v":435},{"$f":"IF(AccountInfo!$B437=\"\",\"\",AccountInfo!B437)","v":""},{"$nulls":9},"Check"]
[{"$f":"AccountInfo!$A438","v":436},{"$f":"IF(AccountInfo!$B438=\"\",\"\",AccountInfo!B438)","v":""},{"$nulls":9},"Check"]
[{"$f":"AccountInfo!$A439","v":437},{"$f":"IF(AccountInfo!$B439=\"\",\"\",AccountInfo!B439)","v":""},{"$nulls":9},"Check"]
[{"$f":"AccountInfo!$A440","v":438},{"$f":"IF(AccountInfo!$B440=\"\",\"\",AccountInfo!B440)","v":""},{"$nulls":9},"Check"]
[{"$f":"AccountInfo!$A441","v":439},{"$f":"IF(AccountInfo!$B441=\"\",\"\",AccountInfo!B441)","v":""},{"$nulls":9},"Check"]
[{"$f":"AccountInfo!$A442","v":440},{"$f":"IF(AccountInfo!$B442=\"\",\"\",AccountInfo!B442)","v":""},{"$nulls":9},"Check"]
[{"$f":"AccountInfo!$A443","v":441},{"$f":"IF(AccountInfo!$B443=\"\",\"\",AccountInfo!B443)","v":""},{"$nulls":9},"Check"]
[{"$f":"AccountInfo!$A444","v":442},{"$f":"IF(AccountInfo!$B444=\"\",\"\",AccountInfo!B444)","v":""},{"$nulls":9},"Check"]
[{"$f":"AccountInfo!$A445","v":443},{"$f":"IF(AccountInfo!$B445=\"\",\"\",AccountInfo!B445)","v":""},{"$nulls":9},"Check"]
[{"$f":"AccountInfo!$A446","v":444},{"$f":"IF(AccountInfo!$B446=\"\",\"\",AccountInfo!B446)","v":""},{"$nulls":9},"Check"]
[{"$f":"AccountInfo!$A447","v":445},{"$f":"IF(AccountInfo!$B447=\"\",\"\",AccountInfo!B447)","v":""},{"$nulls":9},"Check"]
[{"$f":"AccountInfo!$A448","v":446},{"$f":"IF(AccountInfo!$B448=\"\",\"\",AccountInfo!B448)","v":""},{"$nulls":9},"Check"]
[{"$f":"AccountInfo!$A449","v":447},{"$f":"IF(AccountInfo!$B449=\"\",\"\",AccountInfo!B449)","v":""},{"$nulls":9},"Check"]
[{"$f":"AccountInfo!$A450","v":448},{"$f":"IF(AccountInfo!$B450=\"\",\"\",AccountInfo!B450)","v":""},{"$nulls":9},"Check"]
[{"$f":"AccountInfo!$A451","v":449},{"$f":"IF(AccountInfo!$B451=\"\",\"\",AccountInfo!B451)","v":""},{"$nulls":9},"Check"]
[{"$f":"AccountInfo!$A452","v":450},{"$f":"IF(AccountInfo!$B452=\"\",\"\",AccountInfo!B452)","v":""},{"$nulls":9},{"$f":"IF(AND(D452<=E452, E452<=F452, F452<=G452, G452<=IF(H452=\"\", 1000000000000, H452)), \"Check\", \"Error\")","v":"Check"}]
[{"$f":"AccountInfo!$A453","v":451},{"$f":"IF(AccountInfo!$B453=\"\",\"\",AccountInfo!B453)","v":""},{"$nulls":9},"Check"]
[{"$f":"AccountInfo!$A454","v":452},{"$f":"IF(AccountInfo!$B454=\"\",\"\",AccountInfo!B454)","v":""},{"$nulls":9},"Check"]
[{"$f":"AccountInfo!$A455","v":453},{"$f":"IF(AccountInfo!$B455=\"\",\"\",AccountInfo!B455)","v":""},{"$nulls":9},"Check"]
[{"$f":"AccountInfo!$A456","v":454},{"$f":"IF(AccountInfo!$B456=\"\",\"\",AccountInfo!B456)","v":""},{"$nulls":9},"Check"]
[{"$f":"AccountInfo!$A457","v":455},{"$f":"IF(AccountInfo!$B457=\"\",\"\",AccountInfo!B457)","v":""},{"$nulls":9},"Check"]
[{"$f":"AccountInfo!$A458","v":456},{"$f":"IF(AccountInfo!$B458=\"\",\"\",AccountInfo!B458)","v":""},{"$nulls":9},"Check"]
[{"$f":"AccountInfo!$A459","v":457},{"$f":"IF(AccountInfo!$B459=\"\",\"\",AccountInfo!B459)","v":""},{"$nulls":9},"Check"]
[{"$f":"AccountInfo!$A460","v":458},{"$f":"IF(AccountInfo!$B460=\"\",\"\",AccountInfo!B460)","v":""},{"$nulls":9},"Check"]
[{"$f":"AccountInfo!$A461","v":459},{"$f":"IF(AccountInfo!$B461=\"\",\"\",AccountInfo!B461)","v":""},{"$nulls":9},"Check"]
[{"$f":"AccountInfo!$A462","v":460},{"$f":"IF(AccountInfo!$B462=\"\",\"\",AccountInfo!B462)","v":""},{"$nulls":9},"Check"]
[{"$f":"AccountInfo!$A463","v":461},{"$f":"IF(AccountInfo!$B463=\"\",\"\",AccountInfo!B463)","v":""},{"$nulls":9},"Check"]
[{"$f":"AccountInfo!$A464","v":462},{"$f":"IF(AccountInfo!$B464=\"\",\"\",AccountInfo!B464)","v":""},{"$nulls":9},"Check"]
[{"$f":"AccountInfo!$A465","v":463},{"$f":"IF(AccountInfo!$B465=\"\",\"\",AccountInfo!B465)","v":""},{"$nulls":9},"Check"]
[{"$f":"AccountInfo!$A466","v":464},{"$f":"IF(AccountInfo!$B466=\"\",\"\",AccountInfo!B466)","v":""},{"$nulls":9},"Check"]
[{"$f":"AccountInfo!$A467","v":465},{"$f":"IF(AccountInfo!$B467=\"\",\"\",AccountInfo!B467)","v":""},{"$nulls":9},"Check"]
[{"$f":"AccountInfo!$A468","v":466},{"$f":"IF(AccountInfo!$B468=\"\",\"\",AccountInfo!B468)","v":""},{"$nulls":9},"Check"]
[{"$f":"AccountInfo!$A469","v":467},{"$f":"IF(AccountInfo!$B469=\"\",\"\",AccountInfo!B469)","v":""},{"$nulls":9},"Check"]
[{"$f":"AccountInfo!$A470","v":468},{"$f":"IF(AccountInfo!$B470=\"\",\"\",AccountInfo!B470)","v":""},{"$nulls":9},"Check"]
[{"$f":"AccountInfo!$A471","v":469},{"$f":"IF(AccountInfo!$B471=\"\",\"\",AccountInfo!B471)","v":""},{"$nulls":9},"Check"]
[{"$f":"AccountInfo!$A472","v":470},{"$f":"IF(AccountInfo!$B472=\"\",\"\",AccountInfo!B472)","v":""},{"$nulls":9},"Check"]
[{"$f":"AccountInfo!$A473","v":471},{"$f":"IF(AccountInfo!$B473=\"\",\"\",AccountInfo!B473)","v":""},{"$nulls":9},"Check"]
[{"$f":"AccountInfo!$A474","v":472},{"$f":"IF(AccountInfo!$B474=\"\",\"\",AccountInfo!B474)","v":""},{"$nulls":9},"Check"]
[{"$f":"AccountInfo!$A475","v":473},{"$f":"IF(AccountInfo!$B475=\"\",\"\",AccountInfo!B475)","v":""},{"$nulls":9},"Check"]
[{"$f":"AccountInfo!$A476","v":474},{"$f":"IF(AccountInfo!$B476=\"\",\"\",AccountInfo!B476)","v":""},{"$nulls":9},"Check"]
[{"$f":"AccountInfo!$A477","v":475},{"$f":"IF(AccountInfo!$B477=\"\",\"\",AccountInfo!B477)","v":""},{"$nulls":9},"Check"]
[{"$f":"AccountInfo!$A478","v":476},{"$f":"IF(AccountInfo!$B478=\"\",\"\",AccountInfo!B478)","v":""},{"$nulls":9},"Check"]
[{"$f":"AccountInfo!$A479","v":477},{"$f":"IF(AccountInfo!$B479=\"\",\"\",AccountInfo!B479)","v":""},{"$nulls":9},"Check"]
[{"$f":"AccountInfo!$A480","v":478},{"$f":"IF(AccountInfo!$B480=\"\",\"\",AccountInfo!B480)","v":""},{"$nulls":9},"Check"]
[{"$f":"AccountInfo!$A481","v":479},{"$f":"IF(AccountInfo!$B481=\"\",\"\",AccountInfo!B481)","v":""},{"$nulls":9},"Check"]
[{"$f":"AccountInfo!$A482","v":480},{"$f":"IF(AccountInfo!$B482=\"\",\"\",AccountInfo!B482)","v":""},{"$nulls":9},"Check"]
[{"$f":"AccountInfo!$A483","v":481},{"$f":"IF(AccountInfo!$B483=\"\",\"\",AccountInfo!B483)","v":""},{"$nulls":9},"Check"]
[{"$f":"AccountInfo!$A484","v":482},{"$f":"IF(AccountInfo!$B484=\"\",\"\",AccountInfo!B484)","v":""},{"$nulls":9},"Check"]
[{"$f":"AccountInfo!$A485","v":483},{"$f":"IF(AccountInfo!$B485=\"\",\"\",AccountInfo!B485)","v":""},{"$nulls":9},"Check"]
[{"$f":"AccountInfo!$A486","v":484},{"$f":"IF(AccountInfo!$B486=\"\",\"\",AccountInfo!B486)","v":""},{"$nulls":9},"Check"]
[{"$f":"AccountInfo!$A487","v":485},{"$f":"IF(AccountInfo!$B487=\"\",\"\",AccountInfo!B487)","v":""},{"$nulls":9},"Check"]
[{"$f":"AccountInfo!$A488","v":486},{"$f":"IF(AccountInfo!$B488=\"\",\"\",AccountInfo!B488)","v":""},{"$nulls":9},"Check"]
[{"$f":"AccountInfo!$A489","v":487},{"$f":"IF(AccountInfo!$B489=\"\",\"\",AccountInfo!B489)","v":""},{"$nulls":9},"Check"]
[{"$f":"AccountInfo!$A490","v":488},{"$f":"IF(AccountInfo!$B490=\"\",\"\",AccountInfo!B490)","v":""},{"$nulls":9},"Check"]
[{"$f":"AccountInfo!$A491","v":489},{"$f":"IF(AccountInfo!$B491=\"\",\"\",AccountInfo!B491)","v":""},{"$nulls":9},"Check"]
[{"$f":"AccountInfo!$A492","v":490},{"$f":"IF(AccountInfo!$B492=\"\",\"\",AccountInfo!B492)","v":""},{"$nulls":9},"Check"]
[{"$f":"AccountInfo!$A493","v":491},{"$f":"IF(AccountInfo!$B493=\"\",\"\",AccountInfo!B493)","v":""},{"$nulls":9},"Check"]
[{"$f":"AccountInfo!$A494","v":492},{"$f":"IF(AccountInfo!$B494=\"\",\"\",AccountInfo!B494)","v":""},{"$nulls":9},"Check"]
[{"$f":"AccountInfo!$A495","v":493},{"$f":"IF(AccountInfo!$B495=\"\",\"\",AccountInfo!B495)","v":""},{"$nulls":9},"Check"]
[{"$f":"AccountInfo!$A496","v":494},{"$f":"IF(AccountInfo!$B496=\"\",\"\",AccountInfo!B496)","v":""},{"$nulls":9},"Check"]
[{"$f":"AccountInfo!$A497","v":495},{"$f":"IF(AccountInfo!$B497=\"\",\"\",AccountInfo!B497)","v":""},{"$nulls":9},"Check"]
[{"$f":"AccountInfo!$A498","v":496},{"$f":"IF(AccountInfo!$B498=\"\",\"\",AccountInfo!B498)","v":""},{"$nulls":9},"Check"]
[{"$f":"AccountInfo!$A499","v":497},{"$f":"IF(AccountInfo!$B499=\"\",\"\",AccountInfo!B499)","v":""},{"$nulls":9},"Check"]
[{"$f":"AccountInfo!$A500","v":498},{"$f":"IF(AccountInfo!$B500=\"\",\"\",AccountInfo!B500)","v":""},{"$nulls":9},"Check"]
[{"$f":"AccountInfo!$A501","v":499},{"$f":"IF(AccountInfo!$B501=\"\",\"\",AccountInfo!B501)","v":""},{"$nulls":9},"Check"]
[{"$f":"AccountInfo!$A502","v":500},{"$f":"IF(AccountInfo!$B502=\"\",\"\",AccountInfo!B502)","v":""},{"$nulls":9},"Check"]
[{"$f":"AccountInfo!$A503","v":501},{"$f":"IF(AccountInfo!$B503=\"\",\"\",AccountInfo!B503)","v":""},{"$nulls":9},"Check"]
[{"$f":"AccountInfo!$A504","v":502},{"$f":"IF(AccountInfo!$B504=\"\",\"\",AccountInfo!B504)","v":""},{"$nulls":9},"Check"]
[{"$f":"AccountInfo!$A505","v":503},{"$f":"IF(AccountInfo!$B505=\"\",\"\",AccountInfo!B505)","v":""},{"$nulls":9},"Check"]
[{"$f":"AccountInfo!$A506","v":504},{"$f":"IF(AccountInfo!$B506=\"\",\"\",AccountInfo!B506)","v":""},{"$nulls":9},"Check"]
[{"$f":"AccountInfo!$A507","v":505},{"$f":"IF(AccountInfo!$B507=\"\",\"\",AccountInfo!B507)","v":""},{"$nulls":9},"Check"]
[{"$f":"AccountInfo!$A508","v":506},{"$f":"IF(AccountInfo!$B508=\"\",\"\",AccountInfo!B508)","v":""},{"$nulls":9},"Check"]
[{"$f":"AccountInfo!$A509","v":507},{"$f":"IF(AccountInfo!$B509=\"\",\"\",AccountInfo!B509)","v":""},{"$nulls":9},"Check"]
[{"$f":"AccountInfo!$A510","v":508},{"$f":"IF(AccountInfo!$B510=\"\",\"\",AccountInfo!B510)","v":""},{"$nulls":9},"Check"]
[{"$f":"AccountInfo!$A511","v":509},{"$f":"IF(AccountInfo!$B511=\"\",\"\",AccountInfo!B511)","v":""},{"$nulls":9},"Check"]
[{"$f":"AccountInfo!$A512","v":510},{"$f":"IF(AccountInfo!$B512=\"\",\"\",AccountInfo!B512)","v":""},{"$nulls":9},"Check"]
[{"$f":"AccountInfo!$A513","v":511},{"$f":"IF(AccountInfo!$B513=\"\",\"\",AccountInfo!B513)","v":""},{"$nulls":9},"Check"]
[{"$f":"AccountInfo!$A514","v":512},{"$f":"IF(AccountInfo!$B514=\"\",\"\",AccountInfo!B514)","v":""},{"$nulls":9},"Check"]
[{"$f":"AccountInfo!$A515","v":513},{"$f":"IF(AccountInfo!$B515=\"\",\"\",AccountInfo!B515)","v":""},{"$nulls":9},"Check"]
[{"$f":"AccountInfo!$A516","v":514},{"$f":"IF(AccountInfo!$B516=\"\",\"\",AccountInfo!B516)","v":""},{"$nulls":9},{"$f":"IF(AND(D516<=E516, E516<=F516, F516<=G516, G516<=IF(H516=\"\", 1000000000000, H516)), \"Check\", \"Error\")","v":"Check"}]
[{"$f":"AccountInfo!$A517","v":515},{"$f":"IF(AccountInfo!$B517=\"\",\"\",AccountInfo!B517)","v":""},{"$nulls":9},"Check"]
[{"$f":"AccountInfo!$A518","v":516},{"$f":"IF(AccountInfo!$B518=\"\",\"\",AccountInfo!B518)","v":""},{"$nulls":9},"Check"]
[{"$f":"AccountInfo!$A519","v":517},{"$f":"IF(AccountInfo!$B519=\"\",\"\",AccountInfo!B519)","v":""},{"$nulls":9},"Check"]
[{"$f":"AccountInfo!$A520","v":518},{"$f":"IF(AccountInfo!$B520=\"\",\"\",AccountInfo!B520)","v":""},{"$nulls":9},"Check"]
[{"$f":"AccountInfo!$A521","v":519},{"$f":"IF(AccountInfo!$B521=\"\",\"\",AccountInfo!B521)","v":""},{"$nulls":9},"Check"]
[{"$f":"AccountInfo!$A522","v":520},{"$f":"IF(AccountInfo!$B522=\"\",\"\",AccountInfo!B522)","v":""},{"$nulls":9},"Check"]
[{"$f":"AccountInfo!$A523","v":521},{"$f":"IF(AccountInfo!$B523=\"\",\"\",AccountInfo!B523)","v":""},{"$nulls":9},"Check"]
[{"$f":"AccountInfo!$A524","v":522},{"$f":"IF(AccountInfo!$B524=\"\",\"\",AccountInfo!B524)","v":""},{"$nulls":9},"Check"]
[{"$f":"AccountInfo!$A525","v":523},{"$f":"IF(AccountInfo!$B525=\"\",\"\",AccountInfo!B525)","v":""},{"$nulls":9},"Check"]
[{"$f":"AccountInfo!$A526","v":524},{"$f":"IF(AccountInfo!$B526=\"\",\"\",AccountInfo!B526)","v":""},{"$nulls":9},"Check"]
[{"$f":"AccountInfo!$A527","v":525},{"$f":"IF(AccountInfo!$B527=\"\",\"\",AccountInfo!B527)","v":""},{"$nulls":9},"Check"]
[{"$f":"AccountInfo!$A528","v":526},{"$f":"IF(AccountInfo!$B528=\"\",\"\",AccountInfo!B528)","v":""},{"$nulls":9},"Check"]
[{"$f":"AccountInfo!$A529","v":527},{"$f":"IF(AccountInfo!$B529=\"\",\"\",AccountInfo!B529)","v":""},{"$nulls":9},"Check"]
[{"$f":"AccountInfo!$A530","v":528},{"$f":"IF(AccountInfo!$B530=\"\",\"\",AccountInfo!B530)","v":""},{"$nulls":9},"Check"]
[{"$f":"AccountInfo!$A531","v":529},{"$f":"IF(AccountInfo!$B531=\"\",\"\",AccountInfo!B531)","v":""},{"$nulls":9},"Check"]
[{"$f":"AccountInfo!$A532","v":530},{"$f":"IF(AccountInfo!$B532=\"\",\"\",AccountInfo!B532)","v":""},{"$nulls":9},"Check"]
[{"$f":"AccountInfo!$A533","v":531},{"$f":"IF(AccountInfo!$B533=\"\",\"\",AccountInfo!B533)","v":""},{"$nulls":9},"Check"]
[{"$f":"AccountInfo!$A534","v":532},{"$f":"IF(AccountInfo!$B534=\"\",\"\",AccountInfo!B534)","v":""},{"$nulls":9},"Check"]
[{"$f":"AccountInfo!$A535","v":533},{"$f":"IF(AccountInfo!$B535=\"\",\"\",AccountInfo!B535)","v":""},{"$nulls":9},"Check"]
[{"$f":"AccountInfo!$A536","v":534},{"$f":"IF(AccountInfo!$B536=\"\",\"\",AccountInfo!B536)","v":""},{"$nulls":9},"Check"]
[{"$f":"AccountInfo!$A537","v":535},{"$f":"IF(AccountInfo!$B537=\"\",\"\",AccountInfo!B537)","v":""},{"$nulls":9},"Check"]
[{"$f":"AccountInfo!$A538","v":536},{"$f":"IF(AccountInfo!$B538=\"\",\"\",AccountInfo!B538)","v":""},{"$nulls":9},"Check"]
[{"$f":"AccountInfo!$A539","v":537},{"$f":"IF(AccountInfo!$B539=\"\",\"\",AccountInfo!B539)","v":""},{"$nulls":9},"Check"]
[{"$f":"AccountInfo!$A540","v":538},{"$f":"IF(AccountInfo!$B540=\"\",\"\",AccountInfo!B540)","v":""},{"$nulls":9},"Check"]
[{"$f":"AccountInfo!$A541","v":539},{"$f":"IF(AccountInfo!$B541=\"\",\"\",AccountInfo!B541)","v":""},{"$nulls":9},"Check"]
[{"$f":"AccountInfo!$A542","v":540},{"$f":"IF(AccountInfo!$B542=\"\",\"\",AccountInfo!B542)","v":""},{"$nulls":9},"Check"]
[{"$f":"AccountInfo!$A543","v":541},{"$f":"IF(AccountInfo!$B543=\"\",\"\",AccountInfo!B543)","v":""},{"$nulls":9},"Check"]
[{"$f":"AccountInfo!$A544","v":542},{"$f":"IF(AccountInfo!$B544=\"\",\"\",AccountInfo!B544)","v":""},{"$nulls":9},"Check"]
[{"$f":"AccountInfo!$A545","v":543},{"$f":"IF(AccountInfo!$B545=\"\",\"\",AccountInfo!B545)","v":""},{"$nulls":9},"Check"]
[{"$f":"AccountInfo!$A546","v":544},{"$f":"IF(AccountInfo!$B546=\"\",\"\",AccountInfo!B546)","v":""},{"$nulls":9},"Check"]
[{"$f":"AccountInfo!$A547","v":545},{"$f":"IF(AccountInfo!$B547=\"\",\"\",AccountInfo!B547)","v":""},{"$nulls":9},"Check"]
[{"$f":"AccountInfo!$A548","v":546},{"$f":"IF(AccountInfo!$B548=\"\",\"\",AccountInfo!B548)","v":""},{"$nulls":9},"Check"]
[{"$f":"AccountInfo!$A549","v":547},{"$f":"IF(AccountInfo!$B549=\"\",\"\",AccountInfo!B549)","v":""},{"$nulls":9},"Check"]
[{"$f":"AccountInfo!$A550","v":548},{"$f":"IF(AccountInfo!$B550=\"\",\"\",AccountInfo!B550)","v":""},{"$nulls":9},"Check"]
[{"$f":"AccountInfo!$A551","v":549},{"$f":"IF(AccountInfo!$B551=\"\",\"\",AccountInfo!B551)","v":""},{"$nulls":9},"Check"]
[{"$f":"AccountInfo!$A552","v":550},{"$f":"IF(AccountInfo!$B552=\"\",\"\",AccountInfo!B552)","v":""},{"$nulls":9},"Check"]
[{"$f":"AccountInfo!$A553","v":551},{"$f":"IF(AccountInfo!$B553=\"\",\"\",AccountInfo!B553)","v":""},{"$nulls":9},"Check"]
[{"$f":"AccountInfo!$A554","v":552},{"$f":"IF(AccountInfo!$B554=\"\",\"\",AccountInfo!B554)","v":""},{"$nulls":9},"Check"]
[{"$f":"AccountInfo!$A555","v":553},{"$f":"IF(AccountInfo!$B555=\"\",\"\",AccountInfo!B555)","v":""},{"$nulls":9},"Check"]
[{"$f":"AccountInfo!$A556","v":554},{"$f":"IF(AccountInfo!$B556=\"\",\"\",AccountInfo!B556)","v":""},{"$nulls":9},"Check"]
[{"$f":"AccountInfo!$A557","v":555},{"$f":"IF(AccountInfo!$B557=\"\",\"\",AccountInfo!B557)","v":""},{"$nulls":9},"Check"]
[{"$f":"AccountInfo!$A558","v":556},{"$f":"IF(AccountInfo!$B558=\"\",\"\",AccountInfo!B558)","v":""},{"$nulls":9},"Check"]
[{"$f":"AccountInfo!$A559","v":557},{"$f":"IF(AccountInfo!$B559=\"\",\"\",AccountInfo!B559)","v":""},{"$nulls":9},"Check"]
[{"$f":"AccountInfo!$A560","v":558},{"$f":"IF(AccountInfo!$B560=\"\",\"\",AccountInfo!B560)","v":""},{"$nulls":9},"Check"]
[{"$f":"AccountInfo!$A561","v":559},{"$f":"IF(AccountInfo!$B561=\"\",\"\",AccountInfo!B561)","v":""},{"$nulls":9},"Check"]
[{"$f":"AccountInfo!$A562","v":560},{"$f":"IF(AccountInfo!$B562=\"\",\"\",AccountInfo!B562)","v":""},{"$nulls":9},"Check"]
[{"$f":"AccountInfo!$A563","v":561},{"$f":"IF(AccountInfo!$B563=\"\",\"\",AccountInfo!B563)","v":""},{"$nulls":9},"Check"]
[{"$f":"AccountInfo!$A564","v":562},{"$f":"IF(AccountInfo!$B564=\"\",\"\",AccountInfo!B564)","v":""},{"$nulls":9},"Check"]
[{"$f":"AccountInfo!$A565","v":563},{"$f":"IF(AccountInfo!$B565=\"\",\"\",AccountInfo!B565)","v":""},{"$nulls":9},"Check"]
[{"$f":"AccountInfo!$A566","v":564},{"$f":"IF(AccountInfo!$B566=\"\",\"\",AccountInfo!B566)","v":""},{"$nulls":9},"Check"]
[{"$f":"AccountInfo!$A567","v":565},{"$f":"IF(AccountInfo!$B567=\"\",\"\",AccountInfo!B567)","v":""},{"$nulls":9},"Check"]
[{"$f":"AccountInfo!$A568","v":566},{"$f":"IF(AccountInfo!$B568=\"\",\"\",AccountInfo!B568)","v":""},{"$nulls":9},"Check"]
[{"$f":"AccountInfo!$A569","v":567},{"$f":"IF(AccountInfo!$B569=\"\",\"\",AccountInfo!B569)","v":""},{"$nulls":9},"Check"]
[{"$f":"AccountInfo!$A570","v":568},{"$f":"IF(AccountInfo!$B570=\"\",\"\",AccountInfo!B570)","v":""},{"$nulls":9},"Check"]
[{"$f":"AccountInfo!$A571","v":569},{"$f":"IF(AccountInfo!$B571=\"\",\"\",AccountInfo!B571)","v":""},{"$nulls":9},"Check"]
[{"$f":"AccountInfo!$A572","v":570},{"$f":"IF(AccountInfo!$B572=\"\",\"\",AccountInfo!B572)","v":""},{"$nulls":9},"Check"]
[{"$f":"AccountInfo!$A573","v":571},{"$f":"IF(AccountInfo!$B573=\"\",\"\",AccountInfo!B573)","v":""},{"$nulls":9},"Check"]
[{"$f":"AccountInfo!$A574","v":572},{"$f":"IF(AccountInfo!$B574=\"\",\"\",AccountInfo!B574)","v":""},{"$nulls":9},"Check"]
[{"$f":"AccountInfo!$A575","v":573},{"$f":"IF(AccountInfo!$B575=\"\",\"\",AccountInfo!B575)","v":""},{"$nulls":9},"Check"]
[{"$f":"AccountInfo!$A576","v":574},{"$f":"IF(AccountInfo!$B576=\"\",\"\",AccountInfo!B576)","v":""},{"$nulls":9},"Check"]
[{"$f":"AccountInfo!$A577","v":575},{"$f":"IF(AccountInfo!$B577=\"\",\"\",AccountInfo!B577)","v":""},{"$nulls":9},"Check"]
[{"$f":"AccountInfo!$A578","v":576},{"$f":"IF(AccountInfo!$B578=\"\",\"\",AccountInfo!B578)","v":""},{"$nulls":9},"Check"]
[{"$f":"AccountInfo!$A579","v":577},{"$f":"IF(AccountInfo!$B579=\"\",\"\",AccountInfo!B579)","v":""},{"$nulls":9},"Check"]
[{"$f":"AccountInfo!$A580","v":578},{"$f":"IF(AccountInfo!$B580=\"\",\"\",AccountInfo!B580)","v":""},{"$nulls":9},{"$f":"IF(AND(D580<=E580, E580<=F580, F580<=G580, G580<=IF(H580=\"\", 1000000000000, H580)), \"Check\", \"Error\")","v":"Check"}]
[{"$f":"AccountInfo!$A581","v":579},{"$f":"IF(AccountInfo!$B581=\"\",\"\",AccountInfo!B581)","v":""},{"$nulls":9},"Check"]
[{"$f":"AccountInfo!$A582","v":580},{"$f":"IF(AccountInfo!$B582=\"\",\"\",AccountInfo!B582)","v":""},{"$nulls":9},"Check"]
[{"$f":"AccountInfo!$A583","v":581},{"$f":"IF(AccountInfo!$B583=\"\",\"\",AccountInfo!B583)","v":""},{"$nulls":9},"Check"]
[{"$f":"AccountInfo!$A584","v":582},{"$f":"IF(AccountInfo!$B584=\"\",\"\",AccountInfo!B584)","v":""},{"$nulls":9},"Check"]
[{"$f":"AccountInfo!$A585","v":583},{"$f":"IF(AccountInfo!$B585=\"\",\"\",AccountInfo!B585)","v":""},{"$nulls":9},"Check"]
[{"$f":"AccountInfo!$A586","v":584},{"$f":"IF(AccountInfo!$B586=\"\",\"\",AccountInfo!B586)","v":""},{"$nulls":9},"Check"]
[{"$f":"AccountInfo!$A587","v":585},{"$f":"IF(AccountInfo!$B587=\"\",\"\",AccountInfo!B587)","v":""},{"$nulls":9},"Check"]
[{"$f":"AccountInfo!$A588","v":586},{"$f":"IF(AccountInfo!$B588=\"\",\"\",AccountInfo!B588)","v":""},{"$nulls":9},"Check"]
[{"$f":"AccountInfo!$A589","v":587},{"$f":"IF(AccountInfo!$B589=\"\",\"\",AccountInfo!B589)","v":""},{"$nulls":9},"Check"]
[{"$f":"AccountInfo!$A590","v":588},{"$f":"IF(AccountInfo!$B590=\"\",\"\",AccountInfo!B590)","v":""},{"$nulls":9},"Check"]
[{"$f":"AccountInfo!$A591","v":589},{"$f":"IF(AccountInfo!$B591=\"\",\"\",AccountInfo!B591)","v":""},{"$nulls":9},"Check"]
[{"$f":"AccountInfo!$A592","v":590},{"$f":"IF(AccountInfo!$B592=\"\",\"\",AccountInfo!B592)","v":""},{"$nulls":9},"Check"]
[{"$f":"AccountInfo!$A593","v":591},{"$f":"IF(AccountInfo!$B593=\"\",\"\",AccountInfo!B593)","v":""},{"$nulls":9},"Check"]
[{"$f":"AccountInfo!$A594","v":592},{"$f":"IF(AccountInfo!$B594=\"\",\"\",AccountInfo!B594)","v":""},{"$nulls":9},"Check"]
[{"$f":"AccountInfo!$A595","v":593},{"$f":"IF(AccountInfo!$B595=\"\",\"\",AccountInfo!B595)","v":""},{"$nulls":9},"Check"]
[{"$f":"AccountInfo!$A596","v":594},{"$f":"IF(AccountInfo!$B596=\"\",\"\",AccountInfo!B596)","v":""},{"$nulls":9},"Check"]
[{"$f":"AccountInfo!$A597","v":595},{"$f":"IF(AccountInfo!$B597=\"\",\"\",AccountInfo!B597)","v":""},{"$nulls":9},"Check"]
[{"$f":"AccountInfo!$A598","v":596},{"$f":"IF(AccountInfo!$B598=\"\",\"\",AccountInfo!B598)","v":""},{"$nulls":9},"Check"]
[{"$f":"AccountInfo!$A599","v":597},{"$f":"IF(AccountInfo!$B599=\"\",\"\",AccountInfo!B599)","v":""},{"$nulls":9},"Check"]
[{"$f":"AccountInfo!$A600","v":598},{"$f":"IF(AccountInfo!$B600=\"\",\"\",AccountInfo!B600)","v":""},{"$nulls":9},"Check"]
[{"$f":"AccountInfo!$A601","v":599},{"$f":"IF(AccountInfo!$B601=\"\",\"\",AccountInfo!B601)","v":""},{"$nulls":9},"Check"]
[{"$f":"AccountInfo!$A602","v":600},{"$f":"IF(AccountInfo!$B602=\"\",\"\",AccountInfo!B602)","v":""},{"$nulls":9},"Check"]
[{"$f":"AccountInfo!$A603","v":601},{"$f":"IF(AccountInfo!$B603=\"\",\"\",AccountInfo!B603)","v":""},{"$nulls":9},"Check"]
[{"$f":"AccountInfo!$A604","v":602},{"$f":"IF(AccountInfo!$B604=\"\",\"\",AccountInfo!B604)","v":""},{"$nulls":9},"Check"]
[{"$f":"AccountInfo!$A605","v":603},{"$f":"IF(AccountInfo!$B605=\"\",\"\",AccountInfo!B605)","v":""},{"$nulls":9},"Check"]
[{"$f":"AccountInfo!$A606","v":604},{"$f":"IF(AccountInfo!$B606=\"\",\"\",AccountInfo!B606)","v":""},{"$nulls":9},"Check"]
[{"$f":"AccountInfo!$A607","v":605},{"$f":"IF(AccountInfo!$B607=\"\",\"\",AccountInfo!B607)","v":""},{"$nulls":9},"Check"]
[{"$f":"AccountInfo!$A608","v":606},{"$f":"IF(AccountInfo!$B608=\"\",\"\",AccountInfo!B608)","v":""},{"$nulls":9},"Check"]
[{"$f":"AccountInfo!$A609","v":607},{"$f":"IF(AccountInfo!$B609=\"\",\"\",AccountInfo!B609)","v":""},{"$nulls":9},"Check"]
[{"$f":"AccountInfo!$A610","v":608},{"$f":"IF(AccountInfo!$B610=\"\",\"\",AccountInfo!B610)","v":""},{"$nulls":9},"Check"]
[{"$f":"AccountInfo!$A611","v":609},{"$f":"IF(AccountInfo!$B611=\"\",\"\",AccountInfo!B611)","v":""},{"$nulls":9},"Check"]
[{"$f":"AccountInfo!$A612","v":610},{"$f":"IF(AccountInfo!$B612=\"\",\"\",AccountInfo!B612)","v":""},{"$nulls":9},"Check"]
[{"$f":"AccountInfo!$A613","v":611},{"$f":"IF(AccountInfo!$B613=\"\",\"\",AccountInfo!B613)","v":""},{"$nulls":9},"Check"]
[{"$f":"AccountInfo!$A614","v":612},{"$f":"IF(AccountInfo!$B614=\"\",\"\",AccountInfo!B614)","v":""},{"$nulls":9},"Check"]
[{"$f":"AccountInfo!$A615","v":613},{"$f":"IF(AccountInfo!$B615=\"\",\"\",AccountInfo!B615)","v":""},{"$nulls":9},"Check"]
[{"$f":"AccountInfo!$A616","v":614},{"$f":"IF(AccountInfo!$B616=\"\",\"\",AccountInfo!B616)","v":""},{"$nulls":9},"Check"]
[{"$f":"AccountInfo!$A617","v":615},{"$f":"IF(AccountInfo!$B617=\"\",\"\",AccountInfo!B617)","v":""},{"$nulls":9},"Check"]
[{"$f":"AccountInfo!$A618","v":616},{"$f":"IF(AccountInfo!$B618=\"\",\"\",AccountInfo!B618)","v":""},{"$nulls":9},"Check"]
[{"$f":"AccountInfo!$A619","v":617},{"$f":"IF(AccountInfo!$B619=\"\",\"\",AccountInfo!B619)","v":""},{"$nulls":9},"Check"]
[{"$f":"AccountInfo!$A620","v":618},{"$f":"IF(AccountInfo!$B620=\"\",\"\",AccountInfo!B620)","v":""},{"$nulls":9},"Check"]
[{"$f":"AccountInfo!$A621","v":619},{"$f":"IF(AccountInfo!$B621=\"\",\"\",AccountInfo!B621)","v":""},{"$nulls":9},"Check"]
[{"$f":"AccountInfo!$A622","v":620},{"$f":"IF(AccountInfo!$B622=\"\",\"\",AccountInfo!B622)","v":""},{"$nulls":9},"Check"]
[{"$f":"AccountInfo!$A623","v":621},{"$f":"IF(AccountInfo!$B623=\"\",\"\",AccountInfo!B623)","v":""},{"$nulls":9},"Check"]
[{"$f":"AccountInfo!$A624","v":622},{"$f":"IF(AccountInfo!$B624=\"\",\"\",AccountInfo!B624)","v":""},{"$nulls":9},"Check"]
[{"$f":"AccountInfo!$A625","v":623},{"$f":"IF(AccountInfo!$B625=\"\",\"\",AccountInfo!B625)","v":""},{"$nulls":9},"Check"]
[{"$f":"AccountInfo!$A626","v":624},{"$f":"IF(AccountInfo!$B626=\"\",\"\",AccountInfo!B626)","v":""},{"$nulls":9},"Check"]
[{"$f":"AccountInfo!$A627","v":625},{"$f":"IF(AccountInfo!$B627=\"\",\"\",AccountInfo!B627)","v":""},{"$nulls":9},"Check"]
[{"$f":"AccountInfo!$A628","v":626},{"$f":"IF(AccountInfo!$B628=\"\",\"\",AccountInfo!B628)","v":""},{"$nulls":9},"Check"]
[{"$f":"AccountInfo!$A629","v":627},{"$f":"IF(AccountInfo!$B629=\"\",\"\",AccountInfo!B629)","v":""},{"$nulls":9},"Check"]
[{"$f":"AccountInfo!$A630","v":628},{"$f":"IF(AccountInfo!$B630=\"\",\"\",AccountInfo!B630)","v":""},{"$nulls":9},"Check"]
[{"$f":"AccountInfo!$A631","v":629},{"$f":"IF(AccountInfo!$B631=\"\",\"\",AccountInfo!B631)","v":""},{"$nulls":9},"Check"]
[{"$f":"AccountInfo!$A632","v":630},{"$f":"IF(AccountInfo!$B632=\"\",\"\",AccountInfo!B632)","v":""},{"$nulls":9},"Check"]
[{"$f":"AccountInfo!$A633","v":631},{"$f":"IF(AccountInfo!$B633=\"\",\"\",AccountInfo!B633)","v":""},{"$nulls":9},"Check"]
[{"$f":"AccountInfo!$A634","v":632},{"$f":"IF(AccountInfo!$B634=\"\",\"\",AccountInfo!B634)","v":""},{"$nulls":9},"Check"]
[{"$f":"AccountInfo!$A635","v":633},{"$f":"IF(AccountInfo!$B635=\"\",\"\",AccountInfo!B635)","v":""},{"$nulls":9},"Check"]
[{"$f":"AccountInfo!$A636","v":634},{"$f":"IF(AccountInfo!$B636=\"\",\"\",AccountInfo!B636)","v":""},{"$nulls":9},"Check"]
[{"$f":"AccountInfo!$A637","v":635},{"$f":"IF(AccountInfo!$B637=\"\",\"\",AccountInfo!B637)","v":""},{"$nulls":9},"Check"]
[{"$f":"AccountInfo!$A638","v":636},{"$f":"IF(AccountInfo!$B638=\"\",\"\",AccountInfo!B638)","v":""},{"$nulls":9},"Check"]
[{"$f":"AccountInfo!$A639","v":637},{"$f":"IF(AccountInfo!$B639=\"\",\"\",AccountInfo!B639)","v":""},{"$nulls":9},"Check"]
[{"$f":"AccountInfo!$A640","v":638},{"$f":"IF(AccountInfo!$B640=\"\",\"\",AccountInfo!B640)","v":""},{"$nulls":9},"Check"]
[{"$f":"AccountInfo!$A641","v":639},{"$f":"IF(AccountInfo!$B641=\"\",\"\",AccountInfo!B641)","v":""},{"$nulls":9},"Check"]
[{"$f":"AccountInfo!$A642","v":640},{"$f":"IF(AccountInfo!$B642=\"\",\"\",AccountInfo!B642)","v":""},{"$nulls":9},"Check"]
[{"$f":"AccountInfo!$A643","v":641},{"$f":"IF(AccountInfo!$B643=\"\",\"\",AccountInfo!B643)","v":""},{"$nulls":9},"Check"]
[{"$f":"AccountInfo!$A644","v":642},{"$f":"IF(AccountInfo!$B644=\"\",\"\",AccountInfo!B644)","v":""},{"$nulls":9},{"$f":"IF(AND(D644<=E644, E644<=F644, F644<=G644, G644<=IF(H644=\"\", 1000000000000, H644)), \"Check\", \"Error\")","v":"Check"}]
[{"$f":"AccountInfo!$A645","v":643},{"$f":"IF(AccountInfo!$B645=\"\",\"\",AccountInfo!B645)","v":""},{"$nulls":9},"Check"]
[{"$f":"AccountInfo!$A646","v":644},{"$f":"IF(AccountInfo!$B646=\"\",\"\",AccountInfo!B646)","v":""},{"$nulls":9},"Check"]
[{"$f":"AccountInfo!$A647","v":645},{"$f":"IF(AccountInfo!$B647=\"\",\"\",AccountInfo!B647)","v":""},{"$nulls":9},"Check"]
[{"$f":"AccountInfo!$A648","v":646},{"$f":"IF(AccountInfo!$B648=\"\",\"\",AccountInfo!B648)","v":""},{"$nulls":9},"Check"]
[{"$f":"AccountInfo!$A649","v":647},{"$f":"IF(AccountInfo!$B649=\"\",\"\",AccountInfo!B649)","v":""},{"$nulls":9},"Check"]
[{"$f":"AccountInfo!$A650","v":648},{"$f":"IF(AccountInfo!$B650=\"\",\"\",AccountInfo!B650)","v":""},{"$nulls":9},"Check"]
[{"$f":"AccountInfo!$A651","v":649},{"$f":"IF(AccountInfo!$B651=\"\",\"\",AccountInfo!B651)","v":""},{"$nulls":9},"Check"]
[{"$f":"AccountInfo!$A652","v":650},{"$f":"IF(AccountInfo!$B652=\"\",\"\",AccountInfo!B652)","v":""},{"$nulls":9},"Check"]
[{"$f":"AccountInfo!$A653","v":651},{"$f":"IF(AccountInfo!$B653=\"\",\"\",AccountInfo!B653)","v":""},{"$nulls":9},"Check"]
[{"$f":"AccountInfo!$A654","v":652},{"$f":"IF(AccountInfo!$B654=\"\",\"\",AccountInfo!B654)","v":""},{"$nulls":9},"Check"]
[{"$f":"AccountInfo!$A655","v":653},{"$f":"IF(AccountInfo!$B655=\"\",\"\",AccountInfo!B655)","v":""},{"$nulls":9},"Check"]
[{"$f":"AccountInfo!$A656","v":654},{"$f":"IF(AccountInfo!$B656=\"\",\"\",AccountInfo!B656)","v":""},{"$nulls":9},"Check"]
[{"$f":"AccountInfo!$A657","v":655},{"$f":"IF(AccountInfo!$B657=\"\",\"\",AccountInfo!B657)","v":""},{"$nulls":9},"Check"]
[{"$f":"AccountInfo!$A658","v":656},{"$f":"IF(AccountInfo!$B658=\"\",\"\",AccountInfo!B658)","v":""},{"$nulls":9},"Check"]
[{"$f":"AccountInfo!$A659","v":657},{"$f":"IF(AccountInfo!$B659=\"\",\"\",AccountInfo!B659)","v":""},{"$nulls":9},"Check"]
[{"$f":"AccountInfo!$A660","v":658},{"$f":"IF(AccountInfo!$B660=\"\",\"\",AccountInfo!B660)","v":""},{"$nulls":9},"Check"]
[{"$f":"AccountInfo!$A661","v":659},{"$f":"IF(AccountInfo!$B661=\"\",\"\",AccountInfo!B661)","v":""},{"$nulls":9},"Check"]
[{"$f":"AccountInfo!$A662","v":660},{"$f":"IF(AccountInfo!$B662=\"\",\"\",AccountInfo!B662)","v":""},{"$nulls":9},"Check"]
[{"$f":"AccountInfo!$A663","v":661},{"$f":"IF(AccountInfo!$B663=\"\",\"\",AccountInfo!B663)","v":""},{"$nulls":9},"Check"]
[{"$f":"AccountInfo!$A664","v":662},{"$f":"IF(AccountInfo!$B664=\"\",\"\",AccountInfo!B664)","v":""},{"$nulls":9},"Check"]
[{"$f":"AccountInfo!$A665","v":663},{"$f":"IF(AccountInfo!$B665=\"\",\"\",AccountInfo!B665)","v":""},{"$nulls":9},"Check"]
[{"$f":"AccountInfo!$A666","v":664},{"$f":"IF(AccountInfo!$B666=\"\",\"\",AccountInfo!B666)","v":""},{"$nulls":9},"Check"]
[{"$f":"AccountInfo!$A667","v":665},{"$f":"IF(AccountInfo!$B667=\"\",\"\",AccountInfo!B667)","v":""},{"$nulls":9},"Check"]
[{"$f":"AccountInfo!$A668","v":666},{"$f":"IF(AccountInfo!$B668=\"\",\"\",AccountInfo!B668)","v":""},{"$nulls":9},"Check"]
[{"$f":"AccountInfo!$A669","v":667},{"$f":"IF(AccountInfo!$B669=\"\",\"\",AccountInfo!B669)","v":""},{"$nulls":9},"Check"]
[{"$f":"AccountInfo!$A670","v":668},{"$f":"IF(AccountInfo!$B670=\"\",\"\",AccountInfo!B670)","v":""},{"$nulls":9},"Check"]
[{"$f":"AccountInfo!$A671","v":669},{"$f":"IF(AccountInfo!$B671=\"\",\"\",AccountInfo!B671)","v":""},{"$nulls":9},"Check"]
[{"$f":"AccountInfo!$A672","v":670},{"$f":"IF(AccountInfo!$B672=\"\",\"\",AccountInfo!B672)","v":""},{"$nulls":9},"Check"]
[{"$f":"AccountInfo!$A673","v":671},{"$f":"IF(AccountInfo!$B673=\"\",\"\",AccountInfo!B673)","v":""},{"$nulls":9},"Check"]
[{"$f":"AccountInfo!$A674","v":672},{"$f":"IF(AccountInfo!$B674=\"\",\"\",AccountInfo!B674)","v":""},{"$nulls":9},"Check"]
[{"$f":"AccountInfo!$A675","v":673},{"$f":"IF(AccountInfo!$B675=\"\",\"\",AccountInfo!B675)","v":""},{"$nulls":9},"Check"]
[{"$f":"AccountInfo!$A676","v":674},{"$f":"IF(AccountInfo!$B676=\"\",\"\",AccountInfo!B676)","v":""},{"$nulls":9},"Check"]
[{"$f":"AccountInfo!$A677","v":675},{"$f":"IF(AccountInfo!$B677=\"\",\"\",AccountInfo!B677)","v":""},{"$nulls":9},"Check"]
[{"$f":"AccountInfo!$A678","v":676},{"$f":"IF(AccountInfo!$B678=\"\",\"\",AccountInfo!B678)","v":""},{"$nulls":9},"Check"]
[{"$f":"AccountInfo!$A679","v":677},{"$f":"IF(AccountInfo!$B679=\"\",\"\",AccountInfo!B679)","v":""},{"$nulls":9},"Check"]
[{"$f":"AccountInfo!$A680","v":678},{"$f":"IF(AccountInfo!$B680=\"\",\"\",AccountInfo!B680)","v":""},{"$nulls":9},"Check"]
[{"$f":"AccountInfo!$A681","v":679},{"$f":"IF(AccountInfo!$B681=\"\",\"\",AccountInfo!B681)","v":""},{"$nulls":9},"Check"]
[{"$f":"AccountInfo!$A682","v":680},{"$f":"IF(AccountInfo!$B682=\"\",\"\",AccountInfo!B682)","v":""},{"$nulls":9},"Check"]
[{"$f":"AccountInfo!$A683","v":681},{"$f":"IF(AccountInfo!$B683=\"\",\"\",AccountInfo!B683)","v":""},{"$nulls":9},"Check"]
[{"$f":"AccountInfo!$A684","v":682},{"$f":"IF(AccountInfo!$B684=\"\",\"\",AccountInfo!B684)","v":""},{"$nulls":9},"Check"]
[{"$f":"AccountInfo!$A685","v":683},{"$f":"IF(AccountInfo!$B685=\"\",\"\",AccountInfo!B685)","v":""},{"$nulls":9},"Check"]
[{"$f":"AccountInfo!$A686","v":684},{"$f":"IF(AccountInfo!$B686=\"\",\"\",AccountInfo!B686)","v":""},{"$nulls":9},"Check"]
[{"$f":"AccountInfo!$A687","v":685},{"$f":"IF(AccountInfo!$B687=\"\",\"\",AccountInfo!B687)","v":""},{"$nulls":9},"Check"]
[{"$f":"AccountInfo!$A688","v":686},{"$f":"IF(AccountInfo!$B688=\"\",\"\",AccountInfo!B688)","v":""},{"$nulls":9},"Check"]
[{"$f":"AccountInfo!$A689","v":687},{"$f":"IF(AccountInfo!$B689=\"\",\"\",AccountInfo!B689)","v":""},{"$nulls":9},"Check"]
[{"$f":"AccountInfo!$A690","v":688},{"$f":"IF(AccountInfo!$B690=\"\",\"\",AccountInfo!B690)","v":""},{"$nulls":9},"Check"]
[{"$f":"AccountInfo!$A691","v":689},{"$f":"IF(AccountInfo!$B691=\"\",\"\",AccountInfo!B691)","v":""},{"$nulls":9},"Check"]
[{"$f":"AccountInfo!$A692","v":690},{"$f":"IF(AccountInfo!$B692=\"\",\"\",AccountInfo!B692)","v":""},{"$nulls":9},"Check"]
[{"$f":"AccountInfo!$A693","v":691},{"$f":"IF(AccountInfo!$B693=\"\",\"\",AccountInfo!B693)","v":""},{"$nulls":9},"Check"]
[{"$f":"AccountInfo!$A694","v":692},{"$f":"IF(AccountInfo!$B694=\"\",\"\",AccountInfo!B694)","v":""},{"$nulls":9},"Check"]
[{"$f":"AccountInfo!$A695","v":693},{"$f":"IF(AccountInfo!$B695=\"\",\"\",AccountInfo!B695)","v":""},{"$nulls":9},"Check"]
[{"$f":"AccountInfo!$A696","v":694},{"$f":"IF(AccountInfo!$B696=\"\",\"\",AccountInfo!B696)","v":""},{"$nulls":9},"Check"]
[{"$f":"AccountInfo!$A697","v":695},{"$f":"IF(AccountInfo!$B697=\"\",\"\",AccountInfo!B697)","v":""},{"$nulls":9},"Check"]
[{"$f":"AccountInfo!$A698","v":696},{"$f":"IF(AccountInfo!$B698=\"\",\"\",AccountInfo!B698)","v":""},{"$nulls":9},"Check"]
[{"$f":"AccountInfo!$A699","v":697},{"$f":"IF(AccountInfo!$B699=\"\",\"\",AccountInfo!B699)","v":""},{"$nulls":9},"Check"]
[{"$f":"AccountInfo!$A700","v":698},{"$f":"IF(AccountInfo!$B700=\"\",\"\",AccountInfo!B700)","v":""},{"$nulls":9},"Check"]
[{"$f":"AccountInfo!$A701","v":699},{"$f":"IF(AccountInfo!$B701=\"\",\"\",AccountInfo!B701)","v":""},{"$nulls":9},"Check"]
[{"$f":"AccountInfo!$A702","v":700},{"$f":"IF(AccountInfo!$B702=\"\",\"\",AccountInfo!B702)","v":""},{"$nulls":9},"Check"]
[{"$f":"AccountInfo!$A703","v":701},{"$f":"IF(AccountInfo!$B703=\"\",\"\",AccountInfo!B703)","v":""},{"$nulls":9},"Check"]
[{"$f":"AccountInfo!$A704","v":702},{"$f":"IF(AccountInfo!$B704=\"\",\"\",AccountInfo!B704)","v":""},{"$nulls":9},"Check"]
[{"$f":"AccountInfo!$A705","v":703},{"$f":"IF(AccountInfo!$B705=\"\",\"\",AccountInfo!B705)","v":""},{"$nulls":9},"Check"]
[{"$f":"AccountInfo!$A706","v":704},{"$f":"IF(AccountInfo!$B706=\"\",\"\",AccountInfo!B706)","v":""},{"$nulls":9},"Check"]
[{"$f":"AccountInfo!$A707","v":705},{"$f":"IF(AccountInfo!$B707=\"\",\"\",AccountInfo!B707)","v":""},{"$nulls":9},"Check"]
[{"$f":"AccountInfo!$A708","v":706},{"$f":"IF(AccountInfo!$B708=\"\",\"\",AccountInfo!B708)","v":""},{"$nulls":9},{"$f":"IF(AND(D708<=E708, E708<=F708, F708<=G708, G708<=IF(H708=\"\", 1000000000000, H708)), \"Check\", \"Error\")","v":"Check"}]
[{"$f":"AccountInfo!$A709","v":707},{"$f":"IF(AccountInfo!$B709=\"\",\"\",AccountInfo!B709)","v":""},{"$nulls":9},"Check"]
[{"$f":"AccountInfo!$A710","v":708},{"$f":"IF(AccountInfo!$B710=\"\",\"\",AccountInfo!B710)","v":""},{"$nulls":9},"Check"]
[{"$f":"AccountInfo!$A711","v":709},{"$f":"IF(AccountInfo!$B711=\"\",\"\",AccountInfo!B711)","v":""},{"$nulls":9},"Check"]
[{"$f":"AccountInfo!$A712","v":710},{"$f":"IF(AccountInfo!$B712=\"\",\"\",AccountInfo!B712)","v":""},{"$nulls":9},"Check"]
[{"$f":"AccountInfo!$A713","v":711},{"$f":"IF(AccountInfo!$B713=\"\",\"\",AccountInfo!B713)","v":""},{"$nulls":9},"Check"]
[{"$f":"AccountInfo!$A714","v":712},{"$f":"IF(AccountInfo!$B714=\"\",\"\",AccountInfo!B714)","v":""},{"$nulls":9},"Check"]
[{"$f":"AccountInfo!$A715","v":713},{"$f":"IF(AccountInfo!$B715=\"\",\"\",AccountInfo!B715)","v":""},{"$nulls":9},"Check"]
[{"$f":"AccountInfo!$A716","v":714},{"$f":"IF(AccountInfo!$B716=\"\",\"\",AccountInfo!B716)","v":""},{"$nulls":9},"Check"]
[{"$f":"AccountInfo!$A717","v":715},{"$f":"IF(AccountInfo!$B717=\"\",\"\",AccountInfo!B717)","v":""},{"$nulls":9},"Check"]
[{"$f":"AccountInfo!$A718","v":716},{"$f":"IF(AccountInfo!$B718=\"\",\"\",AccountInfo!B718)","v":""},{"$nulls":9},"Check"]
[{"$f":"AccountInfo!$A719","v":717},{"$f":"IF(AccountInfo!$B719=\"\",\"\",AccountInfo!B719)","v":""},{"$nulls":9},"Check"]
[{"$f":"AccountInfo!$A720","v":718},{"$f":"IF(AccountInfo!$B720=\"\",\"\",AccountInfo!B720)","v":""},{"$nulls":9},"Check"]
[{"$f":"AccountInfo!$A721","v":719},{"$f":"IF(AccountInfo!$B721=\"\",\"\",AccountInfo!B721)","v":""},{"$nulls":9},"Check"]
[{"$f":"AccountInfo!$A722","v":720},{"$f":"IF(AccountInfo!$B722=\"\",\"\",AccountInfo!B722)","v":""},{"$nulls":9},"Check"]
[{"$f":"AccountInfo!$A723","v":721},{"$f":"IF(AccountInfo!$B723=\"\",\"\",AccountInfo!B723)","v":""},{"$nulls":9},"Check"]
[{"$f":"AccountInfo!$A724","v":722},{"$f":"IF(AccountInfo!$B724=\"\",\"\",AccountInfo!B724)","v":""},{"$nulls":9},"Check"]
[{"$f":"AccountInfo!$A725","v":723},{"$f":"IF(AccountInfo!$B725=\"\",\"\",AccountInfo!B725)","v":""},{"$nulls":9},"Check"]
[{"$f":"AccountInfo!$A726","v":724},{"$f":"IF(AccountInfo!$B726=\"\",\"\",AccountInfo!B726)","v":""},{"$nulls":9},"Check"]
[{"$f":"AccountInfo!$A727","v":725},{"$f":"IF(AccountInfo!$B727=\"\",\"\",AccountInfo!B727)","v":""},{"$nulls":9},"Check"]
[{"$f":"AccountInfo!$A728","v":726},{"$f":"IF(AccountInfo!$B728=\"\",\"\",AccountInfo!B728)","v":""},{"$nulls":9},"Check"]
[{"$f":"AccountInfo!$A729","v":727},{"$f":"IF(AccountInfo!$B729=\"\",\"\",AccountInfo!B729)","v":""},{"$nulls":9},"Check"]
[{"$f":"AccountInfo!$A730","v":728},{"$f":"IF(AccountInfo!$B730=\"\",\"\",AccountInfo!B730)","v":""},{"$nulls":9},"Check"]
[{"$f":"AccountInfo!$A731","v":729},{"$f":"IF(AccountInfo!$B731=\"\",\"\",AccountInfo!B731)","v":""},{"$nulls":9},"Check"]
[{"$f":"AccountInfo!$A732","v":730},{"$f":"IF(AccountInfo!$B732=\"\",\"\",AccountInfo!B732)","v":""},{"$nulls":9},"Check"]
[{"$f":"AccountInfo!$A733","v":731},{"$f":"IF(AccountInfo!$B733=\"\",\"\",AccountInfo!B733)","v":""},{"$nulls":9},"Check"]
[{"$f":"AccountInfo!$A734","v":732},{"$f":"IF(AccountInfo!$B734=\"\",\"\",AccountInfo!B734)","v":""},{"$nulls":9},"Check"]
[{"$f":"AccountInfo!$A735","v":733},{"$f":"IF(AccountInfo!$B735=\"\",\"\",AccountInfo!B735)","v":""},{"$nulls":9},"Check"]
[{"$f":"AccountInfo!$A736","v":734},{"$f":"IF(AccountInfo!$B736=\"\",\"\",AccountInfo!B736)","v":""},{"$nulls":9},"Check"]
[{"$f":"AccountInfo!$A737","v":735},{"$f":"IF(AccountInfo!$B737=\"\",\"\",AccountInfo!B737)","v":""},{"$nulls":9},"Check"]
[{"$f":"AccountInfo!$A738","v":736},{"$f":"IF(AccountInfo!$B738=\"\",\"\",AccountInfo!B738)","v":""},{"$nulls":9},"Check"]
[{"$f":"AccountInfo!$A739","v":737},{"$f":"IF(AccountInfo!$B739=\"\",\"\",AccountInfo!B739)","v":""},{"$nulls":9},"Check"]
[{"$f":"AccountInfo!$A740","v":738},{"$f":"IF(AccountInfo!$B740=\"\",\"\",AccountInfo!B740)","v":""},{"$nulls":9},"Check"]
[{"$f":"AccountInfo!$A741","v":739},{"$f":"IF(AccountInfo!$B741=\"\",\"\",AccountInfo!B741)","v":""},{"$nulls":9},"Check"]
[{"$f":"AccountInfo!$A742","v":740},{"$f":"IF(AccountInfo!$B742=\"\",\"\",AccountInfo!B742)","v":""},{"$nulls":9},"Check"]
[{"$f":"AccountInfo!$A743","v":741},{"$f":"IF(AccountInfo!$B743=\"\",\"\",AccountInfo!B743)","v":""},{"$nulls":9},"Check"]
[{"$f":"AccountInfo!$A744","v":742},{"$f":"IF(AccountInfo!$B744=\"\",\"\",AccountInfo!B744)","v":""},{"$nulls":9},"Check"]
[{"$f":"AccountInfo!$A745","v":743},{"$f":"IF(AccountInfo!$B745=\"\",\"\",AccountInfo!B745)","v":""},{"$nulls":9},"Check"]
[{"$f":"AccountInfo!$A746","v":744},{"$f":"IF(AccountInfo!$B746=\"\",\"\",AccountInfo!B746)","v":""},{"$nulls":9},"Check"]
[{"$f":"AccountInfo!$A747","v":745},{"$f":"IF(AccountInfo!$B747=\"\",\"\",AccountInfo!B747)","v":""},{"$nulls":9},"Check"]
[{"$f":"AccountInfo!$A748","v":746},{"$f":"IF(AccountInfo!$B748=\"\",\"\",AccountInfo!B748)","v":""},{"$nulls":9},"Check"]
[{"$f":"AccountInfo!$A749","v":747},{"$f":"IF(AccountInfo!$B749=\"\",\"\",AccountInfo!B749)","v":""},{"$nulls":9},"Check"]
[{"$f":"AccountInfo!$A750","v":748},{"$f":"IF(AccountInfo!$B750=\"\",\"\",AccountInfo!B750)","v":""},{"$nulls":9},"Check"]
[{"$f":"AccountInfo!$A751","v":749},{"$f":"IF(AccountInfo!$B751=\"\",\"\",AccountInfo!B751)","v":""},{"$nulls":9},"Check"]
[{"$f":"AccountInfo!$A752","v":750},{"$f":"IF(AccountInfo!$B752=\"\",\"\",AccountInfo!B752)","v":""},{"$nulls":9},"Check"]
[{"$f":"AccountInfo!$A753","v":751},{"$f":"IF(AccountInfo!$B753=\"\",\"\",AccountInfo!B753)","v":""},{"$nulls":9},"Check"]
[{"$f":"AccountInfo!$A754","v":752},{"$f":"IF(AccountInfo!$B754=\"\",\"\",AccountInfo!B754)","v":""},{"$nulls":9},"Check"]
[{"$f":"AccountInfo!$A755","v":753},{"$f":"IF(AccountInfo!$B755=\"\",\"\",AccountInfo!B755)","v":""},{"$nulls":9},"Check"]
[{"$f":"AccountInfo!$A756","v":754},{"$f":"IF(AccountInfo!$B756=\"\",\"\",AccountInfo!B756)","v":""},{"$nulls":9},"Check"]
[{"$f":"AccountInfo!$A757","v":755},{"$f":"IF(AccountInfo!$B757=\"\",\"\",AccountInfo!B757)","v":""},{"$nulls":9},"Check"]
[{"$f":"AccountInfo!$A758","v":756},{"$f":"IF(AccountInfo!$B758=\"\",\"\",AccountInfo!B758)","v":""},{"$nulls":9},"Check"]
[{"$f":"AccountInfo!$A759","v":757},{"$f":"IF(AccountInfo!$B759=\"\",\"\",AccountInfo!B759)","v":""},{"$nulls":9},"Check"]
[{"$f":"AccountInfo!$A760","v":758},{"$f":"IF(AccountInfo!$B760=\"\",\"\",AccountInfo!B760)","v":""},{"$nulls":9},"Check"]
[{"$f":"AccountInfo!$A761","v":759},{"$f":"IF(AccountInfo!$B761=\"\",\"\",AccountInfo!B761)","v":""},{"$nulls":9},"Check"]
[{"$f":"AccountInfo!$A762","v":760},{"$f":"IF(AccountInfo!$B762=\"\",\"\",AccountInfo!B762)","v":""},{"$nulls":9},"Check"]
[{"$f":"AccountInfo!$A763","v":761},{"$f":"IF(AccountInfo!$B763=\"\",\"\",AccountInfo!B763)","v":""},{"$nulls":9},"Check"]
[{"$f":"AccountInfo!$A764","v":762},{"$f":"IF(AccountInfo!$B764=\"\",\"\",AccountInfo!B764)","v":""},{"$nulls":9},"Check"]
[{"$f":"AccountInfo!$A765","v":763},{"$f":"IF(AccountInfo!$B765=\"\",\"\",AccountInfo!B765)","v":""},{"$nulls":9},"Check"]
[{"$f":"AccountInfo!$A766","v":764},{"$f":"IF(AccountInfo!$B766=\"\",\"\",AccountInfo!B766)","v":""},{"$nulls":9},"Check"]
[{"$f":"AccountInfo!$A767","v":765},{"$f":"IF(AccountInfo!$B767=\"\",\"\",AccountInfo!B767)","v":""},{"$nulls":9},"Check"]
[{"$f":"AccountInfo!$A768","v":766},{"$f":"IF(AccountInfo!$B768=\"\",\"\",AccountInfo!B768)","v":""},{"$nulls":9},"Check"]
[{"$f":"AccountInfo!$A769","v":767},{"$f":"IF(AccountInfo!$B769=\"\",\"\",AccountInfo!B769)","v":""},{"$nulls":9},"Check"]
[{"$f":"AccountInfo!$A770","v":768},{"$f":"IF(AccountInfo!$B770=\"\",\"\",AccountInfo!B770)","v":""},{"$nulls":9},"Check"]
[{"$f":"AccountInfo!$A771","v":769},{"$f":"IF(AccountInfo!$B771=\"\",\"\",AccountInfo!B771)","v":""},{"$nulls":9},"Check"]
[{"$f":"AccountInfo!$A772","v":770},{"$f":"IF(AccountInfo!$B772=\"\",\"\",AccountInfo!B772)","v":""},{"$nulls":9},{"$f":"IF(AND(D772<=E772, E772<=F772, F772<=G772, G772<=IF(H772=\"\", 1000000000000, H772)), \"Check\", \"Error\")","v":"Check"}]
[{"$f":"AccountInfo!$A773","v":771},{"$f":"IF(AccountInfo!$B773=\"\",\"\",AccountInfo!B773)","v":""},{"$nulls":9},"Check"]
[{"$f":"AccountInfo!$A774","v":772},{"$f":"IF(AccountInfo!$B774=\"\",\"\",AccountInfo!B774)","v":""},{"$nulls":9},"Check"]
[{"$f":"AccountInfo!$A775","v":773},{"$f":"IF(AccountInfo!$B775=\"\",\"\",AccountInfo!B775)","v":""},{"$nulls":9},"Check"]
[{"$f":"AccountInfo!$A776","v":774},{"$f":"IF(AccountInfo!$B776=\"\",\"\",AccountInfo!B776)","v":""},{"$nulls":9},"Check"]
[{"$f":"AccountInfo!$A777","v":775},{"$f":"IF(AccountInfo!$B777=\"\",\"\",AccountInfo!B777)","v":""},{"$nulls":9},"Check"]
[{"$f":"AccountInfo!$A778","v":776},{"$f":"IF(AccountInfo!$B778=\"\",\"\",AccountInfo!B778)","v":""},{"$nulls":9},"Check"]
[{"$f":"AccountInfo!$A779","v":777},{"$f":"IF(AccountInfo!$B779=\"\",\"\",AccountInfo!B779)","v":""},{"$nulls":9},"Check"]
[{"$f":"AccountInfo!$A780","v":778},{"$f":"IF(AccountInfo!$B780=\"\",\"\",AccountInfo!B780)","v":""},{"$nulls":9},"Check"]
[{"$f":"AccountInfo!$A781","v":779},{"$f":"IF(AccountInfo!$B781=\"\",\"\",AccountInfo!B781)","v":""},{"$nulls":9},"Check"]
[{"$f":"AccountInfo!$A782","v":780},{"$f":"IF(AccountInfo!$B782=\"\",\"\",AccountInfo!B782)","v":""},{"$nulls":9},"Check"]
[{"$f":"AccountInfo!$A783","v":781},{"$f":"IF(AccountInfo!$B783=\"\",\"\",AccountInfo!B783)","v":""},{"$nulls":9},"Check"]
[{"$f":"AccountInfo!$A784","v":782},{"$f":"IF(AccountInfo!$B784=\"\",\"\",AccountInfo!B784)","v":""},{"$nulls":9},"Check"]
[{"$f":"AccountInfo!$A785","v":783},{"$f":"IF(AccountInfo!$B785=\"\",\"\",AccountInfo!B785)","v":""},{"$nulls":9},"Check"]
[{"$f":"AccountInfo!$A786","v":784},{"$f":"IF(AccountInfo!$B786=\"\",\"\",AccountInfo!B786)","v":""},{"$nulls":9},"Check"]
[{"$f":"AccountInfo!$A787","v":785},{"$f":"IF(AccountInfo!$B787=\"\",\"\",AccountInfo!B787)","v":""},{"$nulls":9},"Check"]
[{"$f":"AccountInfo!$A788","v":786},{"$f":"IF(AccountInfo!$B788=\"\",\"\",AccountInfo!B788)","v":""},{"$nulls":9},"Check"]
[{"$f":"AccountInfo!$A789","v":787},{"$f":"IF(AccountInfo!$B789=\"\",\"\",AccountInfo!B789)","v":""},{"$nulls":9},"Check"]
[{"$f":"AccountInfo!$A790","v":788},{"$f":"IF(AccountInfo!$B790=\"\",\"\",AccountInfo!B790)","v":""},{"$nulls":9},"Check"]
[{"$f":"AccountInfo!$A791","v":789},{"$f":"IF(AccountInfo!$B791=\"\",\"\",AccountInfo!B791)","v":""},{"$nulls":9},"Check"]
[{"$f":"AccountInfo!$A792","v":790},{"$f":"IF(AccountInfo!$B792=\"\",\"\",AccountInfo!B792)","v":""},{"$nulls":9},"Check"]
[{"$f":"AccountInfo!$A793","v":791},{"$f":"IF(AccountInfo!$B793=\"\",\"\",AccountInfo!B793)","v":""},{"$nulls":9},"Check"]
[{"$f":"AccountInfo!$A794","v":792},{"$f":"IF(AccountInfo!$B794=\"\",\"\",AccountInfo!B794)","v":""},{"$nulls":9},"Check"]
[{"$f":"AccountInfo!$A795","v":793},{"$f":"IF(AccountInfo!$B795=\"\",\"\",AccountInfo!B795)","v":""},{"$nulls":9},"Check"]
[{"$f":"AccountInfo!$A796","v":794},{"$f":"IF(AccountInfo!$B796=\"\",\"\",AccountInfo!B796)","v":""},{"$nulls":9},"Check"]
[{"$f":"AccountInfo!$A797","v":795},{"$f":"IF(AccountInfo!$B797=\"\",\"\",AccountInfo!B797)","v":""},{"$nulls":9},"Check"]
[{"$f":"AccountInfo!$A798","v":796},{"$f":"IF(AccountInfo!$B798=\"\",\"\",AccountInfo!B798)","v":""},{"$nulls":9},"Check"]
[{"$f":"AccountInfo!$A799","v":797},{"$f":"IF(AccountInfo!$B799=\"\",\"\",AccountInfo!B799)","v":""},{"$nulls":9},"Check"]
[{"$f":"AccountInfo!$A800","v":798},{"$f":"IF(AccountInfo!$B800=\"\",\"\",AccountInfo!B800)","v":""},{"$nulls":9},"Check"]
[{"$f":"AccountInfo!$A801","v":799},{"$f":"IF(AccountInfo!$B801=\"\",\"\",AccountInfo!B801)","v":""},{"$nulls":9},"Check"]
[{"$f":"AccountInfo!$A802","v":800},{"$f":"IF(AccountInfo!$B802=\"\",\"\",AccountInfo!B802)","v":""},{"$nulls":9},"Check"]
[{"$f":"AccountInfo!$A803","v":801},{"$f":"IF(AccountInfo!$B803=\"\",\"\",AccountInfo!B803)","v":""},{"$nulls":9},"Check"]
[{"$f":"AccountInfo!$A804","v":802},{"$f":"IF(AccountInfo!$B804=\"\",\"\",AccountInfo!B804)","v":""},{"$nulls":9},"Check"]
[{"$f":"AccountInfo!$A805","v":803},{"$f":"IF(AccountInfo!$B805=\"\",\"\",AccountInfo!B805)","v":""},{"$nulls":9},"Check"]
[{"$f":"AccountInfo!$A806","v":804},{"$f":"IF(AccountInfo!$B806=\"\",\"\",AccountInfo!B806)","v":""},{"$nulls":9},"Check"]
[{"$f":"AccountInfo!$A807","v":805},{"$f":"IF(AccountInfo!$B807=\"\",\"\",AccountInfo!B807)","v":""},{"$nulls":9},"Check"]
[{"$f":"AccountInfo!$A808","v":806},{"$f":"IF(AccountInfo!$B808=\"\",\"\",AccountInfo!B808)","v":""},{"$nulls":9},"Check"]
[{"$f":"AccountInfo!$A809","v":807},{"$f":"IF(AccountInfo!$B809=\"\",\"\",AccountInfo!B809)","v":""},{"$nulls":9},"Check"]
[{"$f":"AccountInfo!$A810","v":808},{"$f":"IF(AccountInfo!$B810=\"\",\"\",AccountInfo!B810)","v":""},{"$nulls":9},"Check"]
[{"$f":"AccountInfo!$A811","v":809},{"$f":"IF(AccountInfo!$B811=\"\",\"\",AccountInfo!B811)","v":""},{"$nulls":9},"Check"]
[{"$f":"AccountInfo!$A812","v":810},{"$f":"IF(AccountInfo!$B812=\"\",\"\",AccountInfo!B812)","v":""},{"$nulls":9},"Check"]
[{"$f":"AccountInfo!$A813","v":811},{"$f":"IF(AccountInfo!$B813=\"\",\"\",AccountInfo!B813)","v":""},{"$nulls":9},"Check"]
[{"$f":"AccountInfo!$A814","v":812},{"$f":"IF(AccountInfo!$B814=\"\",\"\",AccountInfo!B814)","v":""},{"$nulls":9},"Check"]
[{"$f":"AccountInfo!$A815","v":813},{"$f":"IF(AccountInfo!$B815=\"\",\"\",AccountInfo!B815)","v":""},{"$nulls":9},"Check"]
[{"$f":"AccountInfo!$A816","v":814},{"$f":"IF(AccountInfo!$B816=\"\",\"\",AccountInfo!B816)","v":""},{"$nulls":9},"Check"]
[{"$f":"AccountInfo!$A817","v":815},{"$f":"IF(AccountInfo!$B817=\"\",\"\",AccountInfo!B817)","v":""},{"$nulls":9},"Check"]
[{"$f":"AccountInfo!$A818","v":816},{"$f":"IF(AccountInfo!$B818=\"\",\"\",AccountInfo!B818)","v":""},{"$nulls":9},"Check"]
[{"$f":"AccountInfo!$A819","v":817},{"$f":"IF(AccountInfo!$B819=\"\",\"\",AccountInfo!B819)","v":""},{"$nulls":9},"Check"]
[{"$f":"AccountInfo!$A820","v":818},{"$f":"IF(AccountInfo!$B820=\"\",\"\",AccountInfo!B820)","v":""},{"$nulls":9},"Check"]
[{"$f":"AccountInfo!$A821","v":819},{"$f":"IF(AccountInfo!$B821=\"\",\"\",AccountInfo!B821)","v":""},{"$nulls":9},"Check"]
[{"$f":"AccountInfo!$A822","v":820},{"$f":"IF(AccountInfo!$B822=\"\",\"\",AccountInfo!B822)","v":""},{"$nulls":9},"Check"]
[{"$f":"AccountInfo!$A823","v":821},{"$f":"IF(AccountInfo!$B823=\"\",\"\",AccountInfo!B823)","v":""},{"$nulls":9},"Check"]
[{"$f":"AccountInfo!$A824","v":822},{"$f":"IF(AccountInfo!$B824=\"\",\"\",AccountInfo!B824)","v":""},{"$nulls":9},"Check"]
[{"$f":"AccountInfo!$A825","v":823},{"$f":"IF(AccountInfo!$B825=\"\",\"\",AccountInfo!B825)","v":""},{"$nulls":9},"Check"]
[{"$f":"AccountInfo!$A826","v":824},{"$f":"IF(AccountInfo!$B826=\"\",\"\",AccountInfo!B826)","v":""},{"$nulls":9},"Check"]
[{"$f":"AccountInfo!$A827","v":825},{"$f":"IF(AccountInfo!$B827=\"\",\"\",AccountInfo!B827)","v":""},{"$nulls":9},"Check"]
[{"$f":"AccountInfo!$A828","v":826},{"$f":"IF(AccountInfo!$B828=\"\",\"\",AccountInfo!B828)","v":""},{"$nulls":9},"Check"]
[{"$f":"AccountInfo!$A829","v":827},{"$f":"IF(AccountInfo!$B829=\"\",\"\",AccountInfo!B829)","v":""},{"$nulls":9},"Check"]
[{"$f":"AccountInfo!$A830","v":828},{"$f":"IF(AccountInfo!$B830=\"\",\"\",AccountInfo!B830)","v":""},{"$nulls":9},"Check"]
[{"$f":"AccountInfo!$A831","v":829},{"$f":"IF(AccountInfo!$B831=\"\",\"\",AccountInfo!B831)","v":""},{"$nulls":9},"Check"]
[{"$f":"AccountInfo!$A832","v":830},{"$f":"IF(AccountInfo!$B832=\"\",\"\",AccountInfo!B832)","v":""},{"$nulls":9},"Check"]
[{"$f":"AccountInfo!$A833","v":831},{"$f":"IF(AccountInfo!$B833=\"\",\"\",AccountInfo!B833)","v":""},{"$nulls":9},"Check"]
[{"$f":"AccountInfo!$A834","v":832},{"$f":"IF(AccountInfo!$B834=\"\",\"\",AccountInfo!B834)","v":""},{"$nulls":9},"Check"]
[{"$f":"AccountInfo!$A835","v":833},{"$f":"IF(AccountInfo!$B835=\"\",\"\",AccountInfo!B835)","v":""},{"$nulls":9},"Check"]
[{"$f":"AccountInfo!$A836","v":834},{"$f":"IF(AccountInfo!$B836=\"\",\"\",AccountInfo!B836)","v":""},{"$nulls":9},{"$f":"IF(AND(D836<=E836, E836<=F836, F836<=G836, G836<=IF(H836=\"\", 1000000000000, H836)), \"Check\", \"Error\")","v":"Check"}]
[{"$f":"AccountInfo!$A837","v":835},{"$f":"IF(AccountInfo!$B837=\"\",\"\",AccountInfo!B837)","v":""},{"$nulls":9},"Check"]
[{"$f":"AccountInfo!$A838","v":836},{"$f":"IF(AccountInfo!$B838=\"\",\"\",AccountInfo!B838)","v":""},{"$nulls":9},"Check"]
[{"$f":"AccountInfo!$A839","v":837},{"$f":"IF(AccountInfo!$B839=\"\",\"\",AccountInfo!B839)","v":""},{"$nulls":9},"Check"]
[{"$f":"AccountInfo!$A840","v":838},{"$f":"IF(AccountInfo!$B840=\"\",\"\",AccountInfo!B840)","v":""},{"$nulls":9},"Check"]
[{"$f":"AccountInfo!$A841","v":839},{"$f":"IF(AccountInfo!$B841=\"\",\"\",AccountInfo!B841)","v":""},{"$nulls":9},"Check"]
[{"$f":"AccountInfo!$A842","v":840},{"$f":"IF(AccountInfo!$B842=\"\",\"\",AccountInfo!B842)","v":""},{"$nulls":9},"Check"]
[{"$f":"AccountInfo!$A843","v":841},{"$f":"IF(AccountInfo!$B843=\"\",\"\",AccountInfo!B843)","v":""},{"$nulls":9},"Check"]
[{"$f":"AccountInfo!$A844","v":842},{"$f":"IF(AccountInfo!$B844=\"\",\"\",AccountInfo!B844)","v":""},{"$nulls":9},"Check"]
[{"$f":"AccountInfo!$A845","v":843},{"$f":"IF(AccountInfo!$B845=\"\",\"\",AccountInfo!B845)","v":""},{"$nulls":9},"Check"]
[{"$f":"AccountInfo!$A846","v":844},{"$f":"IF(AccountInfo!$B846=\"\",\"\",AccountInfo!B846)","v":""},{"$nulls":9},"Check"]
[{"$f":"AccountInfo!$A847","v":845},{"$f":"IF(AccountInfo!$B847=\"\",\"\",AccountInfo!B847)","v":""},{"$nulls":9},"Check"]
[{"$f":"AccountInfo!$A848","v":846},{"$f":"IF(AccountInfo!$B848=\"\",\"\",AccountInfo!B848)","v":""},{"$nulls":9},"Check"]
[{"$f":"AccountInfo!$A849","v":847},{"$f":"IF(AccountInfo!$B849=\"\",\"\",AccountInfo!B849)","v":""},{"$nulls":9},"Check"]
[{"$f":"AccountInfo!$A850","v":848},{"$f":"IF(AccountInfo!$B850=\"\",\"\",AccountInfo!B850)","v":""},{"$nulls":9},"Check"]
[{"$f":"AccountInfo!$A851","v":849},{"$f":"IF(AccountInfo!$B851=\"\",\"\",AccountInfo!B851)","v":""},{"$nulls":9},"Check"]
[{"$f":"AccountInfo!$A852","v":850},{"$f":"IF(AccountInfo!$B852=\"\",\"\",AccountInfo!B852)","v":""},{"$nulls":9},"Check"]
[{"$f":"AccountInfo!$A853","v":851},{"$f":"IF(AccountInfo!$B853=\"\",\"\",AccountInfo!B853)","v":""},{"$nulls":9},"Check"]
[{"$f":"AccountInfo!$A854","v":852},{"$f":"IF(AccountInfo!$B854=\"\",\"\",AccountInfo!B854)","v":""},{"$nulls":9},"Check"]
[{"$f":"AccountInfo!$A855","v":853},{"$f":"IF(AccountInfo!$B855=\"\",\"\",AccountInfo!B855)","v":""},{"$nulls":9},"Check"]
[{"$f":"AccountInfo!$A856","v":854},{"$f":"IF(AccountInfo!$B856=\"\",\"\",AccountInfo!B856)","v":""},{"$nulls":9},"Check"]
[{"$f":"AccountInfo!$A857","v":855},{"$f":"IF(AccountInfo!$B857=\"\",\"\",AccountInfo!B857)","v":""},{"$nulls":9},"Check"]
[{"$f":"AccountInfo!$A858","v":856},{"$f":"IF(AccountInfo!$B858=\"\",\"\",AccountInfo!B858)","v":""},{"$nulls":9},"Check"]
[{"$f":"AccountInfo!$A859","v":857},{"$f":"IF(AccountInfo!$B859=\"\",\"\",AccountInfo!B859)","v":""},{"$nulls":9},"Check"]
[{"$f":"AccountInfo!$A860","v":858},{"$f":"IF(AccountInfo!$B860=\"\",\"\",AccountInfo!B860)","v":""},{"$nulls":9},"Check"]
[{"$f":"AccountInfo!$A861","v":859},{"$f":"IF(AccountInfo!$B861=\"\",\"\",AccountInfo!B861)","v":""},{"$nulls":9},"Check"]
[{"$f":"AccountInfo!$A862","v":860},{"$f":"IF(AccountInfo!$B862=\"\",\"\",AccountInfo!B862)","v":""},{"$nulls":9},"Check"]
[{"$f":"AccountInfo!$A863","v":861},{"$f":"IF(AccountInfo!$B863=\"\",\"\",AccountInfo!B863)","v":""},{"$nulls":9},"Check"]
[{"$f":"AccountInfo!$A864","v":862},{"$f":"IF(AccountInfo!$B864=\"\",\"\",AccountInfo!B864)","v":""},{"$nulls":9},"Check"]
[{"$f":"AccountInfo!$A865","v":863},{"$f":"IF(AccountInfo!$B865=\"\",\"\",AccountInfo!B865)","v":""},{"$nulls":9},"Check"]
[{"$f":"AccountInfo!$A866","v":864},{"$f":"IF(AccountInfo!$B866=\"\",\"\",AccountInfo!B866)","v":""},{"$nulls":9},"Check"]
[{"$f":"AccountInfo!$A867","v":865},{"$f":"IF(AccountInfo!$B867=\"\",\"\",AccountInfo!B867)","v":""},{"$nulls":9},"Check"]
[{"$f":"AccountInfo!$A868","v":866},{"$f":"IF(AccountInfo!$B868=\"\",\"\",AccountInfo!B868)","v":""},{"$nulls":9},"Check"]
[{"$f":"AccountInfo!$A869","v":867},{"$f":"IF(AccountInfo!$B869=\"\",\"\",AccountInfo!B869)","v":""},{"$nulls":9},"Check"]
[{"$f":"AccountInfo!$A870","v":868},{"$f":"IF(AccountInfo!$B870=\"\",\"\",AccountInfo!B870)","v":""},{"$nulls":9},"Check"]
[{"$f":"AccountInfo!$A871","v":869},{"$f":"IF(AccountInfo!$B871=\"\",\"\",AccountInfo!B871)","v":""},{"$nulls":9},"Check"]
[{"$f":"AccountInfo!$A872","v":870},{"$f":"IF(AccountInfo!$B872=\"\",\"\",AccountInfo!B872)","v":""},{"$nulls":9},"Check"]
[{"$f":"AccountInfo!$A873","v":871},{"$f":"IF(AccountInfo!$B873=\"\",\"\",AccountInfo!B873)","v":""},{"$nulls":9},"Check"]
[{"$f":"AccountInfo!$A874","v":872},{"$f":"IF(AccountInfo!$B874=\"\",\"\",AccountInfo!B874)","v":""},{"$nulls":9},"Check"]
[{"$f":"AccountInfo!$A875","v":873},{"$f":"IF(AccountInfo!$B875=\"\",\"\",AccountInfo!B875)","v":""},{"$nulls":9},"Check"]
[{"$f":"AccountInfo!$A876","v":874},{"$f":"IF(AccountInfo!$B876=\"\",\"\",AccountInfo!B876)","v":""},{"$nulls":9},"Check"]
[{"$f":"AccountInfo!$A877","v":875},{"$f":"IF(AccountInfo!$B877=\"\",\"\",AccountInfo!B877)","v":""},{"$nulls":9},"Check"]
[{"$f":"AccountInfo!$A878","v":876},{"$f":"IF(AccountInfo!$B878=\"\",\"\",AccountInfo!B878)","v":""},{"$nulls":9},"Check"]
[{"$f":"AccountInfo!$A879","v":877},{"$f":"IF(AccountInfo!$B879=\"\",\"\",AccountInfo!B879)","v":""},{"$nulls":9},"Check"]
[{"$f":"AccountInfo!$A880","v":878},{"$f":"IF(AccountInfo!$B880=\"\",\"\",AccountInfo!B880)","v":""},{"$nulls":9},"Check"]
[{"$f":"AccountInfo!$A881","v":879},{"$f":"IF(AccountInfo!$B881=\"\",\"\",AccountInfo!B881)","v":""},{"$nulls":9},"Check"]
[{"$f":"AccountInfo!$A882","v":880},{"$f":"IF(AccountInfo!$B882=\"\",\"\",AccountInfo!B882)","v":""},{"$nulls":9},"Check"]
[{"$f":"AccountInfo!$A883","v":881},{"$f":"IF(AccountInfo!$B883=\"\",\"\",AccountInfo!B883)","v":""},{"$nulls":9},"Check"]
[{"$f":"AccountInfo!$A884","v":882},{"$f":"IF(AccountInfo!$B884=\"\",\"\",AccountInfo!B884)","v":""},{"$nulls":9},"Check"]
[{"$f":"AccountInfo!$A885","v":883},{"$f":"IF(AccountInfo!$B885=\"\",\"\",AccountInfo!B885)","v":""},{"$nulls":9},"Check"]
[{"$f":"AccountInfo!$A886","v":884},{"$f":"IF(AccountInfo!$B886=\"\",\"\",AccountInfo!B886)","v":""},{"$nulls":9},"Check"]
[{"$f":"AccountInfo!$A887","v":885},{"$f":"IF(AccountInfo!$B887=\"\",\"\",AccountInfo!B887)","v":""},{"$nulls":9},"Check"]
[{"$f":"AccountInfo!$A888","v":886},{"$f":"IF(AccountInfo!$B888=\"\",\"\",AccountInfo!B888)","v":""},{"$nulls":9},"Check"]
[{"$f":"AccountInfo!$A889","v":887},{"$f":"IF(AccountInfo!$B889=\"\",\"\",AccountInfo!B889)","v":""},{"$nulls":9},"Check"]
[{"$f":"AccountInfo!$A890","v":888},{"$f":"IF(AccountInfo!$B890=\"\",\"\",AccountInfo!B890)","v":""},{"$nulls":9},"Check"]
[{"$f":"AccountInfo!$A891","v":889},{"$f":"IF(AccountInfo!$B891=\"\",\"\",AccountInfo!B891)","v":""},{"$nulls":9},"Check"]
[{"$f":"AccountInfo!$A892","v":890},{"$f":"IF(AccountInfo!$B892=\"\",\"\",AccountInfo!B892)","v":""},{"$nulls":9},"Check"]
[{"$f":"AccountInfo!$A893","v":891},{"$f":"IF(AccountInfo!$B893=\"\",\"\",AccountInfo!B893)","v":""},{"$nulls":9},"Check"]
[{"$f":"AccountInfo!$A894","v":892},{"$f":"IF(AccountInfo!$B894=\"\",\"\",AccountInfo!B894)","v":""},{"$nulls":9},"Check"]
[{"$f":"AccountInfo!$A895","v":893},{"$f":"IF(AccountInfo!$B895=\"\",\"\",AccountInfo!B895)","v":""},{"$nulls":9},"Check"]
[{"$f":"AccountInfo!$A896","v":894},{"$f":"IF(AccountInfo!$B896=\"\",\"\",AccountInfo!B896)","v":""},{"$nulls":9},"Check"]
[{"$f":"AccountInfo!$A897","v":895},{"$f":"IF(AccountInfo!$B897=\"\",\"\",AccountInfo!B897)","v":""},{"$nulls":9},"Check"]
[{"$f":"AccountInfo!$A898","v":896},{"$f":"IF(AccountInfo!$B898=\"\",\"\",AccountInfo!B898)","v":""},{"$nulls":9},"Check"]
[{"$f":"AccountInfo!$A899","v":897},{"$f":"IF(AccountInfo!$B899=\"\",\"\",AccountInfo!B899)","v":""},{"$nulls":9},"Check"]
[{"$f":"AccountInfo!$A900","v":898},{"$f":"IF(AccountInfo!$B900=\"\",\"\",AccountInfo!B900)","v":""},{"$nulls":9},{"$f":"IF(AND(D900<=E900, E900<=F900, F900<=G900, G900<=IF(H900=\"\", 1000000000000, H900)), \"Check\", \"Error\")","v":"Check"}]
[{"$f":"AccountInfo!$A901","v":899},{"$f":"IF(AccountInfo!$B901=\"\",\"\",AccountInfo!B901)","v":""},{"$nulls":9},"Check"]
[{"$f":"AccountInfo!$A902","v":900},{"$f":"IF(AccountInfo!$B902=\"\",\"\",AccountInfo!B902)","v":""},{"$nulls":9},"Check"]
[{"$f":"AccountInfo!$A903","v":901},{"$f":"IF(AccountInfo!$B903=\"\",\"\",AccountInfo!B903)","v":""},{"$nulls":9},"Check"]
[{"$f":"AccountInfo!$A904","v":902},{"$f":"IF(AccountInfo!$B904=\"\",\"\",AccountInfo!B904)","v":""},{"$nulls":9},"Check"]
[{"$f":"AccountInfo!$A905","v":903},{"$f":"IF(AccountInfo!$B905=\"\",\"\",AccountInfo!B905)","v":""},{"$nulls":9},"Check"]
[{"$f":"AccountInfo!$A906","v":904},{"$f":"IF(AccountInfo!$B906=\"\",\"\",AccountInfo!B906)","v":""},{"$nulls":9},"Check"]
[{"$f":"AccountInfo!$A907","v":905},{"$f":"IF(AccountInfo!$B907=\"\",\"\",AccountInfo!B907)","v":""},{"$nulls":9},"Check"]
[{"$f":"AccountInfo!$A908","v":906},{"$f":"IF(AccountInfo!$B908=\"\",\"\",AccountInfo!B908)","v":""},{"$nulls":9},"Check"]
[{"$f":"AccountInfo!$A909","v":907},{"$f":"IF(AccountInfo!$B909=\"\",\"\",AccountInfo!B909)","v":""},{"$nulls":9},"Check"]
[{"$f":"AccountInfo!$A910","v":908},{"$f":"IF(AccountInfo!$B910=\"\",\"\",AccountInfo!B910)","v":""},{"$nulls":9},"Check"]
[{"$f":"AccountInfo!$A911","v":909},{"$f":"IF(AccountInfo!$B911=\"\",\"\",AccountInfo!B911)","v":""},{"$nulls":9},"Check"]
[{"$f":"AccountInfo!$A912","v":910},{"$f":"IF(AccountInfo!$B912=\"\",\"\",AccountInfo!B912)","v":""},{"$nulls":9},"Check"]
[{"$f":"AccountInfo!$A913","v":911},{"$f":"IF(AccountInfo!$B913=\"\",\"\",AccountInfo!B913)","v":""},{"$nulls":9},"Check"]
[{"$f":"AccountInfo!$A914","v":912},{"$f":"IF(AccountInfo!$B914=\"\",\"\",AccountInfo!B914)","v":""},{"$nulls":9},"Check"]
[{"$f":"AccountInfo!$A915","v":913},{"$f":"IF(AccountInfo!$B915=\"\",\"\",AccountInfo!B915)","v":""},{"$nulls":9},"Check"]
[{"$f":"AccountInfo!$A916","v":914},{"$f":"IF(AccountInfo!$B916=\"\",\"\",AccountInfo!B916)","v":""},{"$nulls":9},"Check"]
[{"$f":"AccountInfo!$A917","v":915},{"$f":"IF(AccountInfo!$B917=\"\",\"\",AccountInfo!B917)","v":""},{"$nulls":9},"Check"]
[{"$f":"AccountInfo!$A918","v":916},{"$f":"IF(AccountInfo!$B918=\"\",\"\",AccountInfo!B918)","v":""},{"$nulls":9},"Check"]
[{"$f":"AccountInfo!$A919","v":917},{"$f":"IF(AccountInfo!$B919=\"\",\"\",AccountInfo!B919)","v":""},{"$nulls":9},"Check"]
[{"$f":"AccountInfo!$A920","v":918},{"$f":"IF(AccountInfo!$B920=\"\",\"\",AccountInfo!B920)","v":""},{"$nulls":9},"Check"]
[{"$f":"AccountInfo!$A921","v":919},{"$f":"IF(AccountInfo!$B921=\"\",\"\",AccountInfo!B921)","v":""},{"$nulls":9},"Check"]
[{"$f":"AccountInfo!$A922","v":920},{"$f":"IF(AccountInfo!$B922=\"\",\"\",AccountInfo!B922)","v":""},{"$nulls":9},"Check"]
[{"$f":"AccountInfo!$A923","v":921},{"$f":"IF(AccountInfo!$B923=\"\",\"\",AccountInfo!B923)","v":""},{"$nulls":9},"Check"]
[{"$f":"AccountInfo!$A924","v":922},{"$f":"IF(AccountInfo!$B924=\"\",\"\",AccountInfo!B924)","v":""},{"$nulls":9},"Check"]
[{"$f":"AccountInfo!$A925","v":923},{"$f":"IF(AccountInfo!$B925=\"\",\"\",AccountInfo!B925)","v":""},{"$nulls":9},"Check"]
[{"$f":"AccountInfo!$A926","v":924},{"$f":"IF(AccountInfo!$B926=\"\",\"\",AccountInfo!B926)","v":""},{"$nulls":9},"Check"]
[{"$f":"AccountInfo!$A927","v":925},{"$f":"IF(AccountInfo!$B927=\"\",\"\",AccountInfo!B927)","v":""},{"$nulls":9},"Check"]
[{"$f":"AccountInfo!$A928","v":926},{"$f":"IF(AccountInfo!$B928=\"\",\"\",AccountInfo!B928)","v":""},{"$nulls":9},"Check"]
[{"$f":"AccountInfo!$A929","v":927},{"$f":"IF(AccountInfo!$B929=\"\",\"\",AccountInfo!B929)","v":""},{"$nulls":9},"Check"]
[{"$f":"AccountInfo!$A930","v":928},{"$f":"IF(AccountInfo!$B930=\"\",\"\",AccountInfo!B930)","v":""},{"$nulls":9},"Check"]
[{"$f":"AccountInfo!$A931","v":929},{"$f":"IF(AccountInfo!$B931=\"\",\"\",AccountInfo!B931)","v":""},{"$nulls":9},"Check"]
[{"$f":"AccountInfo!$A932","v":930},{"$f":"IF(AccountInfo!$B932=\"\",\"\",AccountInfo!B932)","v":""},{"$nulls":9},"Check"]
[{"$f":"AccountInfo!$A933","v":931},{"$f":"IF(AccountInfo!$B933=\"\",\"\",AccountInfo!B933)","v":""},{"$nulls":9},"Check"]
[{"$f":"AccountInfo!$A934","v":932},{"$f":"IF(AccountInfo!$B934=\"\",\"\",AccountInfo!B934)","v":""},{"$nulls":9},"Check"]
[{"$f":"AccountInfo!$A935","v":933},{"$f":"IF(AccountInfo!$B935=\"\",\"\",AccountInfo!B935)","v":""},{"$nulls":9},"Check"]
[{"$f":"AccountInfo!$A936","v":934},{"$f":"IF(AccountInfo!$B936=\"\",\"\",AccountInfo!B936)","v":""},{"$nulls":9},"Check"]
[{"$f":"AccountInfo!$A937","v":935},{"$f":"IF(AccountInfo!$B937=\"\",\"\",AccountInfo!B937)","v":""},{"$nulls":9},"Check"]
[{"$f":"AccountInfo!$A938","v":936},{"$f":"IF(AccountInfo!$B938=\"\",\"\",AccountInfo!B938)","v":""},{"$nulls":9},"Check"]
[{"$f":"AccountInfo!$A939","v":937},{"$f":"IF(AccountInfo!$B939=\"\",\"\",AccountInfo!B939)","v":""},{"$nulls":9},"Check"]
[{"$f":"AccountInfo!$A940","v":938},{"$f":"IF(AccountInfo!$B940=\"\",\"\",AccountInfo!B940)","v":""},{"$nulls":9},"Check"]
[{"$f":"AccountInfo!$A941","v":939},{"$f":"IF(AccountInfo!$B941=\"\",\"\",AccountInfo!B941)","v":""},{"$nulls":9},"Check"]
[{"$f":"AccountInfo!$A942","v":940},{"$f":"IF(AccountInfo!$B942=\"\",\"\",AccountInfo!B942)","v":""},{"$nulls":9},"Check"]
[{"$f":"AccountInfo!$A943","v":941},{"$f":"IF(AccountInfo!$B943=\"\",\"\",AccountInfo!B943)","v":""},{"$nulls":9},"Check"]
[{"$f":"AccountInfo!$A944","v":942},{"$f":"IF(AccountInfo!$B944=\"\",\"\",AccountInfo!B944)","v":""},{"$nulls":9},"Check"]
[{"$f":"AccountInfo!$A945","v":943},{"$f":"IF(AccountInfo!$B945=\"\",\"\",AccountInfo!B945)","v":""},{"$nulls":9},"Check"]
[{"$f":"AccountInfo!$A946","v":944},{"$f":"IF(AccountInfo!$B946=\"\",\"\",AccountInfo!B946)","v":""},{"$nulls":9},"Check"]
[{"$f":"AccountInfo!$A947","v":945},{"$f":"IF(AccountInfo!$B947=\"\",\"\",AccountInfo!B947)","v":""},{"$nulls":9},"Check"]
[{"$f":"AccountInfo!$A948","v":946},{"$f":"IF(AccountInfo!$B948=\"\",\"\",AccountInfo!B948)","v":""},{"$nulls":9},"Check"]
[{"$f":"AccountInfo!$A949","v":947},{"$f":"IF(AccountInfo!$B949=\"\",\"\",AccountInfo!B949)","v":""},{"$nulls":9},"Check"]
[{"$f":"AccountInfo!$A950","v":948},{"$f":"IF(AccountInfo!$B950=\"\",\"\",AccountInfo!B950)","v":""},{"$nulls":9},"Check"]
[{"$f":"AccountInfo!$A951","v":949},{"$f":"IF(AccountInfo!$B951=\"\",\"\",AccountInfo!B951)","v":""},{"$nulls":9},"Check"]
[{"$f":"AccountInfo!$A952","v":950},{"$f":"IF(AccountInfo!$B952=\"\",\"\",AccountInfo!B952)","v":""},{"$nulls":9},"Check"]
[{"$f":"AccountInfo!$A953","v":951},{"$f":"IF(AccountInfo!$B953=\"\",\"\",AccountInfo!B953)","v":""},{"$nulls":9},"Check"]
[{"$f":"AccountInfo!$A954","v":952},{"$f":"IF(AccountInfo!$B954=\"\",\"\",AccountInfo!B954)","v":""},{"$nulls":9},"Check"]
[{"$f":"AccountInfo!$A955","v":953},{"$f":"IF(AccountInfo!$B955=\"\",\"\",AccountInfo!B955)","v":""},{"$nulls":9},"Check"]
[{"$f":"AccountInfo!$A956","v":954},{"$f":"IF(AccountInfo!$B956=\"\",\"\",AccountInfo!B956)","v":""},{"$nulls":9},"Check"]
[{"$f":"AccountInfo!$A957","v":955},{"$f":"IF(AccountInfo!$B957=\"\",\"\",AccountInfo!B957)","v":""},{"$nulls":9},"Check"]
[{"$f":"AccountInfo!$A958","v":956},{"$f":"IF(AccountInfo!$B958=\"\",\"\",AccountInfo!B958)","v":""},{"$nulls":9},"Check"]
[{"$f":"AccountInfo!$A959","v":957},{"$f":"IF(AccountInfo!$B959=\"\",\"\",AccountInfo!B959)","v":""},{"$nulls":9},"Check"]
[{"$f":"AccountInfo!$A960","v":958},{"$f":"IF(AccountInfo!$B960=\"\",\"\",AccountInfo!B960)","v":""},{"$nulls":9},"Check"]
[{"$f":"AccountInfo!$A961","v":959},{"$f":"IF(AccountInfo!$B961=\"\",\"\",AccountInfo!B961)","v":""},{"$nulls":9},"Check"]
[{"$f":"AccountInfo!$A962","v":960},{"$f":"IF(AccountInfo!$B962=\"\",\"\",AccountInfo!B962)","v":""},{"$nulls":9},"Check"]
[{"$f":"AccountInfo!$A963","v":961},{"$f":"IF(AccountInfo!$B963=\"\",\"\",AccountInfo!B963)","v":""},{"$nulls":9},"Check"]
[{"$f":"AccountInfo!$A964","v":962},{"$f":"IF(AccountInfo!$B964=\"\",\"\",AccountInfo!B964)","v":""},{"$nulls":9},{"$f":"IF(AND(D964<=E964, E964<=F964, F964<=G964, G964<=IF(H964=\"\", 1000000000000, H964)), \"Check\", \"Error\")","v":"Check"}]
[{"$f":"AccountInfo!$A965","v":963},{"$f":"IF(AccountInfo!$B965=\"\",\"\",AccountInfo!B965)","v":""},{"$nulls":9},"Check"]
[{"$f":"AccountInfo!$A966","v":964},{"$f":"IF(AccountInfo!$B966=\"\",\"\",AccountInfo!B966)","v":""},{"$nulls":9},"Check"]
[{"$f":"AccountInfo!$A967","v":965},{"$f":"IF(AccountInfo!$B967=\"\",\"\",AccountInfo!B967)","v":""},{"$nulls":9},"Check"]
[{"$f":"AccountInfo!$A968","v":966},{"$f":"IF(AccountInfo!$B968=\"\",\"\",AccountInfo!B968)","v":""},{"$nulls":9},"Check"]
[{"$f":"AccountInfo!$A969","v":967},{"$f":"IF(AccountInfo!$B969=\"\",\"\",AccountInfo!B969)","v":""},{"$nulls":9},"Check"]
[{"$f":"AccountInfo!$A970","v":968},{"$f":"IF(AccountInfo!$B970=\"\",\"\",AccountInfo!B970)","v":""},{"$nulls":9},"Check"]
[{"$f":"AccountInfo!$A971","v":969},{"$f":"IF(AccountInfo!$B971=\"\",\"\",AccountInfo!B971)","v":""},{"$nulls":9},"Check"]
[{"$f":"AccountInfo!$A972","v":970},{"$f":"IF(AccountInfo!$B972=\"\",\"\",AccountInfo!B972)","v":""},{"$nulls":9},"Check"]
[{"$f":"AccountInfo!$A973","v":971},{"$f":"IF(AccountInfo!$B973=\"\",\"\",AccountInfo!B973)","v":""},{"$nulls":9},"Check"]
[{"$f":"AccountInfo!$A974","v":972},{"$f":"IF(AccountInfo!$B974=\"\",\"\",AccountInfo!B974)","v":""},{"$nulls":9},"Check"]
[{"$f":"AccountInfo!$A975","v":973},{"$f":"IF(AccountInfo!$B975=\"\",\"\",AccountInfo!B975)","v":""},{"$nulls":9},"Check"]
[{"$f":"AccountInfo!$A976","v":974},{"$f":"IF(AccountInfo!$B976=\"\",\"\",AccountInfo!B976)","v":""},{"$nulls":9},"Check"]
[{"$f":"AccountInfo!$A977","v":975},{"$f":"IF(AccountInfo!$B977=\"\",\"\",AccountInfo!B977)","v":""},{"$nulls":9},"Check"]
[{"$f":"AccountInfo!$A978","v":976},{"$f":"IF(AccountInfo!$B978=\"\",\"\",AccountInfo!B978)","v":""},{"$nulls":9},"Check"]
[{"$f":"AccountInfo!$A979","v":977},{"$f":"IF(AccountInfo!$B979=\"\",\"\",AccountInfo!B979)","v":""},{"$nulls":9},"Check"]
[{"$f":"AccountInfo!$A980","v":978},{"$f":"IF(AccountInfo!$B980=\"\",\"\",AccountInfo!B980)","v":""},{"$nulls":9},"Check"]
[{"$f":"AccountInfo!$A981","v":979},{"$f":"IF(AccountInfo!$B981=\"\",\"\",AccountInfo!B981)","v":""},{"$nulls":9},"Check"]
[{"$f":"AccountInfo!$A982","v":980},{"$f":"IF(AccountInfo!$B982=\"\",\"\",AccountInfo!B982)","v":""},{"$nulls":9},"Check"]
[{"$f":"AccountInfo!$A983","v":981},{"$f":"IF(AccountInfo!$B983=\"\",\"\",AccountInfo!B983)","v":""},{"$nulls":9},"Check"]
[{"$f":"AccountInfo!$A984","v":982},{"$f":"IF(AccountInfo!$B984=\"\",\"\",AccountInfo!B984)","v":""},{"$nulls":9},"Check"]
[{"$f":"AccountInfo!$A985","v":983},{"$f":"IF(AccountInfo!$B985=\"\",\"\",AccountInfo!B985)","v":""},{"$nulls":9},"Check"]
[{"$f":"AccountInfo!$A986","v":984},{"$f":"IF(AccountInfo!$B986=\"\",\"\",AccountInfo!B986)","v":""},{"$nulls":9},"Check"]
[{"$f":"AccountInfo!$A987","v":985},{"$f":"IF(AccountInfo!$B987=\"\",\"\",AccountInfo!B987)","v":""},{"$nulls":9},"Check"]
[{"$f":"AccountInfo!$A988","v":986},{"$f":"IF(AccountInfo!$B988=\"\",\"\",AccountInfo!B988)","v":""},{"$nulls":9},"Check"]
[{"$f":"AccountInfo!$A989","v":987},{"$f":"IF(AccountInfo!$B989=\"\",\"\",AccountInfo!B989)","v":""},{"$nulls":9},"Check"]
[{"$f":"AccountInfo!$A990","v":988},{"$f":"IF(AccountInfo!$B990=\"\",\"\",AccountInfo!B990)","v":""},{"$nulls":9},"Check"]
[{"$f":"AccountInfo!$A991","v":989},{"$f":"IF(AccountInfo!$B991=\"\",\"\",AccountInfo!B991)","v":""},{"$nulls":9},"Check"]
[{"$f":"AccountInfo!$A992","v":990},{"$f":"IF(AccountInfo!$B992=\"\",\"\",AccountInfo!B992)","v":""},{"$nulls":9},"Check"]
[{"$f":"AccountInfo!$A993","v":991},{"$f":"IF(AccountInfo!$B993=\"\",\"\",AccountInfo!B993)","v":""},{"$nulls":9},"Check"]
[{"$f":"AccountInfo!$A994","v":992},{"$f":"IF(AccountInfo!$B994=\"\",\"\",AccountInfo!B994)","v":""},{"$nulls":9},"Check"]
[{"$f":"AccountInfo!$A995","v":993},{"$f":"IF(AccountInfo!$B995=\"\",\"\",AccountInfo!B995)","v":""},{"$nulls":9},"Check"]
[{"$f":"AccountInfo!$A996","v":994},{"$f":"IF(AccountInfo!$B996=\"\",\"\",AccountInfo!B996)","v":""},{"$nulls":9},"Check"]
[{"$f":"AccountInfo!$A997","v":995},{"$f":"IF(AccountInfo!$B997=\"\",\"\",AccountInfo!B997)","v":""},{"$nulls":9},"Check"]
[{"$f":"AccountInfo!$A998","v":996},{"$f":"IF(AccountInfo!$B998=\"\",\"\",AccountInfo!B998)","v":""},{"$nulls":9},"Check"]
[{"$f":"AccountInfo!$A999","v":997},{"$f":"IF(AccountInfo!$B999=\"\",\"\",AccountInfo!B999)","v":""},{"$nulls":9},"Check"]
[{"$f":"AccountInfo!$A1000","v":998},{"$f":"IF(AccountInfo!$B1000=\"\",\"\",AccountInfo!B1000)","v":""},{"$nulls":9},"Check"]
[{"$f":"AccountInfo!$A1001","v":999},{"$f":"IF(AccountInfo!$B1001=\"\",\"\",AccountInfo!B1001)","v":""},{"$nulls":9},"Check"]
[{"$f":"AccountInfo!$A1002","v":1000},{"$f":"IF(AccountInfo!$B1002=\"\",\"\",AccountInfo!B1002)","v":""},{"$nulls":9},"Check"]

{"sheet":"Effort","index":5,"n_rows":1002,"n_cols":12,"rows_kept":1002,"merged":[[0,2,0,8]]}
[null,null,"Effort to Close [hours]"]
["Opp_ID",{"$f":"AccountInfo!B2","v":"Opp_Name"},"Reasons for Low","LowConstr",0.1,0.5,0.9,"HighConstr","Reasons for High","Check",null,"Instructions"]
[{"$f":"AccountInfo!$A3","v":1},{"$f":"IF(AccountInfo!$B3=\"\",\"\",AccountInfo!B3)","v":"Whiskers and Fleas"},null,0,38,50,87,null,null,{"$f":"IF(AND(D3<=E3, E3<=F3, F3<=G3, G3<=IF(H3=\"\", 1000000000000, H3)), \"Check\", \"Error\")","v":"Check"},null,"For a given opportunity, provide reasons for low values first."]
[{"$f":"AccountInfo!$A4","v":2},{"$f":"IF(AccountInfo!$B4=\"\",\"\",AccountInfo!B4)","v":"Cheddar Cheese"},null,0,34,50,55,null,null,{"$f":"IF(AND(D4<=E4, E4<=F4, F4<=G4, G4<=IF(H4=\"\", 1000000000000, H4)), \"Check\", \"Error\")","v":"Check"},null,"Provide reasons for high values."]
[{"$f":"AccountInfo!$A5","v":3},{"$f":"IF(AccountInfo!$B5=\"\",\"\",AccountInfo!B5)","v":"Abominable Snowman"},null,0,28,32,68,null,null,"Check",null,"Estimate the p10."]
[{"$f":"AccountInfo!$A6","v":4},{"$f":"IF(AccountInfo!$B6=\"\",\"\",AccountInfo!B6)","v":"Treason on the High Seas"},null,0,21,25,35,null,null,"Check",null,"Estimate the p90."]
[{"$f":"AccountInfo!$A7","v":5},{"$f":"IF(AccountInfo!$B7=\"\",\"\",AccountInfo!B7)","v":"Pinky and the Brain"},null,0,29,36,64,null,null,"Check",null,"Always estimate the p50 last, no exceptions."]
[{"$f":"AccountInfo!$A8","v":6},{"$f":"IF(AccountInfo!$B8=\"\",\"\",AccountInfo!B8)","v":"Clams and Mushrooms"},null,0,26,26,30,null,null,"Check",null,"If there is a required Min other than 0, enter that value; otherwise, leave the Required Min as 0."]
[{"$f":"AccountInfo!$A9","v":7},{"$f":"IF(AccountInfo!$B9=\"\",\"\",AccountInfo!B9)","v":"Concert at Red Rocks"},null,0,26,36,89,null,null,"Check",null,"If there is a required Max, enter that value; otherwise, leave the Required Max blank."]
[{"$f":"AccountInfo!$A10","v":8},{"$f":"IF(AccountInfo!$B10=\"\",\"\",AccountInfo!B10)","v":"Fast Times at Ridgemont High"},null,0,34,48,50,null,null,"Check",null,"The estimates should strictly follow Min<p10<p50<p90<Max."]
[{"$f":"AccountInfo!$A11","v":9},{"$f":"IF(AccountInfo!$B11=\"\",\"\",AccountInfo!B11)","v":"Monkey See Monkey Do"},null,0,31,39,80,null,null,"Check"]
[{"$f":"AccountInfo!$A12","v":10},{"$f":"IF(AccountInfo!$B12=\"\",\"\",AccountInfo!B12)","v":"Mine Eyes Have Seen the Glory"},null,0,23,45,54,null,null,"Check"]
[{"$f":"AccountInfo!$A13","v":11},{"$f":"IF(AccountInfo!$B13=\"\",\"\",AccountInfo!B13)","v":"Punky Brewster Lives"},null,0,28,40,68,null,null,"Check"]
[{"$f":"AccountInfo!$A14","v":12},{"$f":"IF(AccountInfo!$B14=\"\",\"\",AccountInfo!B14)","v":"Live at the Magic Kingdom"},null,0,38,47,73,null,null,"Check"]
[{"$f":"AccountInfo!$A15","v":13},{"$f":"IF(AccountInfo!$B15=\"\",\"\",AccountInfo!B15)","v":"House Music"},null,0,60,75,90,null,null,"Check"]
[{"$f":"AccountInfo!$A16","v":14},{"$f":"IF(AccountInfo!$B16=\"\",\"\",AccountInfo!B16)","v":"Kindle Fire Truck"},null,0,50,65,80,null,null,"Check"]
[{"$f":"AccountInfo!$A17","v":15},{"$f":"IF(AccountInfo!$B17=\"\",\"\",AccountInfo!B17)","v":""},{"$nulls":7},"Check"]
[{"$f":"AccountInfo!$A18","v":16},{"$f":"IF(AccountInfo!$B18=\"\",\"\",AccountInfo!B18)","v":""},{"$nulls":7},"Check"]
[{"$f":"AccountInfo!$A19","v":17},{"$f":"IF(AccountInfo!$B19=\"\",\"\",AccountInfo!B19)","v":""},{"$nulls":7},"Check"]
[{"$f":"AccountInfo!$A20","v":18},{"$f":"IF(AccountInfo!$B20=\"\",\"\",AccountInfo!B20)","v":""},{"$nulls":7},"Check"]
[{"$f":"AccountInfo!$A21","v":19},{"$f":"IF(AccountInfo!$B21=\"\",\"\",AccountInfo!B21)","v":""},{"$nulls":7},"Check"]
[{"$f":"AccountInfo!$A22","v":20},{"$f":"IF(AccountInfo!$B22=\"\",\"\",AccountInfo!B22)","v":""},{"$nulls":7},"Check"]
[{"$f":"AccountInfo!$A23","v":21},{"$f":"IF(AccountInfo!$B23=\"\",\"\",AccountInfo!B23)","v":""},{"$nulls":7},"Check"]
[{"$f":"AccountInfo!$A24","v":22},{"$f":"IF(AccountInfo!$B24=\"\",\"\",AccountInfo!B24)","v":""},{"$nulls":7},"Check"]
[{"$f":"AccountInfo!$A25","v":23},{"$f":"IF(AccountInfo!$B25=\"\",\"\",AccountInfo!B25)","v":""},{"$nulls":7},"Check"]
[{"$f":"AccountInfo!$A26","v":24},{"$f":"IF(AccountInfo!$B26=\"\",\"\",AccountInfo!B26)","v":""},{"$nulls":7},"Check"]
[{"$f":"AccountInfo!$A27","v":25},{"$f":"IF(AccountInfo!$B27=\"\",\"\",AccountInfo!B27)","v":""},{"$nulls":7},"Check"]
[{"$f":"AccountInfo!$A28","v":26},{"$f":"IF(AccountInfo!$B28=\"\",\"\",AccountInfo!B28)","v":""},{"$nulls":7},"Check"]
[{"$f":"AccountInfo!$A29","v":27},{"$f":"IF(AccountInfo!$B29=\"\",\"\",AccountInfo!B29)","v":""},{"$nulls":7},"Check"]
[{"$f":"AccountInfo!$A30","v":28},{"$f":"IF(AccountInfo!$B30=\"\",\"\",AccountInfo!B30)","v":""},{"$nulls":7},"Check"]
[{"$f":"AccountInfo!$A31","v":29},{"$f":"IF(AccountInfo!$B31=\"\",\"\",AccountInfo!B31)","v":""},{"$nulls":7},"Check"]
[{"$f":"AccountInfo!$A32","v":30},{"$f":"IF(AccountInfo!$B32=\"\",\"\",AccountInfo!B32)","v":""},{"$nulls":7},"Check"]
[{"$f":"AccountInfo!$A33","v":31},{"$f":"IF(AccountInfo!$B33=\"\",\"\",AccountInfo!B33)","v":""},{"$nulls":7},"Check"]
[{"$f":"AccountInfo!$A34","v":32},{"$f":"IF(AccountInfo!$B34=\"\",\"\",AccountInfo!B34)","v":""},{"$nulls":7},"Check"]
[{"$f":"AccountInfo!$A35","v":33},{"$f":"IF(AccountInfo!$B35=\"\",\"\",AccountInfo!B35)","v":""},{"$nulls":7},"Check"]
[{"$f":"AccountInfo!$A36","v":34},{"$f":"IF(AccountInfo!$B36=\"\",\"\",AccountInfo!B36)","v":""},{"$nulls":7},"Check"]
[{"$f":"AccountInfo!$A37","v":35},{"$f":"IF(AccountInfo!$B37=\"\",\"\",AccountInfo!B37)","v":""},{"$nulls":7},"Check"]
[{"$f":"AccountInfo!$A38","v":36},{"$f":"IF(AccountInfo!$B38=\"\",\"\",AccountInfo!B38)","v":""},{"$nulls":7},"Check"]
[{"$f":"AccountInfo!$A39","v":37},{"$f":"IF(AccountInfo!$B39=\"\",\"\",AccountInfo!B39)","v":""},{"$nulls":7},"Check"]
[{"$f":"AccountInfo!$A40","v":38},{"$f":"IF(AccountInfo!$B40=\"\",\"\",AccountInfo!B40)","v":""},{"$nulls":7},"Check"]
[{"$f":"AccountInfo!$A41","v":39},{"$f":"IF(AccountInfo!$B41=\"\",\"\",AccountInfo!B41)","v":""},{"$nulls":7},"Check"]
[{"$f":"AccountInfo!$A42","v":40},{"$f":"IF(AccountInfo!$B42=\"\",\"\",AccountInfo!B42)","v":""},{"$nulls":7},"Check"]
[{"$f":"AccountInfo!$A43","v":41},{"$f":"IF(AccountInfo!$B43=\"\",\"\",AccountInfo!B43)","v":""},{"$nulls":7},"Check"]
[{"$f":"AccountInfo!$A44","v":42},{"$f":"IF(AccountInfo!$B44=\"\",\"\",AccountInfo!B44)","v":""},{"$nulls":7},"Check"]
[{"$f":"AccountInfo!$A45","v":43},{"$f":"IF(AccountInfo!$B45=\"\",\"\",AccountInfo!B45)","v":""},{"$nulls":7},"Check"]
[{"$f":"AccountInfo!$A46","v":44},{"$f":"IF(AccountInfo!$B46=\"\",\"\",AccountInfo!B46)","v":""},{"$nulls":7},"Check"]
[{"$f":"AccountInfo!$A47","v":45},{"$f":"IF(AccountInfo!$B47=\"\",\"\",AccountInfo!B47)","v":""},{"$nulls":7},"Check"]
[{"$f":"AccountInfo!$A48","v":46},{"$f":"IF(AccountInfo!$B48=\"\",\"\",AccountInfo!B48)","v":""},{"$nulls":7},"Check"]
[{"$f":"AccountInfo!$A49","v":47},{"$f":"IF(AccountInfo!$B49=\"\",\"\",AccountInfo!B49)","v":""},{"$nulls":7},"Check"]
[{"$f":"AccountInfo!$A50","v":48},{"$f":"IF(AccountInfo!$B50=\"\",\"\",AccountInfo!B50)","v":""},{"$nulls":7},"Check"]
[{"$f":"AccountInfo!$A51","v":49},{"$f":"IF(AccountInfo!$B51=\"\",\"\",AccountInfo!B51)","v":""},{"$nulls":7},"Check"]
[{"$f":"AccountInfo!$A52","v":50},{"$f":"IF(AccountInfo!$B52=\"\",\"\",AccountInfo!B52)","v":""},{"$nulls":7},"Check"]
[{"$f":"AccountInfo!$A53","v":51},{"$f":"IF(AccountInfo!$B53=\"\",\"\",AccountInfo!B53)","v":""},{"$nulls":7},"Check"]
[{"$f":"AccountInfo!$A54","v":52},{"$f":"IF(AccountInfo!$B54=\"\",\"\",AccountInfo!B54)","v":""},{"$nulls":7},"Check"]
[{"$f":"AccountInfo!$A55","v":53},{"$f":"IF(AccountInfo!$B55=\"\",\"\",AccountInfo!B55)","v":""},{"$nulls":7},"Check"]
[{"$f":"AccountInfo!$A56","v":54},{"$f":"IF(AccountInfo!$B56=\"\",\"\",AccountInfo!B56)","v":""},{"$nulls":7},"Check"]
[{"$f":"AccountInfo!$A57","v":55},{"$f":"IF(AccountInfo!$B57=\"\",\"\",AccountInfo!B57)","v":""},{"$nulls":7},"Check"]
[{"$f":"AccountInfo!$A58","v":56},{"$f":"IF(AccountInfo!$B58=\"\",\"\",AccountInfo!B58)","v":""},{"$nulls":7},"Check"]
[{"$f":"AccountInfo!$A59","v":57},{"$f":"IF(AccountInfo!$B59=\"\",\"\",AccountInfo!B59)","v":""},{"$nulls":7},"Check"]
[{"$f":"AccountInfo!$A60","v":58},{"$f":"IF(AccountInfo!$B60=\"\",\"\",AccountInfo!B60)","v":""},{"$nulls":7},"Check"]
[{"$f":"AccountInfo!$A61","v":59},{"$f":"IF(AccountInfo!$B61=\"\",\"\",AccountInfo!B61)","v":""},{"$nulls":7},"Check"]
[{"$f":"AccountInfo!$A62","v":60},{"$f":"IF(AccountInfo!$B62=\"\",\"\",AccountInfo!B62)","v":""},{"$nulls":7},"Check"]
[{"$f":"AccountInfo!$A63","v":61},{"$f":"IF(AccountInfo!$B63=\"\",\"\",AccountInfo!B63)","v":""},{"$nulls":7},"Check"]
[{"$f":"AccountInfo!$A64","v":62},{"$f":"IF(AccountInfo!$B64=\"\",\"\",AccountInfo!B64)","v":""},{"$nulls":7},"Check"]
[{"$f":"AccountInfo!$A65","v":63},{"$f":"IF(AccountInfo!$B65=\"\",\"\",AccountInfo!B65)","v":""},{"$nulls":7},"Check"]
[{"$f":"AccountInfo!$A66","v":64},{"$f":"IF(AccountInfo!$B66=\"\",\"\",AccountInfo!B66)","v":""},{"$nulls":7},"Check"]
[{"$f":"AccountInfo!$A67","v":65},{"$f":"IF(AccountInfo!$B67=\"\",\"\",AccountInfo!B67)","v":""},{"$nulls":7},"Check"]
[{"$f":"AccountInfo!$A68","v":66},{"$f":"IF(AccountInfo!$B68=\"\",\"\",AccountInfo!B68)","v":""},{"$nulls":7},{"$f":"IF(AND(D68<=E68, E68<=F68, F68<=G68, G68<=IF(H68=\"\", 1000000000000, H68)), \"Check\", \"Error\")","v":"Check"}]
[{"$f":"AccountInfo!$A69","v":67},{"$f":"IF(AccountInfo!$B69=\"\",\"\",AccountInfo!B69)","v":""},{"$nulls":7},"Check"]
[{"$f":"AccountInfo!$A70","v":68},{"$f":"IF(AccountInfo!$B70=\"\",\"\",AccountInfo!B70)","v":""},{"$nulls":7},"Check"]
[{"$f":"AccountInfo!$A71","v":69},{"$f":"IF(AccountInfo!$B71=\"\",\"\",AccountInfo!B71)","v":""},{"$nulls":7},"Check"]
[{"$f":"AccountInfo!$A72","v":70},{"$f":"IF(AccountInfo!$B72=\"\",\"\",AccountInfo!B72)","v":""},{"$nulls":7},"Check"]
[{"$f":"AccountInfo!$A73","v":71},{"$f":"IF(AccountInfo!$B73=\"\",\"\",AccountInfo!B73)","v":""},{"$nulls":7},"Check"]
[{"$f":"AccountInfo!$A74","v":72},{"$f":"IF(AccountInfo!$B74=\"\",\"\",AccountInfo!B74)","v":""},{"$nulls":7},"Check"]
[{"$f":"AccountInfo!$A75","v":73},{"$f":"IF(AccountInfo!$B75=\"\",\"\",AccountInfo!B75)","v":""},{"$nulls":7},"Check"]
[{"$f":"AccountInfo!$A76","v":74},{"$f":"IF(AccountInfo!$B76=\"\",\"\",AccountInfo!B76)","v":""},{"$nulls":7},"Check"]
[{"$f":"AccountInfo!$A77","v":75},{"$f":"IF(AccountInfo!$B77=\"\",\"\",AccountInfo!B77)","v":""},{"$nulls":7},"Check"]
[{"$f":"AccountInfo!$A78","v":76},{"$f":"IF(AccountInfo!$B78=\"\",\"\",AccountInfo!B78)","v":""},{"$nulls":7},"Check"]
[{"$f":"AccountInfo!$A79","v":77},{"$f":"IF(AccountInfo!$B79=\"\",\"\",AccountInfo!B79)","v":""},{"$nulls":7},"Check"]
[{"$f":"AccountInfo!$A80","v":78},{"$f":"IF(AccountInfo!$B80=\"\",\"\",AccountInfo!B80)","v":""},{"$nulls":7},"Check"]
[{"$f":"AccountInfo!$A81","v":79},{"$f":"IF(AccountInfo!$B81=\"\",\"\",AccountInfo!B81)","v":""},{"$nulls":7},"Check"]
[{"$f":"AccountInfo!$A82","v":80},{"$f":"IF(AccountInfo!$B82=\"\",\"\",AccountInfo!B82)","v":""},{"$nulls":7},"Check"]
[{"$f":"AccountInfo!$A83","v":81},{"$f":"IF(AccountInfo!$B83=\"\",\"\",AccountInfo!B83)","v":""},{"$nulls":7},"Check"]
[{"$f":"AccountInfo!$A84","v":82},{"$f":"IF(AccountInfo!$B84=\"\",\"\",AccountInfo!B84)","v":""},{"$nulls":7},"Check"]
[{"$f":"AccountInfo!$A85","v":83},{"$f":"IF(AccountInfo!$B85=\"\",\"\",AccountInfo!B85)","v":""},{"$nulls":7},"Check"]
[{"$f":"AccountInfo!$A86","v":84},{"$f":"IF(AccountInfo!$B86=\"\",\"\",AccountInfo!B86)","v":""},{"$nulls":7},"Check"]
[{"$f":"AccountInfo!$A87","v":85},{"$f":"IF(AccountInfo!$B87=\"\",\"\",AccountInfo!B87)","v":""},{"$nulls":7},"Check"]
[{"$f":"AccountInfo!$A88","v":86},{"$f":"IF(AccountInfo!$B88=\"\",\"\",AccountInfo!B88)","v":""},{"$nulls":7},"Check"]
[{"$f":"AccountInfo!$A89","v":87},{"$f":"IF(AccountInfo!$B89=\"\",\"\",AccountInfo!B89)","v":""},{"$nulls":7},"Check"]
[{"$f":"AccountInfo!$A90","v":88},{"$f":"IF(AccountInfo!$B90=\"\",\"\",AccountInfo!B90)","v":""},{"$nulls":7},"Check"]
[{"$f":"AccountInfo!$A91","v":89},{"$f":"IF(AccountInfo!$B91=\"\",\"\",AccountInfo!B91)","v":""},{"$nulls":7},"Check"]
[{"$f":"AccountInfo!$A92","v":90},{"$f":"IF(AccountInfo!$B92=\"\",\"\",AccountInfo!B92)","v":""},{"$nulls":7},"Check"]
[{"$f":"AccountInfo!$A93","v":91},{"$f":"IF(AccountInfo!$B93=\"\",\"\",AccountInfo!B93)","v":""},{"$nulls":7},"Check"]
[{"$f":"AccountInfo!$A94","v":92},{"$f":"IF(AccountInfo!$B94=\"\",\"\",AccountInfo!B94)","v":""},{"$nulls":7},"Check"]
[{"$f":"AccountInfo!$A95","v":93},{"$f":"IF(AccountInfo!$B95=\"\",\"\",AccountInfo!B95)","v":""},{"$nulls":7},"Check"]
[{"$f":"AccountInfo!$A96","v":94},{"$f":"IF(AccountInfo!$B96=\"\",\"\",AccountInfo!B96)","v":""},{"$nulls":7},"Check"]
[{"$f":"AccountInfo!$A97","v":95},{"$f":"IF(AccountInfo!$B97=\"\",\"\",AccountInfo!B97)","v":""},{"$nulls":7},"Check"]
[{"$f":"AccountInfo!$A98","v":96},{"$f":"IF(AccountInfo!$B98=\"\",\"\",AccountInfo!B98)","v":""},{"$nulls":7},"Check"]
[{"$f":"AccountInfo!$A99","v":97},{"$f":"IF(AccountInfo!$B99=\"\",\"\",AccountInfo!B99)","v":""},{"$nulls":7},"Check"]
[{"$f":"AccountInfo!$A100","v":98},{"$f":"IF(AccountInfo!$B100=\"\",\"\",AccountInfo!B100)","v":""},{"$nulls":7},"Check"]
[{"$f":"AccountInfo!$A101","v":99},{"$f":"IF(AccountInfo!$B101=\"\",\"\",AccountInfo!B101)","v":""},{"$nulls":7},"Check"]
[{"$f":"AccountInfo!$A102","v":100},{"$f":"IF(AccountInfo!$B102=\"\",\"\",AccountInfo!B102)","v":""},{"$nulls":7},"Check"]
[{"$f":"AccountInfo!$A103","v":101},{"$f":"IF(AccountInfo!$B103=\"\",\"\",AccountInfo!B103)","v":""},{"$nulls":7},"Check"]
[{"$f":"AccountInfo!$A104","v":102},{"$f":"IF(AccountInfo!$B104=\"\",\"\",AccountInfo!B104)","v":""},{"$nulls":7},"Check"]
[{"$f":"AccountInfo!$A105","v":103},{"$f":"IF(AccountInfo!$B105=\"\",\"\",AccountInfo!B105)","v":""},{"$nulls":7},"Check"]
[{"$f":"AccountInfo!$A106","v":104},{"$f":"IF(AccountInfo!$B106=\"\",\"\",AccountInfo!B106)","v":""},{"$nulls":7},"Check"]
[{"$f":"AccountInfo!$A107","v":105},{"$f":"IF(AccountInfo!$B107=\"\",\"\",AccountInfo!B107)","v":""},{"$nulls":7},"Check"]
[{"$f":"AccountInfo!$A108","v":106},{"$f":"IF(AccountInfo!$B108=\"\",\"\",AccountInfo!B108)","v":""},{"$nulls":7},"Check"]
[{"$f":"AccountInfo!$A109","v":107},{"$f":"IF(AccountInfo!$B109=\"\",\"\",AccountInfo!B109)","v":""},{"$nulls":7},"Check"]
[{"$f":"AccountInfo!$A110","v":108},{"$f":"IF(AccountInfo!$B110=\"\",\"\",AccountInfo!B110)","v":""},{"$nulls":7},"Check"]
[{"$f":"AccountInfo!$A111","v":109},{"$f":"IF(AccountInfo!$B111=\"\",\"\",AccountInfo!B111)","v":""},{"$nulls":7},"Check"]
[{"$f":"AccountInfo!$A112","v":110},{"$f":"IF(AccountInfo!$B112=\"\",\"\",AccountInfo!B112)","v":""},{"$nulls":7},"Check"]
[{"$f":"AccountInfo!$A113","v":111},{"$f":"IF(AccountInfo!$B113=\"\",\"\",AccountInfo!B113)","v":""},{"$nulls":7},"Check"]
[{"$f":"AccountInfo!$A114","v":112},{"$f":"IF(AccountInfo!$B114=\"\",\"\",AccountInfo!B114)","v":""},{"$nulls":7},"Check"]
[{"$f":"AccountInfo!$A115","v":113},{"$f":"IF(AccountInfo!$B115=\"\",\"\",AccountInfo!B115)","v":""},{"$nulls":7},"Check"]
[{"$f":"AccountInfo!$A116","v":114},{"$f":"IF(AccountInfo!$B116=\"\",\"\",AccountInfo!B116)","v":""},{"$nulls":7},"Check"]
[{"$f":"AccountInfo!$A117","v":115},{"$f":"IF(AccountInfo!$B117=\"\",\"\",AccountInfo!B117)","v":""},{"$nulls":7},"Check"]
[{"$f":"AccountInfo!$A118","v":116},{"$f":"IF(AccountInfo!$B118=\"\",\"\",AccountInfo!B118)","v":""},{"$nulls":7},"Check"]
[{"$f":"AccountInfo!$A119","v":117},{"$f":"IF(AccountInfo!$B119=\"\",\"\",AccountInfo!B119)","v":""},{"$nulls":7},"Check"]
[{"$f":"AccountInfo!$A120","v":118},{"$f":"IF(AccountInfo!$B120=\"\",\"\",AccountInfo!B120)","v":""},{"$nulls":7},"Check"]
[{"$f":"AccountInfo!$A121","v":119},{"$f":"IF(AccountInfo!$B121=\"\",\"\",AccountInfo!B121)","v":""},{"$nulls":7},"Check"]
[{"$f":"AccountInfo!$A122","v":120},{"$f":"IF(AccountInfo!$B122=\"\",\"\",AccountInfo!B122)","v":""},{"$nulls":7},"Check"]
[{"$f":"AccountInfo!$A123","v":121},{"$f":"IF(AccountInfo!$B123=\"\",\"\",AccountInfo!B123)","v":""},{"$nulls":7},"Check"]
[{"$f":"AccountInfo!$A124","v":122},{"$f":"IF(AccountInfo!$B124=\"\",\"\",AccountInfo!B124)","v":""},{"$nulls":7},"Check"]
[{"$f":"AccountInfo!$A125","v":123},{"$f":"IF(AccountInfo!$B125=\"\",\"\",AccountInfo!B125)","v":""},{"$nulls":7},"Check"]
[{"$f":"AccountInfo!$A126","v":124},{"$f":"IF(AccountInfo!$B126=\"\",\"\",AccountInfo!B126)","v":""},{"$nulls":7},"Check"]
[{"$f":"AccountInfo!$A127","v":125},{"$f":"IF(AccountInfo!$B127=\"\",\"\",AccountInfo!B127)","v":""},{"$nulls":7},"Check"]
[{"$f":"AccountInfo!$A128","v":126},{"$f":"IF(AccountInfo!$B128=\"\",\"\",AccountInfo!B128)","v":""},{"$nulls":7},"Check"]
[{"$f":"AccountInfo!$A129","v":127},{"$f":"IF(AccountInfo!$B129=\"\",\"\",AccountInfo!B129)","v":""},{"$nulls":7},"Check"]
[{"$f":"AccountInfo!$A130","v":128},{"$f":"IF(AccountInfo!$B130=\"\",\"\",AccountInfo!B130)","v":""},{"$nulls":7},"Check"]
[{"$f":"AccountInfo!$A131","v":129},{"$f":"IF(AccountInfo!$B131=\"\",\"\",AccountInfo!B131)","v":""},{"$nulls":7},"Check"]
[{"$f":"AccountInfo!$A132","v":130},{"$f":"IF(AccountInfo!$B132=\"\",\"\",AccountInfo!B132)","v":""},{"$nulls":7},{"$f":"IF(AND(D132<=E132, E132<=F132, F132<=G132, G132<=IF(H132=\"\", 1000000000000, H132)), \"Check\", \"Error\")","v":"Check"}]
[{"$f":"AccountInfo!$A133","v":131},{"$f":"IF(AccountInfo!$B133=\"\",\"\",AccountInfo!B133)","v":""},{"$nulls":7},"Check"]
[{"$f":"AccountInfo!$A134","v":132},{"$f":"IF(AccountInfo!$B134=\"\",\"\",AccountInfo!B134)","v":""},{"$nulls":7},"Check"]
[{"$f":"AccountInfo!$A135","v":133},{"$f":"IF(AccountInfo!$B135=\"\",\"\",AccountInfo!B135)","v":""},{"$nulls":7},"Check"]
[{"$f":"AccountInfo!$A136","v":134},{"$f":"IF(AccountInfo!$B136=\"\",\"\",AccountInfo!B136)","v":""},{"$nulls":7},"Check"]
[{"$f":"AccountInfo!$A137","v":135},{"$f":"IF(AccountInfo!$B137=\"\",\"\",AccountInfo!B137)","v":""},{"$nulls":7},"Check"]
[{"$f":"AccountInfo!$A138","v":136},{"$f":"IF(AccountInfo!$B138=\"\",\"\",AccountInfo!B138)","v":""},{"$nulls":7},"Check"]
[{"$f":"AccountInfo!$A139","v":137},{"$f":"IF(AccountInfo!$B139=\"\",\"\",AccountInfo!B139)","v":""},{"$nulls":7},"Check"]
[{"$f":"AccountInfo!$A140","v":138},{"$f":"IF(AccountInfo!$B140=\"\",\"\",AccountInfo!B140)","v":""},{"$nulls":7},"Check"]
[{"$f":"AccountInfo!$A141","v":139},{"$f":"IF(AccountInfo!$B141=\"\",\"\",AccountInfo!B141)","v":""},{"$nulls":7},"Check"]
[{"$f":"AccountInfo!$A142","v":140},{"$f":"IF(AccountInfo!$B142=\"\",\"\",AccountInfo!B142)","v":""},{"$nulls":7},"Check"]
[{"$f":"AccountInfo!$A143","v":141},{"$f":"IF(AccountInfo!$B143=\"\",\"\",AccountInfo!B143)","v":""},{"$nulls":7},"Check"]
[{"$f":"AccountInfo!$A144","v":142},{"$f":"IF(AccountInfo!$B144=\"\",\"\",AccountInfo!B144)","v":""},{"$nulls":7},"Check"]
[{"$f":"AccountInfo!$A145","v":143},{"$f":"IF(AccountInfo!$B145=\"\",\"\",AccountInfo!B145)","v":""},{"$nulls":7},"Check"]
[{"$f":"AccountInfo!$A146","v":144},{"$f":"IF(AccountInfo!$B146=\"\",\"\",AccountInfo!B146)","v":""},{"$nulls":7},"Check"]
[{"$f":"AccountInfo!$A147","v":145},{"$f":"IF(AccountInfo!$B147=\"\",\"\",AccountInfo!B147)","v":""},{"$nulls":7},"Check"]
[{"$f":"AccountInfo!$A148","v":146},{"$f":"IF(AccountInfo!$B148=\"\",\"\",AccountInfo!B148)","v":""},{"$nulls":7},"Check"]
[{"$f":"AccountInfo!$A149","v":147},{"$f":"IF(AccountInfo!$B149=\"\",\"\",AccountInfo!B149)","v":""},{"$nulls":7},"Check"]
[{"$f":"AccountInfo!$A150","v":148},{"$f":"IF(AccountInfo!$B150=\"\",\"\",AccountInfo!B150)","v":""},{"$nulls":7},"Check"]
[{"$f":"AccountInfo!$A151","v":149},{"$f":"IF(AccountInfo!$B151=\"\",\"\",AccountInfo!B151)","v":""},{"$nulls":7},"Check"]
[{"$f":"AccountInfo!$A152","v":150},{"$f":"IF(AccountInfo!$B152=\"\",\"\",AccountInfo!B152)","v":""},{"$nulls":7},"Check"]
[{"$f":"AccountInfo!$A153","v":151},{"$f":"IF(AccountInfo!$B153=\"\",\"\",AccountInfo!B153)","v":""},{"$nulls":7},"Check"]
[{"$f":"AccountInfo!$A154","v":152},{"$f":"IF(AccountInfo!$B154=\"\",\"\",AccountInfo!B154)","v":""},{"$nulls":7},"Check"]
[{"$f":"AccountInfo!$A155","v":153},{"$f":"IF(AccountInfo!$B155=\"\",\"\",AccountInfo!B155)","v":""},{"$nulls":7},"Check"]
[{"$f":"AccountInfo!$A156","v":154},{"$f":"IF(AccountInfo!$B156=\"\",\"\",AccountInfo!B156)","v":""},{"$nulls":7},"Check"]
[{"$f":"AccountInfo!$A157","v":155},{"$f":"IF(AccountInfo!$B157=\"\",\"\",AccountInfo!B157)","v":""},{"$nulls":7},"Check"]
[{"$f":"AccountInfo!$A158","v":156},{"$f":"IF(AccountInfo!$B158=\"\",\"\",AccountInfo!B158)","v":""},{"$nulls":7},"Check"]
[{"$f":"AccountInfo!$A159","v":157},{"$f":"IF(AccountInfo!$B159=\"\",\"\",AccountInfo!B159)","v":""},{"$nulls":7},"Check"]
[{"$f":"AccountInfo!$A160","v":158},{"$f":"IF(AccountInfo!$B160=\"\",\"\",AccountInfo!B160)","v":""},{"$nulls":7},"Check"]
[{"$f":"AccountInfo!$A161","v":159},{"$f":"IF(AccountInfo!$B161=\"\",\"\",AccountInfo!B161)","v":""},{"$nulls":7},"Check"]
[{"$f":"AccountInfo!$A162","v":160},{"$f":"IF(AccountInfo!$B162=\"\",\"\",AccountInfo!B162)","v":""},{"$nulls":7},"Check"]
[{"$f":"AccountInfo!$A163","v":161},{"$f":"IF(AccountInfo!$B163=\"\",\"\",AccountInfo!B163)","v":""},{"$nulls":7},"Check"]
[{"$f":"AccountInfo!$A164","v":162},{"$f":"IF(AccountInfo!$B164=\"\",\"\",AccountInfo!B164)","v":""},{"$nulls":7},"Check"]
[{"$f":"AccountInfo!$A165","v":163},{"$f":"IF(AccountInfo!$B165=\"\",\"\",AccountInfo!B165)","v":""},{"$nulls":7},"Check"]
[{"$f":"AccountInfo!$A166","v":164},{"$f":"IF(AccountInfo!$B166=\"\",\"\",AccountInfo!B166)","v":""},{"$nulls":7},"Check"]
[{"$f":"AccountInfo!$A167","v":165},{"$f":"IF(AccountInfo!$B167=\"\",\"\",AccountInfo!B167)","v":""},{"$nulls":7},"Check"]
[{"$f":"AccountInfo!$A168","v":166},{"$f":"IF(AccountInfo!$B168=\"\",\"\",AccountInfo!B168)","v":""},{"$nulls":7},"Check"]
[{"$f":"AccountInfo!$A169","v":167},{"$f":"IF(AccountInfo!$B169=\"\",\"\",AccountInfo!B169)","v":""},{"$nulls":7},"Check"]
[{"$f":"AccountInfo!$A170","v":168},{"$f":"IF(AccountInfo!$B170=\"\",\"\",AccountInfo!B170)","v":""},{"$nulls":7},"Check"]
[{"$f":"AccountInfo!$A171","v":169},{"$f":"IF(AccountInfo!$B171=\"\",\"\",AccountInfo!B171)","v":""},{"$nulls":7},"Check"]
[{"$f":"AccountInfo!$A172","v":170},{"$f":"IF(AccountInfo!$B172=\"\",\"\",AccountInfo!B172)","v":""},{"$nulls":7},"Check"]
[{"$f":"AccountInfo!$A173","v":171},{"$f":"IF(AccountInfo!$B173=\"\",\"\",AccountInfo!B173)","v":""},{"$nulls":7},"Check"]
[{"$f":"AccountInfo!$A174","v":172},{"$f":"IF(AccountInfo!$B174=\"\",\"\",AccountInfo!B174)","v":""},{"$nulls":7},"Check"]
[{"$f":"AccountInfo!$A175","v":173},{"$f":"IF(AccountInfo!$B175=\"\",\"\",AccountInfo!B175)","v":""},{"$nulls":7},"Check"]
[{"$f":"AccountInfo!$A176","v":174},{"$f":"IF(AccountInfo!$B176=\"\",\"\",AccountInfo!B176)","v":""},{"$nulls":7},"Check"]
[{"$f":"AccountInfo!$A177","v":175},{"$f":"IF(AccountInfo!$B177=\"\",\"\",AccountInfo!B177)","v":""},{"$nulls":7},"Check"]
[{"$f":"AccountInfo!$A178","v":176},{"$f":"IF(AccountInfo!$B178=\"\",\"\",AccountInfo!B178)","v":""},{"$nulls":7},"Check"]
[{"$f":"AccountInfo!$A179","v":177},{"$f":"IF(AccountInfo!$B179=\"\",\"\",AccountInfo!B179)","v":""},{"$nulls":7},"Check"]
[{"$f":"AccountInfo!$A180","v":178},{"$f":"IF(AccountInfo!$B180=\"\",\"\",AccountInfo!B180)","v":""},{"$nulls":7},"Check"]
[{"$f":"AccountInfo!$A181","v":179},{"$f":"IF(AccountInfo!$B181=\"\",\"\",AccountInfo!B181)","v":""},{"$nulls":7},"Check"]
[{"$f":"AccountInfo!$A182","v":180},{"$f":"IF(AccountInfo!$B182=\"\",\"\",AccountInfo!B182)","v":""},{"$nulls":7},"Check"]
[{"$f":"AccountInfo!$A183","v":181},{"$f":"IF(AccountInfo!$B183=\"\",\"\",AccountInfo!B183)","v":""},{"$nulls":7},"Check"]
[{"$f":"AccountInfo!$A184","v":182},{"$f":"IF(AccountInfo!$B184=\"\",\"\",AccountInfo!B184)","v":""},{"$nulls":7},"Check"]
[{"$f":"AccountInfo!$A185","v":183},{"$f":"IF(AccountInfo!$B185=\"\",\"\",AccountInfo!B185)","v":""},{"$nulls":7},"Check"]
[{"$f":"AccountInfo!$A186","v":184},{"$f":"IF(AccountInfo!$B186=\"\",\"\",AccountInfo!B186)","v":""},{"$nulls":7},"Check"]
[{"$f":"AccountInfo!$A187","v":185},{"$f":"IF(AccountInfo!$B187=\"\",\"\",AccountInfo!B187)","v":""},{"$nulls":7},"Check"]
[{"$f":"AccountInfo!$A188","v":186},{"$f":"IF(AccountInfo!$B188=\"\",\"\",AccountInfo!B188)","v":""},{"$nulls":7},"Check"]
[{"$f":"AccountInfo!$A189","v":187},{"$f":"IF(AccountInfo!$B189=\"\",\"\",AccountInfo!B189)","v":""},{"$nulls":7},"Check"]
[{"$f":"AccountInfo!$A190","v":188},{"$f":"IF(AccountInfo!$B190=\"\",\"\",AccountInfo!B190)","v":""},{"$nulls":7},"Check"]
[{"$f":"AccountInfo!$A191","v":189},{"$f":"IF(AccountInfo!$B191=\"\",\"\",AccountInfo!B191)","v":""},{"$nulls":7},"Check"]
[{"$f":"AccountInfo!$A192","v":190},{"$f":"IF(AccountInfo!$B192=\"\",\"\",AccountInfo!B192)","v":""},{"$nulls":7},"Check"]
[{"$f":"AccountInfo!$A193","v":191},{"$f":"IF(AccountInfo!$B193=\"\",\"\",AccountInfo!B193)","v":""},{"$nulls":7},"Check"]
[{"$f":"AccountInfo!$A194","v":192},{"$f":"IF(AccountInfo!$B194=\"\",\"\",AccountInfo!B194)","v":""},{"$nulls":7},"Check"]
[{"$f":"AccountInfo!$A195","v":193},{"$f":"IF(AccountInfo!$B195=\"\",\"\",AccountInfo!B195)","v":""},{"$nulls":7},"Check"]
[{"$f":"AccountInfo!$A196","v":194},{"$f":"IF(AccountInfo!$B196=\"\",\"\",AccountInfo!B196)","v":""},{"$nulls":7},{"$f":"IF(AND(D196<=E196, E196<=F196, F196<=G196, G196<=IF(H196=\"\", 1000000000000, H196)), \"Check\", \"Error\")","v":"Check"}]
[{"$f":"AccountInfo!$A197","v":195},{"$f":"IF(AccountInfo!$B197=\"\",\"\",AccountInfo!B197)","v":""},{"$nulls":7},"Check"]
[{"$f":"AccountInfo!$A198","v":196},{"$f":"IF(AccountInfo!$B198=\"\",\"\",AccountInfo!B198)","v":""},{"$nulls":7},"Check"]
[{"$f":"AccountInfo!$A199","v":197},{"$f":"IF(AccountInfo!$B199=\"\",\"\",AccountInfo!B199)","v":""},{"$nulls":7},"Check"]
[{"$f":"AccountInfo!$A200","v":198},{"$f":"IF(AccountInfo!$B200=\"\",\"\",AccountInfo!B200)","v":""},{"$nulls":7},"Check"]
[{"$f":"AccountInfo!$A201","v":199},{"$f":"IF(AccountInfo!$B201=\"\",\"\",AccountInfo!B201)","v":""},{"$nulls":7},"Check"]
[{"$f":"AccountInfo!$A202","v":200},{"$f":"IF(AccountInfo!$B202=\"\",\"\",AccountInfo!B202)","v":""},{"$nulls":7},"Check"]
[{"$f":"AccountInfo!$A203","v":201},{"$f":"IF(AccountInfo!$B203=\"\",\"\",AccountInfo!B203)","v":""},{"$nulls":7},"Check"]
[{"$f":"AccountInfo!$A204","v":202},{"$f":"IF(AccountInfo!$B204=\"\",\"\",AccountInfo!B204)","v":""},{"$nulls":7},"Check"]
[{"$f":"AccountInfo!$A205","v":203},{"$f":"IF(AccountInfo!$B205=\"\",\"\",AccountInfo!B205)","v":""},{"$nulls":7},"Check"]
[{"$f":"AccountInfo!$A206","v":204},{"$f":"IF(AccountInfo!$B206=\"\",\"\",AccountInfo!B206)","v":""},{"$nulls":7},"Check"]
[{"$f":"AccountInfo!$A207","v":205},{"$f":"IF(AccountInfo!$B207=\"\",\"\",AccountInfo!B207)","v":""},{"$nulls":7},"Check"]
[{"$f":"AccountInfo!$A208","v":206},{"$f":"IF(AccountInfo!$B208=\"\",\"\",AccountInfo!B208)","v":""},{"$nulls":7},"Check"]
[{"$f":"AccountInfo!$A209","v":207},{"$f":"IF(AccountInfo!$B209=\"\",\"\",AccountInfo!B209)","v":""},{"$nulls":7},"Check"]
[{"$f":"AccountInfo!$A210","v":208},{"$f":"IF(AccountInfo!$B210=\"\",\"\",AccountInfo!B210)","v":""},{"$nulls":7},"Check"]
[{"$f":"AccountInfo!$A211","v":209},{"$f":"IF(AccountInfo!$B211=\"\",\"\",AccountInfo!B211)","v":""},{"$nulls":7},"Check"]
[{"$f":"AccountInfo!$A212","v":210},{"$f":"IF(AccountInfo!$B212=\"\",\"\",AccountInfo!B212)","v":""},{"$nulls":7},"Check"]
[{"$f":"AccountInfo!$A213","v":211},{"$f":"IF(AccountInfo!$B213=\"\",\"\",AccountInfo!B213)","v":""},{"$nulls":7},"Check"]
[{"$f":"AccountInfo!$A214","v":212},{"$f":"IF(AccountInfo!$B214=\"\",\"\",AccountInfo!B214)","v":""},{"$nulls":7},"Check"]
[{"$f":"AccountInfo!$A215","v":213},{"$f":"IF(AccountInfo!$B215=\"\",\"\",AccountInfo!B215)","v":""},{"$nulls":7},"Check"]
[{"$f":"AccountInfo!$A216","v":214},{"$f":"IF(AccountInfo!$B216=\"\",\"\",AccountInfo!B216)","v":""},{"$nulls":7},"Check"]
[{"$f":"AccountInfo!$A217","v":215},{"$f":"IF(AccountInfo!$B217=\"\",\"\",AccountInfo!B217)","v":""},{"$nulls":7},"Check"]
[{"$f":"AccountInfo!$A218","v":216},{"$f":"IF(AccountInfo!$B218=\"\",\"\",AccountInfo!B218)","v":""},{"$nulls":7},"Check"]
[{"$f":"AccountInfo!$A219","v":217},{"$f":"IF(AccountInfo!$B219=\"\",\"\",AccountInfo!B219)","v":""},{"$nulls":7},"Check"]
[{"$f":"AccountInfo!$A220","v":218},{"$f":"IF(AccountInfo!$B220=\"\",\"\",AccountInfo!B220)","v":""},{"$nulls":7},"Check"]
[{"$f":"AccountInfo!$A221","v":219},{"$f":"IF(AccountInfo!$B221=\"\",\"\",AccountInfo!B221)","v":""},{"$nulls":7},"Check"]
[{"$f":"AccountInfo!$A222","v":220},{"$f":"IF(AccountInfo!$B222=\"\",\"\",AccountInfo!B222)","v":""},{"$nulls":7},"Check"]
[{"$f":"AccountInfo!$A223","v":221},{"$f":"IF(AccountInfo!$B223=\"\",\"\",AccountInfo!B223)","v":""},{"$nulls":7},"Check"]
[{"$f":"AccountInfo!$A224","v":222},{"$f":"IF(AccountInfo!$B224=\"\",\"\",AccountInfo!B224)","v":""},{"$nulls":7},"Check"]
[{"$f":"AccountInfo!$A225","v":223},{"$f":"IF(AccountInfo!$B225=\"\",\"\",AccountInfo!B225)","v":""},{"$nulls":7},"Check"]
[{"$f":"AccountInfo!$A226","v":224},{"$f":"IF(AccountInfo!$B226=\"\",\"\",AccountInfo!B226)","v":""},{"$nulls":7},"Check"]
[{"$f":"AccountInfo!$A227","v":225},{"$f":"IF(AccountInfo!$B227=\"\",\"\",AccountInfo!B227)","v":""},{"$nulls":7},"Check"]
[{"$f":"AccountInfo!$A228","v":226},{"$f":"IF(AccountInfo!$B228=\"\",\"\",AccountInfo!B228)","v":""},{"$nulls":7},"Check"]
[{"$f":"AccountInfo!$A229","v":227},{"$f":"IF(AccountInfo!$B229=\"\",\"\",AccountInfo!B229)","v":""},{"$nulls":7},"Check"]
[{"$f":"AccountInfo!$A230","v":228},{"$f":"IF(AccountInfo!$B230=\"\",\"\",AccountInfo!B230)","v":""},{"$nulls":7},"Check"]
[{"$f":"AccountInfo!$A231","v":229},{"$f":"IF(AccountInfo!$B231=\"\",\"\",AccountInfo!B231)","v":""},{"$nulls":7},"Check"]
[{"$f":"AccountInfo!$A232","v":230},{"$f":"IF(AccountInfo!$B232=\"\",\"\",AccountInfo!B232)","v":""},{"$nulls":7},"Check"]
[{"$f":"AccountInfo!$A233","v":231},{"$f":"IF(AccountInfo!$B233=\"\",\"\",AccountInfo!B233)","v":""},{"$nulls":7},"Check"]
[{"$f":"AccountInfo!$A234","v":232},{"$f":"IF(AccountInfo!$B234=\"\",\"\",AccountInfo!B234)","v":""},{"$nulls":7},"Check"]
[{"$f":"AccountInfo!$A235","v":233},{"$f":"IF(AccountInfo!$B235=\"\",\"\",AccountInfo!B235)","v":""},{"$nulls":7},"Check"]
[{"$f":"AccountInfo!$A236","v":234},{"$f":"IF(AccountInfo!$B236=\"\",\"\",AccountInfo!B236)","v":""},{"$nulls":7},"Check"]
[{"$f":"AccountInfo!$A237","v":235},{"$f":"IF(AccountInfo!$B237=\"\",\"\",AccountInfo!B237)","v":""},{"$nulls":7},"Check"]
[{"$f":"AccountInfo!$A238","v":236},{"$f":"IF(AccountInfo!$B238=\"\",\"\",AccountInfo!B238)","v":""},{"$nulls":7},"Check"]
[{"$f":"AccountInfo!$A239","v":237},{"$f":"IF(AccountInfo!$B239=\"\",\"\",AccountInfo!B239)","v":""},{"$nulls":7},"Check"]
[{"$f":"AccountInfo!$A240","v":238},{"$f":"IF(AccountInfo!$B240=\"\",\"\",AccountInfo!B240)","v":""},{"$nulls":7},"Check"]
[{"$f":"AccountInfo!$A241","v":239},{"$f":"IF(AccountInfo!$B241=\"\",\"\",AccountInfo!B241)","v":""},{"$nulls":7},"Check"]
[{"$f":"AccountInfo!$A242","v":240},{"$f":"IF(AccountInfo!$B242=\"\",\"\",AccountInfo!B242)","v":""},{"$nulls":7},"Check"]
[{"$f":"AccountInfo!$A243","v":241},{"$f":"IF(AccountInfo!$B243=\"\",\"\",AccountInfo!B243)","v":""},{"$nulls":7},"Check"]
[{"$f":"AccountInfo!$A244","v":242},{"$f":"IF(AccountInfo!$B244=\"\",\"\",AccountInfo!B244)","v":""},{"$nulls":7},"Check"]
[{"$f":"AccountInfo!$A245","v":243},{"$f":"IF(AccountInfo!$B245=\"\",\"\",AccountInfo!B245)","v":""},{"$nulls":7},"Check"]
[{"$f":"AccountInfo!$A246","v":244},{"$f":"IF(AccountInfo!$B246=\"\",\"\",AccountInfo!B246)","v":""},{"$nulls":7},"Check"]
[{"$f":"AccountInfo!$A247","v":245},{"$f":"IF(AccountInfo!$B247=\"\",\"\",AccountInfo!B247)","v":""},{"$nulls":7},"Check"]
[{"$f":"AccountInfo!$A248","v":246},{"$f":"IF(AccountInfo!$B248=\"\",\"\",AccountInfo!B248)","v":""},{"$nulls":7},"Check"]
[{"$f":"AccountInfo!$A249","v":247},{"$f":"IF(AccountInfo!$B249=\"\",\"\",AccountInfo!B249)","v":""},{"$nulls":7},"Check"]
[{"$f":"AccountInfo!$A250","v":248},{"$f":"IF(AccountInfo!$B250=\"\",\"\",AccountInfo!B250)","v":""},{"$nulls":7},"Check"]
[{"$f":"AccountInfo!$A251","v":249},{"$f":"IF(AccountInfo!$B251=\"\",\"\",AccountInfo!B251)","v":""},{"$nulls":7},"Check"]
[{"$f":"AccountInfo!$A252","v":250},{"$f":"IF(AccountInfo!$B252=\"\",\"\",AccountInfo!B252)","v":""},{"$nulls":7},"Check"]
[{"$f":"AccountInfo!$A253","v":251},{"$f":"IF(AccountInfo!$B253=\"\",\"\",AccountInfo!B253)","v":""},{"$nulls":7},"Check"]
[{"$f":"AccountInfo!$A254","v":252},{"$f":"IF(AccountInfo!$B254=\"\",\"\",AccountInfo!B254)","v":""},{"$nulls":7},"Check"]
[{"$f":"AccountInfo!$A255","v":253},{"$f":"IF(AccountInfo!$B255=\"\",\"\",AccountInfo!B255)","v":""},{"$nulls":7},"Check"]
[{"$f":"AccountInfo!$A256","v":254},{"$f":"IF(AccountInfo!$B256=\"\",\"\",AccountInfo!B256)","v":""},{"$nulls":7},"Check"]
[{"$f":"AccountInfo!$A257","v":255},{"$f":"IF(AccountInfo!$B257=\"\",\"\",AccountInfo!B257)","v":""},{"$nulls":7},"Check"]
[{"$f":"AccountInfo!$A258","v":256},{"$f":"IF(AccountInfo!$B258=\"\",\"\",AccountInfo!B258)","v":""},{"$nulls":7},"Check"]
[{"$f":"AccountInfo!$A259","v":257},{"$f":"IF(AccountInfo!$B259=\"\",\"\",AccountInfo!B259)","v":""},{"$nulls":7},"Check"]
[{"$f":"AccountInfo!$A260","v":258},{"$f":"IF(AccountInfo!$B260=\"\",\"\",AccountInfo!B260)","v":""},{"$nulls":7},{"$f":"IF(AND(D260<=E260, E260<=F260, F260<=G260, G260<=IF(H260=\"\", 1000000000000, H260)), \"Check\", \"Error\")","v":"Check"}]
[{"$f":"AccountInfo!$A261","v":259},{"$f":"IF(AccountInfo!$B261=\"\",\"\",AccountInfo!B261)","v":""},{"$nulls":7},"Check"]
[{"$f":"AccountInfo!$A262","v":260},{"$f":"IF(AccountInfo!$B262=\"\",\"\",AccountInfo!B262)","v":""},{"$nulls":7},"Check"]
[{"$f":"AccountInfo!$A263","v":261},{"$f":"IF(AccountInfo!$B263=\"\",\"\",AccountInfo!B263)","v":""},{"$nulls":7},"Check"]
[{"$f":"AccountInfo!$A264","v":262},{"$f":"IF(AccountInfo!$B264=\"\",\"\",AccountInfo!B264)","v":""},{"$nulls":7},"Check"]
[{"$f":"AccountInfo!$A265","v":263},{"$f":"IF(AccountInfo!$B265=\"\",\"\",AccountInfo!B265)","v":""},{"$nulls":7},"Check"]
[{"$f":"AccountInfo!$A266","v":264},{"$f":"IF(AccountInfo!$B266=\"\",\"\",AccountInfo!B266)","v":""},{"$nulls":7},"Check"]
[{"$f":"AccountInfo!$A267","v":265},{"$f":"IF(AccountInfo!$B267=\"\",\"\",AccountInfo!B267)","v":""},{"$nulls":7},"Check"]
[{"$f":"AccountInfo!$A268","v":266},{"$f":"IF(AccountInfo!$B268=\"\",\"\",AccountInfo!B268)","v":""},{"$nulls":7},"Check"]
[{"$f":"AccountInfo!$A269","v":267},{"$f":"IF(AccountInfo!$B269=\"\",\"\",AccountInfo!B269)","v":""},{"$nulls":7},"Check"]
[{"$f":"AccountInfo!$A270","v":268},{"$f":"IF(AccountInfo!$B270=\"\",\"\",AccountInfo!B270)","v":""},{"$nulls":7},"Check"]
[{"$f":"AccountInfo!$A271","v":269},{"$f":"IF(AccountInfo!$B271=\"\",\"\",AccountInfo!B271)","v":""},{"$nulls":7},"Check"]
[{"$f":"AccountInfo!$A272","v":270},{"$f":"IF(AccountInfo!$B272=\"\",\"\",AccountInfo!B272)","v":""},{"$nulls":7},"Check"]
[{"$f":"AccountInfo!$A273","v":271},{"$f":"IF(AccountInfo!$B273=\"\",\"\",AccountInfo!B273)","v":""},{"$nulls":7},"Check"]
[{"$f":"AccountInfo!$A274","v":272},{"$f":"IF(AccountInfo!$B274=\"\",\"\",AccountInfo!B274)","v":""},{"$nulls":7},"Check"]
[{"$f":"AccountInfo!$A275","v":273},{"$f":"IF(AccountInfo!$B275=\"\",\"\",AccountInfo!B275)","v":""},{"$nulls":7},"Check"]
[{"$f":"AccountInfo!$A276","v":274},{"$f":"IF(AccountInfo!$B276=\"\",\"\",AccountInfo!B276)","v":""},{"$nulls":7},"Check"]
[{"$f":"AccountInfo!$A277","v":275},{"$f":"IF(AccountInfo!$B277=\"\",\"\",AccountInfo!B277)","v":""},{"$nulls":7},"Check"]
[{"$f":"AccountInfo!$A278","v":276},{"$f":"IF(AccountInfo!$B278=\"\",\"\",AccountInfo!B278)","v":""},{"$nulls":7},"Check"]
[{"$f":"AccountInfo!$A279","v":277},{"$f":"IF(AccountInfo!$B279=\"\",\"\",AccountInfo!B279)","v":""},{"$nulls":7},"Check"]
[{"$f":"AccountInfo!$A280","v":278},{"$f":"IF(AccountInfo!$B280=\"\",\"\",AccountInfo!B280)","v":""},{"$nulls":7},"Check"]
[{"$f":"AccountInfo!$A281","v":279},{"$f":"IF(AccountInfo!$B281=\"\",\"\",AccountInfo!B281)","v":""},{"$nulls":7},"Check"]
[{"$f":"AccountInfo!$A282","v":280},{"$f":"IF(AccountInfo!$B282=\"\",\"\",AccountInfo!B282)","v":""},{"$nulls":7},"Check"]
[{"$f":"AccountInfo!$A283","v":281},{"$f":"IF(AccountInfo!$B283=\"\",\"\",AccountInfo!B283)","v":""},{"$nulls":7},"Check"]
[{"$f":"AccountInfo!$A284","v":282},{"$f":"IF(AccountInfo!$B284=\"\",\"\",AccountInfo!B284)","v":""},{"$nulls":7},"Check"]
[{"$f":"AccountInfo!$A285","v":283},{"$f":"IF(AccountInfo!$B285=\"\",\"\",AccountInfo!B285)","v":""},{"$nulls":7},"Check"]
[{"$f":"AccountInfo!$A286","v":284},{"$f":"IF(AccountInfo!$B286=\"\",\"\",AccountInfo!B286)","v":""},{"$nulls":7},"Check"]
[{"$f":"AccountInfo!$A287","v":285},{"$f":"IF(AccountInfo!$B287=\"\",\"\",AccountInfo!B287)","v":""},{"$nulls":7},"Check"]
[{"$f":"AccountInfo!$A288","v":286},{"$f":"IF(AccountInfo!$B288=\"\",\"\",AccountInfo!B288)","v":""},{"$nulls":7},"Check"]
[{"$f":"AccountInfo!$A289","v":287},{"$f":"IF(AccountInfo!$B289=\"\",\"\",AccountInfo!B289)","v":""},{"$nulls":7},"Check"]
[{"$f":"AccountInfo!$A290","v":288},{"$f":"IF(AccountInfo!$B290=\"\",\"\",AccountInfo!B290)","v":""},{"$nulls":7},"Check"]
[{"$f":"AccountInfo!$A291","v":289},{"$f":"IF(AccountInfo!$B291=\"\",\"\",AccountInfo!B291)","v":""},{"$nulls":7},"Check"]
[{"$f":"AccountInfo!$A292","v":290},{"$f":"IF(AccountInfo!$B292=\"\",\"\",AccountInfo!B292)","v":""},{"$nulls":7},"Check"]
[{"$f":"AccountInfo!$A293","v":291},{"$f":"IF(AccountInfo!$B293=\"\",\"\",AccountInfo!B293)","v":""},{"$nulls":7},"Check"]
[{"$f":"AccountInfo!$A294","v":292},{"$f":"IF(AccountInfo!$B294=\"\",\"\",AccountInfo!B294)","v":""},{"$nulls":7},"Check"]
[{"$f":"AccountInfo!$A295","v":293},{"$f":"IF(AccountInfo!$B295=\"\",\"\",AccountInfo!B295)","v":""},{"$nulls":7},"Check"]
[{"$f":"AccountInfo!$A296","v":294},{"$f":"IF(AccountInfo!$B296=\"\",\"\",AccountInfo!B296)","v":""},{"$nulls":7},"Check"]
[{"$f":"AccountInfo!$A297","v":295},{"$f":"IF(AccountInfo!$B297=\"\",\"\",AccountInfo!B297)","v":""},{"$nulls":7},"Check"]
[{"$f":"AccountInfo!$A298","v":296},{"$f":"IF(AccountInfo!$B298=\"\",\"\",AccountInfo!B298)","v":""},{"$nulls":7},"Check"]
[{"$f":"AccountInfo!$A299","v":297},{"$f":"IF(AccountInfo!$B299=\"\",\"\",AccountInfo!B299)","v":""},{"$nulls":7},"Check"]
[{"$f":"AccountInfo!$A300","v":298},{"$f":"IF(AccountInfo!$B300=\"\",\"\",AccountInfo!B300)","v":""},{"$nulls":7},"Check"]
[{"$f":"AccountInfo!$A301","v":299},{"$f":"IF(AccountInfo!$B301=\"\",\"\",AccountInfo!B301)","v":""},{"$nulls":7},"Check"]
[{"$f":"AccountInfo!$A302","v":300},{"$f":"IF(AccountInfo!$B302=\"\",\"\",AccountInfo!B302)","v":""},{"$nulls":7},"Check"]
[{"$f":"AccountInfo!$A303","v":301},{"$f":"IF(AccountInfo!$B303=\"\",\"\",AccountInfo!B303)","v":""},{"$nulls":7},"Check"]
[{"$f":"AccountInfo!$A304","v":302},{"$f":"IF(AccountInfo!$B304=\"\",\"\",AccountInfo!B304)","v":""},{"$nulls":7},"Check"]
[{"$f":"AccountInfo!$A305","v":303},{"$f":"IF(AccountInfo!$B305=\"\",\"\",AccountInfo!B305)","v":""},{"$nulls":7},"Check"]
[{"$f":"AccountInfo!$A306","v":304},{"$f":"IF(AccountInfo!$B306=\"\",\"\",AccountInfo!B306)","v":""},{"$nulls":7},"Check"]
[{"$f":"AccountInfo!$A307","v":305},{"$f":"IF(AccountInfo!$B307=\"\",\"\",AccountInfo!B307)","v":""},{"$nulls":7},"Check"]
[{"$f":"AccountInfo!$A308","v":306},{"$f":"IF(AccountInfo!$B308=\"\",\"\",AccountInfo!B308)","v":""},{"$nulls":7},"Check"]
[{"$f":"AccountInfo!$A309","v":307},{"$f":"IF(AccountInfo!$B309=\"\",\"\",AccountInfo!B309)","v":""},{"$nulls":7},"Check"]
[{"$f":"AccountInfo!$A310","v":308},{"$f":"IF(AccountInfo!$B310=\"\",\"\",AccountInfo!B310)","v":""},{"$nulls":7},"Check"]
[{"$f":"AccountInfo!$A311","v":309},{"$f":"IF(AccountInfo!$B311=\"\",\"\",AccountInfo!B311)","v":""},{"$nulls":7},"Check"]
[{"$f":"AccountInfo!$A312","v":310},{"$f":"IF(AccountInfo!$B312=\"\",\"\",AccountInfo!B312)","v":""},{"$nulls":7},"Check"]
[{"$f":"AccountInfo!$A313","v":311},{"$f":"IF(AccountInfo!$B313=\"\",\"\",AccountInfo!B313)","v":""},{"$nulls":7},"Check"]
[{"$f":"AccountInfo!$A314","v":312},{"$f":"IF(AccountInfo!$B314=\"\",\"\",AccountInfo!B314)","v":""},{"$nulls":7},"Check"]
[{"$f":"AccountInfo!$A315","v":313},{"$f":"IF(AccountInfo!$B315=\"\",\"\",AccountInfo!B315)","v":""},{"$nulls":7},"Check"]
[{"$f":"AccountInfo!$A316","v":314},{"$f":"IF(AccountInfo!$B316=\"\",\"\",AccountInfo!B316)","v":""},{"$nulls":7},"Check"]
[{"$f":"AccountInfo!$A317","v":315},{"$f":"IF(AccountInfo!$B317=\"\",\"\",AccountInfo!B317)","v":""},{"$nulls":7},"Check"]
[{"$f":"AccountInfo!$A318","v":316},{"$f":"IF(AccountInfo!$B318=\"\",\"\",AccountInfo!B318)","v":""},{"$nulls":7},"Check"]
[{"$f":"AccountInfo!$A319","v":317},{"$f":"IF(AccountInfo!$B319=\"\",\"\",AccountInfo!B319)","v":""},{"$nulls":7},"Check"]
[{"$f":"AccountInfo!$A320","v":318},{"$f":"IF(AccountInfo!$B320=\"\",\"\",AccountInfo!B320)","v":""},{"$nulls":7},"Check"]
[{"$f":"AccountInfo!$A321","v":319},{"$f":"IF(AccountInfo!$B321=\"\",\"\",AccountInfo!B321)","v":""},{"$nulls":7},"Check"]
[{"$f":"AccountInfo!$A322","v":320},{"$f":"IF(AccountInfo!$B322=\"\",\"\",AccountInfo!B322)","v":""},{"$nulls":7},"Check"]
[{"$f":"AccountInfo!$A323","v":321},{"$f":"IF(AccountInfo!$B323=\"\",\"\",AccountInfo!B323)","v":""},{"$nulls":7},"Check"]
[{"$f":"AccountInfo!$A324","v":322},{"$f":"IF(AccountInfo!$B324=\"\",\"\",AccountInfo!B324)","v":""},{"$nulls":7},{"$f":"IF(AND(D324<=E324, E324<=F324, F324<=G324, G324<=IF(H324=\"\", 1000000000000, H324)), \"Check\", \"Error\")","v":"Check"}]
[{"$f":"AccountInfo!$A325","v":323},{"$f":"IF(AccountInfo!$B325=\"\",\"\",AccountInfo!B325)","v":""},{"$nulls":7},"Check"]
[{"$f":"AccountInfo!$A326","v":324},{"$f":"IF(AccountInfo!$B326=\"\",\"\",AccountInfo!B326)","v":""},{"$nulls":7},"Check"]
[{"$f":"AccountInfo!$A327","v":325},{"$f":"IF(AccountInfo!$B327=\"\",\"\",AccountInfo!B327)","v":""},{"$nulls":7},"Check"]
[{"$f":"AccountInfo!$A328","v":326},{"$f":"IF(AccountInfo!$B328=\"\",\"\",AccountInfo!B328)","v":""},{"$nulls":7},"Check"]
[{"$f":"AccountInfo!$A329","v":327},{"$f":"IF(AccountInfo!$B329=\"\",\"\",AccountInfo!B329)","v":""},{"$nulls":7},"Check"]
[{"$f":"AccountInfo!$A330","v":328},{"$f":"IF(AccountInfo!$B330=\"\",\"\",AccountInfo!B330)","v":""},{"$nulls":7},"Check"]
[{"$f":"AccountInfo!$A331","v":329},{"$f":"IF(AccountInfo!$B331=\"\",\"\",AccountInfo!B331)","v":""},{"$nulls":7},"Check"]
[{"$f":"AccountInfo!$A332","v":330},{"$f":"IF(AccountInfo!$B332=\"\",\"\",AccountInfo!B332)","v":""},{"$nulls":7},"Check"]
[{"$f":"AccountInfo!$A333","v":331},{"$f":"IF(AccountInfo!$B333=\"\",\"\",AccountInfo!B333)","v":""},{"$nulls":7},"Check"]
[{"$f":"AccountInfo!$A334","v":332},{"$f":"IF(AccountInfo!$B334=\"\",\"\",AccountInfo!B334)","v":""},{"$nulls":7},"Check"]
[{"$f":"AccountInfo!$A335","v":333},{"$f":"IF(AccountInfo!$B335=\"\",\"\",AccountInfo!B335)","v":""},{"$nulls":7},"Check"]
[{"$f":"AccountInfo!$A336","v":334},{"$f":"IF(AccountInfo!$B336=\"\",\"\",AccountInfo!B336)","v":""},{"$nulls":7},"Check"]
[{"$f":"AccountInfo!$A337","v":335},{"$f":"IF(AccountInfo!$B337=\"\",\"\",AccountInfo!B337)","v":""},{"$nulls":7},"Check"]
[{"$f":"AccountInfo!$A338","v":336},{"$f":"IF(AccountInfo!$B338=\"\",\"\",AccountInfo!B338)","v":""},{"$nulls":7},"Check"]
[{"$f":"AccountInfo!$A339","v":337},{"$f":"IF(AccountInfo!$B339=\"\",\"\",AccountInfo!B339)","v":""},{"$nulls":7},"Check"]
[{"$f":"AccountInfo!$A340","v":338},{"$f":"IF(AccountInfo!$B340=\"\",\"\",AccountInfo!B340)","v":""},{"$nulls":7},"Check"]
[{"$f":"AccountInfo!$A341","v":339},{"$f":"IF(AccountInfo!$B341=\"\",\"\",AccountInfo!B341)","v":""},{"$nulls":7},"Check"]
[{"$f":"AccountInfo!$A342","v":340},{"$f":"IF(AccountInfo!$B342=\"\",\"\",AccountInfo!B342)","v":""},{"$nulls":7},"Check"]
[{"$f":"AccountInfo!$A343","v":341},{"$f":"IF(AccountInfo!$B343=\"\",\"\",AccountInfo!B343)","v":""},{"$nulls":7},"Check"]
[{"$f":"AccountInfo!$A344","v":342},{"$f":"IF(AccountInfo!$B344=\"\",\"\",AccountInfo!B344)","v":""},{"$nulls":7},"Check"]
[{"$f":"AccountInfo!$A345","v":343},{"$f":"IF(AccountInfo!$B345=\"\",\"\",AccountInfo!B345)","v":""},{"$nulls":7},"Check"]
[{"$f":"AccountInfo!$A346","v":344},{"$f":"IF(AccountInfo!$B346=\"\",\"\",AccountInfo!B346)","v":""},{"$nulls":7},"Check"]
[{"$f":"AccountInfo!$A347","v":345},{"$f":"IF(AccountInfo!$B347=\"\",\"\",AccountInfo!B347)","v":""},{"$nulls":7},"Check"]
[{"$f":"AccountInfo!$A348","v":346},{"$f":"IF(AccountInfo!$B348=\"\",\"\",AccountInfo!B348)","v":""},{"$nulls":7},"Check"]
[{"$f":"AccountInfo!$A349","v":347},{"$f":"IF(AccountInfo!$B349=\"\",\"\",AccountInfo!B349)","v":""},{"$nulls":7},"Check"]
[{"$f":"AccountInfo!$A350","v":348},{"$f":"IF(AccountInfo!$B350=\"\",\"\",AccountInfo!B350)","v":""},{"$nulls":7},"Check"]
[{"$f":"AccountInfo!$A351","v":349},{"$f":"IF(AccountInfo!$B351=\"\",\"\",AccountInfo!B351)","v":""},{"$nulls":7},"Check"]
[{"$f":"AccountInfo!$A352","v":350},{"$f":"IF(AccountInfo!$B352=\"\",\"\",AccountInfo!B352)","v":""},{"$nulls":7},"Check"]
[{"$f":"AccountInfo!$A353","v":351},{"$f":"IF(AccountInfo!$B353=\"\",\"\",AccountInfo!B353)","v":""},{"$nulls":7},"Check"]
[{"$f":"AccountInfo!$A354","v":352},{"$f":"IF(AccountInfo!$B354=\"\",\"\",AccountInfo!B354)","v":""},{"$nulls":7},"Check"]
[{"$f":"AccountInfo!$A355","v":353},{"$f":"IF(AccountInfo!$B355=\"\",\"\",AccountInfo!B355)","v":""},{"$nulls":7},"Check"]
[{"$f":"AccountInfo!$A356","v":354},{"$f":"IF(AccountInfo!$B356=\"\",\"\",AccountInfo!B356)","v":""},{"$nulls":7},"Check"]
[{"$f":"AccountInfo!$A357","v":355},{"$f":"IF(AccountInfo!$B357=\"\",\"\",AccountInfo!B357)","v":""},{"$nulls":7},"Check"]
[{"$f":"AccountInfo!$A358","v":356},{"$f":"IF(AccountInfo!$B358=\"\",\"\",AccountInfo!B358)","v":""},{"$nulls":7},"Check"]
[{"$f":"AccountInfo!$A359","v":357},{"$f":"IF(AccountInfo!$B359=\"\",\"\",AccountInfo!B359)","v":""},{"$nulls":7},"Check"]
[{"$f":"AccountInfo!$A360","v":358},{"$f":"IF(AccountInfo!$B360=\"\",\"\",AccountInfo!B360)","v":""},{"$nulls":7},"Check"]
[{"$f":"AccountInfo!$A361","v":359},{"$f":"IF(AccountInfo!$B361=\"\",\"\",AccountInfo!B361)","v":""},{"$nulls":7},"Check"]
[{"$f":"AccountInfo!$A362","v":360},{"$f":"IF(AccountInfo!$B362=\"\",\"\",AccountInfo!B362)","v":""},{"$nulls":7},"Check"]
[{"$f":"AccountInfo!$A363","v":361},{"$f":"IF(AccountInfo!$B363=\"\",\"\",AccountInfo!B363)","v":""},{"$nulls":7},"Check"]
[{"$f":"AccountInfo!$A364","v":362},{"$f":"IF(AccountInfo!$B364=\"\",\"\",AccountInfo!B364)","v":""},{"$nulls":7},"Check"]
[{"$f":"AccountInfo!$A365","v":363},{"$f":"IF(AccountInfo!$B365=\"\",\"\",AccountInfo!B365)","v":""},{"$nulls":7},"Check"]
[{"$f":"AccountInfo!$A366","v":364},{"$f":"IF(AccountInfo!$B366=\"\",\"\",AccountInfo!B366)","v":""},{"$nulls":7},"Check"]
[{"$f":"AccountInfo!$A367","v":365},{"$f":"IF(AccountInfo!$B367=\"\",\"\",AccountInfo!B367)","v":""},{"$nulls":7},"Check"]
[{"$f":"AccountInfo!$A368","v":366},{"$f":"IF(AccountInfo!$B368=\"\",\"\",AccountInfo!B368)","v":""},{"$nulls":7},"Check"]
[{"$f":"AccountInfo!$A369","v":367},{"$f":"IF(AccountInfo!$B369=\"\",\"\",AccountInfo!B369)","v":""},{"$nulls":7},"Check"]
[{"$f":"AccountInfo!$A370","v":368},{"$f":"IF(AccountInfo!$B370=\"\",\"\",AccountInfo!B370)","v":""},{"$nulls":7},"Check"]
[{"$f":"AccountInfo!$A371","v":369},{"$f":"IF(AccountInfo!$B371=\"\",\"\",AccountInfo!B371)","v":""},{"$nulls":7},"Check"]
[{"$f":"AccountInfo!$A372","v":370},{"$f":"IF(AccountInfo!$B372=\"\",\"\",AccountInfo!B372)","v":""},{"$nulls":7},"Check"]
[{"$f":"AccountInfo!$A373","v":371},{"$f":"IF(AccountInfo!$B373=\"\",\"\",AccountInfo!B373)","v":""},{"$nulls":7},"Check"]
[{"$f":"AccountInfo!$A374","v":372},{"$f":"IF(AccountInfo!$B374=\"\",\"\",AccountInfo!B374)","v":""},{"$nulls":7},"Check"]
[{"$f":"AccountInfo!$A375","v":373},{"$f":"IF(AccountInfo!$B375=\"\",\"\",AccountInfo!B375)","v":""},{"$nulls":7},"Check"]
[{"$f":"AccountInfo!$A376","v":374},{"$f":"IF(AccountInfo!$B376=\"\",\"\",AccountInfo!B376)","v":""},{"$nulls":7},"Check"]
[{"$f":"AccountInfo!$A377","v":375},{"$f":"IF(AccountInfo!$B377=\"\",\"\",AccountInfo!B377)","v":""},{"$nulls":7},"Check"]
[{"$f":"AccountInfo!$A378","v":376},{"$f":"IF(AccountInfo!$B378=\"\",\"\",AccountInfo!B378)","v":""},{"$nulls":7},"Check"]
[{"$f":"AccountInfo!$A379","v":377},{"$f":"IF(AccountInfo!$B379=\"\",\"\",AccountInfo!B379)","v":""},{"$nulls":7},"Check"]
[{"$f":"AccountInfo!$A380","v":378},{"$f":"IF(AccountInfo!$B380=\"\",\"\",AccountInfo!B380)","v":""},{"$nulls":7},"Check"]
[{"$f":"AccountInfo!$A381","v":379},{"$f":"IF(AccountInfo!$B381=\"\",\"\",AccountInfo!B381)","v":""},{"$nulls":7},"Check"]
[{"$f":"AccountInfo!$A382","v":380},{"$f":"IF(AccountInfo!$B382=\"\",\"\",AccountInfo!B382)","v":""},{"$nulls":7},"Check"]
[{"$f":"AccountInfo!$A383","v":381},{"$f":"IF(AccountInfo!$B383=\"\",\"\",AccountInfo!B383)","v":""},{"$nulls":7},"Check"]
[{"$f":"AccountInfo!$A384","v":382},{"$f":"IF(AccountInfo!$B384=\"\",\"\",AccountInfo!B384)","v":""},{"$nulls":7},"Check"]
[{"$f":"AccountInfo!$A385","v":383},{"$f":"IF(AccountInfo!$B385=\"\",\"\",AccountInfo!B385)","v":""},{"$nulls":7},"Check"]
[{"$f":"AccountInfo!$A386","v":384},{"$f":"IF(AccountInfo!$B386=\"\",\"\",AccountInfo!B386)","v":""},{"$nulls":7},"Check"]
[{"$f":"AccountInfo!$A387","v":385},{"$f":"IF(AccountInfo!$B387=\"\",\"\",AccountInfo!B387)","v":""},{"$nulls":7},"Check"]
[{"$f":"AccountInfo!$A388","v":386},{"$f":"IF(AccountInfo!$B388=\"\",\"\",AccountInfo!B388)","v":""},{"$nulls":7},{"$f":"IF(AND(D388<=E388, E388<=F388, F388<=G388, G388<=IF(H388=\"\", 1000000000000, H388)), \"Check\", \"Error\")","v":"Check"}]
[{"$f":"AccountInfo!$A389","v":387},{"$f":"IF(AccountInfo!$B389=\"\",\"\",AccountInfo!B389)","v":""},{"$nulls":7},"Check"]
[{"$f":"AccountInfo!$A390","v":388},{"$f":"IF(AccountInfo!$B390=\"\",\"\",AccountInfo!B390)","v":""},{"$nulls":7},"Check"]
[{"$f":"AccountInfo!$A391","v":389},{"$f":"IF(AccountInfo!$B391=\"\",\"\",AccountInfo!B391)","v":""},{"$nulls":7},"Check"]
[{"$f":"AccountInfo!$A392","v":390},{"$f":"IF(AccountInfo!$B392=\"\",\"\",AccountInfo!B392)","v":""},{"$nulls":7},"Check"]
[{"$f":"AccountInfo!$A393","v":391},{"$f":"IF(AccountInfo!$B393=\"\",\"\",AccountInfo!B393)","v":""},{"$nulls":7},"Check"]
[{"$f":"AccountInfo!$A394","v":392},{"$f":"IF(AccountInfo!$B394=\"\",\"\",AccountInfo!B394)","v":""},{"$nulls":7},"Check"]
[{"$f":"AccountInfo!$A395","v":393},{"$f":"IF(AccountInfo!$B395=\"\",\"\",AccountInfo!B395)","v":""},{"$nulls":7},"Check"]
[{"$f":"AccountInfo!$A396","v":394},{"$f":"IF(AccountInfo!$B396=\"\",\"\",AccountInfo!B396)","v":""},{"$nulls":7},"Check"]
[{"$f":"AccountInfo!$A397","v":395},{"$f":"IF(AccountInfo!$B397=\"\",\"\",AccountInfo!B397)","v":""},{"$nulls":7},"Check"]
[{"$f":"AccountInfo!$A398","v":396},{"$f":"IF(AccountInfo!$B398=\"\",\"\",AccountInfo!B398)","v":""},{"$nulls":7},"Check"]
[{"$f":"AccountInfo!$A399","v":397},{"$f":"IF(AccountInfo!$B399=\"\",\"\",AccountInfo!B399)","v":""},{"$nulls":7},"Check"]
[{"$f":"AccountInfo!$A400","v":398},{"$f":"IF(AccountInfo!$B400=\"\",\"\",AccountInfo!B400)","v":""},{"$nulls":7},"Check"]
[{"$f":"AccountInfo!$A401","v":399},{"$f":"IF(AccountInfo!$B401=\"\",\"\",AccountInfo!B401)","v":""},{"$nulls":7},"Check"]
[{"$f":"AccountInfo!$A402","v":400},{"$f":"IF(AccountInfo!$B402=\"\",\"\",AccountInfo!B402)","v":""},{"$nulls":7},"Check"]
[{"$f":"AccountInfo!$A403","v":401},{"$f":"IF(AccountInfo!$B403=\"\",\"\",AccountInfo!B403)","v":""},{"$nulls":7},"Check"]
[{"$f":"AccountInfo!$A404","v":402},{"$f":"IF(AccountInfo!$B404=\"\",\"\",AccountInfo!B404)","v":""},{"$nulls":7},"Check"]
[{"$f":"AccountInfo!$A405","v":403},{"$f":"IF(AccountInfo!$B405=\"\",\"\",AccountInfo!B405)","v":""},{"$nulls":7},"Check"]
[{"$f":"AccountInfo!$A406","v":404},{"$f":"IF(AccountInfo!$B406=\"\",\"\",AccountInfo!B406)","v":""},{"$nulls":7},"Check"]
[{"$f":"AccountInfo!$A407","v":405},{"$f":"IF(AccountInfo!$B407=\"\",\"\",AccountInfo!B407)","v":""},{"$nulls":7},"Check"]
[{"$f":"AccountInfo!$A408","v":406},{"$f":"IF(AccountInfo!$B408=\"\",\"\",AccountInfo!B408)","v":""},{"$nulls":7},"Check"]
[{"$f":"AccountInfo!$A409","v":407},{"$f":"IF(AccountInfo!$B409=\"\",\"\",AccountInfo!B409)","v":""},{"$nulls":7},"Check"]
[{"$f":"AccountInfo!$A410","v":408},{"$f":"IF(AccountInfo!$B410=\"\",\"\",AccountInfo!B410)","v":""},{"$nulls":7},"Check"]
[{"$f":"AccountInfo!$A411","v":409},{"$f":"IF(AccountInfo!$B411=\"\",\"\",AccountInfo!B411)","v":""},{"$nulls":7},"Check"]
[{"$f":"AccountInfo!$A412","v":410},{"$f":"IF(AccountInfo!$B412=\"\",\"\",AccountInfo!B412)","v":""},{"$nulls":7},"Check"]
[{"$f":"AccountInfo!$A413","v":411},{"$f":"IF(AccountInfo!$B413=\"\",\"\",AccountInfo!B413)","v":""},{"$nulls":7},"Check"]
[{"$f":"AccountInfo!$A414","v":412},{"$f":"IF(AccountInfo!$B414=\"\",\"\",AccountInfo!B414)","v":""},{"$nulls":7},"Check"]
[{"$f":"AccountInfo!$A415","v":413},{"$f":"IF(AccountInfo!$B415=\"\",\"\",AccountInfo!B415)","v":""},{"$nulls":7},"Check"]
[{"$f":"AccountInfo!$A416","v":414},{"$f":"IF(AccountInfo!$B416=\"\",\"\",AccountInfo!B416)","v":""},{"$nulls":7},"Check"]
[{"$f":"AccountInfo!$A417","v":415},{"$f":"IF(AccountInfo!$B417=\"\",\"\",AccountInfo!B417)","v":""},{"$nulls":7},"Check"]
[{"$f":"AccountInfo!$A418","v":416},{"$f":"IF(AccountInfo!$B418=\"\",\"\",AccountInfo!B418)","v":""},{"$nulls":7},"Check"]
[{"$f":"AccountInfo!$A419","v":417},{"$f":"IF(AccountInfo!$B419=\"\",\"\",AccountInfo!B419)","v":""},{"$nulls":7},"Check"]
[{"$f":"AccountInfo!$A420","v":418},{"$f":"IF(AccountInfo!$B420=\"\",\"\",AccountInfo!B420)","v":""},{"$nulls":7},"Check"]
[{"$f":"AccountInfo!$A421","v":419},{"$f":"IF(AccountInfo!$B421=\"\",\"\",AccountInfo!B421)","v":""},{"$nulls":7},"Check"]
[{"$f":"AccountInfo!$A422","v":420},{"$f":"IF(AccountInfo!$B422=\"\",\"\",AccountInfo!B422)","v":""},{"$nulls":7},"Check"]
[{"$f":"AccountInfo!$A423","v":421},{"$f":"IF(AccountInfo!$B423=\"\",\"\",AccountInfo!B423)","v":""},{"$nulls":7},"Check"]
[{"$f":"AccountInfo!$A424","v":422},{"$f":"IF(AccountInfo!$B424=\"\",\"\",AccountInfo!B424)","v":""},{"$nulls":7},"Check"]
[{"$f":"AccountInfo!$A425","v":423},{"$f":"IF(AccountInfo!$B425=\"\",\"\",AccountInfo!B425)","v":""},{"$nulls":7},"Check"]
[{"$f":"AccountInfo!$A426","v":424},{"$f":"IF(AccountInfo!$B426=\"\",\"\",AccountInfo!B426)","v":""},{"$nulls":7},"Check"]
[{"$f":"AccountInfo!$A427","v":425},{"$f":"IF(AccountInfo!$B427=\"\",\"\",AccountInfo!B427)","v":""},{"$nulls":7},"Check"]
[{"$f":"AccountInfo!$A428","v":426},{"$f":"IF(AccountInfo!$B428=\"\",\"\",AccountInfo!B428)","v":""},{"$nulls":7},"Check"]
[{"$f":"AccountInfo!$A429","v":427},{"$f":"IF(AccountInfo!$B429=\"\",\"\",AccountInfo!B429)","v":""},{"$nulls":7},"Check"]
[{"$f":"AccountInfo!$A430","v":428},{"$f":"IF(AccountInfo!$B430=\"\",\"\",AccountInfo!B430)","v":""},{"$nulls":7},"Check"]
[{"$f":"AccountInfo!$A431","v":429},{"$f":"IF(AccountInfo!$B431=\"\",\"\",AccountInfo!B431)","v":""},{"$nulls":7},"Check"]
[{"$f":"AccountInfo!$A432","v":430},{"$f":"IF(AccountInfo!$B432=\"\",\"\",AccountInfo!B432)","v":""},{"$nulls":7},"Check"]
[{"$f":"AccountInfo!$A433","v":431},{"$f":"IF(AccountInfo!$B433=\"\",\"\",AccountInfo!B433)","v":""},{"$nulls":7},"Check"]
[{"$f":"AccountInfo!$A434","v":432},{"$f":"IF(AccountInfo!$B434=\"\",\"\",AccountInfo!B434)","v":""},{"$nulls":7},"Check"]
[{"$f":"AccountInfo!$A435","v":433},{"$f":"IF(AccountInfo!$B435=\"\",\"\",AccountInfo!B435)","v":""},{"$nulls":7},"Check"]
[{"$f":"AccountInfo!$A436","v":434},{"$f":"IF(AccountInfo!$B436=\"\",\"\",AccountInfo!B436)","v":""},{"$nulls":7},"Check"]
[{"$f":"AccountInfo!$A437","v":435},{"$f":"IF(AccountInfo!$B437=\"\",\"\",AccountInfo!B437)","v":""},{"$nulls":7},"Check"]
[{"$f":"AccountInfo!$A438","v":436},{"$f":"IF(AccountInfo!$B438=\"\",\"\",AccountInfo!B438)","v":""},{"$nulls":7},"Check"]
[{"$f":"AccountInfo!$A439","v":437},{"$f":"IF(AccountInfo!$B439=\"\",\"\",AccountInfo!B439)","v":""},{"$nulls":7},"Check"]
[{"$f":"AccountInfo!$A440","v":438},{"$f":"IF(AccountInfo!$B440=\"\",\"\",AccountInfo!B440)","v":""},{"$nulls":7},"Check"]
[{"$f":"AccountInfo!$A441","v":439},{"$f":"IF(AccountInfo!$B441=\"\",\"\",AccountInfo!B441)","v":""},{"$nulls":7},"Check"]
[{"$f":"AccountInfo!$A442","v":440},{"$f":"IF(AccountInfo!$B442=\"\",\"\",AccountInfo!B442)","v":""},{"$nulls":7},"Check"]
[{"$f":"AccountInfo!$A443","v":441},{"$f":"IF(AccountInfo!$B443=\"\",\"\",AccountInfo!B443)","v":""},{"$nulls":7},"Check"]
[{"$f":"AccountInfo!$A444","v":442},{"$f":"IF(AccountInfo!$B444=\"\",\"\",AccountInfo!B444)","v":""},{"$nulls":7},"Check"]
[{"$f":"AccountInfo!$A445","v":443},{"$f":"IF(AccountInfo!$B445=\"\",\"\",AccountInfo!B445)","v":""},{"$nulls":7},"Check"]
[{"$f":"AccountInfo!$A446","v":444},{"$f":"IF(AccountInfo!$B446=\"\",\"\",AccountInfo!B446)","v":""},{"$nulls":7},"Check"]
[{"$f":"AccountInfo!$A447","v":445},{"$f":"IF(AccountInfo!$B447=\"\",\"\",AccountInfo!B447)","v":""},{"$nulls":7},"Check"]
[{"$f":"AccountInfo!$A448","v":446},{"$f":"IF(AccountInfo!$B448=\"\",\"\",AccountInfo!B448)","v":""},{"$nulls":7},"Check"]
[{"$f":"AccountInfo!$A449","v":447},{"$f":"IF(AccountInfo!$B449=\"\",\"\",AccountInfo!B449)","v":""},{"$nulls":7},"Check"]
[{"$f":"AccountInfo!$A450","v":448},{"$f":"IF(AccountInfo!$B450=\"\",\"\",AccountInfo!B450)","v":""},{"$nulls":7},"Check"]
[{"$f":"AccountInfo!$A451","v":449},{"$f":"IF(AccountInfo!$B451=\"\",\"\",AccountInfo!B451)","v":""},{"$nulls":7},"Check"]
[{"$f":"AccountInfo!$A452","v":450},{"$f":"IF(AccountInfo!$B452=\"\",\"\",AccountInfo!B452)","v":""},{"$nulls":7},{"$f":"IF(AND(D452<=E452, E452<=F452, F452<=G452, G452<=IF(H452=\"\", 1000000000000, H452)), \"Check\", \"Error\")","v":"Check"}]
[{"$f":"AccountInfo!$A453","v":451},{"$f":"IF(AccountInfo!$B453=\"\",\"\",AccountInfo!B453)","v":""},{"$nulls":7},"Check"]
[{"$f":"AccountInfo!$A454","v":452},{"$f":"IF(AccountInfo!$B454=\"\",\"\",AccountInfo!B454)","v":""},{"$nulls":7},"Check"]
[{"$f":"AccountInfo!$A455","v":453},{"$f":"IF(AccountInfo!$B455=\"\",\"\",AccountInfo!B455)","v":""},{"$nulls":7},"Check"]
[{"$f":"AccountInfo!$A456","v":454},{"$f":"IF(AccountInfo!$B456=\"\",\"\",AccountInfo!B456)","v":""},{"$nulls":7},"Check"]
[{"$f":"AccountInfo!$A457","v":455},{"$f":"IF(AccountInfo!$B457=\"\",\"\",AccountInfo!B457)","v":""},{"$nulls":7},"Check"]
[{"$f":"AccountInfo!$A458","v":456},{"$f":"IF(AccountInfo!$B458=\"\",\"\",AccountInfo!B458)","v":""},{"$nulls":7},"Check"]
[{"$f":"AccountInfo!$A459","v":457},{"$f":"IF(AccountInfo!$B459=\"\",\"\",AccountInfo!B459)","v":""},{"$nulls":7},"Check"]
[{"$f":"AccountInfo!$A460","v":458},{"$f":"IF(AccountInfo!$B460=\"\",\"\",AccountInfo!B460)","v":""},{"$nulls":7},"Check"]
[{"$f":"AccountInfo!$A461","v":459},{"$f":"IF(AccountInfo!$B461=\"\",\"\",AccountInfo!B461)","v":""},{"$nulls":7},"Check"]
[{"$f":"AccountInfo!$A462","v":460},{"$f":"IF(AccountInfo!$B462=\"\",\"\",AccountInfo!B462)","v":""},{"$nulls":7},"Check"]
[{"$f":"AccountInfo!$A463","v":461},{"$f":"IF(AccountInfo!$B463=\"\",\"\",AccountInfo!B463)","v":""},{"$nulls":7},"Check"]
[{"$f":"AccountInfo!$A464","v":462},{"$f":"IF(AccountInfo!$B464=\"\",\"\",AccountInfo!B464)","v":""},{"$nulls":7},"Check"]
[{"$f":"AccountInfo!$A465","v":463},{"$f":"IF(AccountInfo!$B465=\"\",\"\",AccountInfo!B465)","v":""},{"$nulls":7},"Check"]
[{"$f":"AccountInfo!$A466","v":464},{"$f":"IF(AccountInfo!$B466=\"\",\"\",AccountInfo!B466)","v":""},{"$nulls":7},"Check"]
[{"$f":"AccountInfo!$A467","v":465},{"$f":"IF(AccountInfo!$B467=\"\",\"\",AccountInfo!B467)","v":""},{"$nulls":7},"Check"]
[{"$f":"AccountInfo!$A468","v":466},{"$f":"IF(AccountInfo!$B468=\"\",\"\",AccountInfo!B468)","v":""},{"$nulls":7},"Check"]
[{"$f":"AccountInfo!$A469","v":467},{"$f":"IF(AccountInfo!$B469=\"\",\"\",AccountInfo!B469)","v":""},{"$nulls":7},"Check"]
[{"$f":"AccountInfo!$A470","v":468},{"$f":"IF(AccountInfo!$B470=\"\",\"\",AccountInfo!B470)","v":""},{"$nulls":7},"Check"]
[{"$f":"AccountInfo!$A471","v":469},{"$f":"IF(AccountInfo!$B471=\"\",\"\",AccountInfo!B471)","v":""},{"$nulls":7},"Check"]
[{"$f":"AccountInfo!$A472","v":470},{"$f":"IF(AccountInfo!$B472=\"\",\"\",AccountInfo!B472)","v":""},{"$nulls":7},"Check"]
[{"$f":"AccountInfo!$A473","v":471},{"$f":"IF(AccountInfo!$B473=\"\",\"\",AccountInfo!B473)","v":""},{"$nulls":7},"Check"]
[{"$f":"AccountInfo!$A474","v":472},{"$f":"IF(AccountInfo!$B474=\"\",\"\",AccountInfo!B474)","v":""},{"$nulls":7},"Check"]
[{"$f":"AccountInfo!$A475","v":473},{"$f":"IF(AccountInfo!$B475=\"\",\"\",AccountInfo!B475)","v":""},{"$nulls":7},"Check"]
[{"$f":"AccountInfo!$A476","v":474},{"$f":"IF(AccountInfo!$B476=\"\",\"\",AccountInfo!B476)","v":""},{"$nulls":7},"Check"]
[{"$f":"AccountInfo!$A477","v":475},{"$f":"IF(AccountInfo!$B477=\"\",\"\",AccountInfo!B477)","v":""},{"$nulls":7},"Check"]
[{"$f":"AccountInfo!$A478","v":476},{"$f":"IF(AccountInfo!$B478=\"\",\"\",AccountInfo!B478)","v":""},{"$nulls":7},"Check"]
[{"$f":"AccountInfo!$A479","v":477},{"$f":"IF(AccountInfo!$B479=\"\",\"\",AccountInfo!B479)","v":""},{"$nulls":7},"Check"]
[{"$f":"AccountInfo!$A480","v":478},{"$f":"IF(AccountInfo!$B480=\"\",\"\",AccountInfo!B480)","v":""},{"$nulls":7},"Check"]
[{"$f":"AccountInfo!$A481","v":479},{"$f":"IF(AccountInfo!$B481=\"\",\"\",AccountInfo!B481)","v":""},{"$nulls":7},"Check"]
[{"$f":"AccountInfo!$A482","v":480},{"$f":"IF(AccountInfo!$B482=\"\",\"\",AccountInfo!B482)","v":""},{"$nulls":7},"Check"]
[{"$f":"AccountInfo!$A483","v":481},{"$f":"IF(AccountInfo!$B483=\"\",\"\",AccountInfo!B483)","v":""},{"$nulls":7},"Check"]
[{"$f":"AccountInfo!$A484","v":482},{"$f":"IF(AccountInfo!$B484=\"\",\"\",AccountInfo!B484)","v":""},{"$nulls":7},"Check"]
[{"$f":"AccountInfo!$A485","v":483},{"$f":"IF(AccountInfo!$B485=\"\",\"\",AccountInfo!B485)","v":""},{"$nulls":7},"Check"]
[{"$f":"AccountInfo!$A486","v":484},{"$f":"IF(AccountInfo!$B486=\"\",\"\",AccountInfo!B486)","v":""},{"$nulls":7},"Check"]
[{"$f":"AccountInfo!$A487","v":485},{"$f":"IF(AccountInfo!$B487=\"\",\"\",AccountInfo!B487)","v":""},{"$nulls":7},"Check"]
[{"$f":"AccountInfo!$A488","v":486},{"$f":"IF(AccountInfo!$B488=\"\",\"\",AccountInfo!B488)","v":""},{"$nulls":7},"Check"]
[{"$f":"AccountInfo!$A489","v":487},{"$f":"IF(AccountInfo!$B489=\"\",\"\",AccountInfo!B489)","v":""},{"$nulls":7},"Check"]
[{"$f":"AccountInfo!$A490","v":488},{"$f":"IF(AccountInfo!$B490=\"\",\"\",AccountInfo!B490)","v":""},{"$nulls":7},"Check"]
[{"$f":"AccountInfo!$A491","v":489},{"$f":"IF(AccountInfo!$B491=\"\",\"\",AccountInfo!B491)","v":""},{"$nulls":7},"Check"]
[{"$f":"AccountInfo!$A492","v":490},{"$f":"IF(AccountInfo!$B492=\"\",\"\",AccountInfo!B492)","v":""},{"$nulls":7},"Check"]
[{"$f":"AccountInfo!$A493","v":491},{"$f":"IF(AccountInfo!$B493=\"\",\"\",AccountInfo!B493)","v":""},{"$nulls":7},"Check"]
[{"$f":"AccountInfo!$A494","v":492},{"$f":"IF(AccountInfo!$B494=\"\",\"\",AccountInfo!B494)","v":""},{"$nulls":7},"Check"]
[{"$f":"AccountInfo!$A495","v":493},{"$f":"IF(AccountInfo!$B495=\"\",\"\",AccountInfo!B495)","v":""},{"$nulls":7},"Check"]
[{"$f":"AccountInfo!$A496","v":494},{"$f":"IF(AccountInfo!$B496=\"\",\"\",AccountInfo!B496)","v":""},{"$nulls":7},"Check"]
[{"$f":"AccountInfo!$A497","v":495},{"$f":"IF(AccountInfo!$B497=\"\",\"\",AccountInfo!B497)","v":""},{"$nulls":7},"Check"]
[{"$f":"AccountInfo!$A498","v":496},{"$f":"IF(AccountInfo!$B498=\"\",\"\",AccountInfo!B498)","v":""},{"$nulls":7},"Check"]
[{"$f":"AccountInfo!$A499","v":497},{"$f":"IF(AccountInfo!$B499=\"\",\"\",AccountInfo!B499)","v":""},{"$nulls":7},"Check"]
[{"$f":"AccountInfo!$A500","v":498},{"$f":"IF(AccountInfo!$B500=\"\",\"\",AccountInfo!B500)","v":""},{"$nulls":7},"Check"]
[{"$f":"AccountInfo!$A501","v":499},{"$f":"IF(AccountInfo!$B501=\"\",\"\",AccountInfo!B501)","v":""},{"$nulls":7},"Check"]
[{"$f":"AccountInfo!$A502","v":500},{"$f":"IF(AccountInfo!$B502=\"\",\"\",AccountInfo!B502)","v":""},{"$nulls":7},"Check"]
[{"$f":"AccountInfo!$A503","v":501},{"$f":"IF(AccountInfo!$B503=\"\",\"\",AccountInfo!B503)","v":""},{"$nulls":7},"Check"]
[{"$f":"AccountInfo!$A504","v":502},{"$f":"IF(AccountInfo!$B504=\"\",\"\",AccountInfo!B504)","v":""},{"$nulls":7},"Check"]
[{"$f":"AccountInfo!$A505","v":503},{"$f":"IF(AccountInfo!$B505=\"\",\"\",AccountInfo!B505)","v":""},{"$nulls":7},"Check"]
[{"$f":"AccountInfo!$A506","v":504},{"$f":"IF(AccountInfo!$B506=\"\",\"\",AccountInfo!B506)","v":""},{"$nulls":7},"Check"]
[{"$f":"AccountInfo!$A507","v":505},{"$f":"IF(AccountInfo!$B507=\"\",\"\",AccountInfo!B507)","v":""},{"$nulls":7},"Check"]
[{"$f":"AccountInfo!$A508","v":506},{"$f":"IF(AccountInfo!$B508=\"\",\"\",AccountInfo!B508)","v":""},{"$nulls":7},"Check"]
[{"$f":"AccountInfo!$A509","v":507},{"$f":"IF(AccountInfo!$B509=\"\",\"\",AccountInfo!B509)","v":""},{"$nulls":7},"Check"]
[{"$f":"AccountInfo!$A510","v":508},{"$f":"IF(AccountInfo!$B510=\"\",\"\",AccountInfo!B510)","v":""},{"$nulls":7},"Check"]
[{"$f":"AccountInfo!$A511","v":509},{"$f":"IF(AccountInfo!$B511=\"\",\"\",AccountInfo!B511)","v":""},{"$nulls":7},"Check"]
[{"$f":"AccountInfo!$A512","v":510},{"$f":"IF(AccountInfo!$B512=\"\",\"\",AccountInfo!B512)","v":""},{"$nulls":7},"Check"]
[{"$f":"AccountInfo!$A513","v":511},{"$f":"IF(AccountInfo!$B513=\"\",\"\",AccountInfo!B513)","v":""},{"$nulls":7},"Check"]
[{"$f":"AccountInfo!$A514","v":512},{"$f":"IF(AccountInfo!$B514=\"\",\"\",AccountInfo!B514)","v":""},{"$nulls":7},"Check"]
[{"$f":"AccountInfo!$A515","v":513},{"$f":"IF(AccountInfo!$B515=\"\",\"\",AccountInfo!B515)","v":""},{"$nulls":7},"Check"]
[{"$f":"AccountInfo!$A516","v":514},{"$f":"IF(AccountInfo!$B516=\"\",\"\",AccountInfo!B516)","v":""},{"$nulls":7},{"$f":"IF(AND(D516<=E516, E516<=F516, F516<=G516, G516<=IF(H516=\"\", 1000000000000, H516)), \"Check\", \"Error\")","v":"Check"}]
[{"$f":"AccountInfo!$A517","v":515},{"$f":"IF(AccountInfo!$B517=\"\",\"\",AccountInfo!B517)","v":""},{"$nulls":7},"Check"]
[{"$f":"AccountInfo!$A518","v":516},{"$f":"IF(AccountInfo!$B518=\"\",\"\",AccountInfo!B518)","v":""},{"$nulls":7},"Check"]
[{"$f":"AccountInfo!$A519","v":517},{"$f":"IF(AccountInfo!$B519=\"\",\"\",AccountInfo!B519)","v":""},{"$nulls":7},"Check"]
[{"$f":"AccountInfo!$A520","v":518},{"$f":"IF(AccountInfo!$B520=\"\",\"\",AccountInfo!B520)","v":""},{"$nulls":7},"Check"]
[{"$f":"AccountInfo!$A521","v":519},{"$f":"IF(AccountInfo!$B521=\"\",\"\",AccountInfo!B521)","v":""},{"$nulls":7},"Check"]
[{"$f":"AccountInfo!$A522","v":520},{"$f":"IF(AccountInfo!$B522=\"\",\"\",AccountInfo!B522)","v":""},{"$nulls":7},"Check"]
[{"$f":"AccountInfo!$A523","v":521},{"$f":"IF(AccountInfo!$B523=\"\",\"\",AccountInfo!B523)","v":""},{"$nulls":7},"Check"]
[{"$f":"AccountInfo!$A524","v":522},{"$f":"IF(AccountInfo!$B524=\"\",\"\",AccountInfo!B524)","v":""},{"$nulls":7},"Check"]
[{"$f":"AccountInfo!$A525","v":523},{"$f":"IF(AccountInfo!$B525=\"\",\"\",AccountInfo!B525)","v":""},{"$nulls":7},"Check"]
[{"$f":"AccountInfo!$A526","v":524},{"$f":"IF(AccountInfo!$B526=\"\",\"\",AccountInfo!B526)","v":""},{"$nulls":7},"Check"]
[{"$f":"AccountInfo!$A527","v":525},{"$f":"IF(AccountInfo!$B527=\"\",\"\",AccountInfo!B527)","v":""},{"$nulls":7},"Check"]
[{"$f":"AccountInfo!$A528","v":526},{"$f":"IF(AccountInfo!$B528=\"\",\"\",AccountInfo!B528)","v":""},{"$nulls":7},"Check"]
[{"$f":"AccountInfo!$A529","v":527},{"$f":"IF(AccountInfo!$B529=\"\",\"\",AccountInfo!B529)","v":""},{"$nulls":7},"Check"]
[{"$f":"AccountInfo!$A530","v":528},{"$f":"IF(AccountInfo!$B530=\"\",\"\",AccountInfo!B530)","v":""},{"$nulls":7},"Check"]
[{"$f":"AccountInfo!$A531","v":529},{"$f":"IF(AccountInfo!$B531=\"\",\"\",AccountInfo!B531)","v":""},{"$nulls":7},"Check"]
[{"$f":"AccountInfo!$A532","v":530},{"$f":"IF(AccountInfo!$B532=\"\",\"\",AccountInfo!B532)","v":""},{"$nulls":7},"Check"]
[{"$f":"AccountInfo!$A533","v":531},{"$f":"IF(AccountInfo!$B533=\"\",\"\",AccountInfo!B533)","v":""},{"$nulls":7},"Check"]
[{"$f":"AccountInfo!$A534","v":532},{"$f":"IF(AccountInfo!$B534=\"\",\"\",AccountInfo!B534)","v":""},{"$nulls":7},"Check"]
[{"$f":"AccountInfo!$A535","v":533},{"$f":"IF(AccountInfo!$B535=\"\",\"\",AccountInfo!B535)","v":""},{"$nulls":7},"Check"]
[{"$f":"AccountInfo!$A536","v":534},{"$f":"IF(AccountInfo!$B536=\"\",\"\",AccountInfo!B536)","v":""},{"$nulls":7},"Check"]
[{"$f":"AccountInfo!$A537","v":535},{"$f":"IF(AccountInfo!$B537=\"\",\"\",AccountInfo!B537)","v":""},{"$nulls":7},"Check"]
[{"$f":"AccountInfo!$A538","v":536},{"$f":"IF(AccountInfo!$B538=\"\",\"\",AccountInfo!B538)","v":""},{"$nulls":7},"Check"]
[{"$f":"AccountInfo!$A539","v":537},{"$f":"IF(AccountInfo!$B539=\"\",\"\",AccountInfo!B539)","v":""},{"$nulls":7},"Check"]
[{"$f":"AccountInfo!$A540","v":538},{"$f":"IF(AccountInfo!$B540=\"\",\"\",AccountInfo!B540)","v":""},{"$nulls":7},"Check"]
[{"$f":"AccountInfo!$A541","v":539},{"$f":"IF(AccountInfo!$B541=\"\",\"\",AccountInfo!B541)","v":""},{"$nulls":7},"Check"]
[{"$f":"AccountInfo!$A542","v":540},{"$f":"IF(AccountInfo!$B542=\"\",\"\",AccountInfo!B542)","v":""},{"$nulls":7},"Check"]
[{"$f":"AccountInfo!$A543","v":541},{"$f":"IF(AccountInfo!$B543=\"\",\"\",AccountInfo!B543)","v":""},{"$nulls":7},"Check"]
[{"$f":"AccountInfo!$A544","v":542},{"$f":"IF(AccountInfo!$B544=\"\",\"\",AccountInfo!B544)","v":""},{"$nulls":7},"Check"]
[{"$f":"AccountInfo!$A545","v":543},{"$f":"IF(AccountInfo!$B545=\"\",\"\",AccountInfo!B545)","v":""},{"$nulls":7},"Check"]
[{"$f":"AccountInfo!$A546","v":544},{"$f":"IF(AccountInfo!$B546=\"\",\"\",AccountInfo!B546)","v":""},{"$nulls":7},"Check"]
[{"$f":"AccountInfo!$A547","v":545},{"$f":"IF(AccountInfo!$B547=\"\",\"\",AccountInfo!B547)","v":""},{"$nulls":7},"Check"]
[{"$f":"AccountInfo!$A548","v":546},{"$f":"IF(AccountInfo!$B548=\"\",\"\",AccountInfo!B548)","v":""},{"$nulls":7},"Check"]
[{"$f":"AccountInfo!$A549","v":547},{"$f":"IF(AccountInfo!$B549=\"\",\"\",AccountInfo!B549)","v":""},{"$nulls":7},"Check"]
[{"$f":"AccountInfo!$A550","v":548},{"$f":"IF(AccountInfo!$B550=\"\",\"\",AccountInfo!B550)","v":""},{"$nulls":7},"Check"]
[{"$f":"AccountInfo!$A551","v":549},{"$f":"IF(AccountInfo!$B551=\"\",\"\",AccountInfo!B551)","v":""},{"$nulls":7},"Check"]
[{"$f":"AccountInfo!$A552","v":550},{"$f":"IF(AccountInfo!$B552=\"\",\"\",AccountInfo!B552)","v":""},{"$nulls":7},"Check"]
[{"$f":"AccountInfo!$A553","v":551},{"$f":"IF(AccountInfo!$B553=\"\",\"\",AccountInfo!B553)","v":""},{"$nulls":7},"Check"]
[{"$f":"AccountInfo!$A554","v":552},{"$f":"IF(AccountInfo!$B554=\"\",\"\",AccountInfo!B554)","v":""},{"$nulls":7},"Check"]
[{"$f":"AccountInfo!$A555","v":553},{"$f":"IF(AccountInfo!$B555=\"\",\"\",AccountInfo!B555)","v":""},{"$nulls":7},"Check"]
[{"$f":"AccountInfo!$A556","v":554},{"$f":"IF(AccountInfo!$B556=\"\",\"\",AccountInfo!B556)","v":""},{"$nulls":7},"Check"]
[{"$f":"AccountInfo!$A557","v":555},{"$f":"IF(AccountInfo!$B557=\"\",\"\",AccountInfo!B557)","v":""},{"$nulls":7},"Check"]
[{"$f":"AccountInfo!$A558","v":556},{"$f":"IF(AccountInfo!$B558=\"\",\"\",AccountInfo!B558)","v":""},{"$nulls":7},"Check"]
[{"$f":"AccountInfo!$A559","v":557},{"$f":"IF(AccountInfo!$B559=\"\",\"\",AccountInfo!B559)","v":""},{"$nulls":7},"Check"]
[{"$f":"AccountInfo!$A560","v":558},{"$f":"IF(AccountInfo!$B560=\"\",\"\",AccountInfo!B560)","v":""},{"$nulls":7},"Check"]
[{"$f":"AccountInfo!$A561","v":559},{"$f":"IF(AccountInfo!$B561=\"\",\"\",AccountInfo!B561)","v":""},{"$nulls":7},"Check"]
[{"$f":"AccountInfo!$A562","v":560},{"$f":"IF(AccountInfo!$B562=\"\",\"\",AccountInfo!B562)","v":""},{"$nulls":7},"Check"]
[{"$f":"AccountInfo!$A563","v":561},{"$f":"IF(AccountInfo!$B563=\"\",\"\",AccountInfo!B563)","v":""},{"$nulls":7},"Check"]
[{"$f":"AccountInfo!$A564","v":562},{"$f":"IF(AccountInfo!$B564=\"\",\"\",AccountInfo!B564)","v":""},{"$nulls":7},"Check"]
[{"$f":"AccountInfo!$A565","v":563},{"$f":"IF(AccountInfo!$B565=\"\",\"\",AccountInfo!B565)","v":""},{"$nulls":7},"Check"]
[{"$f":"AccountInfo!$A566","v":564},{"$f":"IF(AccountInfo!$B566=\"\",\"\",AccountInfo!B566)","v":""},{"$nulls":7},"Check"]
[{"$f":"AccountInfo!$A567","v":565},{"$f":"IF(AccountInfo!$B567=\"\",\"\",AccountInfo!B567)","v":""},{"$nulls":7},"Check"]
[{"$f":"AccountInfo!$A568","v":566},{"$f":"IF(AccountInfo!$B568=\"\",\"\",AccountInfo!B568)","v":""},{"$nulls":7},"Check"]
[{"$f":"AccountInfo!$A569","v":567},{"$f":"IF(AccountInfo!$B569=\"\",\"\",AccountInfo!B569)","v":""},{"$nulls":7},"Check"]
[{"$f":"AccountInfo!$A570","v":568},{"$f":"IF(AccountInfo!$B570=\"\",\"\",AccountInfo!B570)","v":""},{"$nulls":7},"Check"]
[{"$f":"AccountInfo!$A571","v":569},{"$f":"IF(AccountInfo!$B571=\"\",\"\",AccountInfo!B571)","v":""},{"$nulls":7},"Check"]
[{"$f":"AccountInfo!$A572","v":570},{"$f":"IF(AccountInfo!$B572=\"\",\"\",AccountInfo!B572)","v":""},{"$nulls":7},"Check"]
[{"$f":"AccountInfo!$A573","v":571},{"$f":"IF(AccountInfo!$B573=\"\",\"\",AccountInfo!B573)","v":""},{"$nulls":7},"Check"]
[{"$f":"AccountInfo!$A574","v":572},{"$f":"IF(AccountInfo!$B574=\"\",\"\",AccountInfo!B574)","v":""},{"$nulls":7},"Check"]
[{"$f":"AccountInfo!$A575","v":573},{"$f":"IF(AccountInfo!$B575=\"\",\"\",AccountInfo!B575)","v":""},{"$nulls":7},"Check"]
[{"$f":"AccountInfo!$A576","v":574},{"$f":"IF(AccountInfo!$B576=\"\",\"\",AccountInfo!B576)","v":""},{"$nulls":7},"Check"]
[{"$f":"AccountInfo!$A577","v":575},{"$f":"IF(AccountInfo!$B577=\"\",\"\",AccountInfo!B577)","v":""},{"$nulls":7},"Check"]
[{"$f":"AccountInfo!$A578","v":576},{"$f":"IF(AccountInfo!$B578=\"\",\"\",AccountInfo!B578)","v":""},{"$nulls":7},"Check"]
[{"$f":"AccountInfo!$A579","v":577},{"$f":"IF(AccountInfo!$B579=\"\",\"\",AccountInfo!B579)","v":""},{"$nulls":7},"Check"]
[{"$f":"AccountInfo!$A580","v":578},{"$f":"IF(AccountInfo!$B580=\"\",\"\",AccountInfo!B580)","v":""},{"$nulls":7},{"$f":"IF(AND(D580<=E580, E580<=F580, F580<=G580, G580<=IF(H580=\"\", 1000000000000, H580)), \"Check\", \"Error\")","v":"Check"}]
[{"$f":"AccountInfo!$A581","v":579},{"$f":"IF(AccountInfo!$B581=\"\",\"\",AccountInfo!B581)","v":""},{"$nulls":7},"Check"]
[{"$f":"AccountInfo!$A582","v":580},{"$f":"IF(AccountInfo!$B582=\"\",\"\",AccountInfo!B582)","v":""},{"$nulls":7},"Check"]
[{"$f":"AccountInfo!$A583","v":581},{"$f":"IF(AccountInfo!$B583=\"\",\"\",AccountInfo!B583)","v":""},{"$nulls":7},"Check"]
[{"$f":"AccountInfo!$A584","v":582},{"$f":"IF(AccountInfo!$B584=\"\",\"\",AccountInfo!B584)","v":""},{"$nulls":7},"Check"]
[{"$f":"AccountInfo!$A585","v":583},{"$f":"IF(AccountInfo!$B585=\"\",\"\",AccountInfo!B585)","v":""},{"$nulls":7},"Check"]
[{"$f":"AccountInfo!$A586","v":584},{"$f":"IF(AccountInfo!$B586=\"\",\"\",AccountInfo!B586)","v":""},{"$nulls":7},"Check"]
[{"$f":"AccountInfo!$A587","v":585},{"$f":"IF(AccountInfo!$B587=\"\",\"\",AccountInfo!B587)","v":""},{"$nulls":7},"Check"]
[{"$f":"AccountInfo!$A588","v":586},{"$f":"IF(AccountInfo!$B588=\"\",\"\",AccountInfo!B588)","v":""},{"$nulls":7},"Check"]
[{"$f":"AccountInfo!$A589","v":587},{"$f":"IF(AccountInfo!$B589=\"\",\"\",AccountInfo!B589)","v":""},{"$nulls":7},"Check"]
[{"$f":"AccountInfo!$A590","v":588},{"$f":"IF(AccountInfo!$B590=\"\",\"\",AccountInfo!B590)","v":""},{"$nulls":7},"Check"]
[{"$f":"AccountInfo!$A591","v":589},{"$f":"IF(AccountInfo!$B591=\"\",\"\",AccountInfo!B591)","v":""},{"$nulls":7},"Check"]
[{"$f":"AccountInfo!$A592","v":590},{"$f":"IF(AccountInfo!$B592=\"\",\"\",AccountInfo!B592)","v":""},{"$nulls":7},"Check"]
[{"$f":"AccountInfo!$A593","v":591},{"$f":"IF(AccountInfo!$B593=\"\",\"\",AccountInfo!B593)","v":""},{"$nulls":7},"Check"]
[{"$f":"AccountInfo!$A594","v":592},{"$f":"IF(AccountInfo!$B594=\"\",\"\",AccountInfo!B594)","v":""},{"$nulls":7},"Check"]
[{"$f":"AccountInfo!$A595","v":593},{"$f":"IF(AccountInfo!$B595=\"\",\"\",AccountInfo!B595)","v":""},{"$nulls":7},"Check"]
[{"$f":"AccountInfo!$A596","v":594},{"$f":"IF(AccountInfo!$B596=\"\",\"\",AccountInfo!B596)","v":""},{"$nulls":7},"Check"]
[{"$f":"AccountInfo!$A597","v":595},{"$f":"IF(AccountInfo!$B597=\"\",\"\",AccountInfo!B597)","v":""},{"$nulls":7},"Check"]
[{"$f":"AccountInfo!$A598","v":596},{"$f":"IF(AccountInfo!$B598=\"\",\"\",AccountInfo!B598)","v":""},{"$nulls":7},"Check"]
[{"$f":"AccountInfo!$A599","v":597},{"$f":"IF(AccountInfo!$B599=\"\",\"\",AccountInfo!B599)","v":""},{"$nulls":7},"Check"]
[{"$f":"AccountInfo!$A600","v":598},{"$f":"IF(AccountInfo!$B600=\"\",\"\",AccountInfo!B600)","v":""},{"$nulls":7},"Check"]
[{"$f":"AccountInfo!$A601","v":599},{"$f":"IF(AccountInfo!$B601=\"\",\"\",AccountInfo!B601)","v":""},{"$nulls":7},"Check"]
[{"$f":"AccountInfo!$A602","v":600},{"$f":"IF(AccountInfo!$B602=\"\",\"\",AccountInfo!B602)","v":""},{"$nulls":7},"Check"]
[{"$f":"AccountInfo!$A603","v":601},{"$f":"IF(AccountInfo!$B603=\"\",\"\",AccountInfo!B603)","v":""},{"$nulls":7},"Check"]
[{"$f":"AccountInfo!$A604","v":602},{"$f":"IF(AccountInfo!$B604=\"\",\"\",AccountInfo!B604)","v":""},{"$nulls":7},"Check"]
[{"$f":"AccountInfo!$A605","v":603},{"$f":"IF(AccountInfo!$B605=\"\",\"\",AccountInfo!B605)","v":""},{"$nulls":7},"Check"]
[{"$f":"AccountInfo!$A606","v":604},{"$f":"IF(AccountInfo!$B606=\"\",\"\",AccountInfo!B606)","v":""},{"$nulls":7},"Check"]
[{"$f":"AccountInfo!$A607","v":605},{"$f":"IF(AccountInfo!$B607=\"\",\"\",AccountInfo!B607)","v":""},{"$nulls":7},"Check"]
[{"$f":"AccountInfo!$A608","v":606},{"$f":"IF(AccountInfo!$B608=\"\",\"\",AccountInfo!B608)","v":""},{"$nulls":7},"Check"]
[{"$f":"AccountInfo!$A609","v":607},{"$f":"IF(AccountInfo!$B609=\"\",\"\",AccountInfo!B609)","v":""},{"$nulls":7},"Check"]
[{"$f":"AccountInfo!$A610","v":608},{"$f":"IF(AccountInfo!$B610=\"\",\"\",AccountInfo!B610)","v":""},{"$nulls":7},"Check"]
[{"$f":"AccountInfo!$A611","v":609},{"$f":"IF(AccountInfo!$B611=\"\",\"\",AccountInfo!B611)","v":""},{"$nulls":7},"Check"]
[{"$f":"AccountInfo!$A612","v":610},{"$f":"IF(AccountInfo!$B612=\"\",\"\",AccountInfo!B612)","v":""},{"$nulls":7},"Check"]
[{"$f":"AccountInfo!$A613","v":611},{"$f":"IF(AccountInfo!$B613=\"\",\"\",AccountInfo!B613)","v":""},{"$nulls":7},"Check"]
[{"$f":"AccountInfo!$A614","v":612},{"$f":"IF(AccountInfo!$B614=\"\",\"\",AccountInfo!B614)","v":""},{"$nulls":7},"Check"]
[{"$f":"AccountInfo!$A615","v":613},{"$f":"IF(AccountInfo!$B615=\"\",\"\",AccountInfo!B615)","v":""},{"$nulls":7},"Check"]
[{"$f":"AccountInfo!$A616","v":614},{"$f":"IF(AccountInfo!$B616=\"\",\"\",AccountInfo!B616)","v":""},{"$nulls":7},"Check"]
[{"$f":"AccountInfo!$A617","v":615},{"$f":"IF(AccountInfo!$B617=\"\",\"\",AccountInfo!B617)","v":""},{"$nulls":7},"Check"]
[{"$f":"AccountInfo!$A618","v":616},{"$f":"IF(AccountInfo!$B618=\"\",\"\",AccountInfo!B618)","v":""},{"$nulls":7},"Check"]
[{"$f":"AccountInfo!$A619","v":617},{"$f":"IF(AccountInfo!$B619=\"\",\"\",AccountInfo!B619)","v":""},{"$nulls":7},"Check"]
[{"$f":"AccountInfo!$A620","v":618},{"$f":"IF(AccountInfo!$B620=\"\",\"\",AccountInfo!B620)","v":""},{"$nulls":7},"Check"]
[{"$f":"AccountInfo!$A621","v":619},{"$f":"IF(AccountInfo!$B621=\"\",\"\",AccountInfo!B621)","v":""},{"$nulls":7},"Check"]
[{"$f":"AccountInfo!$A622","v":620},{"$f":"IF(AccountInfo!$B622=\"\",\"\",AccountInfo!B622)","v":""},{"$nulls":7},"Check"]
[{"$f":"AccountInfo!$A623","v":621},{"$f":"IF(AccountInfo!$B623=\"\",\"\",AccountInfo!B623)","v":""},{"$nulls":7},"Check"]
[{"$f":"AccountInfo!$A624","v":622},{"$f":"IF(AccountInfo!$B624=\"\",\"\",AccountInfo!B624)","v":""},{"$nulls":7},"Check"]
[{"$f":"AccountInfo!$A625","v":623},{"$f":"IF(AccountInfo!$B625=\"\",\"\",AccountInfo!B625)","v":""},{"$nulls":7},"Check"]
[{"$f":"AccountInfo!$A626","v":624},{"$f":"IF(AccountInfo!$B626=\"\",\"\",AccountInfo!B626)","v":""},{"$nulls":7},"Check"]
[{"$f":"AccountInfo!$A627","v":625},{"$f":"IF(AccountInfo!$B627=\"\",\"\",AccountInfo!B627)","v":""},{"$nulls":7},"Check"]
[{"$f":"AccountInfo!$A628","v":626},{"$f":"IF(AccountInfo!$B628=\"\",\"\",AccountInfo!B628)","v":""},{"$nulls":7},"Check"]
[{"$f":"AccountInfo!$A629","v":627},{"$f":"IF(AccountInfo!$B629=\"\",\"\",AccountInfo!B629)","v":""},{"$nulls":7},"Check"]
[{"$f":"AccountInfo!$A630","v":628},{"$f":"IF(AccountInfo!$B630=\"\",\"\",AccountInfo!B630)","v":""},{"$nulls":7},"Check"]
[{"$f":"AccountInfo!$A631","v":629},{"$f":"IF(AccountInfo!$B631=\"\",\"\",AccountInfo!B631)","v":""},{"$nulls":7},"Check"]
[{"$f":"AccountInfo!$A632","v":630},{"$f":"IF(AccountInfo!$B632=\"\",\"\",AccountInfo!B632)","v":""},{"$nulls":7},"Check"]
[{"$f":"AccountInfo!$A633","v":631},{"$f":"IF(AccountInfo!$B633=\"\",\"\",AccountInfo!B633)","v":""},{"$nulls":7},"Check"]
[{"$f":"AccountInfo!$A634","v":632},{"$f":"IF(AccountInfo!$B634=\"\",\"\",AccountInfo!B634)","v":""},{"$nulls":7},"Check"]
[{"$f":"AccountInfo!$A635","v":633},{"$f":"IF(AccountInfo!$B635=\"\",\"\",AccountInfo!B635)","v":""},{"$nulls":7},"Check"]
[{"$f":"AccountInfo!$A636","v":634},{"$f":"IF(AccountInfo!$B636=\"\",\"\",AccountInfo!B636)","v":""},{"$nulls":7},"Check"]
[{"$f":"AccountInfo!$A637","v":635},{"$f":"IF(AccountInfo!$B637=\"\",\"\",AccountInfo!B637)","v":""},{"$nulls":7},"Check"]
[{"$f":"AccountInfo!$A638","v":636},{"$f":"IF(AccountInfo!$B638=\"\",\"\",AccountInfo!B638)","v":""},{"$nulls":7},"Check"]
[{"$f":"AccountInfo!$A639","v":637},{"$f":"IF(AccountInfo!$B639=\"\",\"\",AccountInfo!B639)","v":""},{"$nulls":7},"Check"]
[{"$f":"AccountInfo!$A640","v":638},{"$f":"IF(AccountInfo!$B640=\"\",\"\",AccountInfo!B640)","v":""},{"$nulls":7},"Check"]
[{"$f":"AccountInfo!$A641","v":639},{"$f":"IF(AccountInfo!$B641=\"\",\"\",AccountInfo!B641)","v":""},{"$nulls":7},"Check"]
[{"$f":"AccountInfo!$A642","v":640},{"$f":"IF(AccountInfo!$B642=\"\",\"\",AccountInfo!B642)","v":""},{"$nulls":7},"Check"]
[{"$f":"AccountInfo!$A643","v":641},{"$f":"IF(AccountInfo!$B643=\"\",\"\",AccountInfo!B643)","v":""},{"$nulls":7},"Check"]
[{"$f":"AccountInfo!$A644","v":642},{"$f":"IF(AccountInfo!$B644=\"\",\"\",AccountInfo!B644)","v":""},{"$nulls":7},{"$f":"IF(AND(D644<=E644, E644<=F644, F644<=G644, G644<=IF(H644=\"\", 1000000000000, H644)), \"Check\", \"Error\")","v":"Check"}]
[{"$f":"AccountInfo!$A645","v":643},{"$f":"IF(AccountInfo!$B645=\"\",\"\",AccountInfo!B645)","v":""},{"$nulls":7},"Check"]
[{"$f":"AccountInfo!$A646","v":644},{"$f":"IF(AccountInfo!$B646=\"\",\"\",AccountInfo!B646)","v":""},{"$nulls":7},"Check"]
[{"$f":"AccountInfo!$A647","v":645},{"$f":"IF(AccountInfo!$B647=\"\",\"\",AccountInfo!B647)","v":""},{"$nulls":7},"Check"]
[{"$f":"AccountInfo!$A648","v":646},{"$f":"IF(AccountInfo!$B648=\"\",\"\",AccountInfo!B648)","v":""},{"$nulls":7},"Check"]
[{"$f":"AccountInfo!$A649","v":647},{"$f":"IF(AccountInfo!$B649=\"\",\"\",AccountInfo!B649)","v":""},{"$nulls":7},"Check"]
[{"$f":"AccountInfo!$A650","v":648},{"$f":"IF(AccountInfo!$B650=\"\",\"\",AccountInfo!B650)","v":""},{"$nulls":7},"Check"]
[{"$f":"AccountInfo!$A651","v":649},{"$f":"IF(AccountInfo!$B651=\"\",\"\",AccountInfo!B651)","v":""},{"$nulls":7},"Check"]
[{"$f":"AccountInfo!$A652","v":650},{"$f":"IF(AccountInfo!$B652=\"\",\"\",AccountInfo!B652)","v":""},{"$nulls":7},"Check"]
[{"$f":"AccountInfo!$A653","v":651},{"$f":"IF(AccountInfo!$B653=\"\",\"\",AccountInfo!B653)","v":""},{"$nulls":7},"Check"]
[{"$f":"AccountInfo!$A654","v":652},{"$f":"IF(AccountInfo!$B654=\"\",\"\",AccountInfo!B654)","v":""},{"$nulls":7},"Check"]
[{"$f":"AccountInfo!$A655","v":653},{"$f":"IF(AccountInfo!$B655=\"\",\"\",AccountInfo!B655)","v":""},{"$nulls":7},"Check"]
[{"$f":"AccountInfo!$A656","v":654},{"$f":"IF(AccountInfo!$B656=\"\",\"\",AccountInfo!B656)","v":""},{"$nulls":7},"Check"]
[{"$f":"AccountInfo!$A657","v":655},{"$f":"IF(AccountInfo!$B657=\"\",\"\",AccountInfo!B657)","v":""},{"$nulls":7},"Check"]
[{"$f":"AccountInfo!$A658","v":656},{"$f":"IF(AccountInfo!$B658=\"\",\"\",AccountInfo!B658)","v":""},{"$nulls":7},"Check"]
[{"$f":"AccountInfo!$A659","v":657},{"$f":"IF(AccountInfo!$B659=\"\",\"\",AccountInfo!B659)","v":""},{"$nulls":7},"Check"]
[{"$f":"AccountInfo!$A660","v":658},{"$f":"IF(AccountInfo!$B660=\"\",\"\",AccountInfo!B660)","v":""},{"$nulls":7},"Check"]
[{"$f":"AccountInfo!$A661","v":659},{"$f":"IF(AccountInfo!$B661=\"\",\"\",AccountInfo!B661)","v":""},{"$nulls":7},"Check"]
[{"$f":"AccountInfo!$A662","v":660},{"$f":"IF(AccountInfo!$B662=\"\",\"\",AccountInfo!B662)","v":""},{"$nulls":7},"Check"]
[{"$f":"AccountInfo!$A663","v":661},{"$f":"IF(AccountInfo!$B663=\"\",\"\",AccountInfo!B663)","v":""},{"$nulls":7},"Check"]
[{"$f":"AccountInfo!$A664","v":662},{"$f":"IF(AccountInfo!$B664=\"\",\"\",AccountInfo!B664)","v":""},{"$nulls":7},"Check"]
[{"$f":"AccountInfo!$A665","v":663},{"$f":"IF(AccountInfo!$B665=\"\",\"\",AccountInfo!B665)","v":""},{"$nulls":7},"Check"]
[{"$f":"AccountInfo!$A666","v":664},{"$f":"IF(AccountInfo!$B666=\"\",\"\",AccountInfo!B666)","v":""},{"$nulls":7},"Check"]
[{"$f":"AccountInfo!$A667","v":665},{"$f":"IF(AccountInfo!$B667=\"\",\"\",AccountInfo!B667)","v":""},{"$nulls":7},"Check"]
[{"$f":"AccountInfo!$A668","v":666},{"$f":"IF(AccountInfo!$B668=\"\",\"\",AccountInfo!B668)","v":""},{"$nulls":7},"Check"]
[{"$f":"AccountInfo!$A669","v":667},{"$f":"IF(AccountInfo!$B669=\"\",\"\",AccountInfo!B669)","v":""},{"$nulls":7},"Check"]
[{"$f":"AccountInfo!$A670","v":668},{"$f":"IF(AccountInfo!$B670=\"\",\"\",AccountInfo!B670)","v":""},{"$nulls":7},"Check"]
[{"$f":"AccountInfo!$A671","v":669},{"$f":"IF(AccountInfo!$B671=\"\",\"\",AccountInfo!B671)","v":""},{"$nulls":7},"Check"]
[{"$f":"AccountInfo!$A672","v":670},{"$f":"IF(AccountInfo!$B672=\"\",\"\",AccountInfo!B672)","v":""},{"$nulls":7},"Check"]
[{"$f":"AccountInfo!$A673","v":671},{"$f":"IF(AccountInfo!$B673=\"\",\"\",AccountInfo!B673)","v":""},{"$nulls":7},"Check"]
[{"$f":"AccountInfo!$A674","v":672},{"$f":"IF(AccountInfo!$B674=\"\",\"\",AccountInfo!B674)","v":""},{"$nulls":7},"Check"]
[{"$f":"AccountInfo!$A675","v":673},{"$f":"IF(AccountInfo!$B675=\"\",\"\",AccountInfo!B675)","v":""},{"$nulls":7},"Check"]
[{"$f":"AccountInfo!$A676","v":674},{"$f":"IF(AccountInfo!$B676=\"\",\"\",AccountInfo!B676)","v":""},{"$nulls":7},"Check"]
[{"$f":"AccountInfo!$A677","v":675},{"$f":"IF(AccountInfo!$B677=\"\",\"\",AccountInfo!B677)","v":""},{"$nulls":7},"Check"]
[{"$f":"AccountInfo!$A678","v":676},{"$f":"IF(AccountInfo!$B678=\"\",\"\",AccountInfo!B678)","v":""},{"$nulls":7},"Check"]
[{"$f":"AccountInfo!$A679","v":677},{"$f":"IF(AccountInfo!$B679=\"\",\"\",AccountInfo!B679)","v":""},{"$nulls":7},"Check"]
[{"$f":"AccountInfo!$A680","v":678},{"$f":"IF(AccountInfo!$B680=\"\",\"\",AccountInfo!B680)","v":""},{"$nulls":7},"Check"]
[{"$f":"AccountInfo!$A681","v":679},{"$f":"IF(AccountInfo!$B681=\"\",\"\",AccountInfo!B681)","v":""},{"$nulls":7},"Check"]
[{"$f":"AccountInfo!$A682","v":680},{"$f":"IF(AccountInfo!$B682=\"\",\"\",AccountInfo!B682)","v":""},{"$nulls":7},"Check"]
[{"$f":"AccountInfo!$A683","v":681},{"$f":"IF(AccountInfo!$B683=\"\",\"\",AccountInfo!B683)","v":""},{"$nulls":7},"Check"]
[{"$f":"AccountInfo!$A684","v":682},{"$f":"IF(AccountInfo!$B684=\"\",\"\",AccountInfo!B684)","v":""},{"$nulls":7},"Check"]
[{"$f":"AccountInfo!$A685","v":683},{"$f":"IF(AccountInfo!$B685=\"\",\"\",AccountInfo!B685)","v":""},{"$nulls":7},"Check"]
[{"$f":"AccountInfo!$A686","v":684},{"$f":"IF(AccountInfo!$B686=\"\",\"\",AccountInfo!B686)","v":""},{"$nulls":7},"Check"]
[{"$f":"AccountInfo!$A687","v":685},{"$f":"IF(AccountInfo!$B687=\"\",\"\",AccountInfo!B687)","v":""},{"$nulls":7},"Check"]
[{"$f":"AccountInfo!$A688","v":686},{"$f":"IF(AccountInfo!$B688=\"\",\"\",AccountInfo!B688)","v":""},{"$nulls":7},"Check"]
[{"$f":"AccountInfo!$A689","v":687},{"$f":"IF(AccountInfo!$B689=\"\",\"\",AccountInfo!B689)","v":""},{"$nulls":7},"Check"]
[{"$f":"AccountInfo!$A690","v":688},{"$f":"IF(AccountInfo!$B690=\"\",\"\",AccountInfo!B690)","v":""},{"$nulls":7},"Check"]
[{"$f":"AccountInfo!$A691","v":689},{"$f":"IF(AccountInfo!$B691=\"\",\"\",AccountInfo!B691)","v":""},{"$nulls":7},"Check"]
[{"$f":"AccountInfo!$A692","v":690},{"$f":"IF(AccountInfo!$B692=\"\",\"\",AccountInfo!B692)","v":""},{"$nulls":7},"Check"]
[{"$f":"AccountInfo!$A693","v":691},{"$f":"IF(AccountInfo!$B693=\"\",\"\",AccountInfo!B693)","v":""},{"$nulls":7},"Check"]
[{"$f":"AccountInfo!$A694","v":692},{"$f":"IF(AccountInfo!$B694=\"\",\"\",AccountInfo!B694)","v":""},{"$nulls":7},"Check"]
[{"$f":"AccountInfo!$A695","v":693},{"$f":"IF(AccountInfo!$B695=\"\",\"\",AccountInfo!B695)","v":""},{"$nulls":7},"Check"]
[{"$f":"AccountInfo!$A696","v":694},{"$f":"IF(AccountInfo!$B696=\"\",\"\",AccountInfo!B696)","v":""},{"$nulls":7},"Check"]
[{"$f":"AccountInfo!$A697","v":695},{"$f":"IF(AccountInfo!$B697=\"\",\"\",AccountInfo!B697)","v":""},{"$nulls":7},"Check"]
[{"$f":"AccountInfo!$A698","v":696},{"$f":"IF(AccountInfo!$B698=\"\",\"\",AccountInfo!B698)","v":""},{"$nulls":7},"Check"]
[{"$f":"AccountInfo!$A699","v":697},{"$f":"IF(AccountInfo!$B699=\"\",\"\",AccountInfo!B699)","v":""},{"$nulls":7},"Check"]
[{"$f":"AccountInfo!$A700","v":698},{"$f":"IF(AccountInfo!$B700=\"\",\"\",AccountInfo!B700)","v":""},{"$nulls":7},"Check"]
[{"$f":"AccountInfo!$A701","v":699},{"$f":"IF(AccountInfo!$B701=\"\",\"\",AccountInfo!B701)","v":""},{"$nulls":7},"Check"]
[{"$f":"AccountInfo!$A702","v":700},{"$f":"IF(AccountInfo!$B702=\"\",\"\",AccountInfo!B702)","v":""},{"$nulls":7},"Check"]
[{"$f":"AccountInfo!$A703","v":701},{"$f":"IF(AccountInfo!$B703=\"\",\"\",AccountInfo!B703)","v":""},{"$nulls":7},"Check"]
[{"$f":"AccountInfo!$A704","v":702},{"$f":"IF(AccountInfo!$B704=\"\",\"\",AccountInfo!B704)","v":""},{"$nulls":7},"Check"]
[{"$f":"AccountInfo!$A705","v":703},{"$f":"IF(AccountInfo!$B705=\"\",\"\",AccountInfo!B705)","v":""},{"$nulls":7},"Check"]
[{"$f":"AccountInfo!$A706","v":704},{"$f":"IF(AccountInfo!$B706=\"\",\"\",AccountInfo!B706)","v":""},{"$nulls":7},"Check"]
[{"$f":"AccountInfo!$A707","v":705},{"$f":"IF(AccountInfo!$B707=\"\",\"\",AccountInfo!B707)","v":""},{"$nulls":7},"Check"]
[{"$f":"AccountInfo!$A708","v":706},{"$f":"IF(AccountInfo!$B708=\"\",\"\",AccountInfo!B708)","v":""},{"$nulls":7},{"$f":"IF(AND(D708<=E708, E708<=F708, F708<=G708, G708<=IF(H708=\"\", 1000000000000, H708)), \"Check\", \"Error\")","v":"Check"}]
[{"$f":"AccountInfo!$A709","v":707},{"$f":"IF(AccountInfo!$B709=\"\",\"\",AccountInfo!B709)","v":""},{"$nulls":7},"Check"]
[{"$f":"AccountInfo!$A710","v":708},{"$f":"IF(AccountInfo!$B710=\"\",\"\",AccountInfo!B710)","v":""},{"$nulls":7},"Check"]
[{"$f":"AccountInfo!$A711","v":709},{"$f":"IF(AccountInfo!$B711=\"\",\"\",AccountInfo!B711)","v":""},{"$nulls":7},"Check"]
[{"$f":"AccountInfo!$A712","v":710},{"$f":"IF(AccountInfo!$B712=\"\",\"\",AccountInfo!B712)","v":""},{"$nulls":7},"Check"]
[{"$f":"AccountInfo!$A713","v":711},{"$f":"IF(AccountInfo!$B713=\"\",\"\",AccountInfo!B713)","v":""},{"$nulls":7},"Check"]
[{"$f":"AccountInfo!$A714","v":712},{"$f":"IF(AccountInfo!$B714=\"\",\"\",AccountInfo!B714)","v":""},{"$nulls":7},"Check"]
[{"$f":"AccountInfo!$A715","v":713},{"$f":"IF(AccountInfo!$B715=\"\",\"\",AccountInfo!B715)","v":""},{"$nulls":7},"Check"]
[{"$f":"AccountInfo!$A716","v":714},{"$f":"IF(AccountInfo!$B716=\"\",\"\",AccountInfo!B716)","v":""},{"$nulls":7},"Check"]
[{"$f":"AccountInfo!$A717","v":715},{"$f":"IF(AccountInfo!$B717=\"\",\"\",AccountInfo!B717)","v":""},{"$nulls":7},"Check"]
[{"$f":"AccountInfo!$A718","v":716},{"$f":"IF(AccountInfo!$B718=\"\",\"\",AccountInfo!B718)","v":""},{"$nulls":7},"Check"]
[{"$f":"AccountInfo!$A719","v":717},{"$f":"IF(AccountInfo!$B719=\"\",\"\",AccountInfo!B719)","v":""},{"$nulls":7},"Check"]
[{"$f":"AccountInfo!$A720","v":718},{"$f":"IF(AccountInfo!$B720=\"\",\"\",AccountInfo!B720)","v":""},{"$nulls":7},"Check"]
[{"$f":"AccountInfo!$A721","v":719},{"$f":"IF(AccountInfo!$B721=\"\",\"\",AccountInfo!B721)","v":""},{"$nulls":7},"Check"]
[{"$f":"AccountInfo!$A722","v":720},{"$f":"IF(AccountInfo!$B722=\"\",\"\",AccountInfo!B722)","v":""},{"$nulls":7},"Check"]
[{"$f":"AccountInfo!$A723","v":721},{"$f":"IF(AccountInfo!$B723=\"\",\"\",AccountInfo!B723)","v":""},{"$nulls":7},"Check"]
[{"$f":"AccountInfo!$A724","v":722},{"$f":"IF(AccountInfo!$B724=\"\",\"\",AccountInfo!B724)","v":""},{"$nulls":7},"Check"]
[{"$f":"AccountInfo!$A725","v":723},{"$f":"IF(AccountInfo!$B725=\"\",\"\",AccountInfo!B725)","v":""},{"$nulls":7},"Check"]
[{"$f":"AccountInfo!$A726","v":724},{"$f":"IF(AccountInfo!$B726=\"\",\"\",AccountInfo!B726)","v":""},{"$nulls":7},"Check"]
[{"$f":"AccountInfo!$A727","v":725},{"$f":"IF(AccountInfo!$B727=\"\",\"\",AccountInfo!B727)","v":""},{"$nulls":7},"Check"]
[{"$f":"AccountInfo!$A728","v":726},{"$f":"IF(AccountInfo!$B728=\"\",\"\",AccountInfo!B728)","v":""},{"$nulls":7},"Check"]
[{"$f":"AccountInfo!$A729","v":727},{"$f":"IF(AccountInfo!$B729=\"\",\"\",AccountInfo!B729)","v":""},{"$nulls":7},"Check"]
[{"$f":"AccountInfo!$A730","v":728},{"$f":"IF(AccountInfo!$B730=\"\",\"\",AccountInfo!B730)","v":""},{"$nulls":7},"Check"]
[{"$f":"AccountInfo!$A731","v":729},{"$f":"IF(AccountInfo!$B731=\"\",\"\",AccountInfo!B731)","v":""},{"$nulls":7},"Check"]
[{"$f":"AccountInfo!$A732","v":730},{"$f":"IF(AccountInfo!$B732=\"\",\"\",AccountInfo!B732)","v":""},{"$nulls":7},"Check"]
[{"$f":"AccountInfo!$A733","v":731},{"$f":"IF(AccountInfo!$B733=\"\",\"\",AccountInfo!B733)","v":""},{"$nulls":7},"Check"]
[{"$f":"AccountInfo!$A734","v":732},{"$f":"IF(AccountInfo!$B734=\"\",\"\",AccountInfo!B734)","v":""},{"$nulls":7},"Check"]
[{"$f":"AccountInfo!$A735","v":733},{"$f":"IF(AccountInfo!$B735=\"\",\"\",AccountInfo!B735)","v":""},{"$nulls":7},"Check"]
[{"$f":"AccountInfo!$A736","v":734},{"$f":"IF(AccountInfo!$B736=\"\",\"\",AccountInfo!B736)","v":""},{"$nulls":7},"Check"]
[{"$f":"AccountInfo!$A737","v":735},{"$f":"IF(AccountInfo!$B737=\"\",\"\",AccountInfo!B737)","v":""},{"$nulls":7},"Check"]
[{"$f":"AccountInfo!$A738","v":736},{"$f":"IF(AccountInfo!$B738=\"\",\"\",AccountInfo!B738)","v":""},{"$nulls":7},"Check"]
[{"$f":"AccountInfo!$A739","v":737},{"$f":"IF(AccountInfo!$B739=\"\",\"\",AccountInfo!B739)","v":""},{"$nulls":7},"Check"]
[{"$f":"AccountInfo!$A740","v":738},{"$f":"IF(AccountInfo!$B740=\"\",\"\",AccountInfo!B740)","v":""},{"$nulls":7},"Check"]
[{"$f":"AccountInfo!$A741","v":739},{"$f":"IF(AccountInfo!$B741=\"\",\"\",AccountInfo!B741)","v":""},{"$nulls":7},"Check"]
[{"$f":"AccountInfo!$A742","v":740},{"$f":"IF(AccountInfo!$B742=\"\",\"\",AccountInfo!B742)","v":""},{"$nulls":7},"Check"]
[{"$f":"AccountInfo!$A743","v":741},{"$f":"IF(AccountInfo!$B743=\"\",\"\",AccountInfo!B743)","v":""},{"$nulls":7},"Check"]
[{"$f":"AccountInfo!$A744","v":742},{"$f":"IF(AccountInfo!$B744=\"\",\"\",AccountInfo!B744)","v":""},{"$nulls":7},"Check"]
[{"$f":"AccountInfo!$A745","v":743},{"$f":"IF(AccountInfo!$B745=\"\",\"\",AccountInfo!B745)","v":""},{"$nulls":7},"Check"]
[{"$f":"AccountInfo!$A746","v":744},{"$f":"IF(AccountInfo!$B746=\"\",\"\",AccountInfo!B746)","v":""},{"$nulls":7},"Check"]
[{"$f":"AccountInfo!$A747","v":745},{"$f":"IF(AccountInfo!$B747=\"\",\"\",AccountInfo!B747)","v":""},{"$nulls":7},"Check"]
[{"$f":"AccountInfo!$A748","v":746},{"$f":"IF(AccountInfo!$B748=\"\",\"\",AccountInfo!B748)","v":""},{"$nulls":7},"Check"]
[{"$f":"AccountInfo!$A749","v":747},{"$f":"IF(AccountInfo!$B749=\"\",\"\",AccountInfo!B749)","v":""},{"$nulls":7},"Check"]
[{"$f":"AccountInfo!$A750","v":748},{"$f":"IF(AccountInfo!$B750=\"\",\"\",AccountInfo!B750)","v":""},{"$nulls":7},"Check"]
[{"$f":"AccountInfo!$A751","v":749},{"$f":"IF(AccountInfo!$B751=\"\",\"\",AccountInfo!B751)","v":""},{"$nulls":7},"Check"]
[{"$f":"AccountInfo!$A752","v":750},{"$f":"IF(AccountInfo!$B752=\"\",\"\",AccountInfo!B752)","v":""},{"$nulls":7},"Check"]
[{"$f":"AccountInfo!$A753","v":751},{"$f":"IF(AccountInfo!$B753=\"\",\"\",AccountInfo!B753)","v":""},{"$nulls":7},"Check"]
[{"$f":"AccountInfo!$A754","v":752},{"$f":"IF(AccountInfo!$B754=\"\",\"\",AccountInfo!B754)","v":""},{"$nulls":7},"Check"]
[{"$f":"AccountInfo!$A755","v":753},{"$f":"IF(AccountInfo!$B755=\"\",\"\",AccountInfo!B755)","v":""},{"$nulls":7},"Check"]
[{"$f":"AccountInfo!$A756","v":754},{"$f":"IF(AccountInfo!$B756=\"\",\"\",AccountInfo!B756)","v":""},{"$nulls":7},"Check"]
[{"$f":"AccountInfo!$A757","v":755},{"$f":"IF(AccountInfo!$B757=\"\",\"\",AccountInfo!B757)","v":""},{"$nulls":7},"Check"]
[{"$f":"AccountInfo!$A758","v":756},{"$f":"IF(AccountInfo!$B758=\"\",\"\",AccountInfo!B758)","v":""},{"$nulls":7},"Check"]
[{"$f":"AccountInfo!$A759","v":757},{"$f":"IF(AccountInfo!$B759=\"\",\"\",AccountInfo!B759)","v":""},{"$nulls":7},"Check"]
[{"$f":"AccountInfo!$A760","v":758},{"$f":"IF(AccountInfo!$B760=\"\",\"\",AccountInfo!B760)","v":""},{"$nulls":7},"Check"]
[{"$f":"AccountInfo!$A761","v":759},{"$f":"IF(AccountInfo!$B761=\"\",\"\",AccountInfo!B761)","v":""},{"$nulls":7},"Check"]
[{"$f":"AccountInfo!$A762","v":760},{"$f":"IF(AccountInfo!$B762=\"\",\"\",AccountInfo!B762)","v":""},{"$nulls":7},"Check"]
[{"$f":"AccountInfo!$A763","v":761},{"$f":"IF(AccountInfo!$B763=\"\",\"\",AccountInfo!B763)","v":""},{"$nulls":7},"Check"]
[{"$f":"AccountInfo!$A764","v":762},{"$f":"IF(AccountInfo!$B764=\"\",\"\",AccountInfo!B764)","v":""},{"$nulls":7},"Check"]
[{"$f":"AccountInfo!$A765","v":763},{"$f":"IF(AccountInfo!$B765=\"\",\"\",AccountInfo!B765)","v":""},{"$nulls":7},"Check"]
[{"$f":"AccountInfo!$A766","v":764},{"$f":"IF(AccountInfo!$B766=\"\",\"\",AccountInfo!B766)","v":""},{"$nulls":7},"Check"]
[{"$f":"AccountInfo!$A767","v":765},{"$f":"IF(AccountInfo!$B767=\"\",\"\",AccountInfo!B767)","v":""},{"$nulls":7},"Check"]
[{"$f":"AccountInfo!$A768","v":766},{"$f":"IF(AccountInfo!$B768=\"\",\"\",AccountInfo!B768)","v":""},{"$nulls":7},"Check"]
[{"$f":"AccountInfo!$A769","v":767},{"$f":"IF(AccountInfo!$B769=\"\",\"\",AccountInfo!B769)","v":""},{"$nulls":7},"Check"]
[{"$f":"AccountInfo!$A770","v":768},{"$f":"IF(AccountInfo!$B770=\"\",\"\",AccountInfo!B770)","v":""},{"$nulls":7},"Check"]
[{"$f":"AccountInfo!$A771","v":769},{"$f":"IF(AccountInfo!$B771=\"\",\"\",AccountInfo!B771)","v":""},{"$nulls":7},"Check"]
[{"$f":"AccountInfo!$A772","v":770},{"$f":"IF(AccountInfo!$B772=\"\",\"\",AccountInfo!B772)","v":""},{"$nulls":7},{"$f":"IF(AND(D772<=E772, E772<=F772, F772<=G772, G772<=IF(H772=\"\", 1000000000000, H772)), \"Check\", \"Error\")","v":"Check"}]
[{"$f":"AccountInfo!$A773","v":771},{"$f":"IF(AccountInfo!$B773=\"\",\"\",AccountInfo!B773)","v":""},{"$nulls":7},"Check"]
[{"$f":"AccountInfo!$A774","v":772},{"$f":"IF(AccountInfo!$B774=\"\",\"\",AccountInfo!B774)","v":""},{"$nulls":7},"Check"]
[{"$f":"AccountInfo!$A775","v":773},{"$f":"IF(AccountInfo!$B775=\"\",\"\",AccountInfo!B775)","v":""},{"$nulls":7},"Check"]
[{"$f":"AccountInfo!$A776","v":774},{"$f":"IF(AccountInfo!$B776=\"\",\"\",AccountInfo!B776)","v":""},{"$nulls":7},"Check"]
[{"$f":"AccountInfo!$A777","v":775},{"$f":"IF(AccountInfo!$B777=\"\",\"\",AccountInfo!B777)","v":""},{"$nulls":7},"Check"]
[{"$f":"AccountInfo!$A778","v":776},{"$f":"IF(AccountInfo!$B778=\"\",\"\",AccountInfo!B778)","v":""},{"$nulls":7},"Check"]
[{"$f":"AccountInfo!$A779","v":777},{"$f":"IF(AccountInfo!$B779=\"\",\"\",AccountInfo!B779)","v":""},{"$nulls":7},"Check"]
[{"$f":"AccountInfo!$A780","v":778},{"$f":"IF(AccountInfo!$B780=\"\",\"\",AccountInfo!B780)","v":""},{"$nulls":7},"Check"]
[{"$f":"AccountInfo!$A781","v":779},{"$f":"IF(AccountInfo!$B781=\"\",\"\",AccountInfo!B781)","v":""},{"$nulls":7},"Check"]
[{"$f":"AccountInfo!$A782","v":780},{"$f":"IF(AccountInfo!$B782=\"\",\"\",AccountInfo!B782)","v":""},{"$nulls":7},"Check"]
[{"$f":"AccountInfo!$A783","v":781},{"$f":"IF(AccountInfo!$B783=\"\",\"\",AccountInfo!B783)","v":""},{"$nulls":7},"Check"]
[{"$f":"AccountInfo!$A784","v":782},{"$f":"IF(AccountInfo!$B784=\"\",\"\",AccountInfo!B784)","v":""},{"$nulls":7},"Check"]
[{"$f":"AccountInfo!$A785","v":783},{"$f":"IF(AccountInfo!$B785=\"\",\"\",AccountInfo!B785)","v":""},{"$nulls":7},"Check"]
[{"$f":"AccountInfo!$A786","v":784},{"$f":"IF(AccountInfo!$B786=\"\",\"\",AccountInfo!B786)","v":""},{"$nulls":7},"Check"]
[{"$f":"AccountInfo!$A787","v":785},{"$f":"IF(AccountInfo!$B787=\"\",\"\",AccountInfo!B787)","v":""},{"$nulls":7},"Check"]
[{"$f":"AccountInfo!$A788","v":786},{"$f":"IF(AccountInfo!$B788=\"\",\"\",AccountInfo!B788)","v":""},{"$nulls":7},"Check"]
[{"$f":"AccountInfo!$A789","v":787},{"$f":"IF(AccountInfo!$B789=\"\",\"\",AccountInfo!B789)","v":""},{"$nulls":7},"Check"]
[{"$f":"AccountInfo!$A790","v":788},{"$f":"IF(AccountInfo!$B790=\"\",\"\",AccountInfo!B790)","v":""},{"$nulls":7},"Check"]
[{"$f":"AccountInfo!$A791","v":789},{"$f":"IF(AccountInfo!$B791=\"\",\"\",AccountInfo!B791)","v":""},{"$nulls":7},"Check"]
[{"$f":"AccountInfo!$A792","v":790},{"$f":"IF(AccountInfo!$B792=\"\",\"\",AccountInfo!B792)","v":""},{"$nulls":7},"Check"]
[{"$f":"AccountInfo!$A793","v":791},{"$f":"IF(AccountInfo!$B793=\"\",\"\",AccountInfo!B793)","v":""},{"$nulls":7},"Check"]
[{"$f":"AccountInfo!$A794","v":792},{"$f":"IF(AccountInfo!$B794=\"\",\"\",AccountInfo!B794)","v":""},{"$nulls":7},"Check"]
[{"$f":"AccountInfo!$A795","v":793},{"$f":"IF(AccountInfo!$B795=\"\",\"\",AccountInfo!B795)","v":""},{"$nulls":7},"Check"]
[{"$f":"AccountInfo!$A796","v":794},{"$f":"IF(AccountInfo!$B796=\"\",\"\",AccountInfo!B796)","v":""},{"$nulls":7},"Check"]
[{"$f":"AccountInfo!$A797","v":795},{"$f":"IF(AccountInfo!$B797=\"\",\"\",AccountInfo!B797)","v":""},{"$nulls":7},"Check"]
[{"$f":"AccountInfo!$A798","v":796},{"$f":"IF(AccountInfo!$B798=\"\",\"\",AccountInfo!B798)","v":""},{"$nulls":7},"Check"]
[{"$f":"AccountInfo!$A799","v":797},{"$f":"IF(AccountInfo!$B799=\"\",\"\",AccountInfo!B799)","v":""},{"$nulls":7},"Check"]
[{"$f":"AccountInfo!$A800","v":798},{"$f":"IF(AccountInfo!$B800=\"\",\"\",AccountInfo!B800)","v":""},{"$nulls":7},"Check"]
[{"$f":"AccountInfo!$A801","v":799},{"$f":"IF(AccountInfo!$B801=\"\",\"\",AccountInfo!B801)","v":""},{"$nulls":7},"Check"]
[{"$f":"AccountInfo!$A802","v":800},{"$f":"IF(AccountInfo!$B802=\"\",\"\",AccountInfo!B802)","v":""},{"$nulls":7},"Check"]
[{"$f":"AccountInfo!$A803","v":801},{"$f":"IF(AccountInfo!$B803=\"\",\"\",AccountInfo!B803)","v":""},{"$nulls":7},"Check"]
[{"$f":"AccountInfo!$A804","v":802},{"$f":"IF(AccountInfo!$B804=\"\",\"\",AccountInfo!B804)","v":""},{"$nulls":7},"Check"]
[{"$f":"AccountInfo!$A805","v":803},{"$f":"IF(AccountInfo!$B805=\"\",\"\",AccountInfo!B805)","v":""},{"$nulls":7},"Check"]
[{"$f":"AccountInfo!$A806","v":804},{"$f":"IF(AccountInfo!$B806=\"\",\"\",AccountInfo!B806)","v":""},{"$nulls":7},"Check"]
[{"$f":"AccountInfo!$A807","v":805},{"$f":"IF(AccountInfo!$B807=\"\",\"\",AccountInfo!B807)","v":""},{"$nulls":7},"Check"]
[{"$f":"AccountInfo!$A808","v":806},{"$f":"IF(AccountInfo!$B808=\"\",\"\",AccountInfo!B808)","v":""},{"$nulls":7},"Check"]
[{"$f":"AccountInfo!$A809","v":807},{"$f":"IF(AccountInfo!$B809=\"\",\"\",AccountInfo!B809)","v":""},{"$nulls":7},"Check"]
[{"$f":"AccountInfo!$A810","v":808},{"$f":"IF(AccountInfo!$B810=\"\",\"\",AccountInfo!B810)","v":""},{"$nulls":7},"Check"]
[{"$f":"AccountInfo!$A811","v":809},{"$f":"IF(AccountInfo!$B811=\"\",\"\",AccountInfo!B811)","v":""},{"$nulls":7},"Check"]
[{"$f":"AccountInfo!$A812","v":810},{"$f":"IF(AccountInfo!$B812=\"\",\"\",AccountInfo!B812)","v":""},{"$nulls":7},"Check"]
[{"$f":"AccountInfo!$A813","v":811},{"$f":"IF(AccountInfo!$B813=\"\",\"\",AccountInfo!B813)","v":""},{"$nulls":7},"Check"]
[{"$f":"AccountInfo!$A814","v":812},{"$f":"IF(AccountInfo!$B814=\"\",\"\",AccountInfo!B814)","v":""},{"$nulls":7},"Check"]
[{"$f":"AccountInfo!$A815","v":813},{"$f":"IF(AccountInfo!$B815=\"\",\"\",AccountInfo!B815)","v":""},{"$nulls":7},"Check"]
[{"$f":"AccountInfo!$A816","v":814},{"$f":"IF(AccountInfo!$B816=\"\",\"\",AccountInfo!B816)","v":""},{"$nulls":7},"Check"]
[{"$f":"AccountInfo!$A817","v":815},{"$f":"IF(AccountInfo!$B817=\"\",\"\",AccountInfo!B817)","v":""},{"$nulls":7},"Check"]
[{"$f":"AccountInfo!$A818","v":816},{"$f":"IF(AccountInfo!$B818=\"\",\"\",AccountInfo!B818)","v":""},{"$nulls":7},"Check"]
[{"$f":"AccountInfo!$A819","v":817},{"$f":"IF(AccountInfo!$B819=\"\",\"\",AccountInfo!B819)","v":""},{"$nulls":7},"Check"]
[{"$f":"AccountInfo!$A820","v":818},{"$f":"IF(AccountInfo!$B820=\"\",\"\",AccountInfo!B820)","v":""},{"$nulls":7},"Check"]
[{"$f":"AccountInfo!$A821","v":819},{"$f":"IF(AccountInfo!$B821=\"\",\"\",AccountInfo!B821)","v":""},{"$nulls":7},"Check"]
[{"$f":"AccountInfo!$A822","v":820},{"$f":"IF(AccountInfo!$B822=\"\",\"\",AccountInfo!B822)","v":""},{"$nulls":7},"Check"]
[{"$f":"AccountInfo!$A823","v":821},{"$f":"IF(AccountInfo!$B823=\"\",\"\",AccountInfo!B823)","v":""},{"$nulls":7},"Check"]
[{"$f":"AccountInfo!$A824","v":822},{"$f":"IF(AccountInfo!$B824=\"\",\"\",AccountInfo!B824)","v":""},{"$nulls":7},"Check"]
[{"$f":"AccountInfo!$A825","v":823},{"$f":"IF(AccountInfo!$B825=\"\",\"\",AccountInfo!B825)","v":""},{"$nulls":7},"Check"]
[{"$f":"AccountInfo!$A826","v":824},{"$f":"IF(AccountInfo!$B826=\"\",\"\",AccountInfo!B826)","v":""},{"$nulls":7},"Check"]
[{"$f":"AccountInfo!$A827","v":825},{"$f":"IF(AccountInfo!$B827=\"\",\"\",AccountInfo!B827)","v":""},{"$nulls":7},"Check"]
[{"$f":"AccountInfo!$A828","v":826},{"$f":"IF(AccountInfo!$B828=\"\",\"\",AccountInfo!B828)","v":""},{"$nulls":7},"Check"]
[{"$f":"AccountInfo!$A829","v":827},{"$f":"IF(AccountInfo!$B829=\"\",\"\",AccountInfo!B829)","v":""},{"$nulls":7},"Check"]
[{"$f":"AccountInfo!$A830","v":828},{"$f":"IF(AccountInfo!$B830=\"\",\"\",AccountInfo!B830)","v":""},{"$nulls":7},"Check"]
[{"$f":"AccountInfo!$A831","v":829},{"$f":"IF(AccountInfo!$B831=\"\",\"\",AccountInfo!B831)","v":""},{"$nulls":7},"Check"]
[{"$f":"AccountInfo!$A832","v":830},{"$f":"IF(AccountInfo!$B832=\"\",\"\",AccountInfo!B832)","v":""},{"$nulls":7},"Check"]
[{"$f":"AccountInfo!$A833","v":831},{"$f":"IF(AccountInfo!$B833=\"\",\"\",AccountInfo!B833)","v":""},{"$nulls":7},"Check"]
[{"$f":"AccountInfo!$A834","v":832},{"$f":"IF(AccountInfo!$B834=\"\",\"\",AccountInfo!B834)","v":""},{"$nulls":7},"Check"]
[{"$f":"AccountInfo!$A835","v":833},{"$f":"IF(AccountInfo!$B835=\"\",\"\",AccountInfo!B835)","v":""},{"$nulls":7},"Check"]
[{"$f":"AccountInfo!$A836","v":834},{"$f":"IF(AccountInfo!$B836=\"\",\"\",AccountInfo!B836)","v":""},{"$nulls":7},{"$f":"IF(AND(D836<=E836, E836<=F836, F836<=G836, G836<=IF(H836=\"\", 1000000000000, H836)), \"Check\", \"Error\")","v":"Check"}]
[{"$f":"AccountInfo!$A837","v":835},{"$f":"IF(AccountInfo!$B837=\"\",\"\",AccountInfo!B837)","v":""},{"$nulls":7},"Check"]
[{"$f":"AccountInfo!$A838","v":836},{"$f":"IF(AccountInfo!$B838=\"\",\"\",AccountInfo!B838)","v":""},{"$nulls":7},"Check"]
[{"$f":"AccountInfo!$A839","v":837},{"$f":"IF(AccountInfo!$B839=\"\",\"\",AccountInfo!B839)","v":""},{"$nulls":7},"Check"]
[{"$f":"AccountInfo!$A840","v":838},{"$f":"IF(AccountInfo!$B840=\"\",\"\",AccountInfo!B840)","v":""},{"$nulls":7},"Check"]
[{"$f":"AccountInfo!$A841","v":839},{"$f":"IF(AccountInfo!$B841=\"\",\"\",AccountInfo!B841)","v":""},{"$nulls":7},"Check"]
[{"$f":"AccountInfo!$A842","v":840},{"$f":"IF(AccountInfo!$B842=\"\",\"\",AccountInfo!B842)","v":""},{"$nulls":7},"Check"]
[{"$f":"AccountInfo!$A843","v":841},{"$f":"IF(AccountInfo!$B843=\"\",\"\",AccountInfo!B843)","v":""},{"$nulls":7},"Check"]
[{"$f":"AccountInfo!$A844","v":842},{"$f":"IF(AccountInfo!$B844=\"\",\"\",AccountInfo!B844)","v":""},{"$nulls":7},"Check"]
[{"$f":"AccountInfo!$A845","v":843},{"$f":"IF(AccountInfo!$B845=\"\",\"\",AccountInfo!B845)","v":""},{"$nulls":7},"Check"]
[{"$f":"AccountInfo!$A846","v":844},{"$f":"IF(AccountInfo!$B846=\"\",\"\",AccountInfo!B846)","v":""},{"$nulls":7},"Check"]
[{"$f":"AccountInfo!$A847","v":845},{"$f":"IF(AccountInfo!$B847=\"\",\"\",AccountInfo!B847)","v":""},{"$nulls":7},"Check"]
[{"$f":"AccountInfo!$A848","v":846},{"$f":"IF(AccountInfo!$B848=\"\",\"\",AccountInfo!B848)","v":""},{"$nulls":7},"Check"]
[{"$f":"AccountInfo!$A849","v":847},{"$f":"IF(AccountInfo!$B849=\"\",\"\",AccountInfo!B849)","v":""},{"$nulls":7},"Check"]
[{"$f":"AccountInfo!$A850","v":848},{"$f":"IF(AccountInfo!$B850=\"\",\"\",AccountInfo!B850)","v":""},{"$nulls":7},"Check"]
[{"$f":"AccountInfo!$A851","v":849},{"$f":"IF(AccountInfo!$B851=\"\",\"\",AccountInfo!B851)","v":""},{"$nulls":7},"Check"]
[{"$f":"AccountInfo!$A852","v":850},{"$f":"IF(AccountInfo!$B852=\"\",\"\",AccountInfo!B852)","v":""},{"$nulls":7},"Check"]
[{"$f":"AccountInfo!$A853","v":851},{"$f":"IF(AccountInfo!$B853=\"\",\"\",AccountInfo!B853)","v":""},{"$nulls":7},"Check"]
[{"$f":"AccountInfo!$A854","v":852},{"$f":"IF(AccountInfo!$B854=\"\",\"\",AccountInfo!B854)","v":""},{"$nulls":7},"Check"]
[{"$f":"AccountInfo!$A855","v":853},{"$f":"IF(AccountInfo!$B855=\"\",\"\",AccountInfo!B855)","v":""},{"$nulls":7},"Check"]
[{"$f":"AccountInfo!$A856","v":854},{"$f":"IF(AccountInfo!$B856=\"\",\"\",AccountInfo!B856)","v":""},{"$nulls":7},"Check"]
[{"$f":"AccountInfo!$A857","v":855},{"$f":"IF(AccountInfo!$B857=\"\",\"\",AccountInfo!B857)","v":""},{"$nulls":7},"Check"]
[{"$f":"AccountInfo!$A858","v":856},{"$f":"IF(AccountInfo!$B858=\"\",\"\",AccountInfo!B858)","v":""},{"$nulls":7},"Check"]
[{"$f":"AccountInfo!$A859","v":857},{"$f":"IF(AccountInfo!$B859=\"\",\"\",AccountInfo!B859)","v":""},{"$nulls":7},"Check"]
[{"$f":"AccountInfo!$A860","v":858},{"$f":"IF(AccountInfo!$B860=\"\",\"\",AccountInfo!B860)","v":""},{"$nulls":7},"Check"]
[{"$f":"AccountInfo!$A861","v":859},{"$f":"IF(AccountInfo!$B861=\"\",\"\",AccountInfo!B861)","v":""},{"$nulls":7},"Check"]
[{"$f":"AccountInfo!$A862","v":860},{"$f":"IF(AccountInfo!$B862=\"\",\"\",AccountInfo!B862)","v":""},{"$nulls":7},"Check"]
[{"$f":"AccountInfo!$A863","v":861},{"$f":"IF(AccountInfo!$B863=\"\",\"\",AccountInfo!B863)","v":""},{"$nulls":7},"Check"]
[{"$f":"AccountInfo!$A864","v":862},{"$f":"IF(AccountInfo!$B864=\"\",\"\",AccountInfo!B864)","v":""},{"$nulls":7},"Check"]
[{"$f":"AccountInfo!$A865","v":863},{"$f":"IF(AccountInfo!$B865=\"\",\"\",AccountInfo!B865)","v":""},{"$nulls":7},"Check"]
[{"$f":"AccountInfo!$A866","v":864},{"$f":"IF(AccountInfo!$B866=\"\",\"\",AccountInfo!B866)","v":""},{"$nulls":7},"Check"]
[{"$f":"AccountInfo!$A867","v":865},{"$f":"IF(AccountInfo!$B867=\"\",\"\",AccountInfo!B867)","v":""},{"$nulls":7},"Check"]
[{"$f":"AccountInfo!$A868","v":866},{"$f":"IF(AccountInfo!$B868=\"\",\"\",AccountInfo!B868)","v":""},{"$nulls":7},"Check"]
[{"$f":"AccountInfo!$A869","v":867},{"$f":"IF(AccountInfo!$B869=\"\",\"\",AccountInfo!B869)","v":""},{"$nulls":7},"Check"]
[{"$f":"AccountInfo!$A870","v":868},{"$f":"IF(AccountInfo!$B870=\"\",\"\",AccountInfo!B870)","v":""},{"$nulls":7},"Check"]
[{"$f":"AccountInfo!$A871","v":869},{"$f":"IF(AccountInfo!$B871=\"\",\"\",AccountInfo!B871)","v":""},{"$nulls":7},"Check"]
[{"$f":"AccountInfo!$A872","v":870},{"$f":"IF(AccountInfo!$B872=\"\",\"\",AccountInfo!B872)","v":""},{"$nulls":7},"Check"]
[{"$f":"AccountInfo!$A873","v":871},{"$f":"IF(AccountInfo!$B873=\"\",\"\",AccountInfo!B873)","v":""},{"$nulls":7},"Check"]
[{"$f":"AccountInfo!$A874","v":872},{"$f":"IF(AccountInfo!$B874=\"\",\"\",AccountInfo!B874)","v":""},{"$nulls":7},"Check"]
[{"$f":"AccountInfo!$A875","v":873},{"$f":"IF(AccountInfo!$B875=\"\",\"\",AccountInfo!B875)","v":""},{"$nulls":7},"Check"]
[{"$f":"AccountInfo!$A876","v":874},{"$f":"IF(AccountInfo!$B876=\"\",\"\",AccountInfo!B876)","v":""},{"$nulls":7},"Check"]
[{"$f":"AccountInfo!$A877","v":875},{"$f":"IF(AccountInfo!$B877=\"\",\"\",AccountInfo!B877)","v":""},{"$nulls":7},"Check"]
[{"$f":"AccountInfo!$A878","v":876},{"$f":"IF(AccountInfo!$B878=\"\",\"\",AccountInfo!B878)","v":""},{"$nulls":7},"Check"]
[{"$f":"AccountInfo!$A879","v":877},{"$f":"IF(AccountInfo!$B879=\"\",\"\",AccountInfo!B879)","v":""},{"$nulls":7},"Check"]
[{"$f":"AccountInfo!$A880","v":878},{"$f":"IF(AccountInfo!$B880=\"\",\"\",AccountInfo!B880)","v":""},{"$nulls":7},"Check"]
[{"$f":"AccountInfo!$A881","v":879},{"$f":"IF(AccountInfo!$B881=\"\",\"\",AccountInfo!B881)","v":""},{"$nulls":7},"Check"]
[{"$f":"AccountInfo!$A882","v":880},{"$f":"IF(AccountInfo!$B882=\"\",\"\",AccountInfo!B882)","v":""},{"$nulls":7},"Check"]
[{"$f":"AccountInfo!$A883","v":881},{"$f":"IF(AccountInfo!$B883=\"\",\"\",AccountInfo!B883)","v":""},{"$nulls":7},"Check"]
[{"$f":"AccountInfo!$A884","v":882},{"$f":"IF(AccountInfo!$B884=\"\",\"\",AccountInfo!B884)","v":""},{"$nulls":7},"Check"]
[{"$f":"AccountInfo!$A885","v":883},{"$f":"IF(AccountInfo!$B885=\"\",\"\",AccountInfo!B885)","v":""},{"$nulls":7},"Check"]
[{"$f":"AccountInfo!$A886","v":884},{"$f":"IF(AccountInfo!$B886=\"\",\"\",AccountInfo!B886)","v":""},{"$nulls":7},"Check"]
[{"$f":"AccountInfo!$A887","v":885},{"$f":"IF(AccountInfo!$B887=\"\",\"\",AccountInfo!B887)","v":""},{"$nulls":7},"Check"]
[{"$f":"AccountInfo!$A888","v":886},{"$f":"IF(AccountInfo!$B888=\"\",\"\",AccountInfo!B888)","v":""},{"$nulls":7},"Check"]
[{"$f":"AccountInfo!$A889","v":887},{"$f":"IF(AccountInfo!$B889=\"\",\"\",AccountInfo!B889)","v":""},{"$nulls":7},"Check"]
[{"$f":"AccountInfo!$A890","v":888},{"$f":"IF(AccountInfo!$B890=\"\",\"\",AccountInfo!B890)","v":""},{"$nulls":7},"Check"]
[{"$f":"AccountInfo!$A891","v":889},{"$f":"IF(AccountInfo!$B891=\"\",\"\",AccountInfo!B891)","v":""},{"$nulls":7},"Check"]
[{"$f":"AccountInfo!$A892","v":890},{"$f":"IF(AccountInfo!$B892=\"\",\"\",AccountInfo!B892)","v":""},{"$nulls":7},"Check"]
[{"$f":"AccountInfo!$A893","v":891},{"$f":"IF(AccountInfo!$B893=\"\",\"\",AccountInfo!B893)","v":""},{"$nulls":7},"Check"]
[{"$f":"AccountInfo!$A894","v":892},{"$f":"IF(AccountInfo!$B894=\"\",\"\",AccountInfo!B894)","v":""},{"$nulls":7},"Check"]
[{"$f":"AccountInfo!$A895","v":893},{"$f":"IF(AccountInfo!$B895=\"\",\"\",AccountInfo!B895)","v":""},{"$nulls":7},"Check"]
[{"$f":"AccountInfo!$A896","v":894},{"$f":"IF(AccountInfo!$B896=\"\",\"\",AccountInfo!B896)","v":""},{"$nulls":7},"Check"]
[{"$f":"AccountInfo!$A897","v":895},{"$f":"IF(AccountInfo!$B897=\"\",\"\",AccountInfo!B897)","v":""},{"$nulls":7},"Check"]
[{"$f":"AccountInfo!$A898","v":896},{"$f":"IF(AccountInfo!$B898=\"\",\"\",AccountInfo!B898)","v":""},{"$nulls":7},"Check"]
[{"$f":"AccountInfo!$A899","v":897},{"$f":"IF(AccountInfo!$B899=\"\",\"\",AccountInfo!B899)","v":""},{"$nulls":7},"Check"]
[{"$f":"AccountInfo!$A900","v":898},{"$f":"IF(AccountInfo!$B900=\"\",\"\",AccountInfo!B900)","v":""},{"$nulls":7},{"$f":"IF(AND(D900<=E900, E900<=F900, F900<=G900, G900<=IF(H900=\"\", 1000000000000, H900)), \"Check\", \"Error\")","v":"Check"}]
[{"$f":"AccountInfo!$A901","v":899},{"$f":"IF(AccountInfo!$B901=\"\",\"\",AccountInfo!B901)","v":""},{"$nulls":7},"Check"]
[{"$f":"AccountInfo!$A902","v":900},{"$f":"IF(AccountInfo!$B902=\"\",\"\",AccountInfo!B902)","v":""},{"$nulls":7},"Check"]
[{"$f":"AccountInfo!$A903","v":901},{"$f":"IF(AccountInfo!$B903=\"\",\"\",AccountInfo!B903)","v":""},{"$nulls":7},"Check"]
[{"$f":"AccountInfo!$A904","v":902},{"$f":"IF(AccountInfo!$B904=\"\",\"\",AccountInfo!B904)","v":""},{"$nulls":7},"Check"]
[{"$f":"AccountInfo!$A905","v":903},{"$f":"IF(AccountInfo!$B905=\"\",\"\",AccountInfo!B905)","v":""},{"$nulls":7},"Check"]
[{"$f":"AccountInfo!$A906","v":904},{"$f":"IF(AccountInfo!$B906=\"\",\"\",AccountInfo!B906)","v":""},{"$nulls":7},"Check"]
[{"$f":"AccountInfo!$A907","v":905},{"$f":"IF(AccountInfo!$B907=\"\",\"\",AccountInfo!B907)","v":""},{"$nulls":7},"Check"]
[{"$f":"AccountInfo!$A908","v":906},{"$f":"IF(AccountInfo!$B908=\"\",\"\",AccountInfo!B908)","v":""},{"$nulls":7},"Check"]
[{"$f":"AccountInfo!$A909","v":907},{"$f":"IF(AccountInfo!$B909=\"\",\"\",AccountInfo!B909)","v":""},{"$nulls":7},"Check"]
[{"$f":"AccountInfo!$A910","v":908},{"$f":"IF(AccountInfo!$B910=\"\",\"\",AccountInfo!B910)","v":""},{"$nulls":7},"Check"]
[{"$f":"AccountInfo!$A911","v":909},{"$f":"IF(AccountInfo!$B911=\"\",\"\",AccountInfo!B911)","v":""},{"$nulls":7},"Check"]
[{"$f":"AccountInfo!$A912","v":910},{"$f":"IF(AccountInfo!$B912=\"\",\"\",AccountInfo!B912)","v":""},{"$nulls":7},"Check"]
[{"$f":"AccountInfo!$A913","v":911},{"$f":"IF(AccountInfo!$B913=\"\",\"\",AccountInfo!B913)","v":""},{"$nulls":7},"Check"]
[{"$f":"AccountInfo!$A914","v":912},{"$f":"IF(AccountInfo!$B914=\"\",\"\",AccountInfo!B914)","v":""},{"$nulls":7},"Check"]
[{"$f":"AccountInfo!$A915","v":913},{"$f":"IF(AccountInfo!$B915=\"\",\"\",AccountInfo!B915)","v":""},{"$nulls":7},"Check"]
[{"$f":"AccountInfo!$A916","v":914},{"$f":"IF(AccountInfo!$B916=\"\",\"\",AccountInfo!B916)","v":""},{"$nulls":7},"Check"]
[{"$f":"AccountInfo!$A917","v":915},{"$f":"IF(AccountInfo!$B917=\"\",\"\",AccountInfo!B917)","v":""},{"$nulls":7},"Check"]
[{"$f":"AccountInfo!$A918","v":916},{"$f":"IF(AccountInfo!$B918=\"\",\"\",AccountInfo!B918)","v":""},{"$nulls":7},"Check"]
[{"$f":"AccountInfo!$A919","v":917},{"$f":"IF(AccountInfo!$B919=\"\",\"\",AccountInfo!B919)","v":""},{"$nulls":7},"Check"]
[{"$f":"AccountInfo!$A920","v":918},{"$f":"IF(AccountInfo!$B920=\"\",\"\",AccountInfo!B920)","v":""},{"$nulls":7},"Check"]
[{"$f":"AccountInfo!$A921","v":919},{"$f":"IF(AccountInfo!$B921=\"\",\"\",AccountInfo!B921)","v":""},{"$nulls":7},"Check"]
[{"$f":"AccountInfo!$A922","v":920},{"$f":"IF(AccountInfo!$B922=\"\",\"\",AccountInfo!B922)","v":""},{"$nulls":7},"Check"]
[{"$f":"AccountInfo!$A923","v":921},{"$f":"IF(AccountInfo!$B923=\"\",\"\",AccountInfo!B923)","v":""},{"$nulls":7},"Check"]
[{"$f":"AccountInfo!$A924","v":922},{"$f":"IF(AccountInfo!$B924=\"\",\"\",AccountInfo!B924)","v":""},{"$nulls":7},"Check"]
[{"$f":"AccountInfo!$A925","v":923},{"$f":"IF(AccountInfo!$B925=\"\",\"\",AccountInfo!B925)","v":""},{"$nulls":7},"Check"]
[{"$f":"AccountInfo!$A926","v":924},{"$f":"IF(AccountInfo!$B926=\"\",\"\",AccountInfo!B926)","v":""},{"$nulls":7},"Check"]
[{"$f":"AccountInfo!$A927","v":925},{"$f":"IF(AccountInfo!$B927=\"\",\"\",AccountInfo!B927)","v":""},{"$nulls":7},"Check"]
[{"$f":"AccountInfo!$A928","v":926},{"$f":"IF(AccountInfo!$B928=\"\",\"\",AccountInfo!B928)","v":""},{"$nulls":7},"Check"]
[{"$f":"AccountInfo!$A929","v":927},{"$f":"IF(AccountInfo!$B929=\"\",\"\",AccountInfo!B929)","v":""},{"$nulls":7},"Check"]
[{"$f":"AccountInfo!$A930","v":928},{"$f":"IF(AccountInfo!$B930=\"\",\"\",AccountInfo!B930)","v":""},{"$nulls":7},"Check"]
[{"$f":"AccountInfo!$A931","v":929},{"$f":"IF(AccountInfo!$B931=\"\",\"\",AccountInfo!B931)","v":""},{"$nulls":7},"Check"]
[{"$f":"AccountInfo!$A932","v":930},{"$f":"IF(AccountInfo!$B932=\"\",\"\",AccountInfo!B932)","v":""},{"$nulls":7},"Check"]
[{"$f":"AccountInfo!$A933","v":931},{"$f":"IF(AccountInfo!$B933=\"\",\"\",AccountInfo!B933)","v":""},{"$nulls":7},"Check"]
[{"$f":"AccountInfo!$A934","v":932},{"$f":"IF(AccountInfo!$B934=\"\",\"\",AccountInfo!B934)","v":""},{"$nulls":7},"Check"]
[{"$f":"AccountInfo!$A935","v":933},{"$f":"IF(AccountInfo!$B935=\"\",\"\",AccountInfo!B935)","v":""},{"$nulls":7},"Check"]
[{"$f":"AccountInfo!$A936","v":934},{"$f":"IF(AccountInfo!$B936=\"\",\"\",AccountInfo!B936)","v":""},{"$nulls":7},"Check"]
[{"$f":"AccountInfo!$A937","v":935},{"$f":"IF(AccountInfo!$B937=\"\",\"\",AccountInfo!B937)","v":""},{"$nulls":7},"Check"]
[{"$f":"AccountInfo!$A938","v":936},{"$f":"IF(AccountInfo!$B938=\"\",\"\",AccountInfo!B938)","v":""},{"$nulls":7},"Check"]
[{"$f":"AccountInfo!$A939","v":937},{"$f":"IF(AccountInfo!$B939=\"\",\"\",AccountInfo!B939)","v":""},{"$nulls":7},"Check"]
[{"$f":"AccountInfo!$A940","v":938},{"$f":"IF(AccountInfo!$B940=\"\",\"\",AccountInfo!B940)","v":""},{"$nulls":7},"Check"]
[{"$f":"AccountInfo!$A941","v":939},{"$f":"IF(AccountInfo!$B941=\"\",\"\",AccountInfo!B941)","v":""},{"$nulls":7},"Check"]
[{"$f":"AccountInfo!$A942","v":940},{"$f":"IF(AccountInfo!$B942=\"\",\"\",AccountInfo!B942)","v":""},{"$nulls":7},"Check"]
[{"$f":"AccountInfo!$A943","v":941},{"$f":"IF(AccountInfo!$B943=\"\",\"\",AccountInfo!B943)","v":""},{"$nulls":7},"Check"]
[{"$f":"AccountInfo!$A944","v":942},{"$f":"IF(AccountInfo!$B944=\"\",\"\",AccountInfo!B944)","v":""},{"$nulls":7},"Check"]
[{"$f":"AccountInfo!$A945","v":943},{"$f":"IF(AccountInfo!$B945=\"\",\"\",AccountInfo!B945)","v":""},{"$nulls":7},"Check"]
[{"$f":"AccountInfo!$A946","v":944},{"$f":"IF(AccountInfo!$B946=\"\",\"\",AccountInfo!B946)","v":""},{"$nulls":7},"Check"]
[{"$f":"AccountInfo!$A947","v":945},{"$f":"IF(AccountInfo!$B947=\"\",\"\",AccountInfo!B947)","v":""},{"$nulls":7},"Check"]
[{"$f":"AccountInfo!$A948","v":946},{"$f":"IF(AccountInfo!$B948=\"\",\"\",AccountInfo!B948)","v":""},{"$nulls":7},"Check"]
[{"$f":"AccountInfo!$A949","v":947},{"$f":"IF(AccountInfo!$B949=\"\",\"\",AccountInfo!B949)","v":""},{"$nulls":7},"Check"]
[{"$f":"AccountInfo!$A950","v":948},{"$f":"IF(AccountInfo!$B950=\"\",\"\",AccountInfo!B950)","v":""},{"$nulls":7},"Check"]
[{"$f":"AccountInfo!$A951","v":949},{"$f":"IF(AccountInfo!$B951=\"\",\"\",AccountInfo!B951)","v":""},{"$nulls":7},"Check"]
[{"$f":"AccountInfo!$A952","v":950},{"$f":"IF(AccountInfo!$B952=\"\",\"\",AccountInfo!B952)","v":""},{"$nulls":7},"Check"]
[{"$f":"AccountInfo!$A953","v":951},{"$f":"IF(AccountInfo!$B953=\"\",\"\",AccountInfo!B953)","v":""},{"$nulls":7},"Check"]
[{"$f":"AccountInfo!$A954","v":952},{"$f":"IF(AccountInfo!$B954=\"\",\"\",AccountInfo!B954)","v":""},{"$nulls":7},"Check"]
[{"$f":"AccountInfo!$A955","v":953},{"$f":"IF(AccountInfo!$B955=\"\",\"\",AccountInfo!B955)","v":""},{"$nulls":7},"Check"]
[{"$f":"AccountInfo!$A956","v":954},{"$f":"IF(AccountInfo!$B956=\"\",\"\",AccountInfo!B956)","v":""},{"$nulls":7},"Check"]
[{"$f":"AccountInfo!$A957","v":955},{"$f":"IF(AccountInfo!$B957=\"\",\"\",AccountInfo!B957)","v":""},{"$nulls":7},"Check"]
[{"$f":"AccountInfo!$A958","v":956},{"$f":"IF(AccountInfo!$B958=\"\",\"\",AccountInfo!B958)","v":""},{"$nulls":7},"Check"]
[{"$f":"AccountInfo!$A959","v":957},{"$f":"IF(AccountInfo!$B959=\"\",\"\",AccountInfo!B959)","v":""},{"$nulls":7},"Check"]
[{"$f":"AccountInfo!$A960","v":958},{"$f":"IF(AccountInfo!$B960=\"\",\"\",AccountInfo!B960)","v":""},{"$nulls":7},"Check"]
[{"$f":"AccountInfo!$A961","v":959},{"$f":"IF(AccountInfo!$B961=\"\",\"\",AccountInfo!B961)","v":""},{"$nulls":7},"Check"]
[{"$f":"AccountInfo!$A962","v":960},{"$f":"IF(AccountInfo!$B962=\"\",\"\",AccountInfo!B962)","v":""},{"$nulls":7},"Check"]
[{"$f":"AccountInfo!$A963","v":961},{"$f":"IF(AccountInfo!$B963=\"\",\"\",AccountInfo!B963)","v":""},{"$nulls":7},"Check"]
[{"$f":"AccountInfo!$A964","v":962},{"$f":"IF(AccountInfo!$B964=\"\",\"\",AccountInfo!B964)","v":""},{"$nulls":7},{"$f":"IF(AND(D964<=E964, E964<=F964, F964<=G964, G964<=IF(H964=\"\", 1000000000000, H964)), \"Check\", \"Error\")","v":"Check"}]
[{"$f":"AccountInfo!$A965","v":963},{"$f":"IF(AccountInfo!$B965=\"\",\"\",AccountInfo!B965)","v":""},{"$nulls":7},"Check"]
[{"$f":"AccountInfo!$A966","v":964},{"$f":"IF(AccountInfo!$B966=\"\",\"\",AccountInfo!B966)","v":""},{"$nulls":7},"Check"]
[{"$f":"AccountInfo!$A967","v":965},{"$f":"IF(AccountInfo!$B967=\"\",\"\",AccountInfo!B967)","v":""},{"$nulls":7},"Check"]
[{"$f":"AccountInfo!$A968","v":966},{"$f":"IF(AccountInfo!$B968=\"\",\"\",AccountInfo!B968)","v":""},{"$nulls":7},"Check"]
[{"$f":"AccountInfo!$A969","v":967},{"$f":"IF(AccountInfo!$B969=\"\",\"\",AccountInfo!B969)","v":""},{"$nulls":7},"Check"]
[{"$f":"AccountInfo!$A970","v":968},{"$f":"IF(AccountInfo!$B970=\"\",\"\",AccountInfo!B970)","v":""},{"$nulls":7},"Check"]
[{"$f":"AccountInfo!$A971","v":969},{"$f":"IF(AccountInfo!$B971=\"\",\"\",AccountInfo!B971)","v":""},{"$nulls":7},"Check"]
[{"$f":"AccountInfo!$A972","v":970},{"$f":"IF(AccountInfo!$B972=\"\",\"\",AccountInfo!B972)","v":""},{"$nulls":7},"Check"]
[{"$f":"AccountInfo!$A973","v":971},{"$f":"IF(AccountInfo!$B973=\"\",\"\",AccountInfo!B973)","v":""},{"$nulls":7},"Check"]
[{"$f":"AccountInfo!$A974","v":972},{"$f":"IF(AccountInfo!$B974=\"\",\"\",AccountInfo!B974)","v":""},{"$nulls":7},"Check"]
[{"$f":"AccountInfo!$A975","v":973},{"$f":"IF(AccountInfo!$B975=\"\",\"\",AccountInfo!B975)","v":""},{"$nulls":7},"Check"]
[{"$f":"AccountInfo!$A976","v":974},{"$f":"IF(AccountInfo!$B976=\"\",\"\",AccountInfo!B976)","v":""},{"$nulls":7},"Check"]
[{"$f":"AccountInfo!$A977","v":975},{"$f":"IF(AccountInfo!$B977=\"\",\"\",AccountInfo!B977)","v":""},{"$nulls":7},"Check"]
[{"$f":"AccountInfo!$A978","v":976},{"$f":"IF(AccountInfo!$B978=\"\",\"\",AccountInfo!B978)","v":""},{"$nulls":7},"Check"]
[{"$f":"AccountInfo!$A979","v":977},{"$f":"IF(AccountInfo!$B979=\"\",\"\",AccountInfo!B979)","v":""},{"$nulls":7},"Check"]
[{"$f":"AccountInfo!$A980","v":978},{"$f":"IF(AccountInfo!$B980=\"\",\"\",AccountInfo!B980)","v":""},{"$nulls":7},"Check"]
[{"$f":"AccountInfo!$A981","v":979},{"$f":"IF(AccountInfo!$B981=\"\",\"\",AccountInfo!B981)","v":""},{"$nulls":7},"Check"]
[{"$f":"AccountInfo!$A982","v":980},{"$f":"IF(AccountInfo!$B982=\"\",\"\",AccountInfo!B982)","v":""},{"$nulls":7},"Check"]
[{"$f":"AccountInfo!$A983","v":981},{"$f":"IF(AccountInfo!$B983=\"\",\"\",AccountInfo!B983)","v":""},{"$nulls":7},"Check"]
[{"$f":"AccountInfo!$A984","v":982},{"$f":"IF(AccountInfo!$B984=\"\",\"\",AccountInfo!B984)","v":""},{"$nulls":7},"Check"]
[{"$f":"AccountInfo!$A985","v":983},{"$f":"IF(AccountInfo!$B985=\"\",\"\",AccountInfo!B985)","v":""},{"$nulls":7},"Check"]
[{"$f":"AccountInfo!$A986","v":984},{"$f":"IF(AccountInfo!$B986=\"\",\"\",AccountInfo!B986)","v":""},{"$nulls":7},"Check"]
[{"$f":"AccountInfo!$A987","v":985},{"$f":"IF(AccountInfo!$B987=\"\",\"\",AccountInfo!B987)","v":""},{"$nulls":7},"Check"]
[{"$f":"AccountInfo!$A988","v":986},{"$f":"IF(AccountInfo!$B988=\"\",\"\",AccountInfo!B988)","v":""},{"$nulls":7},"Check"]
[{"$f":"AccountInfo!$A989","v":987},{"$f":"IF(AccountInfo!$B989=\"\",\"\",AccountInfo!B989)","v":""},{"$nulls":7},"Check"]
[{"$f":"AccountInfo!$A990","v":988},{"$f":"IF(AccountInfo!$B990=\"\",\"\",AccountInfo!B990)","v":""},{"$nulls":7},"Check"]
[{"$f":"AccountInfo!$A991","v":989},{"$f":"IF(AccountInfo!$B991=\"\",\"\",AccountInfo!B991)","v":""},{"$nulls":7},"Check"]
[{"$f":"AccountInfo!$A992","v":990},{"$f":"IF(AccountInfo!$B992=\"\",\"\",AccountInfo!B992)","v":""},{"$nulls":7},"Check"]
[{"$f":"AccountInfo!$A993","v":991},{"$f":"IF(AccountInfo!$B993=\"\",\"\",AccountInfo!B993)","v":""},{"$nulls":7},"Check"]
[{"$f":"AccountInfo!$A994","v":992},{"$f":"IF(AccountInfo!$B994=\"\",\"\",AccountInfo!B994)","v":""},{"$nulls":7},"Check"]
[{"$f":"AccountInfo!$A995","v":993},{"$f":"IF(AccountInfo!$B995=\"\",\"\",AccountInfo!B995)","v":""},{"$nulls":7},"Check"]
[{"$f":"AccountInfo!$A996","v":994},{"$f":"IF(AccountInfo!$B996=\"\",\"\",AccountInfo!B996)","v":""},{"$nulls":7},"Check"]
[{"$f":"AccountInfo!$A997","v":995},{"$f":"IF(AccountInfo!$B997=\"\",\"\",AccountInfo!B997)","v":""},{"$nulls":7},"Check"]
[{"$f":"AccountInfo!$A998","v":996},{"$f":"IF(AccountInfo!$B998=\"\",\"\",AccountInfo!B998)","v":""},{"$nulls":7},"Check"]
[{"$f":"AccountInfo!$A999","v":997},{"$f":"IF(AccountInfo!$B999=\"\",\"\",AccountInfo!B999)","v":""},{"$nulls":7},"Check"]
[{"$f":"AccountInfo!$A1000","v":998},{"$f":"IF(AccountInfo!$B1000=\"\",\"\",AccountInfo!B1000)","v":""},{"$nulls":7},"Check"]
[{"$f":"AccountInfo!$A1001","v":999},{"$f":"IF(AccountInfo!$B1001=\"\",\"\",AccountInfo!B1001)","v":""},{"$nulls":7},"Check"]
[{"$f":"AccountInfo!$A1002","v":1000},{"$f":"IF(AccountInfo!$B1002=\"\",\"\",AccountInfo!B1002)","v":""},{"$nulls":7},"Check"]

{"sheet":"IncidentalCost","index":6,"n_rows":1002,"n_cols":12,"rows_kept":1002,"merged":[[0,2,0,8]]}
[null,null,"Incidental Cost to Close [$]"]
["Opp_ID",{"$f":"AccountInfo!B2","v":"Opp_Name"},"Reasons for Low","LowConstr",0.1,0.5,0.9,"HighConstr","Reasons for High","Check",null,"Instructions"]
[{"$f":"AccountInfo!$A3","v":1},{"$f":"IF(AccountInfo!$B3=\"\",\"\",AccountInfo!B3)","v":"Whiskers and Fleas"},null,0,{"v":14445,"d":"$14,445"},{"v":29211,"d":"$29,211"},{"v":30577,"d":"$30,577"},null,null,{"$f":"IF(AND(D3<=E3, E3<=F3, F3<=G3, G3<=IF(H3=\"\", 1000000000000, H3)), \"Check\", \"Error\")","v":"Check"},null,"For a given opportunity, provide reasons for low values first."]
[{"$f":"AccountInfo!$A4","v":2},{"$f":"IF(AccountInfo!$B4=\"\",\"\",AccountInfo!B4)","v":"Cheddar Cheese"},null,0,{"v":15537,"d":"$15,537"},{"v":17709,"d":"$17,709"},{"v":37797,"d":"$37,797"},null,null,{"$f":"IF(AND(D4<=E4, E4<=F4, F4<=G4, G4<=IF(H4=\"\", 1000000000000, H4)), \"Check\", \"Error\")","v":"Check"},null,"Provide reasons for high values."]
[{"$f":"AccountInfo!$A5","v":3},{"$f":"IF(AccountInfo!$B5=\"\",\"\",AccountInfo!B5)","v":"Abominable Snowman"},null,0,{"v":18142,"d":"$18,142"},{"v":27726,"d":"$27,726"},{"v":33465,"d":"$33,465"},null,null,"Check",null,"Estimate the p10."]
[{"$f":"AccountInfo!$A6","v":4},{"$f":"IF(AccountInfo!$B6=\"\",\"\",AccountInfo!B6)","v":"Treason on the High Seas"},null,0,{"v":17520,"d":"$17,520"},{"v":20061,"d":"$20,061"},{"v":37040,"d":"$37,040"},null,null,"Check",null,"Estimate the p90."]
[{"$f":"AccountInfo!$A7","v":5},{"$f":"IF(AccountInfo!$B7=\"\",\"\",AccountInfo!B7)","v":"Pinky and the Brain"},null,0,{"v":11769,"d":"$11,769"},{"v":14771,"d":"$14,771"},{"v":31446,"d":"$31,446"},null,null,"Check",null,"Always estimate the p50 last, no exceptions."]
[{"$f":"AccountInfo!$A8","v":6},{"$f":"IF(AccountInfo!$B8=\"\",\"\",AccountInfo!B8)","v":"Clams and Mushrooms"},null,0,{"v":18034,"d":"$18,034"},{"v":18382,"d":"$18,382"},{"v":23763,"d":"$23,763"},null,null,"Check",null,"If there is a required Min other than 0, enter that value; otherwise, leave the Required Min as 0."]
[{"$f":"AccountInfo!$A9","v":7},{"$f":"IF(AccountInfo!$B9=\"\",\"\",AccountInfo!B9)","v":"Concert at Red Rocks"},null,0,{"v":19264,"d":"$19,264"},{"v":28441,"d":"$28,441"},{"v":35962,"d":"$35,962"},null,null,"Check",null,"If there is a required Max, enter that value; otherwise, leave the Required Max blank."]
[{"$f":"AccountInfo!$A10","v":8},{"$f":"IF(AccountInfo!$B10=\"\",\"\",AccountInfo!B10)","v":"Fast Times at Ridgemont High"},null,0,{"v":10595,"d":"$10,595"},{"v":26637,"d":"$26,637"},{"v":29249,"d":"$29,249"},null,null,"Check",null,"The estimates should strictly follow Min<p10<p50<p90<Max."]
[{"$f":"AccountInfo!$A11","v":9},{"$f":"IF(AccountInfo!$B11=\"\",\"\",AccountInfo!B11)","v":"Monkey See Monkey Do"},null,0,{"v":5498,"d":"$5,498"},{"v":8056,"d":"$8,056"},{"v":39377,"d":"$39,377"},null,null,"Check"]
[{"$f":"AccountInfo!$A12","v":10},{"$f":"IF(AccountInfo!$B12=\"\",\"\",AccountInfo!B12)","v":"Mine Eyes Have Seen the Glory"},null,0,{"v":19001,"d":"$19,001"},{"v":22719,"d":"$22,719"},{"v":23140,"d":"$23,140"},null,null,"Check"]
[{"$f":"AccountInfo!$A13","v":11},{"$f":"IF(AccountInfo!$B13=\"\",\"\",AccountInfo!B13)","v":"Punky Brewster Lives"},null,0,{"v":13529,"d":"$13,529"},{"v":14337,"d":"$14,337"},{"v":30919,"d":"$30,919"},null,null,"Check"]
[{"$f":"AccountInfo!$A14","v":12},{"$f":"IF(AccountInfo!$B14=\"\",\"\",AccountInfo!B14)","v":"Live at the Magic Kingdom"},null,0,{"v":11682,"d":"$11,682"},{"v":29544,"d":"$29,544"},{"v":34250,"d":"$34,250"},null,null,"Check"]
[{"$f":"AccountInfo!$A15","v":13},{"$f":"IF(AccountInfo!$B15=\"\",\"\",AccountInfo!B15)","v":"House Music"},null,0,{"v":30000,"d":"$30,000"},{"v":40000,"d":"$40,000"},{"v":50000,"d":"$50,000"},null,null,"Check"]
[{"$f":"AccountInfo!$A16","v":14},{"$f":"IF(AccountInfo!$B16=\"\",\"\",AccountInfo!B16)","v":"Kindle Fire Truck"},null,0,{"v":20000,"d":"$20,000"},{"v":30000,"d":"$30,000"},{"v":50000,"d":"$50,000"},null,null,"Check"]
[{"$f":"AccountInfo!$A17","v":15},{"$f":"IF(AccountInfo!$B17=\"\",\"\",AccountInfo!B17)","v":""},{"$nulls":7},"Check"]
[{"$f":"AccountInfo!$A18","v":16},{"$f":"IF(AccountInfo!$B18=\"\",\"\",AccountInfo!B18)","v":""},{"$nulls":7},"Check"]
[{"$f":"AccountInfo!$A19","v":17},{"$f":"IF(AccountInfo!$B19=\"\",\"\",AccountInfo!B19)","v":""},{"$nulls":7},"Check"]
[{"$f":"AccountInfo!$A20","v":18},{"$f":"IF(AccountInfo!$B20=\"\",\"\",AccountInfo!B20)","v":""},{"$nulls":7},"Check"]
[{"$f":"AccountInfo!$A21","v":19},{"$f":"IF(AccountInfo!$B21=\"\",\"\",AccountInfo!B21)","v":""},{"$nulls":7},"Check"]
[{"$f":"AccountInfo!$A22","v":20},{"$f":"IF(AccountInfo!$B22=\"\",\"\",AccountInfo!B22)","v":""},{"$nulls":7},"Check"]
[{"$f":"AccountInfo!$A23","v":21},{"$f":"IF(AccountInfo!$B23=\"\",\"\",AccountInfo!B23)","v":""},{"$nulls":7},"Check"]
[{"$f":"AccountInfo!$A24","v":22},{"$f":"IF(AccountInfo!$B24=\"\",\"\",AccountInfo!B24)","v":""},{"$nulls":7},"Check"]
[{"$f":"AccountInfo!$A25","v":23},{"$f":"IF(AccountInfo!$B25=\"\",\"\",AccountInfo!B25)","v":""},{"$nulls":7},"Check"]
[{"$f":"AccountInfo!$A26","v":24},{"$f":"IF(AccountInfo!$B26=\"\",\"\",AccountInfo!B26)","v":""},{"$nulls":7},"Check"]
[{"$f":"AccountInfo!$A27","v":25},{"$f":"IF(AccountInfo!$B27=\"\",\"\",AccountInfo!B27)","v":""},{"$nulls":7},"Check"]
[{"$f":"AccountInfo!$A28","v":26},{"$f":"IF(AccountInfo!$B28=\"\",\"\",AccountInfo!B28)","v":""},{"$nulls":7},"Check"]
[{"$f":"AccountInfo!$A29","v":27},{"$f":"IF(AccountInfo!$B29=\"\",\"\",AccountInfo!B29)","v":""},{"$nulls":7},"Check"]
[{"$f":"AccountInfo!$A30","v":28},{"$f":"IF(AccountInfo!$B30=\"\",\"\",AccountInfo!B30)","v":""},{"$nulls":7},"Check"]
[{"$f":"AccountInfo!$A31","v":29},{"$f":"IF(AccountInfo!$B31=\"\",\"\",AccountInfo!B31)","v":""},{"$nulls":7},"Check"]
[{"$f":"AccountInfo!$A32","v":30},{"$f":"IF(AccountInfo!$B32=\"\",\"\",AccountInfo!B32)","v":""},{"$nulls":7},"Check"]
[{"$f":"AccountInfo!$A33","v":31},{"$f":"IF(AccountInfo!$B33=\"\",\"\",AccountInfo!B33)","v":""},{"$nulls":7},"Check"]
[{"$f":"AccountInfo!$A34","v":32},{"$f":"IF(AccountInfo!$B34=\"\",\"\",AccountInfo!B34)","v":""},{"$nulls":7},"Check"]
[{"$f":"AccountInfo!$A35","v":33},{"$f":"IF(AccountInfo!$B35=\"\",\"\",AccountInfo!B35)","v":""},{"$nulls":7},"Check"]
[{"$f":"AccountInfo!$A36","v":34},{"$f":"IF(AccountInfo!$B36=\"\",\"\",AccountInfo!B36)","v":""},{"$nulls":7},"Check"]
[{"$f":"AccountInfo!$A37","v":35},{"$f":"IF(AccountInfo!$B37=\"\",\"\",AccountInfo!B37)","v":""},{"$nulls":7},"Check"]
[{"$f":"AccountInfo!$A38","v":36},{"$f":"IF(AccountInfo!$B38=\"\",\"\",AccountInfo!B38)","v":""},{"$nulls":7},"Check"]
[{"$f":"AccountInfo!$A39","v":37},{"$f":"IF(AccountInfo!$B39=\"\",\"\",AccountInfo!B39)","v":""},{"$nulls":7},"Check"]
[{"$f":"AccountInfo!$A40","v":38},{"$f":"IF(AccountInfo!$B40=\"\",\"\",AccountInfo!B40)","v":""},{"$nulls":7},"Check"]
[{"$f":"AccountInfo!$A41","v":39},{"$f":"IF(AccountInfo!$B41=\"\",\"\",AccountInfo!B41)","v":""},{"$nulls":7},"Check"]
[{"$f":"AccountInfo!$A42","v":40},{"$f":"IF(AccountInfo!$B42=\"\",\"\",AccountInfo!B42)","v":""},{"$nulls":7},"Check"]
[{"$f":"AccountInfo!$A43","v":41},{"$f":"IF(AccountInfo!$B43=\"\",\"\",AccountInfo!B43)","v":""},{"$nulls":7},"Check"]
[{"$f":"AccountInfo!$A44","v":42},{"$f":"IF(AccountInfo!$B44=\"\",\"\",AccountInfo!B44)","v":""},{"$nulls":7},"Check"]
[{"$f":"AccountInfo!$A45","v":43},{"$f":"IF(AccountInfo!$B45=\"\",\"\",AccountInfo!B45)","v":""},{"$nulls":7},"Check"]
[{"$f":"AccountInfo!$A46","v":44},{"$f":"IF(AccountInfo!$B46=\"\",\"\",AccountInfo!B46)","v":""},{"$nulls":7},"Check"]
[{"$f":"AccountInfo!$A47","v":45},{"$f":"IF(AccountInfo!$B47=\"\",\"\",AccountInfo!B47)","v":""},{"$nulls":7},"Check"]
[{"$f":"AccountInfo!$A48","v":46},{"$f":"IF(AccountInfo!$B48=\"\",\"\",AccountInfo!B48)","v":""},{"$nulls":7},"Check"]
[{"$f":"AccountInfo!$A49","v":47},{"$f":"IF(AccountInfo!$B49=\"\",\"\",AccountInfo!B49)","v":""},{"$nulls":7},"Check"]
[{"$f":"AccountInfo!$A50","v":48},{"$f":"IF(AccountInfo!$B50=\"\",\"\",AccountInfo!B50)","v":""},{"$nulls":7},"Check"]
[{"$f":"AccountInfo!$A51","v":49},{"$f":"IF(AccountInfo!$B51=\"\",\"\",AccountInfo!B51)","v":""},{"$nulls":7},"Check"]
[{"$f":"AccountInfo!$A52","v":50},{"$f":"IF(AccountInfo!$B52=\"\",\"\",AccountInfo!B52)","v":""},{"$nulls":7},"Check"]
[{"$f":"AccountInfo!$A53","v":51},{"$f":"IF(AccountInfo!$B53=\"\",\"\",AccountInfo!B53)","v":""},{"$nulls":7},"Check"]
[{"$f":"AccountInfo!$A54","v":52},{"$f":"IF(AccountInfo!$B54=\"\",\"\",AccountInfo!B54)","v":""},{"$nulls":7},"Check"]
[{"$f":"AccountInfo!$A55","v":53},{"$f":"IF(AccountInfo!$B55=\"\",\"\",AccountInfo!B55)","v":""},{"$nulls":7},"Check"]
[{"$f":"AccountInfo!$A56","v":54},{"$f":"IF(AccountInfo!$B56=\"\",\"\",AccountInfo!B56)","v":""},{"$nulls":7},"Check"]
[{"$f":"AccountInfo!$A57","v":55},{"$f":"IF(AccountInfo!$B57=\"\",\"\",AccountInfo!B57)","v":""},{"$nulls":7},"Check"]
[{"$f":"AccountInfo!$A58","v":56},{"$f":"IF(AccountInfo!$B58=\"\",\"\",AccountInfo!B58)","v":""},{"$nulls":7},"Check"]
[{"$f":"AccountInfo!$A59","v":57},{"$f":"IF(AccountInfo!$B59=\"\",\"\",AccountInfo!B59)","v":""},{"$nulls":7},"Check"]
[{"$f":"AccountInfo!$A60","v":58},{"$f":"IF(AccountInfo!$B60=\"\",\"\",AccountInfo!B60)","v":""},{"$nulls":7},"Check"]
[{"$f":"AccountInfo!$A61","v":59},{"$f":"IF(AccountInfo!$B61=\"\",\"\",AccountInfo!B61)","v":""},{"$nulls":7},"Check"]
[{"$f":"AccountInfo!$A62","v":60},{"$f":"IF(AccountInfo!$B62=\"\",\"\",AccountInfo!B62)","v":""},{"$nulls":7},"Check"]
[{"$f":"AccountInfo!$A63","v":61},{"$f":"IF(AccountInfo!$B63=\"\",\"\",AccountInfo!B63)","v":""},{"$nulls":7},"Check"]
[{"$f":"AccountInfo!$A64","v":62},{"$f":"IF(AccountInfo!$B64=\"\",\"\",AccountInfo!B64)","v":""},{"$nulls":7},"Check"]
[{"$f":"AccountInfo!$A65","v":63},{"$f":"IF(AccountInfo!$B65=\"\",\"\",AccountInfo!B65)","v":""},{"$nulls":7},"Check"]
[{"$f":"AccountInfo!$A66","v":64},{"$f":"IF(AccountInfo!$B66=\"\",\"\",AccountInfo!B66)","v":""},{"$nulls":7},"Check"]
[{"$f":"AccountInfo!$A67","v":65},{"$f":"IF(AccountInfo!$B67=\"\",\"\",AccountInfo!B67)","v":""},{"$nulls":7},"Check"]
[{"$f":"AccountInfo!$A68","v":66},{"$f":"IF(AccountInfo!$B68=\"\",\"\",AccountInfo!B68)","v":""},{"$nulls":7},{"$f":"IF(AND(D68<=E68, E68<=F68, F68<=G68, G68<=IF(H68=\"\", 1000000000000, H68)), \"Check\", \"Error\")","v":"Check"}]
[{"$f":"AccountInfo!$A69","v":67},{"$f":"IF(AccountInfo!$B69=\"\",\"\",AccountInfo!B69)","v":""},{"$nulls":7},"Check"]
[{"$f":"AccountInfo!$A70","v":68},{"$f":"IF(AccountInfo!$B70=\"\",\"\",AccountInfo!B70)","v":""},{"$nulls":7},"Check"]
[{"$f":"AccountInfo!$A71","v":69},{"$f":"IF(AccountInfo!$B71=\"\",\"\",AccountInfo!B71)","v":""},{"$nulls":7},"Check"]
[{"$f":"AccountInfo!$A72","v":70},{"$f":"IF(AccountInfo!$B72=\"\",\"\",AccountInfo!B72)","v":""},{"$nulls":7},"Check"]
[{"$f":"AccountInfo!$A73","v":71},{"$f":"IF(AccountInfo!$B73=\"\",\"\",AccountInfo!B73)","v":""},{"$nulls":7},"Check"]
[{"$f":"AccountInfo!$A74","v":72},{"$f":"IF(AccountInfo!$B74=\"\",\"\",AccountInfo!B74)","v":""},{"$nulls":7},"Check"]
[{"$f":"AccountInfo!$A75","v":73},{"$f":"IF(AccountInfo!$B75=\"\",\"\",AccountInfo!B75)","v":""},{"$nulls":7},"Check"]
[{"$f":"AccountInfo!$A76","v":74},{"$f":"IF(AccountInfo!$B76=\"\",\"\",AccountInfo!B76)","v":""},{"$nulls":7},"Check"]
[{"$f":"AccountInfo!$A77","v":75},{"$f":"IF(AccountInfo!$B77=\"\",\"\",AccountInfo!B77)","v":""},{"$nulls":7},"Check"]
[{"$f":"AccountInfo!$A78","v":76},{"$f":"IF(AccountInfo!$B78=\"\",\"\",AccountInfo!B78)","v":""},{"$nulls":7},"Check"]
[{"$f":"AccountInfo!$A79","v":77},{"$f":"IF(AccountInfo!$B79=\"\",\"\",AccountInfo!B79)","v":""},{"$nulls":7},"Check"]
[{"$f":"AccountInfo!$A80","v":78},{"$f":"IF(AccountInfo!$B80=\"\",\"\",AccountInfo!B80)","v":""},{"$nulls":7},"Check"]
[{"$f":"AccountInfo!$A81","v":79},{"$f":"IF(AccountInfo!$B81=\"\",\"\",AccountInfo!B81)","v":""},{"$nulls":7},"Check"]
[{"$f":"AccountInfo!$A82","v":80},{"$f":"IF(AccountInfo!$B82=\"\",\"\",AccountInfo!B82)","v":""},{"$nulls":7},"Check"]
[{"$f":"AccountInfo!$A83","v":81},{"$f":"IF(AccountInfo!$B83=\"\",\"\",AccountInfo!B83)","v":""},{"$nulls":7},"Check"]
[{"$f":"AccountInfo!$A84","v":82},{"$f":"IF(AccountInfo!$B84=\"\",\"\",AccountInfo!B84)","v":""},{"$nulls":7},"Check"]
[{"$f":"AccountInfo!$A85","v":83},{"$f":"IF(AccountInfo!$B85=\"\",\"\",AccountInfo!B85)","v":""},{"$nulls":7},"Check"]
[{"$f":"AccountInfo!$A86","v":84},{"$f":"IF(AccountInfo!$B86=\"\",\"\",AccountInfo!B86)","v":""},{"$nulls":7},"Check"]
[{"$f":"AccountInfo!$A87","v":85},{"$f":"IF(AccountInfo!$B87=\"\",\"\",AccountInfo!B87)","v":""},{"$nulls":7},"Check"]
[{"$f":"AccountInfo!$A88","v":86},{"$f":"IF(AccountInfo!$B88=\"\",\"\",AccountInfo!B88)","v":""},{"$nulls":7},"Check"]
[{"$f":"AccountInfo!$A89","v":87},{"$f":"IF(AccountInfo!$B89=\"\",\"\",AccountInfo!B89)","v":""},{"$nulls":7},"Check"]
[{"$f":"AccountInfo!$A90","v":88},{"$f":"IF(AccountInfo!$B90=\"\",\"\",AccountInfo!B90)","v":""},{"$nulls":7},"Check"]
[{"$f":"AccountInfo!$A91","v":89},{"$f":"IF(AccountInfo!$B91=\"\",\"\",AccountInfo!B91)","v":""},{"$nulls":7},"Check"]
[{"$f":"AccountInfo!$A92","v":90},{"$f":"IF(AccountInfo!$B92=\"\",\"\",AccountInfo!B92)","v":""},{"$nulls":7},"Check"]
[{"$f":"AccountInfo!$A93","v":91},{"$f":"IF(AccountInfo!$B93=\"\",\"\",AccountInfo!B93)","v":""},{"$nulls":7},"Check"]
[{"$f":"AccountInfo!$A94","v":92},{"$f":"IF(AccountInfo!$B94=\"\",\"\",AccountInfo!B94)","v":""},{"$nulls":7},"Check"]
[{"$f":"AccountInfo!$A95","v":93},{"$f":"IF(AccountInfo!$B95=\"\",\"\",AccountInfo!B95)","v":""},{"$nulls":7},"Check"]
[{"$f":"AccountInfo!$A96","v":94},{"$f":"IF(AccountInfo!$B96=\"\",\"\",AccountInfo!B96)","v":""},{"$nulls":7},"Check"]
[{"$f":"AccountInfo!$A97","v":95},{"$f":"IF(AccountInfo!$B97=\"\",\"\",AccountInfo!B97)","v":""},{"$nulls":7},"Check"]
[{"$f":"AccountInfo!$A98","v":96},{"$f":"IF(AccountInfo!$B98=\"\",\"\",AccountInfo!B98)","v":""},{"$nulls":7},"Check"]
[{"$f":"AccountInfo!$A99","v":97},{"$f":"IF(AccountInfo!$B99=\"\",\"\",AccountInfo!B99)","v":""},{"$nulls":7},"Check"]
[{"$f":"AccountInfo!$A100","v":98},{"$f":"IF(AccountInfo!$B100=\"\",\"\",AccountInfo!B100)","v":""},{"$nulls":7},"Check"]
[{"$f":"AccountInfo!$A101","v":99},{"$f":"IF(AccountInfo!$B101=\"\",\"\",AccountInfo!B101)","v":""},{"$nulls":7},"Check"]
[{"$f":"AccountInfo!$A102","v":100},{"$f":"IF(AccountInfo!$B102=\"\",\"\",AccountInfo!B102)","v":""},{"$nulls":7},"Check"]
[{"$f":"AccountInfo!$A103","v":101},{"$f":"IF(AccountInfo!$B103=\"\",\"\",AccountInfo!B103)","v":""},{"$nulls":7},"Check"]
[{"$f":"AccountInfo!$A104","v":102},{"$f":"IF(AccountInfo!$B104=\"\",\"\",AccountInfo!B104)","v":""},{"$nulls":7},"Check"]
[{"$f":"AccountInfo!$A105","v":103},{"$f":"IF(AccountInfo!$B105=\"\",\"\",AccountInfo!B105)","v":""},{"$nulls":7},"Check"]
[{"$f":"AccountInfo!$A106","v":104},{"$f":"IF(AccountInfo!$B106=\"\",\"\",AccountInfo!B106)","v":""},{"$nulls":7},"Check"]
[{"$f":"AccountInfo!$A107","v":105},{"$f":"IF(AccountInfo!$B107=\"\",\"\",AccountInfo!B107)","v":""},{"$nulls":7},"Check"]
[{"$f":"AccountInfo!$A108","v":106},{"$f":"IF(AccountInfo!$B108=\"\",\"\",AccountInfo!B108)","v":""},{"$nulls":7},"Check"]
[{"$f":"AccountInfo!$A109","v":107},{"$f":"IF(AccountInfo!$B109=\"\",\"\",AccountInfo!B109)","v":""},{"$nulls":7},"Check"]
[{"$f":"AccountInfo!$A110","v":108},{"$f":"IF(AccountInfo!$B110=\"\",\"\",AccountInfo!B110)","v":""},{"$nulls":7},"Check"]
[{"$f":"AccountInfo!$A111","v":109},{"$f":"IF(AccountInfo!$B111=\"\",\"\",AccountInfo!B111)","v":""},{"$nulls":7},"Check"]
[{"$f":"AccountInfo!$A112","v":110},{"$f":"IF(AccountInfo!$B112=\"\",\"\",AccountInfo!B112)","v":""},{"$nulls":7},"Check"]
[{"$f":"AccountInfo!$A113","v":111},{"$f":"IF(AccountInfo!$B113=\"\",\"\",AccountInfo!B113)","v":""},{"$nulls":7},"Check"]
[{"$f":"AccountInfo!$A114","v":112},{"$f":"IF(AccountInfo!$B114=\"\",\"\",AccountInfo!B114)","v":""},{"$nulls":7},"Check"]
[{"$f":"AccountInfo!$A115","v":113},{"$f":"IF(AccountInfo!$B115=\"\",\"\",AccountInfo!B115)","v":""},{"$nulls":7},"Check"]
[{"$f":"AccountInfo!$A116","v":114},{"$f":"IF(AccountInfo!$B116=\"\",\"\",AccountInfo!B116)","v":""},{"$nulls":7},"Check"]
[{"$f":"AccountInfo!$A117","v":115},{"$f":"IF(AccountInfo!$B117=\"\",\"\",AccountInfo!B117)","v":""},{"$nulls":7},"Check"]
[{"$f":"AccountInfo!$A118","v":116},{"$f":"IF(AccountInfo!$B118=\"\",\"\",AccountInfo!B118)","v":""},{"$nulls":7},"Check"]
[{"$f":"AccountInfo!$A119","v":117},{"$f":"IF(AccountInfo!$B119=\"\",\"\",AccountInfo!B119)","v":""},{"$nulls":7},"Check"]
[{"$f":"AccountInfo!$A120","v":118},{"$f":"IF(AccountInfo!$B120=\"\",\"\",AccountInfo!B120)","v":""},{"$nulls":7},"Check"]
[{"$f":"AccountInfo!$A121","v":119},{"$f":"IF(AccountInfo!$B121=\"\",\"\",AccountInfo!B121)","v":""},{"$nulls":7},"Check"]
[{"$f":"AccountInfo!$A122","v":120},{"$f":"IF(AccountInfo!$B122=\"\",\"\",AccountInfo!B122)","v":""},{"$nulls":7},"Check"]
[{"$f":"AccountInfo!$A123","v":121},{"$f":"IF(AccountInfo!$B123=\"\",\"\",AccountInfo!B123)","v":""},{"$nulls":7},"Check"]
[{"$f":"AccountInfo!$A124","v":122},{"$f":"IF(AccountInfo!$B124=\"\",\"\",AccountInfo!B124)","v":""},{"$nulls":7},"Check"]
[{"$f":"AccountInfo!$A125","v":123},{"$f":"IF(AccountInfo!$B125=\"\",\"\",AccountInfo!B125)","v":""},{"$nulls":7},"Check"]
[{"$f":"AccountInfo!$A126","v":124},{"$f":"IF(AccountInfo!$B126=\"\",\"\",AccountInfo!B126)","v":""},{"$nulls":7},"Check"]
[{"$f":"AccountInfo!$A127","v":125},{"$f":"IF(AccountInfo!$B127=\"\",\"\",AccountInfo!B127)","v":""},{"$nulls":7},"Check"]
[{"$f":"AccountInfo!$A128","v":126},{"$f":"IF(AccountInfo!$B128=\"\",\"\",AccountInfo!B128)","v":""},{"$nulls":7},"Check"]
[{"$f":"AccountInfo!$A129","v":127},{"$f":"IF(AccountInfo!$B129=\"\",\"\",AccountInfo!B129)","v":""},{"$nulls":7},"Check"]
[{"$f":"AccountInfo!$A130","v":128},{"$f":"IF(AccountInfo!$B130=\"\",\"\",AccountInfo!B130)","v":""},{"$nulls":7},"Check"]
[{"$f":"AccountInfo!$A131","v":129},{"$f":"IF(AccountInfo!$B131=\"\",\"\",AccountInfo!B131)","v":""},{"$nulls":7},"Check"]
[{"$f":"AccountInfo!$A132","v":130},{"$f":"IF(AccountInfo!$B132=\"\",\"\",AccountInfo!B132)","v":""},{"$nulls":7},{"$f":"IF(AND(D132<=E132, E132<=F132, F132<=G132, G132<=IF(H132=\"\", 1000000000000, H132)), \"Check\", \"Error\")","v":"Check"}]
[{"$f":"AccountInfo!$A133","v":131},{"$f":"IF(AccountInfo!$B133=\"\",\"\",AccountInfo!B133)","v":""},{"$nulls":7},"Check"]
[{"$f":"AccountInfo!$A134","v":132},{"$f":"IF(AccountInfo!$B134=\"\",\"\",AccountInfo!B134)","v":""},{"$nulls":7},"Check"]
[{"$f":"AccountInfo!$A135","v":133},{"$f":"IF(AccountInfo!$B135=\"\",\"\",AccountInfo!B135)","v":""},{"$nulls":7},"Check"]
[{"$f":"AccountInfo!$A136","v":134},{"$f":"IF(AccountInfo!$B136=\"\",\"\",AccountInfo!B136)","v":""},{"$nulls":7},"Check"]
[{"$f":"AccountInfo!$A137","v":135},{"$f":"IF(AccountInfo!$B137=\"\",\"\",AccountInfo!B137)","v":""},{"$nulls":7},"Check"]
[{"$f":"AccountInfo!$A138","v":136},{"$f":"IF(AccountInfo!$B138=\"\",\"\",AccountInfo!B138)","v":""},{"$nulls":7},"Check"]
[{"$f":"AccountInfo!$A139","v":137},{"$f":"IF(AccountInfo!$B139=\"\",\"\",AccountInfo!B139)","v":""},{"$nulls":7},"Check"]
[{"$f":"AccountInfo!$A140","v":138},{"$f":"IF(AccountInfo!$B140=\"\",\"\",AccountInfo!B140)","v":""},{"$nulls":7},"Check"]
[{"$f":"AccountInfo!$A141","v":139},{"$f":"IF(AccountInfo!$B141=\"\",\"\",AccountInfo!B141)","v":""},{"$nulls":7},"Check"]
[{"$f":"AccountInfo!$A142","v":140},{"$f":"IF(AccountInfo!$B142=\"\",\"\",AccountInfo!B142)","v":""},{"$nulls":7},"Check"]
[{"$f":"AccountInfo!$A143","v":141},{"$f":"IF(AccountInfo!$B143=\"\",\"\",AccountInfo!B143)","v":""},{"$nulls":7},"Check"]
[{"$f":"AccountInfo!$A144","v":142},{"$f":"IF(AccountInfo!$B144=\"\",\"\",AccountInfo!B144)","v":""},{"$nulls":7},"Check"]
[{"$f":"AccountInfo!$A145","v":143},{"$f":"IF(AccountInfo!$B145=\"\",\"\",AccountInfo!B145)","v":""},{"$nulls":7},"Check"]
[{"$f":"AccountInfo!$A146","v":144},{"$f":"IF(AccountInfo!$B146=\"\",\"\",AccountInfo!B146)","v":""},{"$nulls":7},"Check"]
[{"$f":"AccountInfo!$A147","v":145},{"$f":"IF(AccountInfo!$B147=\"\",\"\",AccountInfo!B147)","v":""},{"$nulls":7},"Check"]
[{"$f":"AccountInfo!$A148","v":146},{"$f":"IF(AccountInfo!$B148=\"\",\"\",AccountInfo!B148)","v":""},{"$nulls":7},"Check"]
[{"$f":"AccountInfo!$A149","v":147},{"$f":"IF(AccountInfo!$B149=\"\",\"\",AccountInfo!B149)","v":""},{"$nulls":7},"Check"]
[{"$f":"AccountInfo!$A150","v":148},{"$f":"IF(AccountInfo!$B150=\"\",\"\",AccountInfo!B150)","v":""},{"$nulls":7},"Check"]
[{"$f":"AccountInfo!$A151","v":149},{"$f":"IF(AccountInfo!$B151=\"\",\"\",AccountInfo!B151)","v":""},{"$nulls":7},"Check"]
[{"$f":"AccountInfo!$A152","v":150},{"$f":"IF(AccountInfo!$B152=\"\",\"\",AccountInfo!B152)","v":""},{"$nulls":7},"Check"]
[{"$f":"AccountInfo!$A153","v":151},{"$f":"IF(AccountInfo!$B153=\"\",\"\",AccountInfo!B153)","v":""},{"$nulls":7},"Check"]
[{"$f":"AccountInfo!$A154","v":152},{"$f":"IF(AccountInfo!$B154=\"\",\"\",AccountInfo!B154)","v":""},{"$nulls":7},"Check"]
[{"$f":"AccountInfo!$A155","v":153},{"$f":"IF(AccountInfo!$B155=\"\",\"\",AccountInfo!B155)","v":""},{"$nulls":7},"Check"]
[{"$f":"AccountInfo!$A156","v":154},{"$f":"IF(AccountInfo!$B156=\"\",\"\",AccountInfo!B156)","v":""},{"$nulls":7},"Check"]
[{"$f":"AccountInfo!$A157","v":155},{"$f":"IF(AccountInfo!$B157=\"\",\"\",AccountInfo!B157)","v":""},{"$nulls":7},"Check"]
[{"$f":"AccountInfo!$A158","v":156},{"$f":"IF(AccountInfo!$B158=\"\",\"\",AccountInfo!B158)","v":""},{"$nulls":7},"Check"]
[{"$f":"AccountInfo!$A159","v":157},{"$f":"IF(AccountInfo!$B159=\"\",\"\",AccountInfo!B159)","v":""},{"$nulls":7},"Check"]
[{"$f":"AccountInfo!$A160","v":158},{"$f":"IF(AccountInfo!$B160=\"\",\"\",AccountInfo!B160)","v":""},{"$nulls":7},"Check"]
[{"$f":"AccountInfo!$A161","v":159},{"$f":"IF(AccountInfo!$B161=\"\",\"\",AccountInfo!B161)","v":""},{"$nulls":7},"Check"]
[{"$f":"AccountInfo!$A162","v":160},{"$f":"IF(AccountInfo!$B162=\"\",\"\",AccountInfo!B162)","v":""},{"$nulls":7},"Check"]
[{"$f":"AccountInfo!$A163","v":161},{"$f":"IF(AccountInfo!$B163=\"\",\"\",AccountInfo!B163)","v":""},{"$nulls":7},"Check"]
[{"$f":"AccountInfo!$A164","v":162},{"$f":"IF(AccountInfo!$B164=\"\",\"\",AccountInfo!B164)","v":""},{"$nulls":7},"Check"]
[{"$f":"AccountInfo!$A165","v":163},{"$f":"IF(AccountInfo!$B165=\"\",\"\",AccountInfo!B165)","v":""},{"$nulls":7},"Check"]
[{"$f":"AccountInfo!$A166","v":164},{"$f":"IF(AccountInfo!$B166=\"\",\"\",AccountInfo!B166)","v":""},{"$nulls":7},"Check"]
[{"$f":"AccountInfo!$A167","v":165},{"$f":"IF(AccountInfo!$B167=\"\",\"\",AccountInfo!B167)","v":""},{"$nulls":7},"Check"]
[{"$f":"AccountInfo!$A168","v":166},{"$f":"IF(AccountInfo!$B168=\"\",\"\",AccountInfo!B168)","v":""},{"$nulls":7},"Check"]
[{"$f":"AccountInfo!$A169","v":167},{"$f":"IF(AccountInfo!$B169=\"\",\"\",AccountInfo!B169)","v":""},{"$nulls":7},"Check"]
[{"$f":"AccountInfo!$A170","v":168},{"$f":"IF(AccountInfo!$B170=\"\",\"\",AccountInfo!B170)","v":""},{"$nulls":7},"Check"]
[{"$f":"AccountInfo!$A171","v":169},{"$f":"IF(AccountInfo!$B171=\"\",\"\",AccountInfo!B171)","v":""},{"$nulls":7},"Check"]
[{"$f":"AccountInfo!$A172","v":170},{"$f":"IF(AccountInfo!$B172=\"\",\"\",AccountInfo!B172)","v":""},{"$nulls":7},"Check"]
[{"$f":"AccountInfo!$A173","v":171},{"$f":"IF(AccountInfo!$B173=\"\",\"\",AccountInfo!B173)","v":""},{"$nulls":7},"Check"]
[{"$f":"AccountInfo!$A174","v":172},{"$f":"IF(AccountInfo!$B174=\"\",\"\",AccountInfo!B174)","v":""},{"$nulls":7},"Check"]
[{"$f":"AccountInfo!$A175","v":173},{"$f":"IF(AccountInfo!$B175=\"\",\"\",AccountInfo!B175)","v":""},{"$nulls":7},"Check"]
[{"$f":"AccountInfo!$A176","v":174},{"$f":"IF(AccountInfo!$B176=\"\",\"\",AccountInfo!B176)","v":""},{"$nulls":7},"Check"]
[{"$f":"AccountInfo!$A177","v":175},{"$f":"IF(AccountInfo!$B177=\"\",\"\",AccountInfo!B177)","v":""},{"$nulls":7},"Check"]
[{"$f":"AccountInfo!$A178","v":176},{"$f":"IF(AccountInfo!$B178=\"\",\"\",AccountInfo!B178)","v":""},{"$nulls":7},"Check"]
[{"$f":"AccountInfo!$A179","v":177},{"$f":"IF(AccountInfo!$B179=\"\",\"\",AccountInfo!B179)","v":""},{"$nulls":7},"Check"]
[{"$f":"AccountInfo!$A180","v":178},{"$f":"IF(AccountInfo!$B180=\"\",\"\",AccountInfo!B180)","v":""},{"$nulls":7},"Check"]
[{"$f":"AccountInfo!$A181","v":179},{"$f":"IF(AccountInfo!$B181=\"\",\"\",AccountInfo!B181)","v":""},{"$nulls":7},"Check"]
[{"$f":"AccountInfo!$A182","v":180},{"$f":"IF(AccountInfo!$B182=\"\",\"\",AccountInfo!B182)","v":""},{"$nulls":7},"Check"]
[{"$f":"AccountInfo!$A183","v":181},{"$f":"IF(AccountInfo!$B183=\"\",\"\",AccountInfo!B183)","v":""},{"$nulls":7},"Check"]
[{"$f":"AccountInfo!$A184","v":182},{"$f":"IF(AccountInfo!$B184=\"\",\"\",AccountInfo!B184)","v":""},{"$nulls":7},"Check"]
[{"$f":"AccountInfo!$A185","v":183},{"$f":"IF(AccountInfo!$B185=\"\",\"\",AccountInfo!B185)","v":""},{"$nulls":7},"Check"]
[{"$f":"AccountInfo!$A186","v":184},{"$f":"IF(AccountInfo!$B186=\"\",\"\",AccountInfo!B186)","v":""},{"$nulls":7},"Check"]
[{"$f":"AccountInfo!$A187","v":185},{"$f":"IF(AccountInfo!$B187=\"\",\"\",AccountInfo!B187)","v":""},{"$nulls":7},"Check"]
[{"$f":"AccountInfo!$A188","v":186},{"$f":"IF(AccountInfo!$B188=\"\",\"\",AccountInfo!B188)","v":""},{"$nulls":7},"Check"]
[{"$f":"AccountInfo!$A189","v":187},{"$f":"IF(AccountInfo!$B189=\"\",\"\",AccountInfo!B189)","v":""},{"$nulls":7},"Check"]
[{"$f":"AccountInfo!$A190","v":188},{"$f":"IF(AccountInfo!$B190=\"\",\"\",AccountInfo!B190)","v":""},{"$nulls":7},"Check"]
[{"$f":"AccountInfo!$A191","v":189},{"$f":"IF(AccountInfo!$B191=\"\",\"\",AccountInfo!B191)","v":""},{"$nulls":7},"Check"]
[{"$f":"AccountInfo!$A192","v":190},{"$f":"IF(AccountInfo!$B192=\"\",\"\",AccountInfo!B192)","v":""},{"$nulls":7},"Check"]
[{"$f":"AccountInfo!$A193","v":191},{"$f":"IF(AccountInfo!$B193=\"\",\"\",AccountInfo!B193)","v":""},{"$nulls":7},"Check"]
[{"$f":"AccountInfo!$A194","v":192},{"$f":"IF(AccountInfo!$B194=\"\",\"\",AccountInfo!B194)","v":""},{"$nulls":7},"Check"]
[{"$f":"AccountInfo!$A195","v":193},{"$f":"IF(AccountInfo!$B195=\"\",\"\",AccountInfo!B195)","v":""},{"$nulls":7},"Check"]
[{"$f":"AccountInfo!$A196","v":194},{"$f":"IF(AccountInfo!$B196=\"\",\"\",AccountInfo!B196)","v":""},{"$nulls":7},{"$f":"IF(AND(D196<=E196, E196<=F196, F196<=G196, G196<=IF(H196=\"\", 1000000000000, H196)), \"Check\", \"Error\")","v":"Check"}]
[{"$f":"AccountInfo!$A197","v":195},{"$f":"IF(AccountInfo!$B197=\"\",\"\",AccountInfo!B197)","v":""},{"$nulls":7},"Check"]
[{"$f":"AccountInfo!$A198","v":196},{"$f":"IF(AccountInfo!$B198=\"\",\"\",AccountInfo!B198)","v":""},{"$nulls":7},"Check"]
[{"$f":"AccountInfo!$A199","v":197},{"$f":"IF(AccountInfo!$B199=\"\",\"\",AccountInfo!B199)","v":""},{"$nulls":7},"Check"]
[{"$f":"AccountInfo!$A200","v":198},{"$f":"IF(AccountInfo!$B200=\"\",\"\",AccountInfo!B200)","v":""},{"$nulls":7},"Check"]
[{"$f":"AccountInfo!$A201","v":199},{"$f":"IF(AccountInfo!$B201=\"\",\"\",AccountInfo!B201)","v":""},{"$nulls":7},"Check"]
[{"$f":"AccountInfo!$A202","v":200},{"$f":"IF(AccountInfo!$B202=\"\",\"\",AccountInfo!B202)","v":""},{"$nulls":7},"Check"]
[{"$f":"AccountInfo!$A203","v":201},{"$f":"IF(AccountInfo!$B203=\"\",\"\",AccountInfo!B203)","v":""},{"$nulls":7},"Check"]
[{"$f":"AccountInfo!$A204","v":202},{"$f":"IF(AccountInfo!$B204=\"\",\"\",AccountInfo!B204)","v":""},{"$nulls":7},"Check"]
[{"$f":"AccountInfo!$A205","v":203},{"$f":"IF(AccountInfo!$B205=\"\",\"\",AccountInfo!B205)","v":""},{"$nulls":7},"Check"]
[{"$f":"AccountInfo!$A206","v":204},{"$f":"IF(AccountInfo!$B206=\"\",\"\",AccountInfo!B206)","v":""},{"$nulls":7},"Check"]
[{"$f":"AccountInfo!$A207","v":205},{"$f":"IF(AccountInfo!$B207=\"\",\"\",AccountInfo!B207)","v":""},{"$nulls":7},"Check"]
[{"$f":"AccountInfo!$A208","v":206},{"$f":"IF(AccountInfo!$B208=\"\",\"\",AccountInfo!B208)","v":""},{"$nulls":7},"Check"]
[{"$f":"AccountInfo!$A209","v":207},{"$f":"IF(AccountInfo!$B209=\"\",\"\",AccountInfo!B209)","v":""},{"$nulls":7},"Check"]
[{"$f":"AccountInfo!$A210","v":208},{"$f":"IF(AccountInfo!$B210=\"\",\"\",AccountInfo!B210)","v":""},{"$nulls":7},"Check"]
[{"$f":"AccountInfo!$A211","v":209},{"$f":"IF(AccountInfo!$B211=\"\",\"\",AccountInfo!B211)","v":""},{"$nulls":7},"Check"]
[{"$f":"AccountInfo!$A212","v":210},{"$f":"IF(AccountInfo!$B212=\"\",\"\",AccountInfo!B212)","v":""},{"$nulls":7},"Check"]
[{"$f":"AccountInfo!$A213","v":211},{"$f":"IF(AccountInfo!$B213=\"\",\"\",AccountInfo!B213)","v":""},{"$nulls":7},"Check"]
[{"$f":"AccountInfo!$A214","v":212},{"$f":"IF(AccountInfo!$B214=\"\",\"\",AccountInfo!B214)","v":""},{"$nulls":7},"Check"]
[{"$f":"AccountInfo!$A215","v":213},{"$f":"IF(AccountInfo!$B215=\"\",\"\",AccountInfo!B215)","v":""},{"$nulls":7},"Check"]
[{"$f":"AccountInfo!$A216","v":214},{"$f":"IF(AccountInfo!$B216=\"\",\"\",AccountInfo!B216)","v":""},{"$nulls":7},"Check"]
[{"$f":"AccountInfo!$A217","v":215},{"$f":"IF(AccountInfo!$B217=\"\",\"\",AccountInfo!B217)","v":""},{"$nulls":7},"Check"]
[{"$f":"AccountInfo!$A218","v":216},{"$f":"IF(AccountInfo!$B218=\"\",\"\",AccountInfo!B218)","v":""},{"$nulls":7},"Check"]
[{"$f":"AccountInfo!$A219","v":217},{"$f":"IF(AccountInfo!$B219=\"\",\"\",AccountInfo!B219)","v":""},{"$nulls":7},"Check"]
[{"$f":"AccountInfo!$A220","v":218},{"$f":"IF(AccountInfo!$B220=\"\",\"\",AccountInfo!B220)","v":""},{"$nulls":7},"Check"]
[{"$f":"AccountInfo!$A221","v":219},{"$f":"IF(AccountInfo!$B221=\"\",\"\",AccountInfo!B221)","v":""},{"$nulls":7},"Check"]
[{"$f":"AccountInfo!$A222","v":220},{"$f":"IF(AccountInfo!$B222=\"\",\"\",AccountInfo!B222)","v":""},{"$nulls":7},"Check"]
[{"$f":"AccountInfo!$A223","v":221},{"$f":"IF(AccountInfo!$B223=\"\",\"\",AccountInfo!B223)","v":""},{"$nulls":7},"Check"]
[{"$f":"AccountInfo!$A224","v":222},{"$f":"IF(AccountInfo!$B224=\"\",\"\",AccountInfo!B224)","v":""},{"$nulls":7},"Check"]
[{"$f":"AccountInfo!$A225","v":223},{"$f":"IF(AccountInfo!$B225=\"\",\"\",AccountInfo!B225)","v":""},{"$nulls":7},"Check"]
[{"$f":"AccountInfo!$A226","v":224},{"$f":"IF(AccountInfo!$B226=\"\",\"\",AccountInfo!B226)","v":""},{"$nulls":7},"Check"]
[{"$f":"AccountInfo!$A227","v":225},{"$f":"IF(AccountInfo!$B227=\"\",\"\",AccountInfo!B227)","v":""},{"$nulls":7},"Check"]
[{"$f":"AccountInfo!$A228","v":226},{"$f":"IF(AccountInfo!$B228=\"\",\"\",AccountInfo!B228)","v":""},{"$nulls":7},"Check"]
[{"$f":"AccountInfo!$A229","v":227},{"$f":"IF(AccountInfo!$B229=\"\",\"\",AccountInfo!B229)","v":""},{"$nulls":7},"Check"]
[{"$f":"AccountInfo!$A230","v":228},{"$f":"IF(AccountInfo!$B230=\"\",\"\",AccountInfo!B230)","v":""},{"$nulls":7},"Check"]
[{"$f":"AccountInfo!$A231","v":229},{"$f":"IF(AccountInfo!$B231=\"\",\"\",AccountInfo!B231)","v":""},{"$nulls":7},"Check"]
[{"$f":"AccountInfo!$A232","v":230},{"$f":"IF(AccountInfo!$B232=\"\",\"\",AccountInfo!B232)","v":""},{"$nulls":7},"Check"]
[{"$f":"AccountInfo!$A233","v":231},{"$f":"IF(AccountInfo!$B233=\"\",\"\",AccountInfo!B233)","v":""},{"$nulls":7},"Check"]
[{"$f":"AccountInfo!$A234","v":232},{"$f":"IF(AccountInfo!$B234=\"\",\"\",AccountInfo!B234)","v":""},{"$nulls":7},"Check"]
[{"$f":"AccountInfo!$A235","v":233},{"$f":"IF(AccountInfo!$B235=\"\",\"\",AccountInfo!B235)","v":""},{"$nulls":7},"Check"]
[{"$f":"AccountInfo!$A236","v":234},{"$f":"IF(AccountInfo!$B236=\"\",\"\",AccountInfo!B236)","v":""},{"$nulls":7},"Check"]
[{"$f":"AccountInfo!$A237","v":235},{"$f":"IF(AccountInfo!$B237=\"\",\"\",AccountInfo!B237)","v":""},{"$nulls":7},"Check"]
[{"$f":"AccountInfo!$A238","v":236},{"$f":"IF(AccountInfo!$B238=\"\",\"\",AccountInfo!B238)","v":""},{"$nulls":7},"Check"]
[{"$f":"AccountInfo!$A239","v":237},{"$f":"IF(AccountInfo!$B239=\"\",\"\",AccountInfo!B239)","v":""},{"$nulls":7},"Check"]
[{"$f":"AccountInfo!$A240","v":238},{"$f":"IF(AccountInfo!$B240=\"\",\"\",AccountInfo!B240)","v":""},{"$nulls":7},"Check"]
[{"$f":"AccountInfo!$A241","v":239},{"$f":"IF(AccountInfo!$B241=\"\",\"\",AccountInfo!B241)","v":""},{"$nulls":7},"Check"]
[{"$f":"AccountInfo!$A242","v":240},{"$f":"IF(AccountInfo!$B242=\"\",\"\",AccountInfo!B242)","v":""},{"$nulls":7},"Check"]
[{"$f":"AccountInfo!$A243","v":241},{"$f":"IF(AccountInfo!$B243=\"\",\"\",AccountInfo!B243)","v":""},{"$nulls":7},"Check"]
[{"$f":"AccountInfo!$A244","v":242},{"$f":"IF(AccountInfo!$B244=\"\",\"\",AccountInfo!B244)","v":""},{"$nulls":7},"Check"]
[{"$f":"AccountInfo!$A245","v":243},{"$f":"IF(AccountInfo!$B245=\"\",\"\",AccountInfo!B245)","v":""},{"$nulls":7},"Check"]
[{"$f":"AccountInfo!$A246","v":244},{"$f":"IF(AccountInfo!$B246=\"\",\"\",AccountInfo!B246)","v":""},{"$nulls":7},"Check"]
[{"$f":"AccountInfo!$A247","v":245},{"$f":"IF(AccountInfo!$B247=\"\",\"\",AccountInfo!B247)","v":""},{"$nulls":7},"Check"]
[{"$f":"AccountInfo!$A248","v":246},{"$f":"IF(AccountInfo!$B248=\"\",\"\",AccountInfo!B248)","v":""},{"$nulls":7},"Check"]
[{"$f":"AccountInfo!$A249","v":247},{"$f":"IF(AccountInfo!$B249=\"\",\"\",AccountInfo!B249)","v":""},{"$nulls":7},"Check"]
[{"$f":"AccountInfo!$A250","v":248},{"$f":"IF(AccountInfo!$B250=\"\",\"\",AccountInfo!B250)","v":""},{"$nulls":7},"Check"]
[{"$f":"AccountInfo!$A251","v":249},{"$f":"IF(AccountInfo!$B251=\"\",\"\",AccountInfo!B251)","v":""},{"$nulls":7},"Check"]
[{"$f":"AccountInfo!$A252","v":250},{"$f":"IF(AccountInfo!$B252=\"\",\"\",AccountInfo!B252)","v":""},{"$nulls":7},"Check"]
[{"$f":"AccountInfo!$A253","v":251},{"$f":"IF(AccountInfo!$B253=\"\",\"\",AccountInfo!B253)","v":""},{"$nulls":7},"Check"]
[{"$f":"AccountInfo!$A254","v":252},{"$f":"IF(AccountInfo!$B254=\"\",\"\",AccountInfo!B254)","v":""},{"$nulls":7},"Check"]
[{"$f":"AccountInfo!$A255","v":253},{"$f":"IF(AccountInfo!$B255=\"\",\"\",AccountInfo!B255)","v":""},{"$nulls":7},"Check"]
[{"$f":"AccountInfo!$A256","v":254},{"$f":"IF(AccountInfo!$B256=\"\",\"\",AccountInfo!B256)","v":""},{"$nulls":7},"Check"]
[{"$f":"AccountInfo!$A257","v":255},{"$f":"IF(AccountInfo!$B257=\"\",\"\",AccountInfo!B257)","v":""},{"$nulls":7},"Check"]
[{"$f":"AccountInfo!$A258","v":256},{"$f":"IF(AccountInfo!$B258=\"\",\"\",AccountInfo!B258)","v":""},{"$nulls":7},"Check"]
[{"$f":"AccountInfo!$A259","v":257},{"$f":"IF(AccountInfo!$B259=\"\",\"\",AccountInfo!B259)","v":""},{"$nulls":7},"Check"]
[{"$f":"AccountInfo!$A260","v":258},{"$f":"IF(AccountInfo!$B260=\"\",\"\",AccountInfo!B260)","v":""},{"$nulls":7},{"$f":"IF(AND(D260<=E260, E260<=F260, F260<=G260, G260<=IF(H260=\"\", 1000000000000, H260)), \"Check\", \"Error\")","v":"Check"}]
[{"$f":"AccountInfo!$A261","v":259},{"$f":"IF(AccountInfo!$B261=\"\",\"\",AccountInfo!B261)","v":""},{"$nulls":7},"Check"]
[{"$f":"AccountInfo!$A262","v":260},{"$f":"IF(AccountInfo!$B262=\"\",\"\",AccountInfo!B262)","v":""},{"$nulls":7},"Check"]
[{"$f":"AccountInfo!$A263","v":261},{"$f":"IF(AccountInfo!$B263=\"\",\"\",AccountInfo!B263)","v":""},{"$nulls":7},"Check"]
[{"$f":"AccountInfo!$A264","v":262},{"$f":"IF(AccountInfo!$B264=\"\",\"\",AccountInfo!B264)","v":""},{"$nulls":7},"Check"]
[{"$f":"AccountInfo!$A265","v":263},{"$f":"IF(AccountInfo!$B265=\"\",\"\",AccountInfo!B265)","v":""},{"$nulls":7},"Check"]
[{"$f":"AccountInfo!$A266","v":264},{"$f":"IF(AccountInfo!$B266=\"\",\"\",AccountInfo!B266)","v":""},{"$nulls":7},"Check"]
[{"$f":"AccountInfo!$A267","v":265},{"$f":"IF(AccountInfo!$B267=\"\",\"\",AccountInfo!B267)","v":""},{"$nulls":7},"Check"]
[{"$f":"AccountInfo!$A268","v":266},{"$f":"IF(AccountInfo!$B268=\"\",\"\",AccountInfo!B268)","v":""},{"$nulls":7},"Check"]
[{"$f":"AccountInfo!$A269","v":267},{"$f":"IF(AccountInfo!$B269=\"\",\"\",AccountInfo!B269)","v":""},{"$nulls":7},"Check"]
[{"$f":"AccountInfo!$A270","v":268},{"$f":"IF(AccountInfo!$B270=\"\",\"\",AccountInfo!B270)","v":""},{"$nulls":7},"Check"]
[{"$f":"AccountInfo!$A271","v":269},{"$f":"IF(AccountInfo!$B271=\"\",\"\",AccountInfo!B271)","v":""},{"$nulls":7},"Check"]
[{"$f":"AccountInfo!$A272","v":270},{"$f":"IF(AccountInfo!$B272=\"\",\"\",AccountInfo!B272)","v":""},{"$nulls":7},"Check"]
[{"$f":"AccountInfo!$A273","v":271},{"$f":"IF(AccountInfo!$B273=\"\",\"\",AccountInfo!B273)","v":""},{"$nulls":7},"Check"]
[{"$f":"AccountInfo!$A274","v":272},{"$f":"IF(AccountInfo!$B274=\"\",\"\",AccountInfo!B274)","v":""},{"$nulls":7},"Check"]
[{"$f":"AccountInfo!$A275","v":273},{"$f":"IF(AccountInfo!$B275=\"\",\"\",AccountInfo!B275)","v":""},{"$nulls":7},"Check"]
[{"$f":"AccountInfo!$A276","v":274},{"$f":"IF(AccountInfo!$B276=\"\",\"\",AccountInfo!B276)","v":""},{"$nulls":7},"Check"]
[{"$f":"AccountInfo!$A277","v":275},{"$f":"IF(AccountInfo!$B277=\"\",\"\",AccountInfo!B277)","v":""},{"$nulls":7},"Check"]
[{"$f":"AccountInfo!$A278","v":276},{"$f":"IF(AccountInfo!$B278=\"\",\"\",AccountInfo!B278)","v":""},{"$nulls":7},"Check"]
[{"$f":"AccountInfo!$A279","v":277},{"$f":"IF(AccountInfo!$B279=\"\",\"\",AccountInfo!B279)","v":""},{"$nulls":7},"Check"]
[{"$f":"AccountInfo!$A280","v":278},{"$f":"IF(AccountInfo!$B280=\"\",\"\",AccountInfo!B280)","v":""},{"$nulls":7},"Check"]
[{"$f":"AccountInfo!$A281","v":279},{"$f":"IF(AccountInfo!$B281=\"\",\"\",AccountInfo!B281)","v":""},{"$nulls":7},"Check"]
[{"$f":"AccountInfo!$A282","v":280},{"$f":"IF(AccountInfo!$B282=\"\",\"\",AccountInfo!B282)","v":""},{"$nulls":7},"Check"]
[{"$f":"AccountInfo!$A283","v":281},{"$f":"IF(AccountInfo!$B283=\"\",\"\",AccountInfo!B283)","v":""},{"$nulls":7},"Check"]
[{"$f":"AccountInfo!$A284","v":282},{"$f":"IF(AccountInfo!$B284=\"\",\"\",AccountInfo!B284)","v":""},{"$nulls":7},"Check"]
[{"$f":"AccountInfo!$A285","v":283},{"$f":"IF(AccountInfo!$B285=\"\",\"\",AccountInfo!B285)","v":""},{"$nulls":7},"Check"]
[{"$f":"AccountInfo!$A286","v":284},{"$f":"IF(AccountInfo!$B286=\"\",\"\",AccountInfo!B286)","v":""},{"$nulls":7},"Check"]
[{"$f":"AccountInfo!$A287","v":285},{"$f":"IF(AccountInfo!$B287=\"\",\"\",AccountInfo!B287)","v":""},{"$nulls":7},"Check"]
[{"$f":"AccountInfo!$A288","v":286},{"$f":"IF(AccountInfo!$B288=\"\",\"\",AccountInfo!B288)","v":""},{"$nulls":7},"Check"]
[{"$f":"AccountInfo!$A289","v":287},{"$f":"IF(AccountInfo!$B289=\"\",\"\",AccountInfo!B289)","v":""},{"$nulls":7},"Check"]
[{"$f":"AccountInfo!$A290","v":288},{"$f":"IF(AccountInfo!$B290=\"\",\"\",AccountInfo!B290)","v":""},{"$nulls":7},"Check"]
[{"$f":"AccountInfo!$A291","v":289},{"$f":"IF(AccountInfo!$B291=\"\",\"\",AccountInfo!B291)","v":""},{"$nulls":7},"Check"]
[{"$f":"AccountInfo!$A292","v":290},{"$f":"IF(AccountInfo!$B292=\"\",\"\",AccountInfo!B292)","v":""},{"$nulls":7},"Check"]
[{"$f":"AccountInfo!$A293","v":291},{"$f":"IF(AccountInfo!$B293=\"\",\"\",AccountInfo!B293)","v":""},{"$nulls":7},"Check"]
[{"$f":"AccountInfo!$A294","v":292},{"$f":"IF(AccountInfo!$B294=\"\",\"\",AccountInfo!B294)","v":""},{"$nulls":7},"Check"]
[{"$f":"AccountInfo!$A295","v":293},{"$f":"IF(AccountInfo!$B295=\"\",\"\",AccountInfo!B295)","v":""},{"$nulls":7},"Check"]
[{"$f":"AccountInfo!$A296","v":294},{"$f":"IF(AccountInfo!$B296=\"\",\"\",AccountInfo!B296)","v":""},{"$nulls":7},"Check"]
[{"$f":"AccountInfo!$A297","v":295},{"$f":"IF(AccountInfo!$B297=\"\",\"\",AccountInfo!B297)","v":""},{"$nulls":7},"Check"]
[{"$f":"AccountInfo!$A298","v":296},{"$f":"IF(AccountInfo!$B298=\"\",\"\",AccountInfo!B298)","v":""},{"$nulls":7},"Check"]
[{"$f":"AccountInfo!$A299","v":297},{"$f":"IF(AccountInfo!$B299=\"\",\"\",AccountInfo!B299)","v":""},{"$nulls":7},"Check"]
[{"$f":"AccountInfo!$A300","v":298},{"$f":"IF(AccountInfo!$B300=\"\",\"\",AccountInfo!B300)","v":""},{"$nulls":7},"Check"]
[{"$f":"AccountInfo!$A301","v":299},{"$f":"IF(AccountInfo!$B301=\"\",\"\",AccountInfo!B301)","v":""},{"$nulls":7},"Check"]
[{"$f":"AccountInfo!$A302","v":300},{"$f":"IF(AccountInfo!$B302=\"\",\"\",AccountInfo!B302)","v":""},{"$nulls":7},"Check"]
[{"$f":"AccountInfo!$A303","v":301},{"$f":"IF(AccountInfo!$B303=\"\",\"\",AccountInfo!B303)","v":""},{"$nulls":7},"Check"]
[{"$f":"AccountInfo!$A304","v":302},{"$f":"IF(AccountInfo!$B304=\"\",\"\",AccountInfo!B304)","v":""},{"$nulls":7},"Check"]
[{"$f":"AccountInfo!$A305","v":303},{"$f":"IF(AccountInfo!$B305=\"\",\"\",AccountInfo!B305)","v":""},{"$nulls":7},"Check"]
[{"$f":"AccountInfo!$A306","v":304},{"$f":"IF(AccountInfo!$B306=\"\",\"\",AccountInfo!B306)","v":""},{"$nulls":7},"Check"]
[{"$f":"AccountInfo!$A307","v":305},{"$f":"IF(AccountInfo!$B307=\"\",\"\",AccountInfo!B307)","v":""},{"$nulls":7},"Check"]
[{"$f":"AccountInfo!$A308","v":306},{"$f":"IF(AccountInfo!$B308=\"\",\"\",AccountInfo!B308)","v":""},{"$nulls":7},"Check"]
[{"$f":"AccountInfo!$A309","v":307},{"$f":"IF(AccountInfo!$B309=\"\",\"\",AccountInfo!B309)","v":""},{"$nulls":7},"Check"]
[{"$f":"AccountInfo!$A310","v":308},{"$f":"IF(AccountInfo!$B310=\"\",\"\",AccountInfo!B310)","v":""},{"$nulls":7},"Check"]
[{"$f":"AccountInfo!$A311","v":309},{"$f":"IF(AccountInfo!$B311=\"\",\"\",AccountInfo!B311)","v":""},{"$nulls":7},"Check"]
[{"$f":"AccountInfo!$A312","v":310},{"$f":"IF(AccountInfo!$B312=\"\",\"\",AccountInfo!B312)","v":""},{"$nulls":7},"Check"]
[{"$f":"AccountInfo!$A313","v":311},{"$f":"IF(AccountInfo!$B313=\"\",\"\",AccountInfo!B313)","v":""},{"$nulls":7},"Check"]
[{"$f":"AccountInfo!$A314","v":312},{"$f":"IF(AccountInfo!$B314=\"\",\"\",AccountInfo!B314)","v":""},{"$nulls":7},"Check"]
[{"$f":"AccountInfo!$A315","v":313},{"$f":"IF(AccountInfo!$B315=\"\",\"\",AccountInfo!B315)","v":""},{"$nulls":7},"Check"]
[{"$f":"AccountInfo!$A316","v":314},{"$f":"IF(AccountInfo!$B316=\"\",\"\",AccountInfo!B316)","v":""},{"$nulls":7},"Check"]
[{"$f":"AccountInfo!$A317","v":315},{"$f":"IF(AccountInfo!$B317=\"\",\"\",AccountInfo!B317)","v":""},{"$nulls":7},"Check"]
[{"$f":"AccountInfo!$A318","v":316},{"$f":"IF(AccountInfo!$B318=\"\",\"\",AccountInfo!B318)","v":""},{"$nulls":7},"Check"]
[{"$f":"AccountInfo!$A319","v":317},{"$f":"IF(AccountInfo!$B319=\"\",\"\",AccountInfo!B319)","v":""},{"$nulls":7},"Check"]
[{"$f":"AccountInfo!$A320","v":318},{"$f":"IF(AccountInfo!$B320=\"\",\"\",AccountInfo!B320)","v":""},{"$nulls":7},"Check"]
[{"$f":"AccountInfo!$A321","v":319},{"$f":"IF(AccountInfo!$B321=\"\",\"\",AccountInfo!B321)","v":""},{"$nulls":7},"Check"]
[{"$f":"AccountInfo!$A322","v":320},{"$f":"IF(AccountInfo!$B322=\"\",\"\",AccountInfo!B322)","v":""},{"$nulls":7},"Check"]
[{"$f":"AccountInfo!$A323","v":321},{"$f":"IF(AccountInfo!$B323=\"\",\"\",AccountInfo!B323)","v":""},{"$nulls":7},"Check"]
[{"$f":"AccountInfo!$A324","v":322},{"$f":"IF(AccountInfo!$B324=\"\",\"\",AccountInfo!B324)","v":""},{"$nulls":7},{"$f":"IF(AND(D324<=E324, E324<=F324, F324<=G324, G324<=IF(H324=\"\", 1000000000000, H324)), \"Check\", \"Error\")","v":"Check"}]
[{"$f":"AccountInfo!$A325","v":323},{"$f":"IF(AccountInfo!$B325=\"\",\"\",AccountInfo!B325)","v":""},{"$nulls":7},"Check"]
[{"$f":"AccountInfo!$A326","v":324},{"$f":"IF(AccountInfo!$B326=\"\",\"\",AccountInfo!B326)","v":""},{"$nulls":7},"Check"]
[{"$f":"AccountInfo!$A327","v":325},{"$f":"IF(AccountInfo!$B327=\"\",\"\",AccountInfo!B327)","v":""},{"$nulls":7},"Check"]
[{"$f":"AccountInfo!$A328","v":326},{"$f":"IF(AccountInfo!$B328=\"\",\"\",AccountInfo!B328)","v":""},{"$nulls":7},"Check"]
[{"$f":"AccountInfo!$A329","v":327},{"$f":"IF(AccountInfo!$B329=\"\",\"\",AccountInfo!B329)","v":""},{"$nulls":7},"Check"]
[{"$f":"AccountInfo!$A330","v":328},{"$f":"IF(AccountInfo!$B330=\"\",\"\",AccountInfo!B330)","v":""},{"$nulls":7},"Check"]
[{"$f":"AccountInfo!$A331","v":329},{"$f":"IF(AccountInfo!$B331=\"\",\"\",AccountInfo!B331)","v":""},{"$nulls":7},"Check"]
[{"$f":"AccountInfo!$A332","v":330},{"$f":"IF(AccountInfo!$B332=\"\",\"\",AccountInfo!B332)","v":""},{"$nulls":7},"Check"]
[{"$f":"AccountInfo!$A333","v":331},{"$f":"IF(AccountInfo!$B333=\"\",\"\",AccountInfo!B333)","v":""},{"$nulls":7},"Check"]
[{"$f":"AccountInfo!$A334","v":332},{"$f":"IF(AccountInfo!$B334=\"\",\"\",AccountInfo!B334)","v":""},{"$nulls":7},"Check"]
[{"$f":"AccountInfo!$A335","v":333},{"$f":"IF(AccountInfo!$B335=\"\",\"\",AccountInfo!B335)","v":""},{"$nulls":7},"Check"]
[{"$f":"AccountInfo!$A336","v":334},{"$f":"IF(AccountInfo!$B336=\"\",\"\",AccountInfo!B336)","v":""},{"$nulls":7},"Check"]
[{"$f":"AccountInfo!$A337","v":335},{"$f":"IF(AccountInfo!$B337=\"\",\"\",AccountInfo!B337)","v":""},{"$nulls":7},"Check"]
[{"$f":"AccountInfo!$A338","v":336},{"$f":"IF(AccountInfo!$B338=\"\",\"\",AccountInfo!B338)","v":""},{"$nulls":7},"Check"]
[{"$f":"AccountInfo!$A339","v":337},{"$f":"IF(AccountInfo!$B339=\"\",\"\",AccountInfo!B339)","v":""},{"$nulls":7},"Check"]
[{"$f":"AccountInfo!$A340","v":338},{"$f":"IF(AccountInfo!$B340=\"\",\"\",AccountInfo!B340)","v":""},{"$nulls":7},"Check"]
[{"$f":"AccountInfo!$A341","v":339},{"$f":"IF(AccountInfo!$B341=\"\",\"\",AccountInfo!B341)","v":""},{"$nulls":7},"Check"]
[{"$f":"AccountInfo!$A342","v":340},{"$f":"IF(AccountInfo!$B342=\"\",\"\",AccountInfo!B342)","v":""},{"$nulls":7},"Check"]
[{"$f":"AccountInfo!$A343","v":341},{"$f":"IF(AccountInfo!$B343=\"\",\"\",AccountInfo!B343)","v":""},{"$nulls":7},"Check"]
[{"$f":"AccountInfo!$A344","v":342},{"$f":"IF(AccountInfo!$B344=\"\",\"\",AccountInfo!B344)","v":""},{"$nulls":7},"Check"]
[{"$f":"AccountInfo!$A345","v":343},{"$f":"IF(AccountInfo!$B345=\"\",\"\",AccountInfo!B345)","v":""},{"$nulls":7},"Check"]
[{"$f":"AccountInfo!$A346","v":344},{"$f":"IF(AccountInfo!$B346=\"\",\"\",AccountInfo!B346)","v":""},{"$nulls":7},"Check"]
[{"$f":"AccountInfo!$A347","v":345},{"$f":"IF(AccountInfo!$B347=\"\",\"\",AccountInfo!B347)","v":""},{"$nulls":7},"Check"]
[{"$f":"AccountInfo!$A348","v":346},{"$f":"IF(AccountInfo!$B348=\"\",\"\",AccountInfo!B348)","v":""},{"$nulls":7},"Check"]
[{"$f":"AccountInfo!$A349","v":347},{"$f":"IF(AccountInfo!$B349=\"\",\"\",AccountInfo!B349)","v":""},{"$nulls":7},"Check"]
[{"$f":"AccountInfo!$A350","v":348},{"$f":"IF(AccountInfo!$B350=\"\",\"\",AccountInfo!B350)","v":""},{"$nulls":7},"Check"]
[{"$f":"AccountInfo!$A351","v":349},{"$f":"IF(AccountInfo!$B351=\"\",\"\",AccountInfo!B351)","v":""},{"$nulls":7},"Check"]
[{"$f":"AccountInfo!$A352","v":350},{"$f":"IF(AccountInfo!$B352=\"\",\"\",AccountInfo!B352)","v":""},{"$nulls":7},"Check"]
[{"$f":"AccountInfo!$A353","v":351},{"$f":"IF(AccountInfo!$B353=\"\",\"\",AccountInfo!B353)","v":""},{"$nulls":7},"Check"]
[{"$f":"AccountInfo!$A354","v":352},{"$f":"IF(AccountInfo!$B354=\"\",\"\",AccountInfo!B354)","v":""},{"$nulls":7},"Check"]
[{"$f":"AccountInfo!$A355","v":353},{"$f":"IF(AccountInfo!$B355=\"\",\"\",AccountInfo!B355)","v":""},{"$nulls":7},"Check"]
[{"$f":"AccountInfo!$A356","v":354},{"$f":"IF(AccountInfo!$B356=\"\",\"\",AccountInfo!B356)","v":""},{"$nulls":7},"Check"]
[{"$f":"AccountInfo!$A357","v":355},{"$f":"IF(AccountInfo!$B357=\"\",\"\",AccountInfo!B357)","v":""},{"$nulls":7},"Check"]
[{"$f":"AccountInfo!$A358","v":356},{"$f":"IF(AccountInfo!$B358=\"\",\"\",AccountInfo!B358)","v":""},{"$nulls":7},"Check"]
[{"$f":"AccountInfo!$A359","v":357},{"$f":"IF(AccountInfo!$B359=\"\",\"\",AccountInfo!B359)","v":""},{"$nulls":7},"Check"]
[{"$f":"AccountInfo!$A360","v":358},{"$f":"IF(AccountInfo!$B360=\"\",\"\",AccountInfo!B360)","v":""},{"$nulls":7},"Check"]
[{"$f":"AccountInfo!$A361","v":359},{"$f":"IF(AccountInfo!$B361=\"\",\"\",AccountInfo!B361)","v":""},{"$nulls":7},"Check"]
[{"$f":"AccountInfo!$A362","v":360},{"$f":"IF(AccountInfo!$B362=\"\",\"\",AccountInfo!B362)","v":""},{"$nulls":7},"Check"]
[{"$f":"AccountInfo!$A363","v":361},{"$f":"IF(AccountInfo!$B363=\"\",\"\",AccountInfo!B363)","v":""},{"$nulls":7},"Check"]
[{"$f":"AccountInfo!$A364","v":362},{"$f":"IF(AccountInfo!$B364=\"\",\"\",AccountInfo!B364)","v":""},{"$nulls":7},"Check"]
[{"$f":"AccountInfo!$A365","v":363},{"$f":"IF(AccountInfo!$B365=\"\",\"\",AccountInfo!B365)","v":""},{"$nulls":7},"Check"]
[{"$f":"AccountInfo!$A366","v":364},{"$f":"IF(AccountInfo!$B366=\"\",\"\",AccountInfo!B366)","v":""},{"$nulls":7},"Check"]
[{"$f":"AccountInfo!$A367","v":365},{"$f":"IF(AccountInfo!$B367=\"\",\"\",AccountInfo!B367)","v":""},{"$nulls":7},"Check"]
[{"$f":"AccountInfo!$A368","v":366},{"$f":"IF(AccountInfo!$B368=\"\",\"\",AccountInfo!B368)","v":""},{"$nulls":7},"Check"]
[{"$f":"AccountInfo!$A369","v":367},{"$f":"IF(AccountInfo!$B369=\"\",\"\",AccountInfo!B369)","v":""},{"$nulls":7},"Check"]
[{"$f":"AccountInfo!$A370","v":368},{"$f":"IF(AccountInfo!$B370=\"\",\"\",AccountInfo!B370)","v":""},{"$nulls":7},"Check"]
[{"$f":"AccountInfo!$A371","v":369},{"$f":"IF(AccountInfo!$B371=\"\",\"\",AccountInfo!B371)","v":""},{"$nulls":7},"Check"]
[{"$f":"AccountInfo!$A372","v":370},{"$f":"IF(AccountInfo!$B372=\"\",\"\",AccountInfo!B372)","v":""},{"$nulls":7},"Check"]
[{"$f":"AccountInfo!$A373","v":371},{"$f":"IF(AccountInfo!$B373=\"\",\"\",AccountInfo!B373)","v":""},{"$nulls":7},"Check"]
[{"$f":"AccountInfo!$A374","v":372},{"$f":"IF(AccountInfo!$B374=\"\",\"\",AccountInfo!B374)","v":""},{"$nulls":7},"Check"]
[{"$f":"AccountInfo!$A375","v":373},{"$f":"IF(AccountInfo!$B375=\"\",\"\",AccountInfo!B375)","v":""},{"$nulls":7},"Check"]
[{"$f":"AccountInfo!$A376","v":374},{"$f":"IF(AccountInfo!$B376=\"\",\"\",AccountInfo!B376)","v":""},{"$nulls":7},"Check"]
[{"$f":"AccountInfo!$A377","v":375},{"$f":"IF(AccountInfo!$B377=\"\",\"\",AccountInfo!B377)","v":""},{"$nulls":7},"Check"]
[{"$f":"AccountInfo!$A378","v":376},{"$f":"IF(AccountInfo!$B378=\"\",\"\",AccountInfo!B378)","v":""},{"$nulls":7},"Check"]
[{"$f":"AccountInfo!$A379","v":377},{"$f":"IF(AccountInfo!$B379=\"\",\"\",AccountInfo!B379)","v":""},{"$nulls":7},"Check"]
[{"$f":"AccountInfo!$A380","v":378},{"$f":"IF(AccountInfo!$B380=\"\",\"\",AccountInfo!B380)","v":""},{"$nulls":7},"Check"]
[{"$f":"AccountInfo!$A381","v":379},{"$f":"IF(AccountInfo!$B381=\"\",\"\",AccountInfo!B381)","v":""},{"$nulls":7},"Check"]
[{"$f":"AccountInfo!$A382","v":380},{"$f":"IF(AccountInfo!$B382=\"\",\"\",AccountInfo!B382)","v":""},{"$nulls":7},"Check"]
[{"$f":"AccountInfo!$A383","v":381},{"$f":"IF(AccountInfo!$B383=\"\",\"\",AccountInfo!B383)","v":""},{"$nulls":7},"Check"]
[{"$f":"AccountInfo!$A384","v":382},{"$f":"IF(AccountInfo!$B384=\"\",\"\",AccountInfo!B384)","v":""},{"$nulls":7},"Check"]
[{"$f":"AccountInfo!$A385","v":383},{"$f":"IF(AccountInfo!$B385=\"\",\"\",AccountInfo!B385)","v":""},{"$nulls":7},"Check"]
[{"$f":"AccountInfo!$A386","v":384},{"$f":"IF(AccountInfo!$B386=\"\",\"\",AccountInfo!B386)","v":""},{"$nulls":7},"Check"]
[{"$f":"AccountInfo!$A387","v":385},{"$f":"IF(AccountInfo!$B387=\"\",\"\",AccountInfo!B387)","v":""},{"$nulls":7},"Check"]
[{"$f":"AccountInfo!$A388","v":386},{"$f":"IF(AccountInfo!$B388=\"\",\"\",AccountInfo!B388)","v":""},{"$nulls":7},{"$f":"IF(AND(D388<=E388, E388<=F388, F388<=G388, G388<=IF(H388=\"\", 1000000000000, H388)), \"Check\", \"Error\")","v":"Check"}]
[{"$f":"AccountInfo!$A389","v":387},{"$f":"IF(AccountInfo!$B389=\"\",\"\",AccountInfo!B389)","v":""},{"$nulls":7},"Check"]
[{"$f":"AccountInfo!$A390","v":388},{"$f":"IF(AccountInfo!$B390=\"\",\"\",AccountInfo!B390)","v":""},{"$nulls":7},"Check"]
[{"$f":"AccountInfo!$A391","v":389},{"$f":"IF(AccountInfo!$B391=\"\",\"\",AccountInfo!B391)","v":""},{"$nulls":7},"Check"]
[{"$f":"AccountInfo!$A392","v":390},{"$f":"IF(AccountInfo!$B392=\"\",\"\",AccountInfo!B392)","v":""},{"$nulls":7},"Check"]
[{"$f":"AccountInfo!$A393","v":391},{"$f":"IF(AccountInfo!$B393=\"\",\"\",AccountInfo!B393)","v":""},{"$nulls":7},"Check"]
[{"$f":"AccountInfo!$A394","v":392},{"$f":"IF(AccountInfo!$B394=\"\",\"\",AccountInfo!B394)","v":""},{"$nulls":7},"Check"]
[{"$f":"AccountInfo!$A395","v":393},{"$f":"IF(AccountInfo!$B395=\"\",\"\",AccountInfo!B395)","v":""},{"$nulls":7},"Check"]
[{"$f":"AccountInfo!$A396","v":394},{"$f":"IF(AccountInfo!$B396=\"\",\"\",AccountInfo!B396)","v":""},{"$nulls":7},"Check"]
[{"$f":"AccountInfo!$A397","v":395},{"$f":"IF(AccountInfo!$B397=\"\",\"\",AccountInfo!B397)","v":""},{"$nulls":7},"Check"]
[{"$f":"AccountInfo!$A398","v":396},{"$f":"IF(AccountInfo!$B398=\"\",\"\",AccountInfo!B398)","v":""},{"$nulls":7},"Check"]
[{"$f":"AccountInfo!$A399","v":397},{"$f":"IF(AccountInfo!$B399=\"\",\"\",AccountInfo!B399)","v":""},{"$nulls":7},"Check"]
[{"$f":"AccountInfo!$A400","v":398},{"$f":"IF(AccountInfo!$B400=\"\",\"\",AccountInfo!B400)","v":""},{"$nulls":7},"Check"]
[{"$f":"AccountInfo!$A401","v":399},{"$f":"IF(AccountInfo!$B401=\"\",\"\",AccountInfo!B401)","v":""},{"$nulls":7},"Check"]
[{"$f":"AccountInfo!$A402","v":400},{"$f":"IF(AccountInfo!$B402=\"\",\"\",AccountInfo!B402)","v":""},{"$nulls":7},"Check"]
[{"$f":"AccountInfo!$A403","v":401},{"$f":"IF(AccountInfo!$B403=\"\",\"\",AccountInfo!B403)","v":""},{"$nulls":7},"Check"]
[{"$f":"AccountInfo!$A404","v":402},{"$f":"IF(AccountInfo!$B404=\"\",\"\",AccountInfo!B404)","v":""},{"$nulls":7},"Check"]
[{"$f":"AccountInfo!$A405","v":403},{"$f":"IF(AccountInfo!$B405=\"\",\"\",AccountInfo!B405)","v":""},{"$nulls":7},"Check"]
[{"$f":"AccountInfo!$A406","v":404},{"$f":"IF(AccountInfo!$B406=\"\",\"\",AccountInfo!B406)","v":""},{"$nulls":7},"Check"]
[{"$f":"AccountInfo!$A407","v":405},{"$f":"IF(AccountInfo!$B407=\"\",\"\",AccountInfo!B407)","v":""},{"$nulls":7},"Check"]
[{"$f":"AccountInfo!$A408","v":406},{"$f":"IF(AccountInfo!$B408=\"\",\"\",AccountInfo!B408)","v":""},{"$nulls":7},"Check"]
[{"$f":"AccountInfo!$A409","v":407},{"$f":"IF(AccountInfo!$B409=\"\",\"\",AccountInfo!B409)","v":""},{"$nulls":7},"Check"]
[{"$f":"AccountInfo!$A410","v":408},{"$f":"IF(AccountInfo!$B410=\"\",\"\",AccountInfo!B410)","v":""},{"$nulls":7},"Check"]
[{"$f":"AccountInfo!$A411","v":409},{"$f":"IF(AccountInfo!$B411=\"\",\"\",AccountInfo!B411)","v":""},{"$nulls":7},"Check"]
[{"$f":"AccountInfo!$A412","v":410},{"$f":"IF(AccountInfo!$B412=\"\",\"\",AccountInfo!B412)","v":""},{"$nulls":7},"Check"]
[{"$f":"AccountInfo!$A413","v":411},{"$f":"IF(AccountInfo!$B413=\"\",\"\",AccountInfo!B413)","v":""},{"$nulls":7},"Check"]
[{"$f":"AccountInfo!$A414","v":412},{"$f":"IF(AccountInfo!$B414=\"\",\"\",AccountInfo!B414)","v":""},{"$nulls":7},"Check"]
[{"$f":"AccountInfo!$A415","v":413},{"$f":"IF(AccountInfo!$B415=\"\",\"\",AccountInfo!B415)","v":""},{"$nulls":7},"Check"]
[{"$f":"AccountInfo!$A416","v":414},{"$f":"IF(AccountInfo!$B416=\"\",\"\",AccountInfo!B416)","v":""},{"$nulls":7},"Check"]
[{"$f":"AccountInfo!$A417","v":415},{"$f":"IF(AccountInfo!$B417=\"\",\"\",AccountInfo!B417)","v":""},{"$nulls":7},"Check"]
[{"$f":"AccountInfo!$A418","v":416},{"$f":"IF(AccountInfo!$B418=\"\",\"\",AccountInfo!B418)","v":""},{"$nulls":7},"Check"]
[{"$f":"AccountInfo!$A419","v":417},{"$f":"IF(AccountInfo!$B419=\"\",\"\",AccountInfo!B419)","v":""},{"$nulls":7},"Check"]
[{"$f":"AccountInfo!$A420","v":418},{"$f":"IF(AccountInfo!$B420=\"\",\"\",AccountInfo!B420)","v":""},{"$nulls":7},"Check"]
[{"$f":"AccountInfo!$A421","v":419},{"$f":"IF(AccountInfo!$B421=\"\",\"\",AccountInfo!B421)","v":""},{"$nulls":7},"Check"]
[{"$f":"AccountInfo!$A422","v":420},{"$f":"IF(AccountInfo!$B422=\"\",\"\",AccountInfo!B422)","v":""},{"$nulls":7},"Check"]
[{"$f":"AccountInfo!$A423","v":421},{"$f":"IF(AccountInfo!$B423=\"\",\"\",AccountInfo!B423)","v":""},{"$nulls":7},"Check"]
[{"$f":"AccountInfo!$A424","v":422},{"$f":"IF(AccountInfo!$B424=\"\",\"\",AccountInfo!B424)","v":""},{"$nulls":7},"Check"]
[{"$f":"AccountInfo!$A425","v":423},{"$f":"IF(AccountInfo!$B425=\"\",\"\",AccountInfo!B425)","v":""},{"$nulls":7},"Check"]
[{"$f":"AccountInfo!$A426","v":424},{"$f":"IF(AccountInfo!$B426=\"\",\"\",AccountInfo!B426)","v":""},{"$nulls":7},"Check"]
[{"$f":"AccountInfo!$A427","v":425},{"$f":"IF(AccountInfo!$B427=\"\",\"\",AccountInfo!B427)","v":""},{"$nulls":7},"Check"]
[{"$f":"AccountInfo!$A428","v":426},{"$f":"IF(AccountInfo!$B428=\"\",\"\",AccountInfo!B428)","v":""},{"$nulls":7},"Check"]
[{"$f":"AccountInfo!$A429","v":427},{"$f":"IF(AccountInfo!$B429=\"\",\"\",AccountInfo!B429)","v":""},{"$nulls":7},"Check"]
[{"$f":"AccountInfo!$A430","v":428},{"$f":"IF(AccountInfo!$B430=\"\",\"\",AccountInfo!B430)","v":""},{"$nulls":7},"Check"]
[{"$f":"AccountInfo!$A431","v":429},{"$f":"IF(AccountInfo!$B431=\"\",\"\",AccountInfo!B431)","v":""},{"$nulls":7},"Check"]
[{"$f":"AccountInfo!$A432","v":430},{"$f":"IF(AccountInfo!$B432=\"\",\"\",AccountInfo!B432)","v":""},{"$nulls":7},"Check"]
[{"$f":"AccountInfo!$A433","v":431},{"$f":"IF(AccountInfo!$B433=\"\",\"\",AccountInfo!B433)","v":""},{"$nulls":7},"Check"]
[{"$f":"AccountInfo!$A434","v":432},{"$f":"IF(AccountInfo!$B434=\"\",\"\",AccountInfo!B434)","v":""},{"$nulls":7},"Check"]
[{"$f":"AccountInfo!$A435","v":433},{"$f":"IF(AccountInfo!$B435=\"\",\"\",AccountInfo!B435)","v":""},{"$nulls":7},"Check"]
[{"$f":"AccountInfo!$A436","v":434},{"$f":"IF(AccountInfo!$B436=\"\",\"\",AccountInfo!B436)","v":""},{"$nulls":7},"Check"]
[{"$f":"AccountInfo!$A437","v":435},{"$f":"IF(AccountInfo!$B437=\"\",\"\",AccountInfo!B437)","v":""},{"$nulls":7},"Check"]
[{"$f":"AccountInfo!$A438","v":436},{"$f":"IF(AccountInfo!$B438=\"\",\"\",AccountInfo!B438)","v":""},{"$nulls":7},"Check"]
[{"$f":"AccountInfo!$A439","v":437},{"$f":"IF(AccountInfo!$B439=\"\",\"\",AccountInfo!B439)","v":""},{"$nulls":7},"Check"]
[{"$f":"AccountInfo!$A440","v":438},{"$f":"IF(AccountInfo!$B440=\"\",\"\",AccountInfo!B440)","v":""},{"$nulls":7},"Check"]
[{"$f":"AccountInfo!$A441","v":439},{"$f":"IF(AccountInfo!$B441=\"\",\"\",AccountInfo!B441)","v":""},{"$nulls":7},"Check"]
[{"$f":"AccountInfo!$A442","v":440},{"$f":"IF(AccountInfo!$B442=\"\",\"\",AccountInfo!B442)","v":""},{"$nulls":7},"Check"]
[{"$f":"AccountInfo!$A443","v":441},{"$f":"IF(AccountInfo!$B443=\"\",\"\",AccountInfo!B443)","v":""},{"$nulls":7},"Check"]
[{"$f":"AccountInfo!$A444","v":442},{"$f":"IF(AccountInfo!$B444=\"\",\"\",AccountInfo!B444)","v":""},{"$nulls":7},"Check"]
[{"$f":"AccountInfo!$A445","v":443},{"$f":"IF(AccountInfo!$B445=\"\",\"\",AccountInfo!B445)","v":""},{"$nulls":7},"Check"]
[{"$f":"AccountInfo!$A446","v":444},{"$f":"IF(AccountInfo!$B446=\"\",\"\",AccountInfo!B446)","v":""},{"$nulls":7},"Check"]
[{"$f":"AccountInfo!$A447","v":445},{"$f":"IF(AccountInfo!$B447=\"\",\"\",AccountInfo!B447)","v":""},{"$nulls":7},"Check"]
[{"$f":"AccountInfo!$A448","v":446},{"$f":"IF(AccountInfo!$B448=\"\",\"\",AccountInfo!B448)","v":""},{"$nulls":7},"Check"]
[{"$f":"AccountInfo!$A449","v":447},{"$f":"IF(AccountInfo!$B449=\"\",\"\",AccountInfo!B449)","v":""},{"$nulls":7},"Check"]
[{"$f":"AccountInfo!$A450","v":448},{"$f":"IF(AccountInfo!$B450=\"\",\"\",AccountInfo!B450)","v":""},{"$nulls":7},"Check"]
[{"$f":"AccountInfo!$A451","v":449},{"$f":"IF(AccountInfo!$B451=\"\",\"\",AccountInfo!B451)","v":""},{"$nulls":7},"Check"]
[{"$f":"AccountInfo!$A452","v":450},{"$f":"IF(AccountInfo!$B452=\"\",\"\",AccountInfo!B452)","v":""},{"$nulls":7},{"$f":"IF(AND(D452<=E452, E452<=F452, F452<=G452, G452<=IF(H452=\"\", 1000000000000, H452)), \"Check\", \"Error\")","v":"Check"}]
[{"$f":"AccountInfo!$A453","v":451},{"$f":"IF(AccountInfo!$B453=\"\",\"\",AccountInfo!B453)","v":""},{"$nulls":7},"Check"]
[{"$f":"AccountInfo!$A454","v":452},{"$f":"IF(AccountInfo!$B454=\"\",\"\",AccountInfo!B454)","v":""},{"$nulls":7},"Check"]
[{"$f":"AccountInfo!$A455","v":453},{"$f":"IF(AccountInfo!$B455=\"\",\"\",AccountInfo!B455)","v":""},{"$nulls":7},"Check"]
[{"$f":"AccountInfo!$A456","v":454},{"$f":"IF(AccountInfo!$B456=\"\",\"\",AccountInfo!B456)","v":""},{"$nulls":7},"Check"]
[{"$f":"AccountInfo!$A457","v":455},{"$f":"IF(AccountInfo!$B457=\"\",\"\",AccountInfo!B457)","v":""},{"$nulls":7},"Check"]
[{"$f":"AccountInfo!$A458","v":456},{"$f":"IF(AccountInfo!$B458=\"\",\"\",AccountInfo!B458)","v":""},{"$nulls":7},"Check"]
[{"$f":"AccountInfo!$A459","v":457},{"$f":"IF(AccountInfo!$B459=\"\",\"\",AccountInfo!B459)","v":""},{"$nulls":7},"Check"]
[{"$f":"AccountInfo!$A460","v":458},{"$f":"IF(AccountInfo!$B460=\"\",\"\",AccountInfo!B460)","v":""},{"$nulls":7},"Check"]
[{"$f":"AccountInfo!$A461","v":459},{"$f":"IF(AccountInfo!$B461=\"\",\"\",AccountInfo!B461)","v":""},{"$nulls":7},"Check"]
[{"$f":"AccountInfo!$A462","v":460},{"$f":"IF(AccountInfo!$B462=\"\",\"\",AccountInfo!B462)","v":""},{"$nulls":7},"Check"]
[{"$f":"AccountInfo!$A463","v":461},{"$f":"IF(AccountInfo!$B463=\"\",\"\",AccountInfo!B463)","v":""},{"$nulls":7},"Check"]
[{"$f":"AccountInfo!$A464","v":462},{"$f":"IF(AccountInfo!$B464=\"\",\"\",AccountInfo!B464)","v":""},{"$nulls":7},"Check"]
[{"$f":"AccountInfo!$A465","v":463},{"$f":"IF(AccountInfo!$B465=\"\",\"\",AccountInfo!B465)","v":""},{"$nulls":7},"Check"]
[{"$f":"AccountInfo!$A466","v":464},{"$f":"IF(AccountInfo!$B466=\"\",\"\",AccountInfo!B466)","v":""},{"$nulls":7},"Check"]
[{"$f":"AccountInfo!$A467","v":465},{"$f":"IF(AccountInfo!$B467=\"\",\"\",AccountInfo!B467)","v":""},{"$nulls":7},"Check"]
[{"$f":"AccountInfo!$A468","v":466},{"$f":"IF(AccountInfo!$B468=\"\",\"\",AccountInfo!B468)","v":""},{"$nulls":7},"Check"]
[{"$f":"AccountInfo!$A469","v":467},{"$f":"IF(AccountInfo!$B469=\"\",\"\",AccountInfo!B469)","v":""},{"$nulls":7},"Check"]
[{"$f":"AccountInfo!$A470","v":468},{"$f":"IF(AccountInfo!$B470=\"\",\"\",AccountInfo!B470)","v":""},{"$nulls":7},"Check"]
[{"$f":"AccountInfo!$A471","v":469},{"$f":"IF(AccountInfo!$B471=\"\",\"\",AccountInfo!B471)","v":""},{"$nulls":7},"Check"]
[{"$f":"AccountInfo!$A472","v":470},{"$f":"IF(AccountInfo!$B472=\"\",\"\",AccountInfo!B472)","v":""},{"$nulls":7},"Check"]
[{"$f":"AccountInfo!$A473","v":471},{"$f":"IF(AccountInfo!$B473=\"\",\"\",AccountInfo!B473)","v":""},{"$nulls":7},"Check"]
[{"$f":"AccountInfo!$A474","v":472},{"$f":"IF(AccountInfo!$B474=\"\",\"\",AccountInfo!B474)","v":""},{"$nulls":7},"Check"]
[{"$f":"AccountInfo!$A475","v":473},{"$f":"IF(AccountInfo!$B475=\"\",\"\",AccountInfo!B475)","v":""},{"$nulls":7},"Check"]
[{"$f":"AccountInfo!$A476","v":474},{"$f":"IF(AccountInfo!$B476=\"\",\"\",AccountInfo!B476)","v":""},{"$nulls":7},"Check"]
[{"$f":"AccountInfo!$A477","v":475},{"$f":"IF(AccountInfo!$B477=\"\",\"\",AccountInfo!B477)","v":""},{"$nulls":7},"Check"]
[{"$f":"AccountInfo!$A478","v":476},{"$f":"IF(AccountInfo!$B478=\"\",\"\",AccountInfo!B478)","v":""},{"$nulls":7},"Check"]
[{"$f":"AccountInfo!$A479","v":477},{"$f":"IF(AccountInfo!$B479=\"\",\"\",AccountInfo!B479)","v":""},{"$nulls":7},"Check"]
[{"$f":"AccountInfo!$A480","v":478},{"$f":"IF(AccountInfo!$B480=\"\",\"\",AccountInfo!B480)","v":""},{"$nulls":7},"Check"]
[{"$f":"AccountInfo!$A481","v":479},{"$f":"IF(AccountInfo!$B481=\"\",\"\",AccountInfo!B481)","v":""},{"$nulls":7},"Check"]
[{"$f":"AccountInfo!$A482","v":480},{"$f":"IF(AccountInfo!$B482=\"\",\"\",AccountInfo!B482)","v":""},{"$nulls":7},"Check"]
[{"$f":"AccountInfo!$A483","v":481},{"$f":"IF(AccountInfo!$B483=\"\",\"\",AccountInfo!B483)","v":""},{"$nulls":7},"Check"]
[{"$f":"AccountInfo!$A484","v":482},{"$f":"IF(AccountInfo!$B484=\"\",\"\",AccountInfo!B484)","v":""},{"$nulls":7},"Check"]
[{"$f":"AccountInfo!$A485","v":483},{"$f":"IF(AccountInfo!$B485=\"\",\"\",AccountInfo!B485)","v":""},{"$nulls":7},"Check"]
[{"$f":"AccountInfo!$A486","v":484},{"$f":"IF(AccountInfo!$B486=\"\",\"\",AccountInfo!B486)","v":""},{"$nulls":7},"Check"]
[{"$f":"AccountInfo!$A487","v":485},{"$f":"IF(AccountInfo!$B487=\"\",\"\",AccountInfo!B487)","v":""},{"$nulls":7},"Check"]
[{"$f":"AccountInfo!$A488","v":486},{"$f":"IF(AccountInfo!$B488=\"\",\"\",AccountInfo!B488)","v":""},{"$nulls":7},"Check"]
[{"$f":"AccountInfo!$A489","v":487},{"$f":"IF(AccountInfo!$B489=\"\",\"\",AccountInfo!B489)","v":""},{"$nulls":7},"Check"]
[{"$f":"AccountInfo!$A490","v":488},{"$f":"IF(AccountInfo!$B490=\"\",\"\",AccountInfo!B490)","v":""},{"$nulls":7},"Check"]
[{"$f":"AccountInfo!$A491","v":489},{"$f":"IF(AccountInfo!$B491=\"\",\"\",AccountInfo!B491)","v":""},{"$nulls":7},"Check"]
[{"$f":"AccountInfo!$A492","v":490},{"$f":"IF(AccountInfo!$B492=\"\",\"\",AccountInfo!B492)","v":""},{"$nulls":7},"Check"]
[{"$f":"AccountInfo!$A493","v":491},{"$f":"IF(AccountInfo!$B493=\"\",\"\",AccountInfo!B493)","v":""},{"$nulls":7},"Check"]
[{"$f":"AccountInfo!$A494","v":492},{"$f":"IF(AccountInfo!$B494=\"\",\"\",AccountInfo!B494)","v":""},{"$nulls":7},"Check"]
[{"$f":"AccountInfo!$A495","v":493},{"$f":"IF(AccountInfo!$B495=\"\",\"\",AccountInfo!B495)","v":""},{"$nulls":7},"Check"]
[{"$f":"AccountInfo!$A496","v":494},{"$f":"IF(AccountInfo!$B496=\"\",\"\",AccountInfo!B496)","v":""},{"$nulls":7},"Check"]
[{"$f":"AccountInfo!$A497","v":495},{"$f":"IF(AccountInfo!$B497=\"\",\"\",AccountInfo!B497)","v":""},{"$nulls":7},"Check"]
[{"$f":"AccountInfo!$A498","v":496},{"$f":"IF(AccountInfo!$B498=\"\",\"\",AccountInfo!B498)","v":""},{"$nulls":7},"Check"]
[{"$f":"AccountInfo!$A499","v":497},{"$f":"IF(AccountInfo!$B499=\"\",\"\",AccountInfo!B499)","v":""},{"$nulls":7},"Check"]
[{"$f":"AccountInfo!$A500","v":498},{"$f":"IF(AccountInfo!$B500=\"\",\"\",AccountInfo!B500)","v":""},{"$nulls":7},"Check"]
[{"$f":"AccountInfo!$A501","v":499},{"$f":"IF(AccountInfo!$B501=\"\",\"\",AccountInfo!B501)","v":""},{"$nulls":7},"Check"]
[{"$f":"AccountInfo!$A502","v":500},{"$f":"IF(AccountInfo!$B502=\"\",\"\",AccountInfo!B502)","v":""},{"$nulls":7},"Check"]
[{"$f":"AccountInfo!$A503","v":501},{"$f":"IF(AccountInfo!$B503=\"\",\"\",AccountInfo!B503)","v":""},{"$nulls":7},"Check"]
[{"$f":"AccountInfo!$A504","v":502},{"$f":"IF(AccountInfo!$B504=\"\",\"\",AccountInfo!B504)","v":""},{"$nulls":7},"Check"]
[{"$f":"AccountInfo!$A505","v":503},{"$f":"IF(AccountInfo!$B505=\"\",\"\",AccountInfo!B505)","v":""},{"$nulls":7},"Check"]
[{"$f":"AccountInfo!$A506","v":504},{"$f":"IF(AccountInfo!$B506=\"\",\"\",AccountInfo!B506)","v":""},{"$nulls":7},"Check"]
[{"$f":"AccountInfo!$A507","v":505},{"$f":"IF(AccountInfo!$B507=\"\",\"\",AccountInfo!B507)","v":""},{"$nulls":7},"Check"]
[{"$f":"AccountInfo!$A508","v":506},{"$f":"IF(AccountInfo!$B508=\"\",\"\",AccountInfo!B508)","v":""},{"$nulls":7},"Check"]
[{"$f":"AccountInfo!$A509","v":507},{"$f":"IF(AccountInfo!$B509=\"\",\"\",AccountInfo!B509)","v":""},{"$nulls":7},"Check"]
[{"$f":"AccountInfo!$A510","v":508},{"$f":"IF(AccountInfo!$B510=\"\",\"\",AccountInfo!B510)","v":""},{"$nulls":7},"Check"]
[{"$f":"AccountInfo!$A511","v":509},{"$f":"IF(AccountInfo!$B511=\"\",\"\",AccountInfo!B511)","v":""},{"$nulls":7},"Check"]
[{"$f":"AccountInfo!$A512","v":510},{"$f":"IF(AccountInfo!$B512=\"\",\"\",AccountInfo!B512)","v":""},{"$nulls":7},"Check"]
[{"$f":"AccountInfo!$A513","v":511},{"$f":"IF(AccountInfo!$B513=\"\",\"\",AccountInfo!B513)","v":""},{"$nulls":7},"Check"]
[{"$f":"AccountInfo!$A514","v":512},{"$f":"IF(AccountInfo!$B514=\"\",\"\",AccountInfo!B514)","v":""},{"$nulls":7},"Check"]
[{"$f":"AccountInfo!$A515","v":513},{"$f":"IF(AccountInfo!$B515=\"\",\"\",AccountInfo!B515)","v":""},{"$nulls":7},"Check"]
[{"$f":"AccountInfo!$A516","v":514},{"$f":"IF(AccountInfo!$B516=\"\",\"\",AccountInfo!B516)","v":""},{"$nulls":7},{"$f":"IF(AND(D516<=E516, E516<=F516, F516<=G516, G516<=IF(H516=\"\", 1000000000000, H516)), \"Check\", \"Error\")","v":"Check"}]
[{"$f":"AccountInfo!$A517","v":515},{"$f":"IF(AccountInfo!$B517=\"\",\"\",AccountInfo!B517)","v":""},{"$nulls":7},"Check"]
[{"$f":"AccountInfo!$A518","v":516},{"$f":"IF(AccountInfo!$B518=\"\",\"\",AccountInfo!B518)","v":""},{"$nulls":7},"Check"]
[{"$f":"AccountInfo!$A519","v":517},{"$f":"IF(AccountInfo!$B519=\"\",\"\",AccountInfo!B519)","v":""},{"$nulls":7},"Check"]
[{"$f":"AccountInfo!$A520","v":518},{"$f":"IF(AccountInfo!$B520=\"\",\"\",AccountInfo!B520)","v":""},{"$nulls":7},"Check"]
[{"$f":"AccountInfo!$A521","v":519},{"$f":"IF(AccountInfo!$B521=\"\",\"\",AccountInfo!B521)","v":""},{"$nulls":7},"Check"]
[{"$f":"AccountInfo!$A522","v":520},{"$f":"IF(AccountInfo!$B522=\"\",\"\",AccountInfo!B522)","v":""},{"$nulls":7},"Check"]
[{"$f":"AccountInfo!$A523","v":521},{"$f":"IF(AccountInfo!$B523=\"\",\"\",AccountInfo!B523)","v":""},{"$nulls":7},"Check"]
[{"$f":"AccountInfo!$A524","v":522},{"$f":"IF(AccountInfo!$B524=\"\",\"\",AccountInfo!B524)","v":""},{"$nulls":7},"Check"]
[{"$f":"AccountInfo!$A525","v":523},{"$f":"IF(AccountInfo!$B525=\"\",\"\",AccountInfo!B525)","v":""},{"$nulls":7},"Check"]
[{"$f":"AccountInfo!$A526","v":524},{"$f":"IF(AccountInfo!$B526=\"\",\"\",AccountInfo!B526)","v":""},{"$nulls":7},"Check"]
[{"$f":"AccountInfo!$A527","v":525},{"$f":"IF(AccountInfo!$B527=\"\",\"\",AccountInfo!B527)","v":""},{"$nulls":7},"Check"]
[{"$f":"AccountInfo!$A528","v":526},{"$f":"IF(AccountInfo!$B528=\"\",\"\",AccountInfo!B528)","v":""},{"$nulls":7},"Check"]
[{"$f":"AccountInfo!$A529","v":527},{"$f":"IF(AccountInfo!$B529=\"\",\"\",AccountInfo!B529)","v":""},{"$nulls":7},"Check"]
[{"$f":"AccountInfo!$A530","v":528},{"$f":"IF(AccountInfo!$B530=\"\",\"\",AccountInfo!B530)","v":""},{"$nulls":7},"Check"]
[{"$f":"AccountInfo!$A531","v":529},{"$f":"IF(AccountInfo!$B531=\"\",\"\",AccountInfo!B531)","v":""},{"$nulls":7},"Check"]
[{"$f":"AccountInfo!$A532","v":530},{"$f":"IF(AccountInfo!$B532=\"\",\"\",AccountInfo!B532)","v":""},{"$nulls":7},"Check"]
[{"$f":"AccountInfo!$A533","v":531},{"$f":"IF(AccountInfo!$B533=\"\",\"\",AccountInfo!B533)","v":""},{"$nulls":7},"Check"]
[{"$f":"AccountInfo!$A534","v":532},{"$f":"IF(AccountInfo!$B534=\"\",\"\",AccountInfo!B534)","v":""},{"$nulls":7},"Check"]
[{"$f":"AccountInfo!$A535","v":533},{"$f":"IF(AccountInfo!$B535=\"\",\"\",AccountInfo!B535)","v":""},{"$nulls":7},"Check"]
[{"$f":"AccountInfo!$A536","v":534},{"$f":"IF(AccountInfo!$B536=\"\",\"\",AccountInfo!B536)","v":""},{"$nulls":7},"Check"]
[{"$f":"AccountInfo!$A537","v":535},{"$f":"IF(AccountInfo!$B537=\"\",\"\",AccountInfo!B537)","v":""},{"$nulls":7},"Check"]
[{"$f":"AccountInfo!$A538","v":536},{"$f":"IF(AccountInfo!$B538=\"\",\"\",AccountInfo!B538)","v":""},{"$nulls":7},"Check"]
[{"$f":"AccountInfo!$A539","v":537},{"$f":"IF(AccountInfo!$B539=\"\",\"\",AccountInfo!B539)","v":""},{"$nulls":7},"Check"]
[{"$f":"AccountInfo!$A540","v":538},{"$f":"IF(AccountInfo!$B540=\"\",\"\",AccountInfo!B540)","v":""},{"$nulls":7},"Check"]
[{"$f":"AccountInfo!$A541","v":539},{"$f":"IF(AccountInfo!$B541=\"\",\"\",AccountInfo!B541)","v":""},{"$nulls":7},"Check"]
[{"$f":"AccountInfo!$A542","v":540},{"$f":"IF(AccountInfo!$B542=\"\",\"\",AccountInfo!B542)","v":""},{"$nulls":7},"Check"]
[{"$f":"AccountInfo!$A543","v":541},{"$f":"IF(AccountInfo!$B543=\"\",\"\",AccountInfo!B543)","v":""},{"$nulls":7},"Check"]
[{"$f":"AccountInfo!$A544","v":542},{"$f":"IF(AccountInfo!$B544=\"\",\"\",AccountInfo!B544)","v":""},{"$nulls":7},"Check"]
[{"$f":"AccountInfo!$A545","v":543},{"$f":"IF(AccountInfo!$B545=\"\",\"\",AccountInfo!B545)","v":""},{"$nulls":7},"Check"]
[{"$f":"AccountInfo!$A546","v":544},{"$f":"IF(AccountInfo!$B546=\"\",\"\",AccountInfo!B546)","v":""},{"$nulls":7},"Check"]
[{"$f":"AccountInfo!$A547","v":545},{"$f":"IF(AccountInfo!$B547=\"\",\"\",AccountInfo!B547)","v":""},{"$nulls":7},"Check"]
[{"$f":"AccountInfo!$A548","v":546},{"$f":"IF(AccountInfo!$B548=\"\",\"\",AccountInfo!B548)","v":""},{"$nulls":7},"Check"]
[{"$f":"AccountInfo!$A549","v":547},{"$f":"IF(AccountInfo!$B549=\"\",\"\",AccountInfo!B549)","v":""},{"$nulls":7},"Check"]
[{"$f":"AccountInfo!$A550","v":548},{"$f":"IF(AccountInfo!$B550=\"\",\"\",AccountInfo!B550)","v":""},{"$nulls":7},"Check"]
[{"$f":"AccountInfo!$A551","v":549},{"$f":"IF(AccountInfo!$B551=\"\",\"\",AccountInfo!B551)","v":""},{"$nulls":7},"Check"]
[{"$f":"AccountInfo!$A552","v":550},{"$f":"IF(AccountInfo!$B552=\"\",\"\",AccountInfo!B552)","v":""},{"$nulls":7},"Check"]
[{"$f":"AccountInfo!$A553","v":551},{"$f":"IF(AccountInfo!$B553=\"\",\"\",AccountInfo!B553)","v":""},{"$nulls":7},"Check"]
[{"$f":"AccountInfo!$A554","v":552},{"$f":"IF(AccountInfo!$B554=\"\",\"\",AccountInfo!B554)","v":""},{"$nulls":7},"Check"]
[{"$f":"AccountInfo!$A555","v":553},{"$f":"IF(AccountInfo!$B555=\"\",\"\",AccountInfo!B555)","v":""},{"$nulls":7},"Check"]
[{"$f":"AccountInfo!$A556","v":554},{"$f":"IF(AccountInfo!$B556=\"\",\"\",AccountInfo!B556)","v":""},{"$nulls":7},"Check"]
[{"$f":"AccountInfo!$A557","v":555},{"$f":"IF(AccountInfo!$B557=\"\",\"\",AccountInfo!B557)","v":""},{"$nulls":7},"Check"]
[{"$f":"AccountInfo!$A558","v":556},{"$f":"IF(AccountInfo!$B558=\"\",\"\",AccountInfo!B558)","v":""},{"$nulls":7},"Check"]
[{"$f":"AccountInfo!$A559","v":557},{"$f":"IF(AccountInfo!$B559=\"\",\"\",AccountInfo!B559)","v":""},{"$nulls":7},"Check"]
[{"$f":"AccountInfo!$A560","v":558},{"$f":"IF(AccountInfo!$B560=\"\",\"\",AccountInfo!B560)","v":""},{"$nulls":7},"Check"]
[{"$f":"AccountInfo!$A561","v":559},{"$f":"IF(AccountInfo!$B561=\"\",\"\",AccountInfo!B561)","v":""},{"$nulls":7},"Check"]
[{"$f":"AccountInfo!$A562","v":560},{"$f":"IF(AccountInfo!$B562=\"\",\"\",AccountInfo!B562)","v":""},{"$nulls":7},"Check"]
[{"$f":"AccountInfo!$A563","v":561},{"$f":"IF(AccountInfo!$B563=\"\",\"\",AccountInfo!B563)","v":""},{"$nulls":7},"Check"]
[{"$f":"AccountInfo!$A564","v":562},{"$f":"IF(AccountInfo!$B564=\"\",\"\",AccountInfo!B564)","v":""},{"$nulls":7},"Check"]
[{"$f":"AccountInfo!$A565","v":563},{"$f":"IF(AccountInfo!$B565=\"\",\"\",AccountInfo!B565)","v":""},{"$nulls":7},"Check"]
[{"$f":"AccountInfo!$A566","v":564},{"$f":"IF(AccountInfo!$B566=\"\",\"\",AccountInfo!B566)","v":""},{"$nulls":7},"Check"]
[{"$f":"AccountInfo!$A567","v":565},{"$f":"IF(AccountInfo!$B567=\"\",\"\",AccountInfo!B567)","v":""},{"$nulls":7},"Check"]
[{"$f":"AccountInfo!$A568","v":566},{"$f":"IF(AccountInfo!$B568=\"\",\"\",AccountInfo!B568)","v":""},{"$nulls":7},"Check"]
[{"$f":"AccountInfo!$A569","v":567},{"$f":"IF(AccountInfo!$B569=\"\",\"\",AccountInfo!B569)","v":""},{"$nulls":7},"Check"]
[{"$f":"AccountInfo!$A570","v":568},{"$f":"IF(AccountInfo!$B570=\"\",\"\",AccountInfo!B570)","v":""},{"$nulls":7},"Check"]
[{"$f":"AccountInfo!$A571","v":569},{"$f":"IF(AccountInfo!$B571=\"\",\"\",AccountInfo!B571)","v":""},{"$nulls":7},"Check"]
[{"$f":"AccountInfo!$A572","v":570},{"$f":"IF(AccountInfo!$B572=\"\",\"\",AccountInfo!B572)","v":""},{"$nulls":7},"Check"]
[{"$f":"AccountInfo!$A573","v":571},{"$f":"IF(AccountInfo!$B573=\"\",\"\",AccountInfo!B573)","v":""},{"$nulls":7},"Check"]
[{"$f":"AccountInfo!$A574","v":572},{"$f":"IF(AccountInfo!$B574=\"\",\"\",AccountInfo!B574)","v":""},{"$nulls":7},"Check"]
[{"$f":"AccountInfo!$A575","v":573},{"$f":"IF(AccountInfo!$B575=\"\",\"\",AccountInfo!B575)","v":""},{"$nulls":7},"Check"]
[{"$f":"AccountInfo!$A576","v":574},{"$f":"IF(AccountInfo!$B576=\"\",\"\",AccountInfo!B576)","v":""},{"$nulls":7},"Check"]
[{"$f":"AccountInfo!$A577","v":575},{"$f":"IF(AccountInfo!$B577=\"\",\"\",AccountInfo!B577)","v":""},{"$nulls":7},"Check"]
[{"$f":"AccountInfo!$A578","v":576},{"$f":"IF(AccountInfo!$B578=\"\",\"\",AccountInfo!B578)","v":""},{"$nulls":7},"Check"]
[{"$f":"AccountInfo!$A579","v":577},{"$f":"IF(AccountInfo!$B579=\"\",\"\",AccountInfo!B579)","v":""},{"$nulls":7},"Check"]
[{"$f":"AccountInfo!$A580","v":578},{"$f":"IF(AccountInfo!$B580=\"\",\"\",AccountInfo!B580)","v":""},{"$nulls":7},{"$f":"IF(AND(D580<=E580, E580<=F580, F580<=G580, G580<=IF(H580=\"\", 1000000000000, H580)), \"Check\", \"Error\")","v":"Check"}]
[{"$f":"AccountInfo!$A581","v":579},{"$f":"IF(AccountInfo!$B581=\"\",\"\",AccountInfo!B581)","v":""},{"$nulls":7},"Check"]
[{"$f":"AccountInfo!$A582","v":580},{"$f":"IF(AccountInfo!$B582=\"\",\"\",AccountInfo!B582)","v":""},{"$nulls":7},"Check"]
[{"$f":"AccountInfo!$A583","v":581},{"$f":"IF(AccountInfo!$B583=\"\",\"\",AccountInfo!B583)","v":""},{"$nulls":7},"Check"]
[{"$f":"AccountInfo!$A584","v":582},{"$f":"IF(AccountInfo!$B584=\"\",\"\",AccountInfo!B584)","v":""},{"$nulls":7},"Check"]
[{"$f":"AccountInfo!$A585","v":583},{"$f":"IF(AccountInfo!$B585=\"\",\"\",AccountInfo!B585)","v":""},{"$nulls":7},"Check"]
[{"$f":"AccountInfo!$A586","v":584},{"$f":"IF(AccountInfo!$B586=\"\",\"\",AccountInfo!B586)","v":""},{"$nulls":7},"Check"]
[{"$f":"AccountInfo!$A587","v":585},{"$f":"IF(AccountInfo!$B587=\"\",\"\",AccountInfo!B587)","v":""},{"$nulls":7},"Check"]
[{"$f":"AccountInfo!$A588","v":586},{"$f":"IF(AccountInfo!$B588=\"\",\"\",AccountInfo!B588)","v":""},{"$nulls":7},"Check"]
[{"$f":"AccountInfo!$A589","v":587},{"$f":"IF(AccountInfo!$B589=\"\",\"\",AccountInfo!B589)","v":""},{"$nulls":7},"Check"]
[{"$f":"AccountInfo!$A590","v":588},{"$f":"IF(AccountInfo!$B590=\"\",\"\",AccountInfo!B590)","v":""},{"$nulls":7},"Check"]
[{"$f":"AccountInfo!$A591","v":589},{"$f":"IF(AccountInfo!$B591=\"\",\"\",AccountInfo!B591)","v":""},{"$nulls":7},"Check"]
[{"$f":"AccountInfo!$A592","v":590},{"$f":"IF(AccountInfo!$B592=\"\",\"\",AccountInfo!B592)","v":""},{"$nulls":7},"Check"]
[{"$f":"AccountInfo!$A593","v":591},{"$f":"IF(AccountInfo!$B593=\"\",\"\",AccountInfo!B593)","v":""},{"$nulls":7},"Check"]
[{"$f":"AccountInfo!$A594","v":592},{"$f":"IF(AccountInfo!$B594=\"\",\"\",AccountInfo!B594)","v":""},{"$nulls":7},"Check"]
[{"$f":"AccountInfo!$A595","v":593},{"$f":"IF(AccountInfo!$B595=\"\",\"\",AccountInfo!B595)","v":""},{"$nulls":7},"Check"]
[{"$f":"AccountInfo!$A596","v":594},{"$f":"IF(AccountInfo!$B596=\"\",\"\",AccountInfo!B596)","v":""},{"$nulls":7},"Check"]
[{"$f":"AccountInfo!$A597","v":595},{"$f":"IF(AccountInfo!$B597=\"\",\"\",AccountInfo!B597)","v":""},{"$nulls":7},"Check"]
[{"$f":"AccountInfo!$A598","v":596},{"$f":"IF(AccountInfo!$B598=\"\",\"\",AccountInfo!B598)","v":""},{"$nulls":7},"Check"]
[{"$f":"AccountInfo!$A599","v":597},{"$f":"IF(AccountInfo!$B599=\"\",\"\",AccountInfo!B599)","v":""},{"$nulls":7},"Check"]
[{"$f":"AccountInfo!$A600","v":598},{"$f":"IF(AccountInfo!$B600=\"\",\"\",AccountInfo!B600)","v":""},{"$nulls":7},"Check"]
[{"$f":"AccountInfo!$A601","v":599},{"$f":"IF(AccountInfo!$B601=\"\",\"\",AccountInfo!B601)","v":""},{"$nulls":7},"Check"]
[{"$f":"AccountInfo!$A602","v":600},{"$f":"IF(AccountInfo!$B602=\"\",\"\",AccountInfo!B602)","v":""},{"$nulls":7},"Check"]
[{"$f":"AccountInfo!$A603","v":601},{"$f":"IF(AccountInfo!$B603=\"\",\"\",AccountInfo!B603)","v":""},{"$nulls":7},"Check"]
[{"$f":"AccountInfo!$A604","v":602},{"$f":"IF(AccountInfo!$B604=\"\",\"\",AccountInfo!B604)","v":""},{"$nulls":7},"Check"]
[{"$f":"AccountInfo!$A605","v":603},{"$f":"IF(AccountInfo!$B605=\"\",\"\",AccountInfo!B605)","v":""},{"$nulls":7},"Check"]
[{"$f":"AccountInfo!$A606","v":604},{"$f":"IF(AccountInfo!$B606=\"\",\"\",AccountInfo!B606)","v":""},{"$nulls":7},"Check"]
[{"$f":"AccountInfo!$A607","v":605},{"$f":"IF(AccountInfo!$B607=\"\",\"\",AccountInfo!B607)","v":""},{"$nulls":7},"Check"]
[{"$f":"AccountInfo!$A608","v":606},{"$f":"IF(AccountInfo!$B608=\"\",\"\",AccountInfo!B608)","v":""},{"$nulls":7},"Check"]
[{"$f":"AccountInfo!$A609","v":607},{"$f":"IF(AccountInfo!$B609=\"\",\"\",AccountInfo!B609)","v":""},{"$nulls":7},"Check"]
[{"$f":"AccountInfo!$A610","v":608},{"$f":"IF(AccountInfo!$B610=\"\",\"\",AccountInfo!B610)","v":""},{"$nulls":7},"Check"]
[{"$f":"AccountInfo!$A611","v":609},{"$f":"IF(AccountInfo!$B611=\"\",\"\",AccountInfo!B611)","v":""},{"$nulls":7},"Check"]
[{"$f":"AccountInfo!$A612","v":610},{"$f":"IF(AccountInfo!$B612=\"\",\"\",AccountInfo!B612)","v":""},{"$nulls":7},"Check"]
[{"$f":"AccountInfo!$A613","v":611},{"$f":"IF(AccountInfo!$B613=\"\",\"\",AccountInfo!B613)","v":""},{"$nulls":7},"Check"]
[{"$f":"AccountInfo!$A614","v":612},{"$f":"IF(AccountInfo!$B614=\"\",\"\",AccountInfo!B614)","v":""},{"$nulls":7},"Check"]
[{"$f":"AccountInfo!$A615","v":613},{"$f":"IF(AccountInfo!$B615=\"\",\"\",AccountInfo!B615)","v":""},{"$nulls":7},"Check"]
[{"$f":"AccountInfo!$A616","v":614},{"$f":"IF(AccountInfo!$B616=\"\",\"\",AccountInfo!B616)","v":""},{"$nulls":7},"Check"]
[{"$f":"AccountInfo!$A617","v":615},{"$f":"IF(AccountInfo!$B617=\"\",\"\",AccountInfo!B617)","v":""},{"$nulls":7},"Check"]
[{"$f":"AccountInfo!$A618","v":616},{"$f":"IF(AccountInfo!$B618=\"\",\"\",AccountInfo!B618)","v":""},{"$nulls":7},"Check"]
[{"$f":"AccountInfo!$A619","v":617},{"$f":"IF(AccountInfo!$B619=\"\",\"\",AccountInfo!B619)","v":""},{"$nulls":7},"Check"]
[{"$f":"AccountInfo!$A620","v":618},{"$f":"IF(AccountInfo!$B620=\"\",\"\",AccountInfo!B620)","v":""},{"$nulls":7},"Check"]
[{"$f":"AccountInfo!$A621","v":619},{"$f":"IF(AccountInfo!$B621=\"\",\"\",AccountInfo!B621)","v":""},{"$nulls":7},"Check"]
[{"$f":"AccountInfo!$A622","v":620},{"$f":"IF(AccountInfo!$B622=\"\",\"\",AccountInfo!B622)","v":""},{"$nulls":7},"Check"]
[{"$f":"AccountInfo!$A623","v":621},{"$f":"IF(AccountInfo!$B623=\"\",\"\",AccountInfo!B623)","v":""},{"$nulls":7},"Check"]
[{"$f":"AccountInfo!$A624","v":622},{"$f":"IF(AccountInfo!$B624=\"\",\"\",AccountInfo!B624)","v":""},{"$nulls":7},"Check"]
[{"$f":"AccountInfo!$A625","v":623},{"$f":"IF(AccountInfo!$B625=\"\",\"\",AccountInfo!B625)","v":""},{"$nulls":7},"Check"]
[{"$f":"AccountInfo!$A626","v":624},{"$f":"IF(AccountInfo!$B626=\"\",\"\",AccountInfo!B626)","v":""},{"$nulls":7},"Check"]
[{"$f":"AccountInfo!$A627","v":625},{"$f":"IF(AccountInfo!$B627=\"\",\"\",AccountInfo!B627)","v":""},{"$nulls":7},"Check"]
[{"$f":"AccountInfo!$A628","v":626},{"$f":"IF(AccountInfo!$B628=\"\",\"\",AccountInfo!B628)","v":""},{"$nulls":7},"Check"]
[{"$f":"AccountInfo!$A629","v":627},{"$f":"IF(AccountInfo!$B629=\"\",\"\",AccountInfo!B629)","v":""},{"$nulls":7},"Check"]
[{"$f":"AccountInfo!$A630","v":628},{"$f":"IF(AccountInfo!$B630=\"\",\"\",AccountInfo!B630)","v":""},{"$nulls":7},"Check"]
[{"$f":"AccountInfo!$A631","v":629},{"$f":"IF(AccountInfo!$B631=\"\",\"\",AccountInfo!B631)","v":""},{"$nulls":7},"Check"]
[{"$f":"AccountInfo!$A632","v":630},{"$f":"IF(AccountInfo!$B632=\"\",\"\",AccountInfo!B632)","v":""},{"$nulls":7},"Check"]
[{"$f":"AccountInfo!$A633","v":631},{"$f":"IF(AccountInfo!$B633=\"\",\"\",AccountInfo!B633)","v":""},{"$nulls":7},"Check"]
[{"$f":"AccountInfo!$A634","v":632},{"$f":"IF(AccountInfo!$B634=\"\",\"\",AccountInfo!B634)","v":""},{"$nulls":7},"Check"]
[{"$f":"AccountInfo!$A635","v":633},{"$f":"IF(AccountInfo!$B635=\"\",\"\",AccountInfo!B635)","v":""},{"$nulls":7},"Check"]
[{"$f":"AccountInfo!$A636","v":634},{"$f":"IF(AccountInfo!$B636=\"\",\"\",AccountInfo!B636)","v":""},{"$nulls":7},"Check"]
[{"$f":"AccountInfo!$A637","v":635},{"$f":"IF(AccountInfo!$B637=\"\",\"\",AccountInfo!B637)","v":""},{"$nulls":7},"Check"]
[{"$f":"AccountInfo!$A638","v":636},{"$f":"IF(AccountInfo!$B638=\"\",\"\",AccountInfo!B638)","v":""},{"$nulls":7},"Check"]
[{"$f":"AccountInfo!$A639","v":637},{"$f":"IF(AccountInfo!$B639=\"\",\"\",AccountInfo!B639)","v":""},{"$nulls":7},"Check"]
[{"$f":"AccountInfo!$A640","v":638},{"$f":"IF(AccountInfo!$B640=\"\",\"\",AccountInfo!B640)","v":""},{"$nulls":7},"Check"]
[{"$f":"AccountInfo!$A641","v":639},{"$f":"IF(AccountInfo!$B641=\"\",\"\",AccountInfo!B641)","v":""},{"$nulls":7},"Check"]
[{"$f":"AccountInfo!$A642","v":640},{"$f":"IF(AccountInfo!$B642=\"\",\"\",AccountInfo!B642)","v":""},{"$nulls":7},"Check"]
[{"$f":"AccountInfo!$A643","v":641},{"$f":"IF(AccountInfo!$B643=\"\",\"\",AccountInfo!B643)","v":""},{"$nulls":7},"Check"]
[{"$f":"AccountInfo!$A644","v":642},{"$f":"IF(AccountInfo!$B644=\"\",\"\",AccountInfo!B644)","v":""},{"$nulls":7},{"$f":"IF(AND(D644<=E644, E644<=F644, F644<=G644, G644<=IF(H644=\"\", 1000000000000, H644)), \"Check\", \"Error\")","v":"Check"}]
[{"$f":"AccountInfo!$A645","v":643},{"$f":"IF(AccountInfo!$B645=\"\",\"\",AccountInfo!B645)","v":""},{"$nulls":7},"Check"]
[{"$f":"AccountInfo!$A646","v":644},{"$f":"IF(AccountInfo!$B646=\"\",\"\",AccountInfo!B646)","v":""},{"$nulls":7},"Check"]
[{"$f":"AccountInfo!$A647","v":645},{"$f":"IF(AccountInfo!$B647=\"\",\"\",AccountInfo!B647)","v":""},{"$nulls":7},"Check"]
[{"$f":"AccountInfo!$A648","v":646},{"$f":"IF(AccountInfo!$B648=\"\",\"\",AccountInfo!B648)","v":""},{"$nulls":7},"Check"]
[{"$f":"AccountInfo!$A649","v":647},{"$f":"IF(AccountInfo!$B649=\"\",\"\",AccountInfo!B649)","v":""},{"$nulls":7},"Check"]
[{"$f":"AccountInfo!$A650","v":648},{"$f":"IF(AccountInfo!$B650=\"\",\"\",AccountInfo!B650)","v":""},{"$nulls":7},"Check"]
[{"$f":"AccountInfo!$A651","v":649},{"$f":"IF(AccountInfo!$B651=\"\",\"\",AccountInfo!B651)","v":""},{"$nulls":7},"Check"]
[{"$f":"AccountInfo!$A652","v":650},{"$f":"IF(AccountInfo!$B652=\"\",\"\",AccountInfo!B652)","v":""},{"$nulls":7},"Check"]
[{"$f":"AccountInfo!$A653","v":651},{"$f":"IF(AccountInfo!$B653=\"\",\"\",AccountInfo!B653)","v":""},{"$nulls":7},"Check"]
[{"$f":"AccountInfo!$A654","v":652},{"$f":"IF(AccountInfo!$B654=\"\",\"\",AccountInfo!B654)","v":""},{"$nulls":7},"Check"]
[{"$f":"AccountInfo!$A655","v":653},{"$f":"IF(AccountInfo!$B655=\"\",\"\",AccountInfo!B655)","v":""},{"$nulls":7},"Check"]
[{"$f":"AccountInfo!$A656","v":654},{"$f":"IF(AccountInfo!$B656=\"\",\"\",AccountInfo!B656)","v":""},{"$nulls":7},"Check"]
[{"$f":"AccountInfo!$A657","v":655},{"$f":"IF(AccountInfo!$B657=\"\",\"\",AccountInfo!B657)","v":""},{"$nulls":7},"Check"]
[{"$f":"AccountInfo!$A658","v":656},{"$f":"IF(AccountInfo!$B658=\"\",\"\",AccountInfo!B658)","v":""},{"$nulls":7},"Check"]
[{"$f":"AccountInfo!$A659","v":657},{"$f":"IF(AccountInfo!$B659=\"\",\"\",AccountInfo!B659)","v":""},{"$nulls":7},"Check"]
[{"$f":"AccountInfo!$A660","v":658},{"$f":"IF(AccountInfo!$B660=\"\",\"\",AccountInfo!B660)","v":""},{"$nulls":7},"Check"]
[{"$f":"AccountInfo!$A661","v":659},{"$f":"IF(AccountInfo!$B661=\"\",\"\",AccountInfo!B661)","v":""},{"$nulls":7},"Check"]
[{"$f":"AccountInfo!$A662","v":660},{"$f":"IF(AccountInfo!$B662=\"\",\"\",AccountInfo!B662)","v":""},{"$nulls":7},"Check"]
[{"$f":"AccountInfo!$A663","v":661},{"$f":"IF(AccountInfo!$B663=\"\",\"\",AccountInfo!B663)","v":""},{"$nulls":7},"Check"]
[{"$f":"AccountInfo!$A664","v":662},{"$f":"IF(AccountInfo!$B664=\"\",\"\",AccountInfo!B664)","v":""},{"$nulls":7},"Check"]
[{"$f":"AccountInfo!$A665","v":663},{"$f":"IF(AccountInfo!$B665=\"\",\"\",AccountInfo!B665)","v":""},{"$nulls":7},"Check"]
[{"$f":"AccountInfo!$A666","v":664},{"$f":"IF(AccountInfo!$B666=\"\",\"\",AccountInfo!B666)","v":""},{"$nulls":7},"Check"]
[{"$f":"AccountInfo!$A667","v":665},{"$f":"IF(AccountInfo!$B667=\"\",\"\",AccountInfo!B667)","v":""},{"$nulls":7},"Check"]
[{"$f":"AccountInfo!$A668","v":666},{"$f":"IF(AccountInfo!$B668=\"\",\"\",AccountInfo!B668)","v":""},{"$nulls":7},"Check"]
[{"$f":"AccountInfo!$A669","v":667},{"$f":"IF(AccountInfo!$B669=\"\",\"\",AccountInfo!B669)","v":""},{"$nulls":7},"Check"]
[{"$f":"AccountInfo!$A670","v":668},{"$f":"IF(AccountInfo!$B670=\"\",\"\",AccountInfo!B670)","v":""},{"$nulls":7},"Check"]
[{"$f":"AccountInfo!$A671","v":669},{"$f":"IF(AccountInfo!$B671=\"\",\"\",AccountInfo!B671)","v":""},{"$nulls":7},"Check"]
[{"$f":"AccountInfo!$A672","v":670},{"$f":"IF(AccountInfo!$B672=\"\",\"\",AccountInfo!B672)","v":""},{"$nulls":7},"Check"]
[{"$f":"AccountInfo!$A673","v":671},{"$f":"IF(AccountInfo!$B673=\"\",\"\",AccountInfo!B673)","v":""},{"$nulls":7},"Check"]
[{"$f":"AccountInfo!$A674","v":672},{"$f":"IF(AccountInfo!$B674=\"\",\"\",AccountInfo!B674)","v":""},{"$nulls":7},"Check"]
[{"$f":"AccountInfo!$A675","v":673},{"$f":"IF(AccountInfo!$B675=\"\",\"\",AccountInfo!B675)","v":""},{"$nulls":7},"Check"]
[{"$f":"AccountInfo!$A676","v":674},{"$f":"IF(AccountInfo!$B676=\"\",\"\",AccountInfo!B676)","v":""},{"$nulls":7},"Check"]
[{"$f":"AccountInfo!$A677","v":675},{"$f":"IF(AccountInfo!$B677=\"\",\"\",AccountInfo!B677)","v":""},{"$nulls":7},"Check"]
[{"$f":"AccountInfo!$A678","v":676},{"$f":"IF(AccountInfo!$B678=\"\",\"\",AccountInfo!B678)","v":""},{"$nulls":7},"Check"]
[{"$f":"AccountInfo!$A679","v":677},{"$f":"IF(AccountInfo!$B679=\"\",\"\",AccountInfo!B679)","v":""},{"$nulls":7},"Check"]
[{"$f":"AccountInfo!$A680","v":678},{"$f":"IF(AccountInfo!$B680=\"\",\"\",AccountInfo!B680)","v":""},{"$nulls":7},"Check"]
[{"$f":"AccountInfo!$A681","v":679},{"$f":"IF(AccountInfo!$B681=\"\",\"\",AccountInfo!B681)","v":""},{"$nulls":7},"Check"]
[{"$f":"AccountInfo!$A682","v":680},{"$f":"IF(AccountInfo!$B682=\"\",\"\",AccountInfo!B682)","v":""},{"$nulls":7},"Check"]
[{"$f":"AccountInfo!$A683","v":681},{"$f":"IF(AccountInfo!$B683=\"\",\"\",AccountInfo!B683)","v":""},{"$nulls":7},"Check"]
[{"$f":"AccountInfo!$A684","v":682},{"$f":"IF(AccountInfo!$B684=\"\",\"\",AccountInfo!B684)","v":""},{"$nulls":7},"Check"]
[{"$f":"AccountInfo!$A685","v":683},{"$f":"IF(AccountInfo!$B685=\"\",\"\",AccountInfo!B685)","v":""},{"$nulls":7},"Check"]
[{"$f":"AccountInfo!$A686","v":684},{"$f":"IF(AccountInfo!$B686=\"\",\"\",AccountInfo!B686)","v":""},{"$nulls":7},"Check"]
[{"$f":"AccountInfo!$A687","v":685},{"$f":"IF(AccountInfo!$B687=\"\",\"\",AccountInfo!B687)","v":""},{"$nulls":7},"Check"]
[{"$f":"AccountInfo!$A688","v":686},{"$f":"IF(AccountInfo!$B688=\"\",\"\",AccountInfo!B688)","v":""},{"$nulls":7},"Check"]
[{"$f":"AccountInfo!$A689","v":687},{"$f":"IF(AccountInfo!$B689=\"\",\"\",AccountInfo!B689)","v":""},{"$nulls":7},"Check"]
[{"$f":"AccountInfo!$A690","v":688},{"$f":"IF(AccountInfo!$B690=\"\",\"\",AccountInfo!B690)","v":""},{"$nulls":7},"Check"]
[{"$f":"AccountInfo!$A691","v":689},{"$f":"IF(AccountInfo!$B691=\"\",\"\",AccountInfo!B691)","v":""},{"$nulls":7},"Check"]
[{"$f":"AccountInfo!$A692","v":690},{"$f":"IF(AccountInfo!$B692=\"\",\"\",AccountInfo!B692)","v":""},{"$nulls":7},"Check"]
[{"$f":"AccountInfo!$A693","v":691},{"$f":"IF(AccountInfo!$B693=\"\",\"\",AccountInfo!B693)","v":""},{"$nulls":7},"Check"]
[{"$f":"AccountInfo!$A694","v":692},{"$f":"IF(AccountInfo!$B694=\"\",\"\",AccountInfo!B694)","v":""},{"$nulls":7},"Check"]
[{"$f":"AccountInfo!$A695","v":693},{"$f":"IF(AccountInfo!$B695=\"\",\"\",AccountInfo!B695)","v":""},{"$nulls":7},"Check"]
[{"$f":"AccountInfo!$A696","v":694},{"$f":"IF(AccountInfo!$B696=\"\",\"\",AccountInfo!B696)","v":""},{"$nulls":7},"Check"]
[{"$f":"AccountInfo!$A697","v":695},{"$f":"IF(AccountInfo!$B697=\"\",\"\",AccountInfo!B697)","v":""},{"$nulls":7},"Check"]
[{"$f":"AccountInfo!$A698","v":696},{"$f":"IF(AccountInfo!$B698=\"\",\"\",AccountInfo!B698)","v":""},{"$nulls":7},"Check"]
[{"$f":"AccountInfo!$A699","v":697},{"$f":"IF(AccountInfo!$B699=\"\",\"\",AccountInfo!B699)","v":""},{"$nulls":7},"Check"]
[{"$f":"AccountInfo!$A700","v":698},{"$f":"IF(AccountInfo!$B700=\"\",\"\",AccountInfo!B700)","v":""},{"$nulls":7},"Check"]
[{"$f":"AccountInfo!$A701","v":699},{"$f":"IF(AccountInfo!$B701=\"\",\"\",AccountInfo!B701)","v":""},{"$nulls":7},"Check"]
[{"$f":"AccountInfo!$A702","v":700},{"$f":"IF(AccountInfo!$B702=\"\",\"\",AccountInfo!B702)","v":""},{"$nulls":7},"Check"]
[{"$f":"AccountInfo!$A703","v":701},{"$f":"IF(AccountInfo!$B703=\"\",\"\",AccountInfo!B703)","v":""},{"$nulls":7},"Check"]
[{"$f":"AccountInfo!$A704","v":702},{"$f":"IF(AccountInfo!$B704=\"\",\"\",AccountInfo!B704)","v":""},{"$nulls":7},"Check"]
[{"$f":"AccountInfo!$A705","v":703},{"$f":"IF(AccountInfo!$B705=\"\",\"\",AccountInfo!B705)","v":""},{"$nulls":7},"Check"]
[{"$f":"AccountInfo!$A706","v":704},{"$f":"IF(AccountInfo!$B706=\"\",\"\",AccountInfo!B706)","v":""},{"$nulls":7},"Check"]
[{"$f":"AccountInfo!$A707","v":705},{"$f":"IF(AccountInfo!$B707=\"\",\"\",AccountInfo!B707)","v":""},{"$nulls":7},"Check"]
[{"$f":"AccountInfo!$A708","v":706},{"$f":"IF(AccountInfo!$B708=\"\",\"\",AccountInfo!B708)","v":""},{"$nulls":7},{"$f":"IF(AND(D708<=E708, E708<=F708, F708<=G708, G708<=IF(H708=\"\", 1000000000000, H708)), \"Check\", \"Error\")","v":"Check"}]
[{"$f":"AccountInfo!$A709","v":707},{"$f":"IF(AccountInfo!$B709=\"\",\"\",AccountInfo!B709)","v":""},{"$nulls":7},"Check"]
[{"$f":"AccountInfo!$A710","v":708},{"$f":"IF(AccountInfo!$B710=\"\",\"\",AccountInfo!B710)","v":""},{"$nulls":7},"Check"]
[{"$f":"AccountInfo!$A711","v":709},{"$f":"IF(AccountInfo!$B711=\"\",\"\",AccountInfo!B711)","v":""},{"$nulls":7},"Check"]
[{"$f":"AccountInfo!$A712","v":710},{"$f":"IF(AccountInfo!$B712=\"\",\"\",AccountInfo!B712)","v":""},{"$nulls":7},"Check"]
[{"$f":"AccountInfo!$A713","v":711},{"$f":"IF(AccountInfo!$B713=\"\",\"\",AccountInfo!B713)","v":""},{"$nulls":7},"Check"]
[{"$f":"AccountInfo!$A714","v":712},{"$f":"IF(AccountInfo!$B714=\"\",\"\",AccountInfo!B714)","v":""},{"$nulls":7},"Check"]
[{"$f":"AccountInfo!$A715","v":713},{"$f":"IF(AccountInfo!$B715=\"\",\"\",AccountInfo!B715)","v":""},{"$nulls":7},"Check"]
[{"$f":"AccountInfo!$A716","v":714},{"$f":"IF(AccountInfo!$B716=\"\",\"\",AccountInfo!B716)","v":""},{"$nulls":7},"Check"]
[{"$f":"AccountInfo!$A717","v":715},{"$f":"IF(AccountInfo!$B717=\"\",\"\",AccountInfo!B717)","v":""},{"$nulls":7},"Check"]
[{"$f":"AccountInfo!$A718","v":716},{"$f":"IF(AccountInfo!$B718=\"\",\"\",AccountInfo!B718)","v":""},{"$nulls":7},"Check"]
[{"$f":"AccountInfo!$A719","v":717},{"$f":"IF(AccountInfo!$B719=\"\",\"\",AccountInfo!B719)","v":""},{"$nulls":7},"Check"]
[{"$f":"AccountInfo!$A720","v":718},{"$f":"IF(AccountInfo!$B720=\"\",\"\",AccountInfo!B720)","v":""},{"$nulls":7},"Check"]
[{"$f":"AccountInfo!$A721","v":719},{"$f":"IF(AccountInfo!$B721=\"\",\"\",AccountInfo!B721)","v":""},{"$nulls":7},"Check"]
[{"$f":"AccountInfo!$A722","v":720},{"$f":"IF(AccountInfo!$B722=\"\",\"\",AccountInfo!B722)","v":""},{"$nulls":7},"Check"]
[{"$f":"AccountInfo!$A723","v":721},{"$f":"IF(AccountInfo!$B723=\"\",\"\",AccountInfo!B723)","v":""},{"$nulls":7},"Check"]
[{"$f":"AccountInfo!$A724","v":722},{"$f":"IF(AccountInfo!$B724=\"\",\"\",AccountInfo!B724)","v":""},{"$nulls":7},"Check"]
[{"$f":"AccountInfo!$A725","v":723},{"$f":"IF(AccountInfo!$B725=\"\",\"\",AccountInfo!B725)","v":""},{"$nulls":7},"Check"]
[{"$f":"AccountInfo!$A726","v":724},{"$f":"IF(AccountInfo!$B726=\"\",\"\",AccountInfo!B726)","v":""},{"$nulls":7},"Check"]
[{"$f":"AccountInfo!$A727","v":725},{"$f":"IF(AccountInfo!$B727=\"\",\"\",AccountInfo!B727)","v":""},{"$nulls":7},"Check"]
[{"$f":"AccountInfo!$A728","v":726},{"$f":"IF(AccountInfo!$B728=\"\",\"\",AccountInfo!B728)","v":""},{"$nulls":7},"Check"]
[{"$f":"AccountInfo!$A729","v":727},{"$f":"IF(AccountInfo!$B729=\"\",\"\",AccountInfo!B729)","v":""},{"$nulls":7},"Check"]
[{"$f":"AccountInfo!$A730","v":728},{"$f":"IF(AccountInfo!$B730=\"\",\"\",AccountInfo!B730)","v":""},{"$nulls":7},"Check"]
[{"$f":"AccountInfo!$A731","v":729},{"$f":"IF(AccountInfo!$B731=\"\",\"\",AccountInfo!B731)","v":""},{"$nulls":7},"Check"]
[{"$f":"AccountInfo!$A732","v":730},{"$f":"IF(AccountInfo!$B732=\"\",\"\",AccountInfo!B732)","v":""},{"$nulls":7},"Check"]
[{"$f":"AccountInfo!$A733","v":731},{"$f":"IF(AccountInfo!$B733=\"\",\"\",AccountInfo!B733)","v":""},{"$nulls":7},"Check"]
[{"$f":"AccountInfo!$A734","v":732},{"$f":"IF(AccountInfo!$B734=\"\",\"\",AccountInfo!B734)","v":""},{"$nulls":7},"Check"]
[{"$f":"AccountInfo!$A735","v":733},{"$f":"IF(AccountInfo!$B735=\"\",\"\",AccountInfo!B735)","v":""},{"$nulls":7},"Check"]
[{"$f":"AccountInfo!$A736","v":734},{"$f":"IF(AccountInfo!$B736=\"\",\"\",AccountInfo!B736)","v":""},{"$nulls":7},"Check"]
[{"$f":"AccountInfo!$A737","v":735},{"$f":"IF(AccountInfo!$B737=\"\",\"\",AccountInfo!B737)","v":""},{"$nulls":7},"Check"]
[{"$f":"AccountInfo!$A738","v":736},{"$f":"IF(AccountInfo!$B738=\"\",\"\",AccountInfo!B738)","v":""},{"$nulls":7},"Check"]
[{"$f":"AccountInfo!$A739","v":737},{"$f":"IF(AccountInfo!$B739=\"\",\"\",AccountInfo!B739)","v":""},{"$nulls":7},"Check"]
[{"$f":"AccountInfo!$A740","v":738},{"$f":"IF(AccountInfo!$B740=\"\",\"\",AccountInfo!B740)","v":""},{"$nulls":7},"Check"]
[{"$f":"AccountInfo!$A741","v":739},{"$f":"IF(AccountInfo!$B741=\"\",\"\",AccountInfo!B741)","v":""},{"$nulls":7},"Check"]
[{"$f":"AccountInfo!$A742","v":740},{"$f":"IF(AccountInfo!$B742=\"\",\"\",AccountInfo!B742)","v":""},{"$nulls":7},"Check"]
[{"$f":"AccountInfo!$A743","v":741},{"$f":"IF(AccountInfo!$B743=\"\",\"\",AccountInfo!B743)","v":""},{"$nulls":7},"Check"]
[{"$f":"AccountInfo!$A744","v":742},{"$f":"IF(AccountInfo!$B744=\"\",\"\",AccountInfo!B744)","v":""},{"$nulls":7},"Check"]
[{"$f":"AccountInfo!$A745","v":743},{"$f":"IF(AccountInfo!$B745=\"\",\"\",AccountInfo!B745)","v":""},{"$nulls":7},"Check"]
[{"$f":"AccountInfo!$A746","v":744},{"$f":"IF(AccountInfo!$B746=\"\",\"\",AccountInfo!B746)","v":""},{"$nulls":7},"Check"]
[{"$f":"AccountInfo!$A747","v":745},{"$f":"IF(AccountInfo!$B747=\"\",\"\",AccountInfo!B747)","v":""},{"$nulls":7},"Check"]
[{"$f":"AccountInfo!$A748","v":746},{"$f":"IF(AccountInfo!$B748=\"\",\"\",AccountInfo!B748)","v":""},{"$nulls":7},"Check"]
[{"$f":"AccountInfo!$A749","v":747},{"$f":"IF(AccountInfo!$B749=\"\",\"\",AccountInfo!B749)","v":""},{"$nulls":7},"Check"]
[{"$f":"AccountInfo!$A750","v":748},{"$f":"IF(AccountInfo!$B750=\"\",\"\",AccountInfo!B750)","v":""},{"$nulls":7},"Check"]
[{"$f":"AccountInfo!$A751","v":749},{"$f":"IF(AccountInfo!$B751=\"\",\"\",AccountInfo!B751)","v":""},{"$nulls":7},"Check"]
[{"$f":"AccountInfo!$A752","v":750},{"$f":"IF(AccountInfo!$B752=\"\",\"\",AccountInfo!B752)","v":""},{"$nulls":7},"Check"]
[{"$f":"AccountInfo!$A753","v":751},{"$f":"IF(AccountInfo!$B753=\"\",\"\",AccountInfo!B753)","v":""},{"$nulls":7},"Check"]
[{"$f":"AccountInfo!$A754","v":752},{"$f":"IF(AccountInfo!$B754=\"\",\"\",AccountInfo!B754)","v":""},{"$nulls":7},"Check"]
[{"$f":"AccountInfo!$A755","v":753},{"$f":"IF(AccountInfo!$B755=\"\",\"\",AccountInfo!B755)","v":""},{"$nulls":7},"Check"]
[{"$f":"AccountInfo!$A756","v":754},{"$f":"IF(AccountInfo!$B756=\"\",\"\",AccountInfo!B756)","v":""},{"$nulls":7},"Check"]
[{"$f":"AccountInfo!$A757","v":755},{"$f":"IF(AccountInfo!$B757=\"\",\"\",AccountInfo!B757)","v":""},{"$nulls":7},"Check"]
[{"$f":"AccountInfo!$A758","v":756},{"$f":"IF(AccountInfo!$B758=\"\",\"\",AccountInfo!B758)","v":""},{"$nulls":7},"Check"]
[{"$f":"AccountInfo!$A759","v":757},{"$f":"IF(AccountInfo!$B759=\"\",\"\",AccountInfo!B759)","v":""},{"$nulls":7},"Check"]
[{"$f":"AccountInfo!$A760","v":758},{"$f":"IF(AccountInfo!$B760=\"\",\"\",AccountInfo!B760)","v":""},{"$nulls":7},"Check"]
[{"$f":"AccountInfo!$A761","v":759},{"$f":"IF(AccountInfo!$B761=\"\",\"\",AccountInfo!B761)","v":""},{"$nulls":7},"Check"]
[{"$f":"AccountInfo!$A762","v":760},{"$f":"IF(AccountInfo!$B762=\"\",\"\",AccountInfo!B762)","v":""},{"$nulls":7},"Check"]
[{"$f":"AccountInfo!$A763","v":761},{"$f":"IF(AccountInfo!$B763=\"\",\"\",AccountInfo!B763)","v":""},{"$nulls":7},"Check"]
[{"$f":"AccountInfo!$A764","v":762},{"$f":"IF(AccountInfo!$B764=\"\",\"\",AccountInfo!B764)","v":""},{"$nulls":7},"Check"]
[{"$f":"AccountInfo!$A765","v":763},{"$f":"IF(AccountInfo!$B765=\"\",\"\",AccountInfo!B765)","v":""},{"$nulls":7},"Check"]
[{"$f":"AccountInfo!$A766","v":764},{"$f":"IF(AccountInfo!$B766=\"\",\"\",AccountInfo!B766)","v":""},{"$nulls":7},"Check"]
[{"$f":"AccountInfo!$A767","v":765},{"$f":"IF(AccountInfo!$B767=\"\",\"\",AccountInfo!B767)","v":""},{"$nulls":7},"Check"]
[{"$f":"AccountInfo!$A768","v":766},{"$f":"IF(AccountInfo!$B768=\"\",\"\",AccountInfo!B768)","v":""},{"$nulls":7},"Check"]
[{"$f":"AccountInfo!$A769","v":767},{"$f":"IF(AccountInfo!$B769=\"\",\"\",AccountInfo!B769)","v":""},{"$nulls":7},"Check"]
[{"$f":"AccountInfo!$A770","v":768},{"$f":"IF(AccountInfo!$B770=\"\",\"\",AccountInfo!B770)","v":""},{"$nulls":7},"Check"]
[{"$f":"AccountInfo!$A771","v":769},{"$f":"IF(AccountInfo!$B771=\"\",\"\",AccountInfo!B771)","v":""},{"$nulls":7},"Check"]
[{"$f":"AccountInfo!$A772","v":770},{"$f":"IF(AccountInfo!$B772=\"\",\"\",AccountInfo!B772)","v":""},{"$nulls":7},{"$f":"IF(AND(D772<=E772, E772<=F772, F772<=G772, G772<=IF(H772=\"\", 1000000000000, H772)), \"Check\", \"Error\")","v":"Check"}]
[{"$f":"AccountInfo!$A773","v":771},{"$f":"IF(AccountInfo!$B773=\"\",\"\",AccountInfo!B773)","v":""},{"$nulls":7},"Check"]
[{"$f":"AccountInfo!$A774","v":772},{"$f":"IF(AccountInfo!$B774=\"\",\"\",AccountInfo!B774)","v":""},{"$nulls":7},"Check"]
[{"$f":"AccountInfo!$A775","v":773},{"$f":"IF(AccountInfo!$B775=\"\",\"\",AccountInfo!B775)","v":""},{"$nulls":7},"Check"]
[{"$f":"AccountInfo!$A776","v":774},{"$f":"IF(AccountInfo!$B776=\"\",\"\",AccountInfo!B776)","v":""},{"$nulls":7},"Check"]
[{"$f":"AccountInfo!$A777","v":775},{"$f":"IF(AccountInfo!$B777=\"\",\"\",AccountInfo!B777)","v":""},{"$nulls":7},"Check"]
[{"$f":"AccountInfo!$A778","v":776},{"$f":"IF(AccountInfo!$B778=\"\",\"\",AccountInfo!B778)","v":""},{"$nulls":7},"Check"]
[{"$f":"AccountInfo!$A779","v":777},{"$f":"IF(AccountInfo!$B779=\"\",\"\",AccountInfo!B779)","v":""},{"$nulls":7},"Check"]
[{"$f":"AccountInfo!$A780","v":778},{"$f":"IF(AccountInfo!$B780=\"\",\"\",AccountInfo!B780)","v":""},{"$nulls":7},"Check"]
[{"$f":"AccountInfo!$A781","v":779},{"$f":"IF(AccountInfo!$B781=\"\",\"\",AccountInfo!B781)","v":""},{"$nulls":7},"Check"]
[{"$f":"AccountInfo!$A782","v":780},{"$f":"IF(AccountInfo!$B782=\"\",\"\",AccountInfo!B782)","v":""},{"$nulls":7},"Check"]
[{"$f":"AccountInfo!$A783","v":781},{"$f":"IF(AccountInfo!$B783=\"\",\"\",AccountInfo!B783)","v":""},{"$nulls":7},"Check"]
[{"$f":"AccountInfo!$A784","v":782},{"$f":"IF(AccountInfo!$B784=\"\",\"\",AccountInfo!B784)","v":""},{"$nulls":7},"Check"]
[{"$f":"AccountInfo!$A785","v":783},{"$f":"IF(AccountInfo!$B785=\"\",\"\",AccountInfo!B785)","v":""},{"$nulls":7},"Check"]
[{"$f":"AccountInfo!$A786","v":784},{"$f":"IF(AccountInfo!$B786=\"\",\"\",AccountInfo!B786)","v":""},{"$nulls":7},"Check"]
[{"$f":"AccountInfo!$A787","v":785},{"$f":"IF(AccountInfo!$B787=\"\",\"\",AccountInfo!B787)","v":""},{"$nulls":7},"Check"]
[{"$f":"AccountInfo!$A788","v":786},{"$f":"IF(AccountInfo!$B788=\"\",\"\",AccountInfo!B788)","v":""},{"$nulls":7},"Check"]
[{"$f":"AccountInfo!$A789","v":787},{"$f":"IF(AccountInfo!$B789=\"\",\"\",AccountInfo!B789)","v":""},{"$nulls":7},"Check"]
[{"$f":"AccountInfo!$A790","v":788},{"$f":"IF(AccountInfo!$B790=\"\",\"\",AccountInfo!B790)","v":""},{"$nulls":7},"Check"]
[{"$f":"AccountInfo!$A791","v":789},{"$f":"IF(AccountInfo!$B791=\"\",\"\",AccountInfo!B791)","v":""},{"$nulls":7},"Check"]
[{"$f":"AccountInfo!$A792","v":790},{"$f":"IF(AccountInfo!$B792=\"\",\"\",AccountInfo!B792)","v":""},{"$nulls":7},"Check"]
[{"$f":"AccountInfo!$A793","v":791},{"$f":"IF(AccountInfo!$B793=\"\",\"\",AccountInfo!B793)","v":""},{"$nulls":7},"Check"]
[{"$f":"AccountInfo!$A794","v":792},{"$f":"IF(AccountInfo!$B794=\"\",\"\",AccountInfo!B794)","v":""},{"$nulls":7},"Check"]
[{"$f":"AccountInfo!$A795","v":793},{"$f":"IF(AccountInfo!$B795=\"\",\"\",AccountInfo!B795)","v":""},{"$nulls":7},"Check"]
[{"$f":"AccountInfo!$A796","v":794},{"$f":"IF(AccountInfo!$B796=\"\",\"\",AccountInfo!B796)","v":""},{"$nulls":7},"Check"]
[{"$f":"AccountInfo!$A797","v":795},{"$f":"IF(AccountInfo!$B797=\"\",\"\",AccountInfo!B797)","v":""},{"$nulls":7},"Check"]
[{"$f":"AccountInfo!$A798","v":796},{"$f":"IF(AccountInfo!$B798=\"\",\"\",AccountInfo!B798)","v":""},{"$nulls":7},"Check"]
[{"$f":"AccountInfo!$A799","v":797},{"$f":"IF(AccountInfo!$B799=\"\",\"\",AccountInfo!B799)","v":""},{"$nulls":7},"Check"]
[{"$f":"AccountInfo!$A800","v":798},{"$f":"IF(AccountInfo!$B800=\"\",\"\",AccountInfo!B800)","v":""},{"$nulls":7},"Check"]
[{"$f":"AccountInfo!$A801","v":799},{"$f":"IF(AccountInfo!$B801=\"\",\"\",AccountInfo!B801)","v":""},{"$nulls":7},"Check"]
[{"$f":"AccountInfo!$A802","v":800},{"$f":"IF(AccountInfo!$B802=\"\",\"\",AccountInfo!B802)","v":""},{"$nulls":7},"Check"]
[{"$f":"AccountInfo!$A803","v":801},{"$f":"IF(AccountInfo!$B803=\"\",\"\",AccountInfo!B803)","v":""},{"$nulls":7},"Check"]
[{"$f":"AccountInfo!$A804","v":802},{"$f":"IF(AccountInfo!$B804=\"\",\"\",AccountInfo!B804)","v":""},{"$nulls":7},"Check"]
[{"$f":"AccountInfo!$A805","v":803},{"$f":"IF(AccountInfo!$B805=\"\",\"\",AccountInfo!B805)","v":""},{"$nulls":7},"Check"]
[{"$f":"AccountInfo!$A806","v":804},{"$f":"IF(AccountInfo!$B806=\"\",\"\",AccountInfo!B806)","v":""},{"$nulls":7},"Check"]
[{"$f":"AccountInfo!$A807","v":805},{"$f":"IF(AccountInfo!$B807=\"\",\"\",AccountInfo!B807)","v":""},{"$nulls":7},"Check"]
[{"$f":"AccountInfo!$A808","v":806},{"$f":"IF(AccountInfo!$B808=\"\",\"\",AccountInfo!B808)","v":""},{"$nulls":7},"Check"]
[{"$f":"AccountInfo!$A809","v":807},{"$f":"IF(AccountInfo!$B809=\"\",\"\",AccountInfo!B809)","v":""},{"$nulls":7},"Check"]
[{"$f":"AccountInfo!$A810","v":808},{"$f":"IF(AccountInfo!$B810=\"\",\"\",AccountInfo!B810)","v":""},{"$nulls":7},"Check"]
[{"$f":"AccountInfo!$A811","v":809},{"$f":"IF(AccountInfo!$B811=\"\",\"\",AccountInfo!B811)","v":""},{"$nulls":7},"Check"]
[{"$f":"AccountInfo!$A812","v":810},{"$f":"IF(AccountInfo!$B812=\"\",\"\",AccountInfo!B812)","v":""},{"$nulls":7},"Check"]
[{"$f":"AccountInfo!$A813","v":811},{"$f":"IF(AccountInfo!$B813=\"\",\"\",AccountInfo!B813)","v":""},{"$nulls":7},"Check"]
[{"$f":"AccountInfo!$A814","v":812},{"$f":"IF(AccountInfo!$B814=\"\",\"\",AccountInfo!B814)","v":""},{"$nulls":7},"Check"]
[{"$f":"AccountInfo!$A815","v":813},{"$f":"IF(AccountInfo!$B815=\"\",\"\",AccountInfo!B815)","v":""},{"$nulls":7},"Check"]
[{"$f":"AccountInfo!$A816","v":814},{"$f":"IF(AccountInfo!$B816=\"\",\"\",AccountInfo!B816)","v":""},{"$nulls":7},"Check"]
[{"$f":"AccountInfo!$A817","v":815},{"$f":"IF(AccountInfo!$B817=\"\",\"\",AccountInfo!B817)","v":""},{"$nulls":7},"Check"]
[{"$f":"AccountInfo!$A818","v":816},{"$f":"IF(AccountInfo!$B818=\"\",\"\",AccountInfo!B818)","v":""},{"$nulls":7},"Check"]
[{"$f":"AccountInfo!$A819","v":817},{"$f":"IF(AccountInfo!$B819=\"\",\"\",AccountInfo!B819)","v":""},{"$nulls":7},"Check"]
[{"$f":"AccountInfo!$A820","v":818},{"$f":"IF(AccountInfo!$B820=\"\",\"\",AccountInfo!B820)","v":""},{"$nulls":7},"Check"]
[{"$f":"AccountInfo!$A821","v":819},{"$f":"IF(AccountInfo!$B821=\"\",\"\",AccountInfo!B821)","v":""},{"$nulls":7},"Check"]
[{"$f":"AccountInfo!$A822","v":820},{"$f":"IF(AccountInfo!$B822=\"\",\"\",AccountInfo!B822)","v":""},{"$nulls":7},"Check"]
[{"$f":"AccountInfo!$A823","v":821},{"$f":"IF(AccountInfo!$B823=\"\",\"\",AccountInfo!B823)","v":""},{"$nulls":7},"Check"]
[{"$f":"AccountInfo!$A824","v":822},{"$f":"IF(AccountInfo!$B824=\"\",\"\",AccountInfo!B824)","v":""},{"$nulls":7},"Check"]
[{"$f":"AccountInfo!$A825","v":823},{"$f":"IF(AccountInfo!$B825=\"\",\"\",AccountInfo!B825)","v":""},{"$nulls":7},"Check"]
[{"$f":"AccountInfo!$A826","v":824},{"$f":"IF(AccountInfo!$B826=\"\",\"\",AccountInfo!B826)","v":""},{"$nulls":7},"Check"]
[{"$f":"AccountInfo!$A827","v":825},{"$f":"IF(AccountInfo!$B827=\"\",\"\",AccountInfo!B827)","v":""},{"$nulls":7},"Check"]
[{"$f":"AccountInfo!$A828","v":826},{"$f":"IF(AccountInfo!$B828=\"\",\"\",AccountInfo!B828)","v":""},{"$nulls":7},"Check"]
[{"$f":"AccountInfo!$A829","v":827},{"$f":"IF(AccountInfo!$B829=\"\",\"\",AccountInfo!B829)","v":""},{"$nulls":7},"Check"]
[{"$f":"AccountInfo!$A830","v":828},{"$f":"IF(AccountInfo!$B830=\"\",\"\",AccountInfo!B830)","v":""},{"$nulls":7},"Check"]
[{"$f":"AccountInfo!$A831","v":829},{"$f":"IF(AccountInfo!$B831=\"\",\"\",AccountInfo!B831)","v":""},{"$nulls":7},"Check"]
[{"$f":"AccountInfo!$A832","v":830},{"$f":"IF(AccountInfo!$B832=\"\",\"\",AccountInfo!B832)","v":""},{"$nulls":7},"Check"]
[{"$f":"AccountInfo!$A833","v":831},{"$f":"IF(AccountInfo!$B833=\"\",\"\",AccountInfo!B833)","v":""},{"$nulls":7},"Check"]
[{"$f":"AccountInfo!$A834","v":832},{"$f":"IF(AccountInfo!$B834=\"\",\"\",AccountInfo!B834)","v":""},{"$nulls":7},"Check"]
[{"$f":"AccountInfo!$A835","v":833},{"$f":"IF(AccountInfo!$B835=\"\",\"\",AccountInfo!B835)","v":""},{"$nulls":7},"Check"]
[{"$f":"AccountInfo!$A836","v":834},{"$f":"IF(AccountInfo!$B836=\"\",\"\",AccountInfo!B836)","v":""},{"$nulls":7},{"$f":"IF(AND(D836<=E836, E836<=F836, F836<=G836, G836<=IF(H836=\"\", 1000000000000, H836)), \"Check\", \"Error\")","v":"Check"}]
[{"$f":"AccountInfo!$A837","v":835},{"$f":"IF(AccountInfo!$B837=\"\",\"\",AccountInfo!B837)","v":""},{"$nulls":7},"Check"]
[{"$f":"AccountInfo!$A838","v":836},{"$f":"IF(AccountInfo!$B838=\"\",\"\",AccountInfo!B838)","v":""},{"$nulls":7},"Check"]
[{"$f":"AccountInfo!$A839","v":837},{"$f":"IF(AccountInfo!$B839=\"\",\"\",AccountInfo!B839)","v":""},{"$nulls":7},"Check"]
[{"$f":"AccountInfo!$A840","v":838},{"$f":"IF(AccountInfo!$B840=\"\",\"\",AccountInfo!B840)","v":""},{"$nulls":7},"Check"]
[{"$f":"AccountInfo!$A841","v":839},{"$f":"IF(AccountInfo!$B841=\"\",\"\",AccountInfo!B841)","v":""},{"$nulls":7},"Check"]
[{"$f":"AccountInfo!$A842","v":840},{"$f":"IF(AccountInfo!$B842=\"\",\"\",AccountInfo!B842)","v":""},{"$nulls":7},"Check"]
[{"$f":"AccountInfo!$A843","v":841},{"$f":"IF(AccountInfo!$B843=\"\",\"\",AccountInfo!B843)","v":""},{"$nulls":7},"Check"]
[{"$f":"AccountInfo!$A844","v":842},{"$f":"IF(AccountInfo!$B844=\"\",\"\",AccountInfo!B844)","v":""},{"$nulls":7},"Check"]
[{"$f":"AccountInfo!$A845","v":843},{"$f":"IF(AccountInfo!$B845=\"\",\"\",AccountInfo!B845)","v":""},{"$nulls":7},"Check"]
[{"$f":"AccountInfo!$A846","v":844},{"$f":"IF(AccountInfo!$B846=\"\",\"\",AccountInfo!B846)","v":""},{"$nulls":7},"Check"]
[{"$f":"AccountInfo!$A847","v":845},{"$f":"IF(AccountInfo!$B847=\"\",\"\",AccountInfo!B847)","v":""},{"$nulls":7},"Check"]
[{"$f":"AccountInfo!$A848","v":846},{"$f":"IF(AccountInfo!$B848=\"\",\"\",AccountInfo!B848)","v":""},{"$nulls":7},"Check"]
[{"$f":"AccountInfo!$A849","v":847},{"$f":"IF(AccountInfo!$B849=\"\",\"\",AccountInfo!B849)","v":""},{"$nulls":7},"Check"]
[{"$f":"AccountInfo!$A850","v":848},{"$f":"IF(AccountInfo!$B850=\"\",\"\",AccountInfo!B850)","v":""},{"$nulls":7},"Check"]
[{"$f":"AccountInfo!$A851","v":849},{"$f":"IF(AccountInfo!$B851=\"\",\"\",AccountInfo!B851)","v":""},{"$nulls":7},"Check"]
[{"$f":"AccountInfo!$A852","v":850},{"$f":"IF(AccountInfo!$B852=\"\",\"\",AccountInfo!B852)","v":""},{"$nulls":7},"Check"]
[{"$f":"AccountInfo!$A853","v":851},{"$f":"IF(AccountInfo!$B853=\"\",\"\",AccountInfo!B853)","v":""},{"$nulls":7},"Check"]
[{"$f":"AccountInfo!$A854","v":852},{"$f":"IF(AccountInfo!$B854=\"\",\"\",AccountInfo!B854)","v":""},{"$nulls":7},"Check"]
[{"$f":"AccountInfo!$A855","v":853},{"$f":"IF(AccountInfo!$B855=\"\",\"\",AccountInfo!B855)","v":""},{"$nulls":7},"Check"]
[{"$f":"AccountInfo!$A856","v":854},{"$f":"IF(AccountInfo!$B856=\"\",\"\",AccountInfo!B856)","v":""},{"$nulls":7},"Check"]
[{"$f":"AccountInfo!$A857","v":855},{"$f":"IF(AccountInfo!$B857=\"\",\"\",AccountInfo!B857)","v":""},{"$nulls":7},"Check"]
[{"$f":"AccountInfo!$A858","v":856},{"$f":"IF(AccountInfo!$B858=\"\",\"\",AccountInfo!B858)","v":""},{"$nulls":7},"Check"]
[{"$f":"AccountInfo!$A859","v":857},{"$f":"IF(AccountInfo!$B859=\"\",\"\",AccountInfo!B859)","v":""},{"$nulls":7},"Check"]
[{"$f":"AccountInfo!$A860","v":858},{"$f":"IF(AccountInfo!$B860=\"\",\"\",AccountInfo!B860)","v":""},{"$nulls":7},"Check"]
[{"$f":"AccountInfo!$A861","v":859},{"$f":"IF(AccountInfo!$B861=\"\",\"\",AccountInfo!B861)","v":""},{"$nulls":7},"Check"]
[{"$f":"AccountInfo!$A862","v":860},{"$f":"IF(AccountInfo!$B862=\"\",\"\",AccountInfo!B862)","v":""},{"$nulls":7},"Check"]
[{"$f":"AccountInfo!$A863","v":861},{"$f":"IF(AccountInfo!$B863=\"\",\"\",AccountInfo!B863)","v":""},{"$nulls":7},"Check"]
[{"$f":"AccountInfo!$A864","v":862},{"$f":"IF(AccountInfo!$B864=\"\",\"\",AccountInfo!B864)","v":""},{"$nulls":7},"Check"]
[{"$f":"AccountInfo!$A865","v":863},{"$f":"IF(AccountInfo!$B865=\"\",\"\",AccountInfo!B865)","v":""},{"$nulls":7},"Check"]
[{"$f":"AccountInfo!$A866","v":864},{"$f":"IF(AccountInfo!$B866=\"\",\"\",AccountInfo!B866)","v":""},{"$nulls":7},"Check"]
[{"$f":"AccountInfo!$A867","v":865},{"$f":"IF(AccountInfo!$B867=\"\",\"\",AccountInfo!B867)","v":""},{"$nulls":7},"Check"]
[{"$f":"AccountInfo!$A868","v":866},{"$f":"IF(AccountInfo!$B868=\"\",\"\",AccountInfo!B868)","v":""},{"$nulls":7},"Check"]
[{"$f":"AccountInfo!$A869","v":867},{"$f":"IF(AccountInfo!$B869=\"\",\"\",AccountInfo!B869)","v":""},{"$nulls":7},"Check"]
[{"$f":"AccountInfo!$A870","v":868},{"$f":"IF(AccountInfo!$B870=\"\",\"\",AccountInfo!B870)","v":""},{"$nulls":7},"Check"]
[{"$f":"AccountInfo!$A871","v":869},{"$f":"IF(AccountInfo!$B871=\"\",\"\",AccountInfo!B871)","v":""},{"$nulls":7},"Check"]
[{"$f":"AccountInfo!$A872","v":870},{"$f":"IF(AccountInfo!$B872=\"\",\"\",AccountInfo!B872)","v":""},{"$nulls":7},"Check"]
[{"$f":"AccountInfo!$A873","v":871},{"$f":"IF(AccountInfo!$B873=\"\",\"\",AccountInfo!B873)","v":""},{"$nulls":7},"Check"]
[{"$f":"AccountInfo!$A874","v":872},{"$f":"IF(AccountInfo!$B874=\"\",\"\",AccountInfo!B874)","v":""},{"$nulls":7},"Check"]
[{"$f":"AccountInfo!$A875","v":873},{"$f":"IF(AccountInfo!$B875=\"\",\"\",AccountInfo!B875)","v":""},{"$nulls":7},"Check"]
[{"$f":"AccountInfo!$A876","v":874},{"$f":"IF(AccountInfo!$B876=\"\",\"\",AccountInfo!B876)","v":""},{"$nulls":7},"Check"]
[{"$f":"AccountInfo!$A877","v":875},{"$f":"IF(AccountInfo!$B877=\"\",\"\",AccountInfo!B877)","v":""},{"$nulls":7},"Check"]
[{"$f":"AccountInfo!$A878","v":876},{"$f":"IF(AccountInfo!$B878=\"\",\"\",AccountInfo!B878)","v":""},{"$nulls":7},"Check"]
[{"$f":"AccountInfo!$A879","v":877},{"$f":"IF(AccountInfo!$B879=\"\",\"\",AccountInfo!B879)","v":""},{"$nulls":7},"Check"]
[{"$f":"AccountInfo!$A880","v":878},{"$f":"IF(AccountInfo!$B880=\"\",\"\",AccountInfo!B880)","v":""},{"$nulls":7},"Check"]
[{"$f":"AccountInfo!$A881","v":879},{"$f":"IF(AccountInfo!$B881=\"\",\"\",AccountInfo!B881)","v":""},{"$nulls":7},"Check"]
[{"$f":"AccountInfo!$A882","v":880},{"$f":"IF(AccountInfo!$B882=\"\",\"\",AccountInfo!B882)","v":""},{"$nulls":7},"Check"]
[{"$f":"AccountInfo!$A883","v":881},{"$f":"IF(AccountInfo!$B883=\"\",\"\",AccountInfo!B883)","v":""},{"$nulls":7},"Check"]
[{"$f":"AccountInfo!$A884","v":882},{"$f":"IF(AccountInfo!$B884=\"\",\"\",AccountInfo!B884)","v":""},{"$nulls":7},"Check"]
[{"$f":"AccountInfo!$A885","v":883},{"$f":"IF(AccountInfo!$B885=\"\",\"\",AccountInfo!B885)","v":""},{"$nulls":7},"Check"]
[{"$f":"AccountInfo!$A886","v":884},{"$f":"IF(AccountInfo!$B886=\"\",\"\",AccountInfo!B886)","v":""},{"$nulls":7},"Check"]
[{"$f":"AccountInfo!$A887","v":885},{"$f":"IF(AccountInfo!$B887=\"\",\"\",AccountInfo!B887)","v":""},{"$nulls":7},"Check"]
[{"$f":"AccountInfo!$A888","v":886},{"$f":"IF(AccountInfo!$B888=\"\",\"\",AccountInfo!B888)","v":""},{"$nulls":7},"Check"]
[{"$f":"AccountInfo!$A889","v":887},{"$f":"IF(AccountInfo!$B889=\"\",\"\",AccountInfo!B889)","v":""},{"$nulls":7},"Check"]
[{"$f":"AccountInfo!$A890","v":888},{"$f":"IF(AccountInfo!$B890=\"\",\"\",AccountInfo!B890)","v":""},{"$nulls":7},"Check"]
[{"$f":"AccountInfo!$A891","v":889},{"$f":"IF(AccountInfo!$B891=\"\",\"\",AccountInfo!B891)","v":""},{"$nulls":7},"Check"]
[{"$f":"AccountInfo!$A892","v":890},{"$f":"IF(AccountInfo!$B892=\"\",\"\",AccountInfo!B892)","v":""},{"$nulls":7},"Check"]
[{"$f":"AccountInfo!$A893","v":891},{"$f":"IF(AccountInfo!$B893=\"\",\"\",AccountInfo!B893)","v":""},{"$nulls":7},"Check"]
[{"$f":"AccountInfo!$A894","v":892},{"$f":"IF(AccountInfo!$B894=\"\",\"\",AccountInfo!B894)","v":""},{"$nulls":7},"Check"]
[{"$f":"AccountInfo!$A895","v":893},{"$f":"IF(AccountInfo!$B895=\"\",\"\",AccountInfo!B895)","v":""},{"$nulls":7},"Check"]
[{"$f":"AccountInfo!$A896","v":894},{"$f":"IF(AccountInfo!$B896=\"\",\"\",AccountInfo!B896)","v":""},{"$nulls":7},"Check"]
[{"$f":"AccountInfo!$A897","v":895},{"$f":"IF(AccountInfo!$B897=\"\",\"\",AccountInfo!B897)","v":""},{"$nulls":7},"Check"]
[{"$f":"AccountInfo!$A898","v":896},{"$f":"IF(AccountInfo!$B898=\"\",\"\",AccountInfo!B898)","v":""},{"$nulls":7},"Check"]
[{"$f":"AccountInfo!$A899","v":897},{"$f":"IF(AccountInfo!$B899=\"\",\"\",AccountInfo!B899)","v":""},{"$nulls":7},"Check"]
[{"$f":"AccountInfo!$A900","v":898},{"$f":"IF(AccountInfo!$B900=\"\",\"\",AccountInfo!B900)","v":""},{"$nulls":7},{"$f":"IF(AND(D900<=E900, E900<=F900, F900<=G900, G900<=IF(H900=\"\", 1000000000000, H900)), \"Check\", \"Error\")","v":"Check"}]
[{"$f":"AccountInfo!$A901","v":899},{"$f":"IF(AccountInfo!$B901=\"\",\"\",AccountInfo!B901)","v":""},{"$nulls":7},"Check"]
[{"$f":"AccountInfo!$A902","v":900},{"$f":"IF(AccountInfo!$B902=\"\",\"\",AccountInfo!B902)","v":""},{"$nulls":7},"Check"]
[{"$f":"AccountInfo!$A903","v":901},{"$f":"IF(AccountInfo!$B903=\"\",\"\",AccountInfo!B903)","v":""},{"$nulls":7},"Check"]
[{"$f":"AccountInfo!$A904","v":902},{"$f":"IF(AccountInfo!$B904=\"\",\"\",AccountInfo!B904)","v":""},{"$nulls":7},"Check"]
[{"$f":"AccountInfo!$A905","v":903},{"$f":"IF(AccountInfo!$B905=\"\",\"\",AccountInfo!B905)","v":""},{"$nulls":7},"Check"]
[{"$f":"AccountInfo!$A906","v":904},{"$f":"IF(AccountInfo!$B906=\"\",\"\",AccountInfo!B906)","v":""},{"$nulls":7},"Check"]
[{"$f":"AccountInfo!$A907","v":905},{"$f":"IF(AccountInfo!$B907=\"\",\"\",AccountInfo!B907)","v":""},{"$nulls":7},"Check"]
[{"$f":"AccountInfo!$A908","v":906},{"$f":"IF(AccountInfo!$B908=\"\",\"\",AccountInfo!B908)","v":""},{"$nulls":7},"Check"]
[{"$f":"AccountInfo!$A909","v":907},{"$f":"IF(AccountInfo!$B909=\"\",\"\",AccountInfo!B909)","v":""},{"$nulls":7},"Check"]
[{"$f":"AccountInfo!$A910","v":908},{"$f":"IF(AccountInfo!$B910=\"\",\"\",AccountInfo!B910)","v":""},{"$nulls":7},"Check"]
[{"$f":"AccountInfo!$A911","v":909},{"$f":"IF(AccountInfo!$B911=\"\",\"\",AccountInfo!B911)","v":""},{"$nulls":7},"Check"]
[{"$f":"AccountInfo!$A912","v":910},{"$f":"IF(AccountInfo!$B912=\"\",\"\",AccountInfo!B912)","v":""},{"$nulls":7},"Check"]
[{"$f":"AccountInfo!$A913","v":911},{"$f":"IF(AccountInfo!$B913=\"\",\"\",AccountInfo!B913)","v":""},{"$nulls":7},"Check"]
[{"$f":"AccountInfo!$A914","v":912},{"$f":"IF(AccountInfo!$B914=\"\",\"\",AccountInfo!B914)","v":""},{"$nulls":7},"Check"]
[{"$f":"AccountInfo!$A915","v":913},{"$f":"IF(AccountInfo!$B915=\"\",\"\",AccountInfo!B915)","v":""},{"$nulls":7},"Check"]
[{"$f":"AccountInfo!$A916","v":914},{"$f":"IF(AccountInfo!$B916=\"\",\"\",AccountInfo!B916)","v":""},{"$nulls":7},"Check"]
[{"$f":"AccountInfo!$A917","v":915},{"$f":"IF(AccountInfo!$B917=\"\",\"\",AccountInfo!B917)","v":""},{"$nulls":7},"Check"]
[{"$f":"AccountInfo!$A918","v":916},{"$f":"IF(AccountInfo!$B918=\"\",\"\",AccountInfo!B918)","v":""},{"$nulls":7},"Check"]
[{"$f":"AccountInfo!$A919","v":917},{"$f":"IF(AccountInfo!$B919=\"\",\"\",AccountInfo!B919)","v":""},{"$nulls":7},"Check"]
[{"$f":"AccountInfo!$A920","v":918},{"$f":"IF(AccountInfo!$B920=\"\",\"\",AccountInfo!B920)","v":""},{"$nulls":7},"Check"]
[{"$f":"AccountInfo!$A921","v":919},{"$f":"IF(AccountInfo!$B921=\"\",\"\",AccountInfo!B921)","v":""},{"$nulls":7},"Check"]
[{"$f":"AccountInfo!$A922","v":920},{"$f":"IF(AccountInfo!$B922=\"\",\"\",AccountInfo!B922)","v":""},{"$nulls":7},"Check"]
[{"$f":"AccountInfo!$A923","v":921},{"$f":"IF(AccountInfo!$B923=\"\",\"\",AccountInfo!B923)","v":""},{"$nulls":7},"Check"]
[{"$f":"AccountInfo!$A924","v":922},{"$f":"IF(AccountInfo!$B924=\"\",\"\",AccountInfo!B924)","v":""},{"$nulls":7},"Check"]
[{"$f":"AccountInfo!$A925","v":923},{"$f":"IF(AccountInfo!$B925=\"\",\"\",AccountInfo!B925)","v":""},{"$nulls":7},"Check"]
[{"$f":"AccountInfo!$A926","v":924},{"$f":"IF(AccountInfo!$B926=\"\",\"\",AccountInfo!B926)","v":""},{"$nulls":7},"Check"]
[{"$f":"AccountInfo!$A927","v":925},{"$f":"IF(AccountInfo!$B927=\"\",\"\",AccountInfo!B927)","v":""},{"$nulls":7},"Check"]
[{"$f":"AccountInfo!$A928","v":926},{"$f":"IF(AccountInfo!$B928=\"\",\"\",AccountInfo!B928)","v":""},{"$nulls":7},"Check"]
[{"$f":"AccountInfo!$A929","v":927},{"$f":"IF(AccountInfo!$B929=\"\",\"\",AccountInfo!B929)","v":""},{"$nulls":7},"Check"]
[{"$f":"AccountInfo!$A930","v":928},{"$f":"IF(AccountInfo!$B930=\"\",\"\",AccountInfo!B930)","v":""},{"$nulls":7},"Check"]
[{"$f":"AccountInfo!$A931","v":929},{"$f":"IF(AccountInfo!$B931=\"\",\"\",AccountInfo!B931)","v":""},{"$nulls":7},"Check"]
[{"$f":"AccountInfo!$A932","v":930},{"$f":"IF(AccountInfo!$B932=\"\",\"\",AccountInfo!B932)","v":""},{"$nulls":7},"Check"]
[{"$f":"AccountInfo!$A933","v":931},{"$f":"IF(AccountInfo!$B933=\"\",\"\",AccountInfo!B933)","v":""},{"$nulls":7},"Check"]
[{"$f":"AccountInfo!$A934","v":932},{"$f":"IF(AccountInfo!$B934=\"\",\"\",AccountInfo!B934)","v":""},{"$nulls":7},"Check"]
[{"$f":"AccountInfo!$A935","v":933},{"$f":"IF(AccountInfo!$B935=\"\",\"\",AccountInfo!B935)","v":""},{"$nulls":7},"Check"]
[{"$f":"AccountInfo!$A936","v":934},{"$f":"IF(AccountInfo!$B936=\"\",\"\",AccountInfo!B936)","v":""},{"$nulls":7},"Check"]
[{"$f":"AccountInfo!$A937","v":935},{"$f":"IF(AccountInfo!$B937=\"\",\"\",AccountInfo!B937)","v":""},{"$nulls":7},"Check"]
[{"$f":"AccountInfo!$A938","v":936},{"$f":"IF(AccountInfo!$B938=\"\",\"\",AccountInfo!B938)","v":""},{"$nulls":7},"Check"]
[{"$f":"AccountInfo!$A939","v":937},{"$f":"IF(AccountInfo!$B939=\"\",\"\",AccountInfo!B939)","v":""},{"$nulls":7},"Check"]
[{"$f":"AccountInfo!$A940","v":938},{"$f":"IF(AccountInfo!$B940=\"\",\"\",AccountInfo!B940)","v":""},{"$nulls":7},"Check"]
[{"$f":"AccountInfo!$A941","v":939},{"$f":"IF(AccountInfo!$B941=\"\",\"\",AccountInfo!B941)","v":""},{"$nulls":7},"Check"]
[{"$f":"AccountInfo!$A942","v":940},{"$f":"IF(AccountInfo!$B942=\"\",\"\",AccountInfo!B942)","v":""},{"$nulls":7},"Check"]
[{"$f":"AccountInfo!$A943","v":941},{"$f":"IF(AccountInfo!$B943=\"\",\"\",AccountInfo!B943)","v":""},{"$nulls":7},"Check"]
[{"$f":"AccountInfo!$A944","v":942},{"$f":"IF(AccountInfo!$B944=\"\",\"\",AccountInfo!B944)","v":""},{"$nulls":7},"Check"]
[{"$f":"AccountInfo!$A945","v":943},{"$f":"IF(AccountInfo!$B945=\"\",\"\",AccountInfo!B945)","v":""},{"$nulls":7},"Check"]
[{"$f":"AccountInfo!$A946","v":944},{"$f":"IF(AccountInfo!$B946=\"\",\"\",AccountInfo!B946)","v":""},{"$nulls":7},"Check"]
[{"$f":"AccountInfo!$A947","v":945},{"$f":"IF(AccountInfo!$B947=\"\",\"\",AccountInfo!B947)","v":""},{"$nulls":7},"Check"]
[{"$f":"AccountInfo!$A948","v":946},{"$f":"IF(AccountInfo!$B948=\"\",\"\",AccountInfo!B948)","v":""},{"$nulls":7},"Check"]
[{"$f":"AccountInfo!$A949","v":947},{"$f":"IF(AccountInfo!$B949=\"\",\"\",AccountInfo!B949)","v":""},{"$nulls":7},"Check"]
[{"$f":"AccountInfo!$A950","v":948},{"$f":"IF(AccountInfo!$B950=\"\",\"\",AccountInfo!B950)","v":""},{"$nulls":7},"Check"]
[{"$f":"AccountInfo!$A951","v":949},{"$f":"IF(AccountInfo!$B951=\"\",\"\",AccountInfo!B951)","v":""},{"$nulls":7},"Check"]
[{"$f":"AccountInfo!$A952","v":950},{"$f":"IF(AccountInfo!$B952=\"\",\"\",AccountInfo!B952)","v":""},{"$nulls":7},"Check"]
[{"$f":"AccountInfo!$A953","v":951},{"$f":"IF(AccountInfo!$B953=\"\",\"\",AccountInfo!B953)","v":""},{"$nulls":7},"Check"]
[{"$f":"AccountInfo!$A954","v":952},{"$f":"IF(AccountInfo!$B954=\"\",\"\",AccountInfo!B954)","v":""},{"$nulls":7},"Check"]
[{"$f":"AccountInfo!$A955","v":953},{"$f":"IF(AccountInfo!$B955=\"\",\"\",AccountInfo!B955)","v":""},{"$nulls":7},"Check"]
[{"$f":"AccountInfo!$A956","v":954},{"$f":"IF(AccountInfo!$B956=\"\",\"\",AccountInfo!B956)","v":""},{"$nulls":7},"Check"]
[{"$f":"AccountInfo!$A957","v":955},{"$f":"IF(AccountInfo!$B957=\"\",\"\",AccountInfo!B957)","v":""},{"$nulls":7},"Check"]
[{"$f":"AccountInfo!$A958","v":956},{"$f":"IF(AccountInfo!$B958=\"\",\"\",AccountInfo!B958)","v":""},{"$nulls":7},"Check"]
[{"$f":"AccountInfo!$A959","v":957},{"$f":"IF(AccountInfo!$B959=\"\",\"\",AccountInfo!B959)","v":""},{"$nulls":7},"Check"]
[{"$f":"AccountInfo!$A960","v":958},{"$f":"IF(AccountInfo!$B960=\"\",\"\",AccountInfo!B960)","v":""},{"$nulls":7},"Check"]
[{"$f":"AccountInfo!$A961","v":959},{"$f":"IF(AccountInfo!$B961=\"\",\"\",AccountInfo!B961)","v":""},{"$nulls":7},"Check"]
[{"$f":"AccountInfo!$A962","v":960},{"$f":"IF(AccountInfo!$B962=\"\",\"\",AccountInfo!B962)","v":""},{"$nulls":7},"Check"]
[{"$f":"AccountInfo!$A963","v":961},{"$f":"IF(AccountInfo!$B963=\"\",\"\",AccountInfo!B963)","v":""},{"$nulls":7},"Check"]
[{"$f":"AccountInfo!$A964","v":962},{"$f":"IF(AccountInfo!$B964=\"\",\"\",AccountInfo!B964)","v":""},{"$nulls":7},{"$f":"IF(AND(D964<=E964, E964<=F964, F964<=G964, G964<=IF(H964=\"\", 1000000000000, H964)), \"Check\", \"Error\")","v":"Check"}]
[{"$f":"AccountInfo!$A965","v":963},{"$f":"IF(AccountInfo!$B965=\"\",\"\",AccountInfo!B965)","v":""},{"$nulls":7},"Check"]
[{"$f":"AccountInfo!$A966","v":964},{"$f":"IF(AccountInfo!$B966=\"\",\"\",AccountInfo!B966)","v":""},{"$nulls":7},"Check"]
[{"$f":"AccountInfo!$A967","v":965},{"$f":"IF(AccountInfo!$B967=\"\",\"\",AccountInfo!B967)","v":""},{"$nulls":7},"Check"]
[{"$f":"AccountInfo!$A968","v":966},{"$f":"IF(AccountInfo!$B968=\"\",\"\",AccountInfo!B968)","v":""},{"$nulls":7},"Check"]
[{"$f":"AccountInfo!$A969","v":967},{"$f":"IF(AccountInfo!$B969=\"\",\"\",AccountInfo!B969)","v":""},{"$nulls":7},"Check"]
[{"$f":"AccountInfo!$A970","v":968},{"$f":"IF(AccountInfo!$B970=\"\",\"\",AccountInfo!B970)","v":""},{"$nulls":7},"Check"]
[{"$f":"AccountInfo!$A971","v":969},{"$f":"IF(AccountInfo!$B971=\"\",\"\",AccountInfo!B971)","v":""},{"$nulls":7},"Check"]
[{"$f":"AccountInfo!$A972","v":970},{"$f":"IF(AccountInfo!$B972=\"\",\"\",AccountInfo!B972)","v":""},{"$nulls":7},"Check"]
[{"$f":"AccountInfo!$A973","v":971},{"$f":"IF(AccountInfo!$B973=\"\",\"\",AccountInfo!B973)","v":""},{"$nulls":7},"Check"]
[{"$f":"AccountInfo!$A974","v":972},{"$f":"IF(AccountInfo!$B974=\"\",\"\",AccountInfo!B974)","v":""},{"$nulls":7},"Check"]
[{"$f":"AccountInfo!$A975","v":973},{"$f":"IF(AccountInfo!$B975=\"\",\"\",AccountInfo!B975)","v":""},{"$nulls":7},"Check"]
[{"$f":"AccountInfo!$A976","v":974},{"$f":"IF(AccountInfo!$B976=\"\",\"\",AccountInfo!B976)","v":""},{"$nulls":7},"Check"]
[{"$f":"AccountInfo!$A977","v":975},{"$f":"IF(AccountInfo!$B977=\"\",\"\",AccountInfo!B977)","v":""},{"$nulls":7},"Check"]
[{"$f":"AccountInfo!$A978","v":976},{"$f":"IF(AccountInfo!$B978=\"\",\"\",AccountInfo!B978)","v":""},{"$nulls":7},"Check"]
[{"$f":"AccountInfo!$A979","v":977},{"$f":"IF(AccountInfo!$B979=\"\",\"\",AccountInfo!B979)","v":""},{"$nulls":7},"Check"]
[{"$f":"AccountInfo!$A980","v":978},{"$f":"IF(AccountInfo!$B980=\"\",\"\",AccountInfo!B980)","v":""},{"$nulls":7},"Check"]
[{"$f":"AccountInfo!$A981","v":979},{"$f":"IF(AccountInfo!$B981=\"\",\"\",AccountInfo!B981)","v":""},{"$nulls":7},"Check"]
[{"$f":"AccountInfo!$A982","v":980},{"$f":"IF(AccountInfo!$B982=\"\",\"\",AccountInfo!B982)","v":""},{"$nulls":7},"Check"]
[{"$f":"AccountInfo!$A983","v":981},{"$f":"IF(AccountInfo!$B983=\"\",\"\",AccountInfo!B983)","v":""},{"$nulls":7},"Check"]
[{"$f":"AccountInfo!$A984","v":982},{"$f":"IF(AccountInfo!$B984=\"\",\"\",AccountInfo!B984)","v":""},{"$nulls":7},"Check"]
[{"$f":"AccountInfo!$A985","v":983},{"$f":"IF(AccountInfo!$B985=\"\",\"\",AccountInfo!B985)","v":""},{"$nulls":7},"Check"]
[{"$f":"AccountInfo!$A986","v":984},{"$f":"IF(AccountInfo!$B986=\"\",\"\",AccountInfo!B986)","v":""},{"$nulls":7},"Check"]
[{"$f":"AccountInfo!$A987","v":985},{"$f":"IF(AccountInfo!$B987=\"\",\"\",AccountInfo!B987)","v":""},{"$nulls":7},"Check"]
[{"$f":"AccountInfo!$A988","v":986},{"$f":"IF(AccountInfo!$B988=\"\",\"\",AccountInfo!B988)","v":""},{"$nulls":7},"Check"]
[{"$f":"AccountInfo!$A989","v":987},{"$f":"IF(AccountInfo!$B989=\"\",\"\",AccountInfo!B989)","v":""},{"$nulls":7},"Check"]
[{"$f":"AccountInfo!$A990","v":988},{"$f":"IF(AccountInfo!$B990=\"\",\"\",AccountInfo!B990)","v":""},{"$nulls":7},"Check"]
[{"$f":"AccountInfo!$A991","v":989},{"$f":"IF(AccountInfo!$B991=\"\",\"\",AccountInfo!B991)","v":""},{"$nulls":7},"Check"]
[{"$f":"AccountInfo!$A992","v":990},{"$f":"IF(AccountInfo!$B992=\"\",\"\",AccountInfo!B992)","v":""},{"$nulls":7},"Check"]
[{"$f":"AccountInfo!$A993","v":991},{"$f":"IF(AccountInfo!$B993=\"\",\"\",AccountInfo!B993)","v":""},{"$nulls":7},"Check"]
[{"$f":"AccountInfo!$A994","v":992},{"$f":"IF(AccountInfo!$B994=\"\",\"\",AccountInfo!B994)","v":""},{"$nulls":7},"Check"]
[{"$f":"AccountInfo!$A995","v":993},{"$f":"IF(AccountInfo!$B995=\"\",\"\",AccountInfo!B995)","v":""},{"$nulls":7},"Check"]
[{"$f":"AccountInfo!$A996","v":994},{"$f":"IF(AccountInfo!$B996=\"\",\"\",AccountInfo!B996)","v":""},{"$nulls":7},"Check"]
[{"$f":"AccountInfo!$A997","v":995},{"$f":"IF(AccountInfo!$B997=\"\",\"\",AccountInfo!B997)","v":""},{"$nulls":7},"Check"]
[{"$f":"AccountInfo!$A998","v":996},{"$f":"IF(AccountInfo!$B998=\"\",\"\",AccountInfo!B998)","v":""},{"$nulls":7},"Check"]
[{"$f":"AccountInfo!$A999","v":997},{"$f":"IF(AccountInfo!$B999=\"\",\"\",AccountInfo!B999)","v":""},{"$nulls":7},"Check"]
[{"$f":"AccountInfo!$A1000","v":998},{"$f":"IF(AccountInfo!$B1000=\"\",\"\",AccountInfo!B1000)","v":""},{"$nulls":7},"Check"]
[{"$f":"AccountInfo!$A1001","v":999},{"$f":"IF(AccountInfo!$B1001=\"\",\"\",AccountInfo!B1001)","v":""},{"$nulls":7},"Check"]
[{"$f":"AccountInfo!$A1002","v":1000},{"$f":"IF(AccountInfo!$B1002=\"\",\"\",AccountInfo!B1002)","v":""},{"$nulls":7},"Check"]

{"sheet":"ProbLoss","index":7,"n_rows":1002,"n_cols":10,"rows_kept":1002,"merged":[[0,2,0,4]]}
[null,null,"Probabiity of Loss [%]"]
["Opp_ID",{"$f":"AccountInfo!B2","v":"Opp_Name"},"Reasons for Loss","Prob_Loss","Reasons for Award",null,"Instructions",null,null,0]
[{"$f":"AccountInfo!$A3","v":1},{"$f":"IF(AccountInfo!$B3=\"\",\"\",AccountInfo!B3)","v":"Whiskers and Fleas"},null,37,null,null,"For a given opportunity, provide reasons for loss first.",null,null,1]
[{"$f":"AccountInfo!$A4","v":2},{"$f":"IF(AccountInfo!$B4=\"\",\"\",AccountInfo!B4)","v":"Cheddar Cheese"},null,5,null,null,"Provide reasons for award.",null,null,5]
[{"$f":"AccountInfo!$A5","v":3},{"$f":"IF(AccountInfo!$B5=\"\",\"\",AccountInfo!B5)","v":"Abominable Snowman"},null,13,null,null,"Use the drop-down list to select a value for the Probability of Loss.",null,null,{"$f":"J4+5","v":10}]
[{"$f":"AccountInfo!$A6","v":4},{"$f":"IF(AccountInfo!$B6=\"\",\"\",AccountInfo!B6)","v":"Treason on the High Seas"},null,66,null,null,"Estimate the p90.",null,null,{"$f":"J5+5","v":15}]
[{"$f":"AccountInfo!$A7","v":5},{"$f":"IF(AccountInfo!$B7=\"\",\"\",AccountInfo!B7)","v":"Pinky and the Brain"},null,45,null,null,"Always estimate the p50 last, no exceptions.",null,null,20]
[{"$f":"AccountInfo!$A8","v":6},{"$f":"IF(AccountInfo!$B8=\"\",\"\",AccountInfo!B8)","v":"Clams and Mushrooms"},null,50,null,null,"If there is a required Min other than 0, enter that value; otherwise, leave the Required Min as 0.",null,null,25]
[{"$f":"AccountInfo!$A9","v":7},{"$f":"IF(AccountInfo!$B9=\"\",\"\",AccountInfo!B9)","v":"Concert at Red Rocks"},null,78,null,null,"If there is a required Max, enter that value; otherwise, leave the Required Max blank.",null,null,30]
[{"$f":"AccountInfo!$A10","v":8},{"$f":"IF(AccountInfo!$B10=\"\",\"\",AccountInfo!B10)","v":"Fast Times at Ridgemont High"},null,43,{"$nulls":5},35]
[{"$f":"AccountInfo!$A11","v":9},{"$f":"IF(AccountInfo!$B11=\"\",\"\",AccountInfo!B11)","v":"Monkey See Monkey Do"},null,85,{"$nulls":5},40]
[{"$f":"AccountInfo!$A12","v":10},{"$f":"IF(AccountInfo!$B12=\"\",\"\",AccountInfo!B12)","v":"Mine Eyes Have Seen the Glory"},null,92,{"$nulls":5},45]
[{"$f":"AccountInfo!$A13","v":11},{"$f":"IF(AccountInfo!$B13=\"\",\"\",AccountInfo!B13)","v":"Punky Brewster Lives"},null,79,{"$nulls":5},50]
[{"$f":"AccountInfo!$A14","v":12},{"$f":"IF(AccountInfo!$B14=\"\",\"\",AccountInfo!B14)","v":"Live at the Magic Kingdom"},null,46,{"$nulls":5},55]
[{"$f":"AccountInfo!$A15","v":13},{"$f":"IF(AccountInfo!$B15=\"\",\"\",AccountInfo!B15)","v":"House Music"},null,50,{"$nulls":5},60]
[{"$f":"AccountInfo!$A16","v":14},{"$f":"IF(AccountInfo!$B16=\"\",\"\",AccountInfo!B16)","v":"Kindle Fire Truck"},null,65,{"$nulls":5},65]
[{"$f":"AccountInfo!$A17","v":15},{"$f":"IF(AccountInfo!$B17=\"\",\"\",AccountInfo!B17)","v":""},{"$nulls":7},70]
[{"$f":"AccountInfo!$A18","v":16},{"$f":"IF(AccountInfo!$B18=\"\",\"\",AccountInfo!B18)","v":""},{"$nulls":7},75]
[{"$f":"AccountInfo!$A19","v":17},{"$f":"IF(AccountInfo!$B19=\"\",\"\",AccountInfo!B19)","v":""},{"$nulls":7},80]
[{"$f":"AccountInfo!$A20","v":18},{"$f":"IF(AccountInfo!$B20=\"\",\"\",AccountInfo!B20)","v":""},{"$nulls":7},85]
[{"$f":"AccountInfo!$A21","v":19},{"$f":"IF(AccountInfo!$B21=\"\",\"\",AccountInfo!B21)","v":""},{"$nulls":7},90]
[{"$f":"AccountInfo!$A22","v":20},{"$f":"IF(AccountInfo!$B22=\"\",\"\",AccountInfo!B22)","v":""},{"$nulls":7},95]
[{"$f":"AccountInfo!$A23","v":21},{"$f":"IF(AccountInfo!$B23=\"\",\"\",AccountInfo!B23)","v":""},{"$nulls":7},99]
[{"$f":"AccountInfo!$A24","v":22},{"$f":"IF(AccountInfo!$B24=\"\",\"\",AccountInfo!B24)","v":""}]
[{"$f":"AccountInfo!$A25","v":23},{"$f":"IF(AccountInfo!$B25=\"\",\"\",AccountInfo!B25)","v":""}]
[{"$f":"AccountInfo!$A26","v":24},{"$f":"IF(AccountInfo!$B26=\"\",\"\",AccountInfo!B26)","v":""}]
[{"$f":"AccountInfo!$A27","v":25},{"$f":"IF(AccountInfo!$B27=\"\",\"\",AccountInfo!B27)","v":""}]
[{"$f":"AccountInfo!$A28","v":26},{"$f":"IF(AccountInfo!$B28=\"\",\"\",AccountInfo!B28)","v":""}]
[{"$f":"AccountInfo!$A29","v":27},{"$f":"IF(AccountInfo!$B29=\"\",\"\",AccountInfo!B29)","v":""}]
[{"$f":"AccountInfo!$A30","v":28},{"$f":"IF(AccountInfo!$B30=\"\",\"\",AccountInfo!B30)","v":""}]
[{"$f":"AccountInfo!$A31","v":29},{"$f":"IF(AccountInfo!$B31=\"\",\"\",AccountInfo!B31)","v":""}]
[{"$f":"AccountInfo!$A32","v":30},{"$f":"IF(AccountInfo!$B32=\"\",\"\",AccountInfo!B32)","v":""}]
[{"$f":"AccountInfo!$A33","v":31},{"$f":"IF(AccountInfo!$B33=\"\",\"\",AccountInfo!B33)","v":""}]
[{"$f":"AccountInfo!$A34","v":32},{"$f":"IF(AccountInfo!$B34=\"\",\"\",AccountInfo!B34)","v":""}]
[{"$f":"AccountInfo!$A35","v":33},{"$f":"IF(AccountInfo!$B35=\"\",\"\",AccountInfo!B35)","v":""}]
[{"$f":"AccountInfo!$A36","v":34},{"$f":"IF(AccountInfo!$B36=\"\",\"\",AccountInfo!B36)","v":""}]
[{"$f":"AccountInfo!$A37","v":35},{"$f":"IF(AccountInfo!$B37=\"\",\"\",AccountInfo!B37)","v":""}]
[{"$f":"AccountInfo!$A38","v":36},{"$f":"IF(AccountInfo!$B38=\"\",\"\",AccountInfo!B38)","v":""}]
[{"$f":"AccountInfo!$A39","v":37},{"$f":"IF(AccountInfo!$B39=\"\",\"\",AccountInfo!B39)","v":""}]
[{"$f":"AccountInfo!$A40","v":38},{"$f":"IF(AccountInfo!$B40=\"\",\"\",AccountInfo!B40)","v":""}]
[{"$f":"AccountInfo!$A41","v":39},{"$f":"IF(AccountInfo!$B41=\"\",\"\",AccountInfo!B41)","v":""}]
[{"$f":"AccountInfo!$A42","v":40},{"$f":"IF(AccountInfo!$B42=\"\",\"\",AccountInfo!B42)","v":""}]
[{"$f":"AccountInfo!$A43","v":41},{"$f":"IF(AccountInfo!$B43=\"\",\"\",AccountInfo!B43)","v":""}]
[{"$f":"AccountInfo!$A44","v":42},{"$f":"IF(AccountInfo!$B44=\"\",\"\",AccountInfo!B44)","v":""}]
[{"$f":"AccountInfo!$A45","v":43},{"$f":"IF(AccountInfo!$B45=\"\",\"\",AccountInfo!B45)","v":""}]
[{"$f":"AccountInfo!$A46","v":44},{"$f":"IF(AccountInfo!$B46=\"\",\"\",AccountInfo!B46)","v":""}]
[{"$f":"AccountInfo!$A47","v":45},{"$f":"IF(AccountInfo!$B47=\"\",\"\",AccountInfo!B47)","v":""}]
[{"$f":"AccountInfo!$A48","v":46},{"$f":"IF(AccountInfo!$B48=\"\",\"\",AccountInfo!B48)","v":""}]
[{"$f":"AccountInfo!$A49","v":47},{"$f":"IF(AccountInfo!$B49=\"\",\"\",AccountInfo!B49)","v":""}]
[{"$f":"AccountInfo!$A50","v":48},{"$f":"IF(AccountInfo!$B50=\"\",\"\",AccountInfo!B50)","v":""}]
[{"$f":"AccountInfo!$A51","v":49},{"$f":"IF(AccountInfo!$B51=\"\",\"\",AccountInfo!B51)","v":""}]
[{"$f":"AccountInfo!$A52","v":50},{"$f":"IF(AccountInfo!$B52=\"\",\"\",AccountInfo!B52)","v":""}]
[{"$f":"AccountInfo!$A53","v":51},{"$f":"IF(AccountInfo!$B53=\"\",\"\",AccountInfo!B53)","v":""}]
[{"$f":"AccountInfo!$A54","v":52},{"$f":"IF(AccountInfo!$B54=\"\",\"\",AccountInfo!B54)","v":""}]
[{"$f":"AccountInfo!$A55","v":53},{"$f":"IF(AccountInfo!$B55=\"\",\"\",AccountInfo!B55)","v":""}]
[{"$f":"AccountInfo!$A56","v":54},{"$f":"IF(AccountInfo!$B56=\"\",\"\",AccountInfo!B56)","v":""}]
[{"$f":"AccountInfo!$A57","v":55},{"$f":"IF(AccountInfo!$B57=\"\",\"\",AccountInfo!B57)","v":""}]
[{"$f":"AccountInfo!$A58","v":56},{"$f":"IF(AccountInfo!$B58=\"\",\"\",AccountInfo!B58)","v":""}]
[{"$f":"AccountInfo!$A59","v":57},{"$f":"IF(AccountInfo!$B59=\"\",\"\",AccountInfo!B59)","v":""}]
[{"$f":"AccountInfo!$A60","v":58},{"$f":"IF(AccountInfo!$B60=\"\",\"\",AccountInfo!B60)","v":""}]
[{"$f":"AccountInfo!$A61","v":59},{"$f":"IF(AccountInfo!$B61=\"\",\"\",AccountInfo!B61)","v":""}]
[{"$f":"AccountInfo!$A62","v":60},{"$f":"IF(AccountInfo!$B62=\"\",\"\",AccountInfo!B62)","v":""}]
[{"$f":"AccountInfo!$A63","v":61},{"$f":"IF(AccountInfo!$B63=\"\",\"\",AccountInfo!B63)","v":""}]
[{"$f":"AccountInfo!$A64","v":62},{"$f":"IF(AccountInfo!$B64=\"\",\"\",AccountInfo!B64)","v":""}]
[{"$f":"AccountInfo!$A65","v":63},{"$f":"IF(AccountInfo!$B65=\"\",\"\",AccountInfo!B65)","v":""}]
[{"$f":"AccountInfo!$A66","v":64},{"$f":"IF(AccountInfo!$B66=\"\",\"\",AccountInfo!B66)","v":""}]
[{"$f":"AccountInfo!$A67","v":65},{"$f":"IF(AccountInfo!$B67=\"\",\"\",AccountInfo!B67)","v":""}]
[{"$f":"AccountInfo!$A68","v":66},{"$f":"IF(AccountInfo!$B68=\"\",\"\",AccountInfo!B68)","v":""}]
[{"$f":"AccountInfo!$A69","v":67},{"$f":"IF(AccountInfo!$B69=\"\",\"\",AccountInfo!B69)","v":""}]
[{"$f":"AccountInfo!$A70","v":68},{"$f":"IF(AccountInfo!$B70=\"\",\"\",AccountInfo!B70)","v":""}]
[{"$f":"AccountInfo!$A71","v":69},{"$f":"IF(AccountInfo!$B71=\"\",\"\",AccountInfo!B71)","v":""}]
[{"$f":"AccountInfo!$A72","v":70},{"$f":"IF(AccountInfo!$B72=\"\",\"\",AccountInfo!B72)","v":""}]
[{"$f":"AccountInfo!$A73","v":71},{"$f":"IF(AccountInfo!$B73=\"\",\"\",AccountInfo!B73)","v":""}]
[{"$f":"AccountInfo!$A74","v":72},{"$f":"IF(AccountInfo!$B74=\"\",\"\",AccountInfo!B74)","v":""}]
[{"$f":"AccountInfo!$A75","v":73},{"$f":"IF(AccountInfo!$B75=\"\",\"\",AccountInfo!B75)","v":""}]
[{"$f":"AccountInfo!$A76","v":74},{"$f":"IF(AccountInfo!$B76=\"\",\"\",AccountInfo!B76)","v":""}]
[{"$f":"AccountInfo!$A77","v":75},{"$f":"IF(AccountInfo!$B77=\"\",\"\",AccountInfo!B77)","v":""}]
[{"$f":"AccountInfo!$A78","v":76},{"$f":"IF(AccountInfo!$B78=\"\",\"\",AccountInfo!B78)","v":""}]
[{"$f":"AccountInfo!$A79","v":77},{"$f":"IF(AccountInfo!$B79=\"\",\"\",AccountInfo!B79)","v":""}]
[{"$f":"AccountInfo!$A80","v":78},{"$f":"IF(AccountInfo!$B80=\"\",\"\",AccountInfo!B80)","v":""}]
[{"$f":"AccountInfo!$A81","v":79},{"$f":"IF(AccountInfo!$B81=\"\",\"\",AccountInfo!B81)","v":""}]
[{"$f":"AccountInfo!$A82","v":80},{"$f":"IF(AccountInfo!$B82=\"\",\"\",AccountInfo!B82)","v":""}]
[{"$f":"AccountInfo!$A83","v":81},{"$f":"IF(AccountInfo!$B83=\"\",\"\",AccountInfo!B83)","v":""}]
[{"$f":"AccountInfo!$A84","v":82},{"$f":"IF(AccountInfo!$B84=\"\",\"\",AccountInfo!B84)","v":""}]
[{"$f":"AccountInfo!$A85","v":83},{"$f":"IF(AccountInfo!$B85=\"\",\"\",AccountInfo!B85)","v":""}]
[{"$f":"AccountInfo!$A86","v":84},{"$f":"IF(AccountInfo!$B86=\"\",\"\",AccountInfo!B86)","v":""}]
[{"$f":"AccountInfo!$A87","v":85},{"$f":"IF(AccountInfo!$B87=\"\",\"\",AccountInfo!B87)","v":""}]
[{"$f":"AccountInfo!$A88","v":86},{"$f":"IF(AccountInfo!$B88=\"\",\"\",AccountInfo!B88)","v":""}]
[{"$f":"AccountInfo!$A89","v":87},{"$f":"IF(AccountInfo!$B89=\"\",\"\",AccountInfo!B89)","v":""}]
[{"$f":"AccountInfo!$A90","v":88},{"$f":"IF(AccountInfo!$B90=\"\",\"\",AccountInfo!B90)","v":""}]
[{"$f":"AccountInfo!$A91","v":89},{"$f":"IF(AccountInfo!$B91=\"\",\"\",AccountInfo!B91)","v":""}]
[{"$f":"AccountInfo!$A92","v":90},{"$f":"IF(AccountInfo!$B92=\"\",\"\",AccountInfo!B92)","v":""}]
[{"$f":"AccountInfo!$A93","v":91},{"$f":"IF(AccountInfo!$B93=\"\",\"\",AccountInfo!B93)","v":""}]
[{"$f":"AccountInfo!$A94","v":92},{"$f":"IF(AccountInfo!$B94=\"\",\"\",AccountInfo!B94)","v":""}]
[{"$f":"AccountInfo!$A95","v":93},{"$f":"IF(AccountInfo!$B95=\"\",\"\",AccountInfo!B95)","v":""}]
[{"$f":"AccountInfo!$A96","v":94},{"$f":"IF(AccountInfo!$B96=\"\",\"\",AccountInfo!B96)","v":""}]
[{"$f":"AccountInfo!$A97","v":95},{"$f":"IF(AccountInfo!$B97=\"\",\"\",AccountInfo!B97)","v":""}]
[{"$f":"AccountInfo!$A98","v":96},{"$f":"IF(AccountInfo!$B98=\"\",\"\",AccountInfo!B98)","v":""}]
[{"$f":"AccountInfo!$A99","v":97},{"$f":"IF(AccountInfo!$B99=\"\",\"\",AccountInfo!B99)","v":""}]
[{"$f":"AccountInfo!$A100","v":98},{"$f":"IF(AccountInfo!$B100=\"\",\"\",AccountInfo!B100)","v":""}]
[{"$f":"AccountInfo!$A101","v":99},{"$f":"IF(AccountInfo!$B101=\"\",\"\",AccountInfo!B101)","v":""}]
[{"$f":"AccountInfo!$A102","v":100},{"$f":"IF(AccountInfo!$B102=\"\",\"\",AccountInfo!B102)","v":""}]
[{"$f":"AccountInfo!$A103","v":101},{"$f":"IF(AccountInfo!$B103=\"\",\"\",AccountInfo!B103)","v":""}]
[{"$f":"AccountInfo!$A104","v":102},{"$f":"IF(AccountInfo!$B104=\"\",\"\",AccountInfo!B104)","v":""}]
[{"$f":"AccountInfo!$A105","v":103},{"$f":"IF(AccountInfo!$B105=\"\",\"\",AccountInfo!B105)","v":""}]
[{"$f":"AccountInfo!$A106","v":104},{"$f":"IF(AccountInfo!$B106=\"\",\"\",AccountInfo!B106)","v":""}]
[{"$f":"AccountInfo!$A107","v":105},{"$f":"IF(AccountInfo!$B107=\"\",\"\",AccountInfo!B107)","v":""}]
[{"$f":"AccountInfo!$A108","v":106},{"$f":"IF(AccountInfo!$B108=\"\",\"\",AccountInfo!B108)","v":""}]
[{"$f":"AccountInfo!$A109","v":107},{"$f":"IF(AccountInfo!$B109=\"\",\"\",AccountInfo!B109)","v":""}]
[{"$f":"AccountInfo!$A110","v":108},{"$f":"IF(AccountInfo!$B110=\"\",\"\",AccountInfo!B110)","v":""}]
[{"$f":"AccountInfo!$A111","v":109},{"$f":"IF(AccountInfo!$B111=\"\",\"\",AccountInfo!B111)","v":""}]
[{"$f":"AccountInfo!$A112","v":110},{"$f":"IF(AccountInfo!$B112=\"\",\"\",AccountInfo!B112)","v":""}]
[{"$f":"AccountInfo!$A113","v":111},{"$f":"IF(AccountInfo!$B113=\"\",\"\",AccountInfo!B113)","v":""}]
[{"$f":"AccountInfo!$A114","v":112},{"$f":"IF(AccountInfo!$B114=\"\",\"\",AccountInfo!B114)","v":""}]
[{"$f":"AccountInfo!$A115","v":113},{"$f":"IF(AccountInfo!$B115=\"\",\"\",AccountInfo!B115)","v":""}]
[{"$f":"AccountInfo!$A116","v":114},{"$f":"IF(AccountInfo!$B116=\"\",\"\",AccountInfo!B116)","v":""}]
[{"$f":"AccountInfo!$A117","v":115},{"$f":"IF(AccountInfo!$B117=\"\",\"\",AccountInfo!B117)","v":""}]
[{"$f":"AccountInfo!$A118","v":116},{"$f":"IF(AccountInfo!$B118=\"\",\"\",AccountInfo!B118)","v":""}]
[{"$f":"AccountInfo!$A119","v":117},{"$f":"IF(AccountInfo!$B119=\"\",\"\",AccountInfo!B119)","v":""}]
[{"$f":"AccountInfo!$A120","v":118},{"$f":"IF(AccountInfo!$B120=\"\",\"\",AccountInfo!B120)","v":""}]
[{"$f":"AccountInfo!$A121","v":119},{"$f":"IF(AccountInfo!$B121=\"\",\"\",AccountInfo!B121)","v":""}]
[{"$f":"AccountInfo!$A122","v":120},{"$f":"IF(AccountInfo!$B122=\"\",\"\",AccountInfo!B122)","v":""}]
[{"$f":"AccountInfo!$A123","v":121},{"$f":"IF(AccountInfo!$B123=\"\",\"\",AccountInfo!B123)","v":""}]
[{"$f":"AccountInfo!$A124","v":122},{"$f":"IF(AccountInfo!$B124=\"\",\"\",AccountInfo!B124)","v":""}]
[{"$f":"AccountInfo!$A125","v":123},{"$f":"IF(AccountInfo!$B125=\"\",\"\",AccountInfo!B125)","v":""}]
[{"$f":"AccountInfo!$A126","v":124},{"$f":"IF(AccountInfo!$B126=\"\",\"\",AccountInfo!B126)","v":""}]
[{"$f":"AccountInfo!$A127","v":125},{"$f":"IF(AccountInfo!$B127=\"\",\"\",AccountInfo!B127)","v":""}]
[{"$f":"AccountInfo!$A128","v":126},{"$f":"IF(AccountInfo!$B128=\"\",\"\",AccountInfo!B128)","v":""}]
[{"$f":"AccountInfo!$A129","v":127},{"$f":"IF(AccountInfo!$B129=\"\",\"\",AccountInfo!B129)","v":""}]
[{"$f":"AccountInfo!$A130","v":128},{"$f":"IF(AccountInfo!$B130=\"\",\"\",AccountInfo!B130)","v":""}]
[{"$f":"AccountInfo!$A131","v":129},{"$f":"IF(AccountInfo!$B131=\"\",\"\",AccountInfo!B131)","v":""}]
[{"$f":"AccountInfo!$A132","v":130},{"$f":"IF(AccountInfo!$B132=\"\",\"\",AccountInfo!B132)","v":""}]
[{"$f":"AccountInfo!$A133","v":131},{"$f":"IF(AccountInfo!$B133=\"\",\"\",AccountInfo!B133)","v":""}]
[{"$f":"AccountInfo!$A134","v":132},{"$f":"IF(AccountInfo!$B134=\"\",\"\",AccountInfo!B134)","v":""}]
[{"$f":"AccountInfo!$A135","v":133},{"$f":"IF(AccountInfo!$B135=\"\",\"\",AccountInfo!B135)","v":""}]
[{"$f":"AccountInfo!$A136","v":134},{"$f":"IF(AccountInfo!$B136=\"\",\"\",AccountInfo!B136)","v":""}]
[{"$f":"AccountInfo!$A137","v":135},{"$f":"IF(AccountInfo!$B137=\"\",\"\",AccountInfo!B137)","v":""}]
[{"$f":"AccountInfo!$A138","v":136},{"$f":"IF(AccountInfo!$B138=\"\",\"\",AccountInfo!B138)","v":""}]
[{"$f":"AccountInfo!$A139","v":137},{"$f":"IF(AccountInfo!$B139=\"\",\"\",AccountInfo!B139)","v":""}]
[{"$f":"AccountInfo!$A140","v":138},{"$f":"IF(AccountInfo!$B140=\"\",\"\",AccountInfo!B140)","v":""}]
[{"$f":"AccountInfo!$A141","v":139},{"$f":"IF(AccountInfo!$B141=\"\",\"\",AccountInfo!B141)","v":""}]
[{"$f":"AccountInfo!$A142","v":140},{"$f":"IF(AccountInfo!$B142=\"\",\"\",AccountInfo!B142)","v":""}]
[{"$f":"AccountInfo!$A143","v":141},{"$f":"IF(AccountInfo!$B143=\"\",\"\",AccountInfo!B143)","v":""}]
[{"$f":"AccountInfo!$A144","v":142},{"$f":"IF(AccountInfo!$B144=\"\",\"\",AccountInfo!B144)","v":""}]
[{"$f":"AccountInfo!$A145","v":143},{"$f":"IF(AccountInfo!$B145=\"\",\"\",AccountInfo!B145)","v":""}]
[{"$f":"AccountInfo!$A146","v":144},{"$f":"IF(AccountInfo!$B146=\"\",\"\",AccountInfo!B146)","v":""}]
[{"$f":"AccountInfo!$A147","v":145},{"$f":"IF(AccountInfo!$B147=\"\",\"\",AccountInfo!B147)","v":""}]
[{"$f":"AccountInfo!$A148","v":146},{"$f":"IF(AccountInfo!$B148=\"\",\"\",AccountInfo!B148)","v":""}]
[{"$f":"AccountInfo!$A149","v":147},{"$f":"IF(AccountInfo!$B149=\"\",\"\",AccountInfo!B149)","v":""}]
[{"$f":"AccountInfo!$A150","v":148},{"$f":"IF(AccountInfo!$B150=\"\",\"\",AccountInfo!B150)","v":""}]
[{"$f":"AccountInfo!$A151","v":149},{"$f":"IF(AccountInfo!$B151=\"\",\"\",AccountInfo!B151)","v":""}]
[{"$f":"AccountInfo!$A152","v":150},{"$f":"IF(AccountInfo!$B152=\"\",\"\",AccountInfo!B152)","v":""}]
[{"$f":"AccountInfo!$A153","v":151},{"$f":"IF(AccountInfo!$B153=\"\",\"\",AccountInfo!B153)","v":""}]
[{"$f":"AccountInfo!$A154","v":152},{"$f":"IF(AccountInfo!$B154=\"\",\"\",AccountInfo!B154)","v":""}]
[{"$f":"AccountInfo!$A155","v":153},{"$f":"IF(AccountInfo!$B155=\"\",\"\",AccountInfo!B155)","v":""}]
[{"$f":"AccountInfo!$A156","v":154},{"$f":"IF(AccountInfo!$B156=\"\",\"\",AccountInfo!B156)","v":""}]
[{"$f":"AccountInfo!$A157","v":155},{"$f":"IF(AccountInfo!$B157=\"\",\"\",AccountInfo!B157)","v":""}]
[{"$f":"AccountInfo!$A158","v":156},{"$f":"IF(AccountInfo!$B158=\"\",\"\",AccountInfo!B158)","v":""}]
[{"$f":"AccountInfo!$A159","v":157},{"$f":"IF(AccountInfo!$B159=\"\",\"\",AccountInfo!B159)","v":""}]
[{"$f":"AccountInfo!$A160","v":158},{"$f":"IF(AccountInfo!$B160=\"\",\"\",AccountInfo!B160)","v":""}]
[{"$f":"AccountInfo!$A161","v":159},{"$f":"IF(AccountInfo!$B161=\"\",\"\",AccountInfo!B161)","v":""}]
[{"$f":"AccountInfo!$A162","v":160},{"$f":"IF(AccountInfo!$B162=\"\",\"\",AccountInfo!B162)","v":""}]
[{"$f":"AccountInfo!$A163","v":161},{"$f":"IF(AccountInfo!$B163=\"\",\"\",AccountInfo!B163)","v":""}]
[{"$f":"AccountInfo!$A164","v":162},{"$f":"IF(AccountInfo!$B164=\"\",\"\",AccountInfo!B164)","v":""}]
[{"$f":"AccountInfo!$A165","v":163},{"$f":"IF(AccountInfo!$B165=\"\",\"\",AccountInfo!B165)","v":""}]
[{"$f":"AccountInfo!$A166","v":164},{"$f":"IF(AccountInfo!$B166=\"\",\"\",AccountInfo!B166)","v":""}]
[{"$f":"AccountInfo!$A167","v":165},{"$f":"IF(AccountInfo!$B167=\"\",\"\",AccountInfo!B167)","v":""}]
[{"$f":"AccountInfo!$A168","v":166},{"$f":"IF(AccountInfo!$B168=\"\",\"\",AccountInfo!B168)","v":""}]
[{"$f":"AccountInfo!$A169","v":167},{"$f":"IF(AccountInfo!$B169=\"\",\"\",AccountInfo!B169)","v":""}]
[{"$f":"AccountInfo!$A170","v":168},{"$f":"IF(AccountInfo!$B170=\"\",\"\",AccountInfo!B170)","v":""}]
[{"$f":"AccountInfo!$A171","v":169},{"$f":"IF(AccountInfo!$B171=\"\",\"\",AccountInfo!B171)","v":""}]
[{"$f":"AccountInfo!$A172","v":170},{"$f":"IF(AccountInfo!$B172=\"\",\"\",AccountInfo!B172)","v":""}]
[{"$f":"AccountInfo!$A173","v":171},{"$f":"IF(AccountInfo!$B173=\"\",\"\",AccountInfo!B173)","v":""}]
[{"$f":"AccountInfo!$A174","v":172},{"$f":"IF(AccountInfo!$B174=\"\",\"\",AccountInfo!B174)","v":""}]
[{"$f":"AccountInfo!$A175","v":173},{"$f":"IF(AccountInfo!$B175=\"\",\"\",AccountInfo!B175)","v":""}]
[{"$f":"AccountInfo!$A176","v":174},{"$f":"IF(AccountInfo!$B176=\"\",\"\",AccountInfo!B176)","v":""}]
[{"$f":"AccountInfo!$A177","v":175},{"$f":"IF(AccountInfo!$B177=\"\",\"\",AccountInfo!B177)","v":""}]
[{"$f":"AccountInfo!$A178","v":176},{"$f":"IF(AccountInfo!$B178=\"\",\"\",AccountInfo!B178)","v":""}]
[{"$f":"AccountInfo!$A179","v":177},{"$f":"IF(AccountInfo!$B179=\"\",\"\",AccountInfo!B179)","v":""}]
[{"$f":"AccountInfo!$A180","v":178},{"$f":"IF(AccountInfo!$B180=\"\",\"\",AccountInfo!B180)","v":""}]
[{"$f":"AccountInfo!$A181","v":179},{"$f":"IF(AccountInfo!$B181=\"\",\"\",AccountInfo!B181)","v":""}]
[{"$f":"AccountInfo!$A182","v":180},{"$f":"IF(AccountInfo!$B182=\"\",\"\",AccountInfo!B182)","v":""}]
[{"$f":"AccountInfo!$A183","v":181},{"$f":"IF(AccountInfo!$B183=\"\",\"\",AccountInfo!B183)","v":""}]
[{"$f":"AccountInfo!$A184","v":182},{"$f":"IF(AccountInfo!$B184=\"\",\"\",AccountInfo!B184)","v":""}]
[{"$f":"AccountInfo!$A185","v":183},{"$f":"IF(AccountInfo!$B185=\"\",\"\",AccountInfo!B185)","v":""}]
[{"$f":"AccountInfo!$A186","v":184},{"$f":"IF(AccountInfo!$B186=\"\",\"\",AccountInfo!B186)","v":""}]
[{"$f":"AccountInfo!$A187","v":185},{"$f":"IF(AccountInfo!$B187=\"\",\"\",AccountInfo!B187)","v":""}]
[{"$f":"AccountInfo!$A188","v":186},{"$f":"IF(AccountInfo!$B188=\"\",\"\",AccountInfo!B188)","v":""}]
[{"$f":"AccountInfo!$A189","v":187},{"$f":"IF(AccountInfo!$B189=\"\",\"\",AccountInfo!B189)","v":""}]
[{"$f":"AccountInfo!$A190","v":188},{"$f":"IF(AccountInfo!$B190=\"\",\"\",AccountInfo!B190)","v":""}]
[{"$f":"AccountInfo!$A191","v":189},{"$f":"IF(AccountInfo!$B191=\"\",\"\",AccountInfo!B191)","v":""}]
[{"$f":"AccountInfo!$A192","v":190},{"$f":"IF(AccountInfo!$B192=\"\",\"\",AccountInfo!B192)","v":""}]
[{"$f":"AccountInfo!$A193","v":191},{"$f":"IF(AccountInfo!$B193=\"\",\"\",AccountInfo!B193)","v":""}]
[{"$f":"AccountInfo!$A194","v":192},{"$f":"IF(AccountInfo!$B194=\"\",\"\",AccountInfo!B194)","v":""}]
[{"$f":"AccountInfo!$A195","v":193},{"$f":"IF(AccountInfo!$B195=\"\",\"\",AccountInfo!B195)","v":""}]
[{"$f":"AccountInfo!$A196","v":194},{"$f":"IF(AccountInfo!$B196=\"\",\"\",AccountInfo!B196)","v":""}]
[{"$f":"AccountInfo!$A197","v":195},{"$f":"IF(AccountInfo!$B197=\"\",\"\",AccountInfo!B197)","v":""}]
[{"$f":"AccountInfo!$A198","v":196},{"$f":"IF(AccountInfo!$B198=\"\",\"\",AccountInfo!B198)","v":""}]
[{"$f":"AccountInfo!$A199","v":197},{"$f":"IF(AccountInfo!$B199=\"\",\"\",AccountInfo!B199)","v":""}]
[{"$f":"AccountInfo!$A200","v":198},{"$f":"IF(AccountInfo!$B200=\"\",\"\",AccountInfo!B200)","v":""}]
[{"$f":"AccountInfo!$A201","v":199},{"$f":"IF(AccountInfo!$B201=\"\",\"\",AccountInfo!B201)","v":""}]
[{"$f":"AccountInfo!$A202","v":200},{"$f":"IF(AccountInfo!$B202=\"\",\"\",AccountInfo!B202)","v":""}]
[{"$f":"AccountInfo!$A203","v":201},{"$f":"IF(AccountInfo!$B203=\"\",\"\",AccountInfo!B203)","v":""}]
[{"$f":"AccountInfo!$A204","v":202},{"$f":"IF(AccountInfo!$B204=\"\",\"\",AccountInfo!B204)","v":""}]
[{"$f":"AccountInfo!$A205","v":203},{"$f":"IF(AccountInfo!$B205=\"\",\"\",AccountInfo!B205)","v":""}]
[{"$f":"AccountInfo!$A206","v":204},{"$f":"IF(AccountInfo!$B206=\"\",\"\",AccountInfo!B206)","v":""}]
[{"$f":"AccountInfo!$A207","v":205},{"$f":"IF(AccountInfo!$B207=\"\",\"\",AccountInfo!B207)","v":""}]
[{"$f":"AccountInfo!$A208","v":206},{"$f":"IF(AccountInfo!$B208=\"\",\"\",AccountInfo!B208)","v":""}]
[{"$f":"AccountInfo!$A209","v":207},{"$f":"IF(AccountInfo!$B209=\"\",\"\",AccountInfo!B209)","v":""}]
[{"$f":"AccountInfo!$A210","v":208},{"$f":"IF(AccountInfo!$B210=\"\",\"\",AccountInfo!B210)","v":""}]
[{"$f":"AccountInfo!$A211","v":209},{"$f":"IF(AccountInfo!$B211=\"\",\"\",AccountInfo!B211)","v":""}]
[{"$f":"AccountInfo!$A212","v":210},{"$f":"IF(AccountInfo!$B212=\"\",\"\",AccountInfo!B212)","v":""}]
[{"$f":"AccountInfo!$A213","v":211},{"$f":"IF(AccountInfo!$B213=\"\",\"\",AccountInfo!B213)","v":""}]
[{"$f":"AccountInfo!$A214","v":212},{"$f":"IF(AccountInfo!$B214=\"\",\"\",AccountInfo!B214)","v":""}]
[{"$f":"AccountInfo!$A215","v":213},{"$f":"IF(AccountInfo!$B215=\"\",\"\",AccountInfo!B215)","v":""}]
[{"$f":"AccountInfo!$A216","v":214},{"$f":"IF(AccountInfo!$B216=\"\",\"\",AccountInfo!B216)","v":""}]
[{"$f":"AccountInfo!$A217","v":215},{"$f":"IF(AccountInfo!$B217=\"\",\"\",AccountInfo!B217)","v":""}]
[{"$f":"AccountInfo!$A218","v":216},{"$f":"IF(AccountInfo!$B218=\"\",\"\",AccountInfo!B218)","v":""}]
[{"$f":"AccountInfo!$A219","v":217},{"$f":"IF(AccountInfo!$B219=\"\",\"\",AccountInfo!B219)","v":""}]
[{"$f":"AccountInfo!$A220","v":218},{"$f":"IF(AccountInfo!$B220=\"\",\"\",AccountInfo!B220)","v":""}]
[{"$f":"AccountInfo!$A221","v":219},{"$f":"IF(AccountInfo!$B221=\"\",\"\",AccountInfo!B221)","v":""}]
[{"$f":"AccountInfo!$A222","v":220},{"$f":"IF(AccountInfo!$B222=\"\",\"\",AccountInfo!B222)","v":""}]
[{"$f":"AccountInfo!$A223","v":221},{"$f":"IF(AccountInfo!$B223=\"\",\"\",AccountInfo!B223)","v":""}]
[{"$f":"AccountInfo!$A224","v":222},{"$f":"IF(AccountInfo!$B224=\"\",\"\",AccountInfo!B224)","v":""}]
[{"$f":"AccountInfo!$A225","v":223},{"$f":"IF(AccountInfo!$B225=\"\",\"\",AccountInfo!B225)","v":""}]
[{"$f":"AccountInfo!$A226","v":224},{"$f":"IF(AccountInfo!$B226=\"\",\"\",AccountInfo!B226)","v":""}]
[{"$f":"AccountInfo!$A227","v":225},{"$f":"IF(AccountInfo!$B227=\"\",\"\",AccountInfo!B227)","v":""}]
[{"$f":"AccountInfo!$A228","v":226},{"$f":"IF(AccountInfo!$B228=\"\",\"\",AccountInfo!B228)","v":""}]
[{"$f":"AccountInfo!$A229","v":227},{"$f":"IF(AccountInfo!$B229=\"\",\"\",AccountInfo!B229)","v":""}]
[{"$f":"AccountInfo!$A230","v":228},{"$f":"IF(AccountInfo!$B230=\"\",\"\",AccountInfo!B230)","v":""}]
[{"$f":"AccountInfo!$A231","v":229},{"$f":"IF(AccountInfo!$B231=\"\",\"\",AccountInfo!B231)","v":""}]
[{"$f":"AccountInfo!$A232","v":230},{"$f":"IF(AccountInfo!$B232=\"\",\"\",AccountInfo!B232)","v":""}]
[{"$f":"AccountInfo!$A233","v":231},{"$f":"IF(AccountInfo!$B233=\"\",\"\",AccountInfo!B233)","v":""}]
[{"$f":"AccountInfo!$A234","v":232},{"$f":"IF(AccountInfo!$B234=\"\",\"\",AccountInfo!B234)","v":""}]
[{"$f":"AccountInfo!$A235","v":233},{"$f":"IF(AccountInfo!$B235=\"\",\"\",AccountInfo!B235)","v":""}]
[{"$f":"AccountInfo!$A236","v":234},{"$f":"IF(AccountInfo!$B236=\"\",\"\",AccountInfo!B236)","v":""}]
[{"$f":"AccountInfo!$A237","v":235},{"$f":"IF(AccountInfo!$B237=\"\",\"\",AccountInfo!B237)","v":""}]
[{"$f":"AccountInfo!$A238","v":236},{"$f":"IF(AccountInfo!$B238=\"\",\"\",AccountInfo!B238)","v":""}]
[{"$f":"AccountInfo!$A239","v":237},{"$f":"IF(AccountInfo!$B239=\"\",\"\",AccountInfo!B239)","v":""}]
[{"$f":"AccountInfo!$A240","v":238},{"$f":"IF(AccountInfo!$B240=\"\",\"\",AccountInfo!B240)","v":""}]
[{"$f":"AccountInfo!$A241","v":239},{"$f":"IF(AccountInfo!$B241=\"\",\"\",AccountInfo!B241)","v":""}]
[{"$f":"AccountInfo!$A242","v":240},{"$f":"IF(AccountInfo!$B242=\"\",\"\",AccountInfo!B242)","v":""}]
[{"$f":"AccountInfo!$A243","v":241},{"$f":"IF(AccountInfo!$B243=\"\",\"\",AccountInfo!B243)","v":""}]
[{"$f":"AccountInfo!$A244","v":242},{"$f":"IF(AccountInfo!$B244=\"\",\"\",AccountInfo!B244)","v":""}]
[{"$f":"AccountInfo!$A245","v":243},{"$f":"IF(AccountInfo!$B245=\"\",\"\",AccountInfo!B245)","v":""}]
[{"$f":"AccountInfo!$A246","v":244},{"$f":"IF(AccountInfo!$B246=\"\",\"\",AccountInfo!B246)","v":""}]
[{"$f":"AccountInfo!$A247","v":245},{"$f":"IF(AccountInfo!$B247=\"\",\"\",AccountInfo!B247)","v":""}]
[{"$f":"AccountInfo!$A248","v":246},{"$f":"IF(AccountInfo!$B248=\"\",\"\",AccountInfo!B248)","v":""}]
[{"$f":"AccountInfo!$A249","v":247},{"$f":"IF(AccountInfo!$B249=\"\",\"\",AccountInfo!B249)","v":""}]
[{"$f":"AccountInfo!$A250","v":248},{"$f":"IF(AccountInfo!$B250=\"\",\"\",AccountInfo!B250)","v":""}]
[{"$f":"AccountInfo!$A251","v":249},{"$f":"IF(AccountInfo!$B251=\"\",\"\",AccountInfo!B251)","v":""}]
[{"$f":"AccountInfo!$A252","v":250},{"$f":"IF(AccountInfo!$B252=\"\",\"\",AccountInfo!B252)","v":""}]
[{"$f":"AccountInfo!$A253","v":251},{"$f":"IF(AccountInfo!$B253=\"\",\"\",AccountInfo!B253)","v":""}]
[{"$f":"AccountInfo!$A254","v":252},{"$f":"IF(AccountInfo!$B254=\"\",\"\",AccountInfo!B254)","v":""}]
[{"$f":"AccountInfo!$A255","v":253},{"$f":"IF(AccountInfo!$B255=\"\",\"\",AccountInfo!B255)","v":""}]
[{"$f":"AccountInfo!$A256","v":254},{"$f":"IF(AccountInfo!$B256=\"\",\"\",AccountInfo!B256)","v":""}]
[{"$f":"AccountInfo!$A257","v":255},{"$f":"IF(AccountInfo!$B257=\"\",\"\",AccountInfo!B257)","v":""}]
[{"$f":"AccountInfo!$A258","v":256},{"$f":"IF(AccountInfo!$B258=\"\",\"\",AccountInfo!B258)","v":""}]
[{"$f":"AccountInfo!$A259","v":257},{"$f":"IF(AccountInfo!$B259=\"\",\"\",AccountInfo!B259)","v":""}]
[{"$f":"AccountInfo!$A260","v":258},{"$f":"IF(AccountInfo!$B260=\"\",\"\",AccountInfo!B260)","v":""}]
[{"$f":"AccountInfo!$A261","v":259},{"$f":"IF(AccountInfo!$B261=\"\",\"\",AccountInfo!B261)","v":""}]
[{"$f":"AccountInfo!$A262","v":260},{"$f":"IF(AccountInfo!$B262=\"\",\"\",AccountInfo!B262)","v":""}]
[{"$f":"AccountInfo!$A263","v":261},{"$f":"IF(AccountInfo!$B263=\"\",\"\",AccountInfo!B263)","v":""}]
[{"$f":"AccountInfo!$A264","v":262},{"$f":"IF(AccountInfo!$B264=\"\",\"\",AccountInfo!B264)","v":""}]
[{"$f":"AccountInfo!$A265","v":263},{"$f":"IF(AccountInfo!$B265=\"\",\"\",AccountInfo!B265)","v":""}]
[{"$f":"AccountInfo!$A266","v":264},{"$f":"IF(AccountInfo!$B266=\"\",\"\",AccountInfo!B266)","v":""}]
[{"$f":"AccountInfo!$A267","v":265},{"$f":"IF(AccountInfo!$B267=\"\",\"\",AccountInfo!B267)","v":""}]
[{"$f":"AccountInfo!$A268","v":266},{"$f":"IF(AccountInfo!$B268=\"\",\"\",AccountInfo!B268)","v":""}]
[{"$f":"AccountInfo!$A269","v":267},{"$f":"IF(AccountInfo!$B269=\"\",\"\",AccountInfo!B269)","v":""}]
[{"$f":"AccountInfo!$A270","v":268},{"$f":"IF(AccountInfo!$B270=\"\",\"\",AccountInfo!B270)","v":""}]
[{"$f":"AccountInfo!$A271","v":269},{"$f":"IF(AccountInfo!$B271=\"\",\"\",AccountInfo!B271)","v":""}]
[{"$f":"AccountInfo!$A272","v":270},{"$f":"IF(AccountInfo!$B272=\"\",\"\",AccountInfo!B272)","v":""}]
[{"$f":"AccountInfo!$A273","v":271},{"$f":"IF(AccountInfo!$B273=\"\",\"\",AccountInfo!B273)","v":""}]
[{"$f":"AccountInfo!$A274","v":272},{"$f":"IF(AccountInfo!$B274=\"\",\"\",AccountInfo!B274)","v":""}]
[{"$f":"AccountInfo!$A275","v":273},{"$f":"IF(AccountInfo!$B275=\"\",\"\",AccountInfo!B275)","v":""}]
[{"$f":"AccountInfo!$A276","v":274},{"$f":"IF(AccountInfo!$B276=\"\",\"\",AccountInfo!B276)","v":""}]
[{"$f":"AccountInfo!$A277","v":275},{"$f":"IF(AccountInfo!$B277=\"\",\"\",AccountInfo!B277)","v":""}]
[{"$f":"AccountInfo!$A278","v":276},{"$f":"IF(AccountInfo!$B278=\"\",\"\",AccountInfo!B278)","v":""}]
[{"$f":"AccountInfo!$A279","v":277},{"$f":"IF(AccountInfo!$B279=\"\",\"\",AccountInfo!B279)","v":""}]
[{"$f":"AccountInfo!$A280","v":278},{"$f":"IF(AccountInfo!$B280=\"\",\"\",AccountInfo!B280)","v":""}]
[{"$f":"AccountInfo!$A281","v":279},{"$f":"IF(AccountInfo!$B281=\"\",\"\",AccountInfo!B281)","v":""}]
[{"$f":"AccountInfo!$A282","v":280},{"$f":"IF(AccountInfo!$B282=\"\",\"\",AccountInfo!B282)","v":""}]
[{"$f":"AccountInfo!$A283","v":281},{"$f":"IF(AccountInfo!$B283=\"\",\"\",AccountInfo!B283)","v":""}]
[{"$f":"AccountInfo!$A284","v":282},{"$f":"IF(AccountInfo!$B284=\"\",\"\",AccountInfo!B284)","v":""}]
[{"$f":"AccountInfo!$A285","v":283},{"$f":"IF(AccountInfo!$B285=\"\",\"\",AccountInfo!B285)","v":""}]
[{"$f":"AccountInfo!$A286","v":284},{"$f":"IF(AccountInfo!$B286=\"\",\"\",AccountInfo!B286)","v":""}]
[{"$f":"AccountInfo!$A287","v":285},{"$f":"IF(AccountInfo!$B287=\"\",\"\",AccountInfo!B287)","v":""}]
[{"$f":"AccountInfo!$A288","v":286},{"$f":"IF(AccountInfo!$B288=\"\",\"\",AccountInfo!B288)","v":""}]
[{"$f":"AccountInfo!$A289","v":287},{"$f":"IF(AccountInfo!$B289=\"\",\"\",AccountInfo!B289)","v":""}]
[{"$f":"AccountInfo!$A290","v":288},{"$f":"IF(AccountInfo!$B290=\"\",\"\",AccountInfo!B290)","v":""}]
[{"$f":"AccountInfo!$A291","v":289},{"$f":"IF(AccountInfo!$B291=\"\",\"\",AccountInfo!B291)","v":""}]
[{"$f":"AccountInfo!$A292","v":290},{"$f":"IF(AccountInfo!$B292=\"\",\"\",AccountInfo!B292)","v":""}]
[{"$f":"AccountInfo!$A293","v":291},{"$f":"IF(AccountInfo!$B293=\"\",\"\",AccountInfo!B293)","v":""}]
[{"$f":"AccountInfo!$A294","v":292},{"$f":"IF(AccountInfo!$B294=\"\",\"\",AccountInfo!B294)","v":""}]
[{"$f":"AccountInfo!$A295","v":293},{"$f":"IF(AccountInfo!$B295=\"\",\"\",AccountInfo!B295)","v":""}]
[{"$f":"AccountInfo!$A296","v":294},{"$f":"IF(AccountInfo!$B296=\"\",\"\",AccountInfo!B296)","v":""}]
[{"$f":"AccountInfo!$A297","v":295},{"$f":"IF(AccountInfo!$B297=\"\",\"\",AccountInfo!B297)","v":""}]
[{"$f":"AccountInfo!$A298","v":296},{"$f":"IF(AccountInfo!$B298=\"\",\"\",AccountInfo!B298)","v":""}]
[{"$f":"AccountInfo!$A299","v":297},{"$f":"IF(AccountInfo!$B299=\"\",\"\",AccountInfo!B299)","v":""}]
[{"$f":"AccountInfo!$A300","v":298},{"$f":"IF(AccountInfo!$B300=\"\",\"\",AccountInfo!B300)","v":""}]
[{"$f":"AccountInfo!$A301","v":299},{"$f":"IF(AccountInfo!$B301=\"\",\"\",AccountInfo!B301)","v":""}]
[{"$f":"AccountInfo!$A302","v":300},{"$f":"IF(AccountInfo!$B302=\"\",\"\",AccountInfo!B302)","v":""}]
[{"$f":"AccountInfo!$A303","v":301},{"$f":"IF(AccountInfo!$B303=\"\",\"\",AccountInfo!B303)","v":""}]
[{"$f":"AccountInfo!$A304","v":302},{"$f":"IF(AccountInfo!$B304=\"\",\"\",AccountInfo!B304)","v":""}]
[{"$f":"AccountInfo!$A305","v":303},{"$f":"IF(AccountInfo!$B305=\"\",\"\",AccountInfo!B305)","v":""}]
[{"$f":"AccountInfo!$A306","v":304},{"$f":"IF(AccountInfo!$B306=\"\",\"\",AccountInfo!B306)","v":""}]
[{"$f":"AccountInfo!$A307","v":305},{"$f":"IF(AccountInfo!$B307=\"\",\"\",AccountInfo!B307)","v":""}]
[{"$f":"AccountInfo!$A308","v":306},{"$f":"IF(AccountInfo!$B308=\"\",\"\",AccountInfo!B308)","v":""}]
[{"$f":"AccountInfo!$A309","v":307},{"$f":"IF(AccountInfo!$B309=\"\",\"\",AccountInfo!B309)","v":""}]
[{"$f":"AccountInfo!$A310","v":308},{"$f":"IF(AccountInfo!$B310=\"\",\"\",AccountInfo!B310)","v":""}]
[{"$f":"AccountInfo!$A311","v":309},{"$f":"IF(AccountInfo!$B311=\"\",\"\",AccountInfo!B311)","v":""}]
[{"$f":"AccountInfo!$A312","v":310},{"$f":"IF(AccountInfo!$B312=\"\",\"\",AccountInfo!B312)","v":""}]
[{"$f":"AccountInfo!$A313","v":311},{"$f":"IF(AccountInfo!$B313=\"\",\"\",AccountInfo!B313)","v":""}]
[{"$f":"AccountInfo!$A314","v":312},{"$f":"IF(AccountInfo!$B314=\"\",\"\",AccountInfo!B314)","v":""}]
[{"$f":"AccountInfo!$A315","v":313},{"$f":"IF(AccountInfo!$B315=\"\",\"\",AccountInfo!B315)","v":""}]
[{"$f":"AccountInfo!$A316","v":314},{"$f":"IF(AccountInfo!$B316=\"\",\"\",AccountInfo!B316)","v":""}]
[{"$f":"AccountInfo!$A317","v":315},{"$f":"IF(AccountInfo!$B317=\"\",\"\",AccountInfo!B317)","v":""}]
[{"$f":"AccountInfo!$A318","v":316},{"$f":"IF(AccountInfo!$B318=\"\",\"\",AccountInfo!B318)","v":""}]
[{"$f":"AccountInfo!$A319","v":317},{"$f":"IF(AccountInfo!$B319=\"\",\"\",AccountInfo!B319)","v":""}]
[{"$f":"AccountInfo!$A320","v":318},{"$f":"IF(AccountInfo!$B320=\"\",\"\",AccountInfo!B320)","v":""}]
[{"$f":"AccountInfo!$A321","v":319},{"$f":"IF(AccountInfo!$B321=\"\",\"\",AccountInfo!B321)","v":""}]
[{"$f":"AccountInfo!$A322","v":320},{"$f":"IF(AccountInfo!$B322=\"\",\"\",AccountInfo!B322)","v":""}]
[{"$f":"AccountInfo!$A323","v":321},{"$f":"IF(AccountInfo!$B323=\"\",\"\",AccountInfo!B323)","v":""}]
[{"$f":"AccountInfo!$A324","v":322},{"$f":"IF(AccountInfo!$B324=\"\",\"\",AccountInfo!B324)","v":""}]
[{"$f":"AccountInfo!$A325","v":323},{"$f":"IF(AccountInfo!$B325=\"\",\"\",AccountInfo!B325)","v":""}]
[{"$f":"AccountInfo!$A326","v":324},{"$f":"IF(AccountInfo!$B326=\"\",\"\",AccountInfo!B326)","v":""}]
[{"$f":"AccountInfo!$A327","v":325},{"$f":"IF(AccountInfo!$B327=\"\",\"\",AccountInfo!B327)","v":""}]
[{"$f":"AccountInfo!$A328","v":326},{"$f":"IF(AccountInfo!$B328=\"\",\"\",AccountInfo!B328)","v":""}]
[{"$f":"AccountInfo!$A329","v":327},{"$f":"IF(AccountInfo!$B329=\"\",\"\",AccountInfo!B329)","v":""}]
[{"$f":"AccountInfo!$A330","v":328},{"$f":"IF(AccountInfo!$B330=\"\",\"\",AccountInfo!B330)","v":""}]
[{"$f":"AccountInfo!$A331","v":329},{"$f":"IF(AccountInfo!$B331=\"\",\"\",AccountInfo!B331)","v":""}]
[{"$f":"AccountInfo!$A332","v":330},{"$f":"IF(AccountInfo!$B332=\"\",\"\",AccountInfo!B332)","v":""}]
[{"$f":"AccountInfo!$A333","v":331},{"$f":"IF(AccountInfo!$B333=\"\",\"\",AccountInfo!B333)","v":""}]
[{"$f":"AccountInfo!$A334","v":332},{"$f":"IF(AccountInfo!$B334=\"\",\"\",AccountInfo!B334)","v":""}]
[{"$f":"AccountInfo!$A335","v":333},{"$f":"IF(AccountInfo!$B335=\"\",\"\",AccountInfo!B335)","v":""}]
[{"$f":"AccountInfo!$A336","v":334},{"$f":"IF(AccountInfo!$B336=\"\",\"\",AccountInfo!B336)","v":""}]
[{"$f":"AccountInfo!$A337","v":335},{"$f":"IF(AccountInfo!$B337=\"\",\"\",AccountInfo!B337)","v":""}]
[{"$f":"AccountInfo!$A338","v":336},{"$f":"IF(AccountInfo!$B338=\"\",\"\",AccountInfo!B338)","v":""}]
[{"$f":"AccountInfo!$A339","v":337},{"$f":"IF(AccountInfo!$B339=\"\",\"\",AccountInfo!B339)","v":""}]
[{"$f":"AccountInfo!$A340","v":338},{"$f":"IF(AccountInfo!$B340=\"\",\"\",AccountInfo!B340)","v":""}]
[{"$f":"AccountInfo!$A341","v":339},{"$f":"IF(AccountInfo!$B341=\"\",\"\",AccountInfo!B341)","v":""}]
[{"$f":"AccountInfo!$A342","v":340},{"$f":"IF(AccountInfo!$B342=\"\",\"\",AccountInfo!B342)","v":""}]
[{"$f":"AccountInfo!$A343","v":341},{"$f":"IF(AccountInfo!$B343=\"\",\"\",AccountInfo!B343)","v":""}]
[{"$f":"AccountInfo!$A344","v":342},{"$f":"IF(AccountInfo!$B344=\"\",\"\",AccountInfo!B344)","v":""}]
[{"$f":"AccountInfo!$A345","v":343},{"$f":"IF(AccountInfo!$B345=\"\",\"\",AccountInfo!B345)","v":""}]
[{"$f":"AccountInfo!$A346","v":344},{"$f":"IF(AccountInfo!$B346=\"\",\"\",AccountInfo!B346)","v":""}]
[{"$f":"AccountInfo!$A347","v":345},{"$f":"IF(AccountInfo!$B347=\"\",\"\",AccountInfo!B347)","v":""}]
[{"$f":"AccountInfo!$A348","v":346},{"$f":"IF(AccountInfo!$B348=\"\",\"\",AccountInfo!B348)","v":""}]
[{"$f":"AccountInfo!$A349","v":347},{"$f":"IF(AccountInfo!$B349=\"\",\"\",AccountInfo!B349)","v":""}]
[{"$f":"AccountInfo!$A350","v":348},{"$f":"IF(AccountInfo!$B350=\"\",\"\",AccountInfo!B350)","v":""}]
[{"$f":"AccountInfo!$A351","v":349},{"$f":"IF(AccountInfo!$B351=\"\",\"\",AccountInfo!B351)","v":""}]
[{"$f":"AccountInfo!$A352","v":350},{"$f":"IF(AccountInfo!$B352=\"\",\"\",AccountInfo!B352)","v":""}]
[{"$f":"AccountInfo!$A353","v":351},{"$f":"IF(AccountInfo!$B353=\"\",\"\",AccountInfo!B353)","v":""}]
[{"$f":"AccountInfo!$A354","v":352},{"$f":"IF(AccountInfo!$B354=\"\",\"\",AccountInfo!B354)","v":""}]
[{"$f":"AccountInfo!$A355","v":353},{"$f":"IF(AccountInfo!$B355=\"\",\"\",AccountInfo!B355)","v":""}]
[{"$f":"AccountInfo!$A356","v":354},{"$f":"IF(AccountInfo!$B356=\"\",\"\",AccountInfo!B356)","v":""}]
[{"$f":"AccountInfo!$A357","v":355},{"$f":"IF(AccountInfo!$B357=\"\",\"\",AccountInfo!B357)","v":""}]
[{"$f":"AccountInfo!$A358","v":356},{"$f":"IF(AccountInfo!$B358=\"\",\"\",AccountInfo!B358)","v":""}]
[{"$f":"AccountInfo!$A359","v":357},{"$f":"IF(AccountInfo!$B359=\"\",\"\",AccountInfo!B359)","v":""}]
[{"$f":"AccountInfo!$A360","v":358},{"$f":"IF(AccountInfo!$B360=\"\",\"\",AccountInfo!B360)","v":""}]
[{"$f":"AccountInfo!$A361","v":359},{"$f":"IF(AccountInfo!$B361=\"\",\"\",AccountInfo!B361)","v":""}]
[{"$f":"AccountInfo!$A362","v":360},{"$f":"IF(AccountInfo!$B362=\"\",\"\",AccountInfo!B362)","v":""}]
[{"$f":"AccountInfo!$A363","v":361},{"$f":"IF(AccountInfo!$B363=\"\",\"\",AccountInfo!B363)","v":""}]
[{"$f":"AccountInfo!$A364","v":362},{"$f":"IF(AccountInfo!$B364=\"\",\"\",AccountInfo!B364)","v":""}]
[{"$f":"AccountInfo!$A365","v":363},{"$f":"IF(AccountInfo!$B365=\"\",\"\",AccountInfo!B365)","v":""}]
[{"$f":"AccountInfo!$A366","v":364},{"$f":"IF(AccountInfo!$B366=\"\",\"\",AccountInfo!B366)","v":""}]
[{"$f":"AccountInfo!$A367","v":365},{"$f":"IF(AccountInfo!$B367=\"\",\"\",AccountInfo!B367)","v":""}]
[{"$f":"AccountInfo!$A368","v":366},{"$f":"IF(AccountInfo!$B368=\"\",\"\",AccountInfo!B368)","v":""}]
[{"$f":"AccountInfo!$A369","v":367},{"$f":"IF(AccountInfo!$B369=\"\",\"\",AccountInfo!B369)","v":""}]
[{"$f":"AccountInfo!$A370","v":368},{"$f":"IF(AccountInfo!$B370=\"\",\"\",AccountInfo!B370)","v":""}]
[{"$f":"AccountInfo!$A371","v":369},{"$f":"IF(AccountInfo!$B371=\"\",\"\",AccountInfo!B371)","v":""}]
[{"$f":"AccountInfo!$A372","v":370},{"$f":"IF(AccountInfo!$B372=\"\",\"\",AccountInfo!B372)","v":""}]
[{"$f":"AccountInfo!$A373","v":371},{"$f":"IF(AccountInfo!$B373=\"\",\"\",AccountInfo!B373)","v":""}]
[{"$f":"AccountInfo!$A374","v":372},{"$f":"IF(AccountInfo!$B374=\"\",\"\",AccountInfo!B374)","v":""}]
[{"$f":"AccountInfo!$A375","v":373},{"$f":"IF(AccountInfo!$B375=\"\",\"\",AccountInfo!B375)","v":""}]
[{"$f":"AccountInfo!$A376","v":374},{"$f":"IF(AccountInfo!$B376=\"\",\"\",AccountInfo!B376)","v":""}]
[{"$f":"AccountInfo!$A377","v":375},{"$f":"IF(AccountInfo!$B377=\"\",\"\",AccountInfo!B377)","v":""}]
[{"$f":"AccountInfo!$A378","v":376},{"$f":"IF(AccountInfo!$B378=\"\",\"\",AccountInfo!B378)","v":""}]
[{"$f":"AccountInfo!$A379","v":377},{"$f":"IF(AccountInfo!$B379=\"\",\"\",AccountInfo!B379)","v":""}]
[{"$f":"AccountInfo!$A380","v":378},{"$f":"IF(AccountInfo!$B380=\"\",\"\",AccountInfo!B380)","v":""}]
[{"$f":"AccountInfo!$A381","v":379},{"$f":"IF(AccountInfo!$B381=\"\",\"\",AccountInfo!B381)","v":""}]
[{"$f":"AccountInfo!$A382","v":380},{"$f":"IF(AccountInfo!$B382=\"\",\"\",AccountInfo!B382)","v":""}]
[{"$f":"AccountInfo!$A383","v":381},{"$f":"IF(AccountInfo!$B383=\"\",\"\",AccountInfo!B383)","v":""}]
[{"$f":"AccountInfo!$A384","v":382},{"$f":"IF(AccountInfo!$B384=\"\",\"\",AccountInfo!B384)","v":""}]
[{"$f":"AccountInfo!$A385","v":383},{"$f":"IF(AccountInfo!$B385=\"\",\"\",AccountInfo!B385)","v":""}]
[{"$f":"AccountInfo!$A386","v":384},{"$f":"IF(AccountInfo!$B386=\"\",\"\",AccountInfo!B386)","v":""}]
[{"$f":"AccountInfo!$A387","v":385},{"$f":"IF(AccountInfo!$B387=\"\",\"\",AccountInfo!B387)","v":""}]
[{"$f":"AccountInfo!$A388","v":386},{"$f":"IF(AccountInfo!$B388=\"\",\"\",AccountInfo!B388)","v":""}]
[{"$f":"AccountInfo!$A389","v":387},{"$f":"IF(AccountInfo!$B389=\"\",\"\",AccountInfo!B389)","v":""}]
[{"$f":"AccountInfo!$A390","v":388},{"$f":"IF(AccountInfo!$B390=\"\",\"\",AccountInfo!B390)","v":""}]
[{"$f":"AccountInfo!$A391","v":389},{"$f":"IF(AccountInfo!$B391=\"\",\"\",AccountInfo!B391)","v":""}]
[{"$f":"AccountInfo!$A392","v":390},{"$f":"IF(AccountInfo!$B392=\"\",\"\",AccountInfo!B392)","v":""}]
[{"$f":"AccountInfo!$A393","v":391},{"$f":"IF(AccountInfo!$B393=\"\",\"\",AccountInfo!B393)","v":""}]
[{"$f":"AccountInfo!$A394","v":392},{"$f":"IF(AccountInfo!$B394=\"\",\"\",AccountInfo!B394)","v":""}]
[{"$f":"AccountInfo!$A395","v":393},{"$f":"IF(AccountInfo!$B395=\"\",\"\",AccountInfo!B395)","v":""}]
[{"$f":"AccountInfo!$A396","v":394},{"$f":"IF(AccountInfo!$B396=\"\",\"\",AccountInfo!B396)","v":""}]
[{"$f":"AccountInfo!$A397","v":395},{"$f":"IF(AccountInfo!$B397=\"\",\"\",AccountInfo!B397)","v":""}]
[{"$f":"AccountInfo!$A398","v":396},{"$f":"IF(AccountInfo!$B398=\"\",\"\",AccountInfo!B398)","v":""}]
[{"$f":"AccountInfo!$A399","v":397},{"$f":"IF(AccountInfo!$B399=\"\",\"\",AccountInfo!B399)","v":""}]
[{"$f":"AccountInfo!$A400","v":398},{"$f":"IF(AccountInfo!$B400=\"\",\"\",AccountInfo!B400)","v":""}]
[{"$f":"AccountInfo!$A401","v":399},{"$f":"IF(AccountInfo!$B401=\"\",\"\",AccountInfo!B401)","v":""}]
[{"$f":"AccountInfo!$A402","v":400},{"$f":"IF(AccountInfo!$B402=\"\",\"\",AccountInfo!B402)","v":""}]
[{"$f":"AccountInfo!$A403","v":401},{"$f":"IF(AccountInfo!$B403=\"\",\"\",AccountInfo!B403)","v":""}]
[{"$f":"AccountInfo!$A404","v":402},{"$f":"IF(AccountInfo!$B404=\"\",\"\",AccountInfo!B404)","v":""}]
[{"$f":"AccountInfo!$A405","v":403},{"$f":"IF(AccountInfo!$B405=\"\",\"\",AccountInfo!B405)","v":""}]
[{"$f":"AccountInfo!$A406","v":404},{"$f":"IF(AccountInfo!$B406=\"\",\"\",AccountInfo!B406)","v":""}]
[{"$f":"AccountInfo!$A407","v":405},{"$f":"IF(AccountInfo!$B407=\"\",\"\",AccountInfo!B407)","v":""}]
[{"$f":"AccountInfo!$A408","v":406},{"$f":"IF(AccountInfo!$B408=\"\",\"\",AccountInfo!B408)","v":""}]
[{"$f":"AccountInfo!$A409","v":407},{"$f":"IF(AccountInfo!$B409=\"\",\"\",AccountInfo!B409)","v":""}]
[{"$f":"AccountInfo!$A410","v":408},{"$f":"IF(AccountInfo!$B410=\"\",\"\",AccountInfo!B410)","v":""}]
[{"$f":"AccountInfo!$A411","v":409},{"$f":"IF(AccountInfo!$B411=\"\",\"\",AccountInfo!B411)","v":""}]
[{"$f":"AccountInfo!$A412","v":410},{"$f":"IF(AccountInfo!$B412=\"\",\"\",AccountInfo!B412)","v":""}]
[{"$f":"AccountInfo!$A413","v":411},{"$f":"IF(AccountInfo!$B413=\"\",\"\",AccountInfo!B413)","v":""}]
[{"$f":"AccountInfo!$A414","v":412},{"$f":"IF(AccountInfo!$B414=\"\",\"\",AccountInfo!B414)","v":""}]
[{"$f":"AccountInfo!$A415","v":413},{"$f":"IF(AccountInfo!$B415=\"\",\"\",AccountInfo!B415)","v":""}]
[{"$f":"AccountInfo!$A416","v":414},{"$f":"IF(AccountInfo!$B416=\"\",\"\",AccountInfo!B416)","v":""}]
[{"$f":"AccountInfo!$A417","v":415},{"$f":"IF(AccountInfo!$B417=\"\",\"\",AccountInfo!B417)","v":""}]
[{"$f":"AccountInfo!$A418","v":416},{"$f":"IF(AccountInfo!$B418=\"\",\"\",AccountInfo!B418)","v":""}]
[{"$f":"AccountInfo!$A419","v":417},{"$f":"IF(AccountInfo!$B419=\"\",\"\",AccountInfo!B419)","v":""}]
[{"$f":"AccountInfo!$A420","v":418},{"$f":"IF(AccountInfo!$B420=\"\",\"\",AccountInfo!B420)","v":""}]
[{"$f":"AccountInfo!$A421","v":419},{"$f":"IF(AccountInfo!$B421=\"\",\"\",AccountInfo!B421)","v":""}]
[{"$f":"AccountInfo!$A422","v":420},{"$f":"IF(AccountInfo!$B422=\"\",\"\",AccountInfo!B422)","v":""}]
[{"$f":"AccountInfo!$A423","v":421},{"$f":"IF(AccountInfo!$B423=\"\",\"\",AccountInfo!B423)","v":""}]
[{"$f":"AccountInfo!$A424","v":422},{"$f":"IF(AccountInfo!$B424=\"\",\"\",AccountInfo!B424)","v":""}]
[{"$f":"AccountInfo!$A425","v":423},{"$f":"IF(AccountInfo!$B425=\"\",\"\",AccountInfo!B425)","v":""}]
[{"$f":"AccountInfo!$A426","v":424},{"$f":"IF(AccountInfo!$B426=\"\",\"\",AccountInfo!B426)","v":""}]
[{"$f":"AccountInfo!$A427","v":425},{"$f":"IF(AccountInfo!$B427=\"\",\"\",AccountInfo!B427)","v":""}]
[{"$f":"AccountInfo!$A428","v":426},{"$f":"IF(AccountInfo!$B428=\"\",\"\",AccountInfo!B428)","v":""}]
[{"$f":"AccountInfo!$A429","v":427},{"$f":"IF(AccountInfo!$B429=\"\",\"\",AccountInfo!B429)","v":""}]
[{"$f":"AccountInfo!$A430","v":428},{"$f":"IF(AccountInfo!$B430=\"\",\"\",AccountInfo!B430)","v":""}]
[{"$f":"AccountInfo!$A431","v":429},{"$f":"IF(AccountInfo!$B431=\"\",\"\",AccountInfo!B431)","v":""}]
[{"$f":"AccountInfo!$A432","v":430},{"$f":"IF(AccountInfo!$B432=\"\",\"\",AccountInfo!B432)","v":""}]
[{"$f":"AccountInfo!$A433","v":431},{"$f":"IF(AccountInfo!$B433=\"\",\"\",AccountInfo!B433)","v":""}]
[{"$f":"AccountInfo!$A434","v":432},{"$f":"IF(AccountInfo!$B434=\"\",\"\",AccountInfo!B434)","v":""}]
[{"$f":"AccountInfo!$A435","v":433},{"$f":"IF(AccountInfo!$B435=\"\",\"\",AccountInfo!B435)","v":""}]
[{"$f":"AccountInfo!$A436","v":434},{"$f":"IF(AccountInfo!$B436=\"\",\"\",AccountInfo!B436)","v":""}]
[{"$f":"AccountInfo!$A437","v":435},{"$f":"IF(AccountInfo!$B437=\"\",\"\",AccountInfo!B437)","v":""}]
[{"$f":"AccountInfo!$A438","v":436},{"$f":"IF(AccountInfo!$B438=\"\",\"\",AccountInfo!B438)","v":""}]
[{"$f":"AccountInfo!$A439","v":437},{"$f":"IF(AccountInfo!$B439=\"\",\"\",AccountInfo!B439)","v":""}]
[{"$f":"AccountInfo!$A440","v":438},{"$f":"IF(AccountInfo!$B440=\"\",\"\",AccountInfo!B440)","v":""}]
[{"$f":"AccountInfo!$A441","v":439},{"$f":"IF(AccountInfo!$B441=\"\",\"\",AccountInfo!B441)","v":""}]
[{"$f":"AccountInfo!$A442","v":440},{"$f":"IF(AccountInfo!$B442=\"\",\"\",AccountInfo!B442)","v":""}]
[{"$f":"AccountInfo!$A443","v":441},{"$f":"IF(AccountInfo!$B443=\"\",\"\",AccountInfo!B443)","v":""}]
[{"$f":"AccountInfo!$A444","v":442},{"$f":"IF(AccountInfo!$B444=\"\",\"\",AccountInfo!B444)","v":""}]
[{"$f":"AccountInfo!$A445","v":443},{"$f":"IF(AccountInfo!$B445=\"\",\"\",AccountInfo!B445)","v":""}]
[{"$f":"AccountInfo!$A446","v":444},{"$f":"IF(AccountInfo!$B446=\"\",\"\",AccountInfo!B446)","v":""}]
[{"$f":"AccountInfo!$A447","v":445},{"$f":"IF(AccountInfo!$B447=\"\",\"\",AccountInfo!B447)","v":""}]
[{"$f":"AccountInfo!$A448","v":446},{"$f":"IF(AccountInfo!$B448=\"\",\"\",AccountInfo!B448)","v":""}]
[{"$f":"AccountInfo!$A449","v":447},{"$f":"IF(AccountInfo!$B449=\"\",\"\",AccountInfo!B449)","v":""}]
[{"$f":"AccountInfo!$A450","v":448},{"$f":"IF(AccountInfo!$B450=\"\",\"\",AccountInfo!B450)","v":""}]
[{"$f":"AccountInfo!$A451","v":449},{"$f":"IF(AccountInfo!$B451=\"\",\"\",AccountInfo!B451)","v":""}]
[{"$f":"AccountInfo!$A452","v":450},{"$f":"IF(AccountInfo!$B452=\"\",\"\",AccountInfo!B452)","v":""}]
[{"$f":"AccountInfo!$A453","v":451},{"$f":"IF(AccountInfo!$B453=\"\",\"\",AccountInfo!B453)","v":""}]
[{"$f":"AccountInfo!$A454","v":452},{"$f":"IF(AccountInfo!$B454=\"\",\"\",AccountInfo!B454)","v":""}]
[{"$f":"AccountInfo!$A455","v":453},{"$f":"IF(AccountInfo!$B455=\"\",\"\",AccountInfo!B455)","v":""}]
[{"$f":"AccountInfo!$A456","v":454},{"$f":"IF(AccountInfo!$B456=\"\",\"\",AccountInfo!B456)","v":""}]
[{"$f":"AccountInfo!$A457","v":455},{"$f":"IF(AccountInfo!$B457=\"\",\"\",AccountInfo!B457)","v":""}]
[{"$f":"AccountInfo!$A458","v":456},{"$f":"IF(AccountInfo!$B458=\"\",\"\",AccountInfo!B458)","v":""}]
[{"$f":"AccountInfo!$A459","v":457},{"$f":"IF(AccountInfo!$B459=\"\",\"\",AccountInfo!B459)","v":""}]
[{"$f":"AccountInfo!$A460","v":458},{"$f":"IF(AccountInfo!$B460=\"\",\"\",AccountInfo!B460)","v":""}]
[{"$f":"AccountInfo!$A461","v":459},{"$f":"IF(AccountInfo!$B461=\"\",\"\",AccountInfo!B461)","v":""}]
[{"$f":"AccountInfo!$A462","v":460},{"$f":"IF(AccountInfo!$B462=\"\",\"\",AccountInfo!B462)","v":""}]
[{"$f":"AccountInfo!$A463","v":461},{"$f":"IF(AccountInfo!$B463=\"\",\"\",AccountInfo!B463)","v":""}]
[{"$f":"AccountInfo!$A464","v":462},{"$f":"IF(AccountInfo!$B464=\"\",\"\",AccountInfo!B464)","v":""}]
[{"$f":"AccountInfo!$A465","v":463},{"$f":"IF(AccountInfo!$B465=\"\",\"\",AccountInfo!B465)","v":""}]
[{"$f":"AccountInfo!$A466","v":464},{"$f":"IF(AccountInfo!$B466=\"\",\"\",AccountInfo!B466)","v":""}]
[{"$f":"AccountInfo!$A467","v":465},{"$f":"IF(AccountInfo!$B467=\"\",\"\",AccountInfo!B467)","v":""}]
[{"$f":"AccountInfo!$A468","v":466},{"$f":"IF(AccountInfo!$B468=\"\",\"\",AccountInfo!B468)","v":""}]
[{"$f":"AccountInfo!$A469","v":467},{"$f":"IF(AccountInfo!$B469=\"\",\"\",AccountInfo!B469)","v":""}]
[{"$f":"AccountInfo!$A470","v":468},{"$f":"IF(AccountInfo!$B470=\"\",\"\",AccountInfo!B470)","v":""}]
[{"$f":"AccountInfo!$A471","v":469},{"$f":"IF(AccountInfo!$B471=\"\",\"\",AccountInfo!B471)","v":""}]
[{"$f":"AccountInfo!$A472","v":470},{"$f":"IF(AccountInfo!$B472=\"\",\"\",AccountInfo!B472)","v":""}]
[{"$f":"AccountInfo!$A473","v":471},{"$f":"IF(AccountInfo!$B473=\"\",\"\",AccountInfo!B473)","v":""}]
[{"$f":"AccountInfo!$A474","v":472},{"$f":"IF(AccountInfo!$B474=\"\",\"\",AccountInfo!B474)","v":""}]
[{"$f":"AccountInfo!$A475","v":473},{"$f":"IF(AccountInfo!$B475=\"\",\"\",AccountInfo!B475)","v":""}]
[{"$f":"AccountInfo!$A476","v":474},{"$f":"IF(AccountInfo!$B476=\"\",\"\",AccountInfo!B476)","v":""}]
[{"$f":"AccountInfo!$A477","v":475},{"$f":"IF(AccountInfo!$B477=\"\",\"\",AccountInfo!B477)","v":""}]
[{"$f":"AccountInfo!$A478","v":476},{"$f":"IF(AccountInfo!$B478=\"\",\"\",AccountInfo!B478)","v":""}]
[{"$f":"AccountInfo!$A479","v":477},{"$f":"IF(AccountInfo!$B479=\"\",\"\",AccountInfo!B479)","v":""}]
[{"$f":"AccountInfo!$A480","v":478},{"$f":"IF(AccountInfo!$B480=\"\",\"\",AccountInfo!B480)","v":""}]
[{"$f":"AccountInfo!$A481","v":479},{"$f":"IF(AccountInfo!$B481=\"\",\"\",AccountInfo!B481)","v":""}]
[{"$f":"AccountInfo!$A482","v":480},{"$f":"IF(AccountInfo!$B482=\"\",\"\",AccountInfo!B482)","v":""}]
[{"$f":"AccountInfo!$A483","v":481},{"$f":"IF(AccountInfo!$B483=\"\",\"\",AccountInfo!B483)","v":""}]
[{"$f":"AccountInfo!$A484","v":482},{"$f":"IF(AccountInfo!$B484=\"\",\"\",AccountInfo!B484)","v":""}]
[{"$f":"AccountInfo!$A485","v":483},{"$f":"IF(AccountInfo!$B485=\"\",\"\",AccountInfo!B485)","v":""}]
[{"$f":"AccountInfo!$A486","v":484},{"$f":"IF(AccountInfo!$B486=\"\",\"\",AccountInfo!B486)","v":""}]
[{"$f":"AccountInfo!$A487","v":485},{"$f":"IF(AccountInfo!$B487=\"\",\"\",AccountInfo!B487)","v":""}]
[{"$f":"AccountInfo!$A488","v":486},{"$f":"IF(AccountInfo!$B488=\"\",\"\",AccountInfo!B488)","v":""}]
[{"$f":"AccountInfo!$A489","v":487},{"$f":"IF(AccountInfo!$B489=\"\",\"\",AccountInfo!B489)","v":""}]
[{"$f":"AccountInfo!$A490","v":488},{"$f":"IF(AccountInfo!$B490=\"\",\"\",AccountInfo!B490)","v":""}]
[{"$f":"AccountInfo!$A491","v":489},{"$f":"IF(AccountInfo!$B491=\"\",\"\",AccountInfo!B491)","v":""}]
[{"$f":"AccountInfo!$A492","v":490},{"$f":"IF(AccountInfo!$B492=\"\",\"\",AccountInfo!B492)","v":""}]
[{"$f":"AccountInfo!$A493","v":491},{"$f":"IF(AccountInfo!$B493=\"\",\"\",AccountInfo!B493)","v":""}]
[{"$f":"AccountInfo!$A494","v":492},{"$f":"IF(AccountInfo!$B494=\"\",\"\",AccountInfo!B494)","v":""}]
[{"$f":"AccountInfo!$A495","v":493},{"$f":"IF(AccountInfo!$B495=\"\",\"\",AccountInfo!B495)","v":""}]
[{"$f":"AccountInfo!$A496","v":494},{"$f":"IF(AccountInfo!$B496=\"\",\"\",AccountInfo!B496)","v":""}]
[{"$f":"AccountInfo!$A497","v":495},{"$f":"IF(AccountInfo!$B497=\"\",\"\",AccountInfo!B497)","v":""}]
[{"$f":"AccountInfo!$A498","v":496},{"$f":"IF(AccountInfo!$B498=\"\",\"\",AccountInfo!B498)","v":""}]
[{"$f":"AccountInfo!$A499","v":497},{"$f":"IF(AccountInfo!$B499=\"\",\"\",AccountInfo!B499)","v":""}]
[{"$f":"AccountInfo!$A500","v":498},{"$f":"IF(AccountInfo!$B500=\"\",\"\",AccountInfo!B500)","v":""}]
[{"$f":"AccountInfo!$A501","v":499},{"$f":"IF(AccountInfo!$B501=\"\",\"\",AccountInfo!B501)","v":""}]
[{"$f":"AccountInfo!$A502","v":500},{"$f":"IF(AccountInfo!$B502=\"\",\"\",AccountInfo!B502)","v":""}]
[{"$f":"AccountInfo!$A503","v":501},{"$f":"IF(AccountInfo!$B503=\"\",\"\",AccountInfo!B503)","v":""}]
[{"$f":"AccountInfo!$A504","v":502},{"$f":"IF(AccountInfo!$B504=\"\",\"\",AccountInfo!B504)","v":""}]
[{"$f":"AccountInfo!$A505","v":503},{"$f":"IF(AccountInfo!$B505=\"\",\"\",AccountInfo!B505)","v":""}]
[{"$f":"AccountInfo!$A506","v":504},{"$f":"IF(AccountInfo!$B506=\"\",\"\",AccountInfo!B506)","v":""}]
[{"$f":"AccountInfo!$A507","v":505},{"$f":"IF(AccountInfo!$B507=\"\",\"\",AccountInfo!B507)","v":""}]
[{"$f":"AccountInfo!$A508","v":506},{"$f":"IF(AccountInfo!$B508=\"\",\"\",AccountInfo!B508)","v":""}]
[{"$f":"AccountInfo!$A509","v":507},{"$f":"IF(AccountInfo!$B509=\"\",\"\",AccountInfo!B509)","v":""}]
[{"$f":"AccountInfo!$A510","v":508},{"$f":"IF(AccountInfo!$B510=\"\",\"\",AccountInfo!B510)","v":""}]
[{"$f":"AccountInfo!$A511","v":509},{"$f":"IF(AccountInfo!$B511=\"\",\"\",AccountInfo!B511)","v":""}]
[{"$f":"AccountInfo!$A512","v":510},{"$f":"IF(AccountInfo!$B512=\"\",\"\",AccountInfo!B512)","v":""}]
[{"$f":"AccountInfo!$A513","v":511},{"$f":"IF(AccountInfo!$B513=\"\",\"\",AccountInfo!B513)","v":""}]
[{"$f":"AccountInfo!$A514","v":512},{"$f":"IF(AccountInfo!$B514=\"\",\"\",AccountInfo!B514)","v":""}]
[{"$f":"AccountInfo!$A515","v":513},{"$f":"IF(AccountInfo!$B515=\"\",\"\",AccountInfo!B515)","v":""}]
[{"$f":"AccountInfo!$A516","v":514},{"$f":"IF(AccountInfo!$B516=\"\",\"\",AccountInfo!B516)","v":""}]
[{"$f":"AccountInfo!$A517","v":515},{"$f":"IF(AccountInfo!$B517=\"\",\"\",AccountInfo!B517)","v":""}]
[{"$f":"AccountInfo!$A518","v":516},{"$f":"IF(AccountInfo!$B518=\"\",\"\",AccountInfo!B518)","v":""}]
[{"$f":"AccountInfo!$A519","v":517},{"$f":"IF(AccountInfo!$B519=\"\",\"\",AccountInfo!B519)","v":""}]
[{"$f":"AccountInfo!$A520","v":518},{"$f":"IF(AccountInfo!$B520=\"\",\"\",AccountInfo!B520)","v":""}]
[{"$f":"AccountInfo!$A521","v":519},{"$f":"IF(AccountInfo!$B521=\"\",\"\",AccountInfo!B521)","v":""}]
[{"$f":"AccountInfo!$A522","v":520},{"$f":"IF(AccountInfo!$B522=\"\",\"\",AccountInfo!B522)","v":""}]
[{"$f":"AccountInfo!$A523","v":521},{"$f":"IF(AccountInfo!$B523=\"\",\"\",AccountInfo!B523)","v":""}]
[{"$f":"AccountInfo!$A524","v":522},{"$f":"IF(AccountInfo!$B524=\"\",\"\",AccountInfo!B524)","v":""}]
[{"$f":"AccountInfo!$A525","v":523},{"$f":"IF(AccountInfo!$B525=\"\",\"\",AccountInfo!B525)","v":""}]
[{"$f":"AccountInfo!$A526","v":524},{"$f":"IF(AccountInfo!$B526=\"\",\"\",AccountInfo!B526)","v":""}]
[{"$f":"AccountInfo!$A527","v":525},{"$f":"IF(AccountInfo!$B527=\"\",\"\",AccountInfo!B527)","v":""}]
[{"$f":"AccountInfo!$A528","v":526},{"$f":"IF(AccountInfo!$B528=\"\",\"\",AccountInfo!B528)","v":""}]
[{"$f":"AccountInfo!$A529","v":527},{"$f":"IF(AccountInfo!$B529=\"\",\"\",AccountInfo!B529)","v":""}]
[{"$f":"AccountInfo!$A530","v":528},{"$f":"IF(AccountInfo!$B530=\"\",\"\",AccountInfo!B530)","v":""}]
[{"$f":"AccountInfo!$A531","v":529},{"$f":"IF(AccountInfo!$B531=\"\",\"\",AccountInfo!B531)","v":""}]
[{"$f":"AccountInfo!$A532","v":530},{"$f":"IF(AccountInfo!$B532=\"\",\"\",AccountInfo!B532)","v":""}]
[{"$f":"AccountInfo!$A533","v":531},{"$f":"IF(AccountInfo!$B533=\"\",\"\",AccountInfo!B533)","v":""}]
[{"$f":"AccountInfo!$A534","v":532},{"$f":"IF(AccountInfo!$B534=\"\",\"\",AccountInfo!B534)","v":""}]
[{"$f":"AccountInfo!$A535","v":533},{"$f":"IF(AccountInfo!$B535=\"\",\"\",AccountInfo!B535)","v":""}]
[{"$f":"AccountInfo!$A536","v":534},{"$f":"IF(AccountInfo!$B536=\"\",\"\",AccountInfo!B536)","v":""}]
[{"$f":"AccountInfo!$A537","v":535},{"$f":"IF(AccountInfo!$B537=\"\",\"\",AccountInfo!B537)","v":""}]
[{"$f":"AccountInfo!$A538","v":536},{"$f":"IF(AccountInfo!$B538=\"\",\"\",AccountInfo!B538)","v":""}]
[{"$f":"AccountInfo!$A539","v":537},{"$f":"IF(AccountInfo!$B539=\"\",\"\",AccountInfo!B539)","v":""}]
[{"$f":"AccountInfo!$A540","v":538},{"$f":"IF(AccountInfo!$B540=\"\",\"\",AccountInfo!B540)","v":""}]
[{"$f":"AccountInfo!$A541","v":539},{"$f":"IF(AccountInfo!$B541=\"\",\"\",AccountInfo!B541)","v":""}]
[{"$f":"AccountInfo!$A542","v":540},{"$f":"IF(AccountInfo!$B542=\"\",\"\",AccountInfo!B542)","v":""}]
[{"$f":"AccountInfo!$A543","v":541},{"$f":"IF(AccountInfo!$B543=\"\",\"\",AccountInfo!B543)","v":""}]
[{"$f":"AccountInfo!$A544","v":542},{"$f":"IF(AccountInfo!$B544=\"\",\"\",AccountInfo!B544)","v":""}]
[{"$f":"AccountInfo!$A545","v":543},{"$f":"IF(AccountInfo!$B545=\"\",\"\",AccountInfo!B545)","v":""}]
[{"$f":"AccountInfo!$A546","v":544},{"$f":"IF(AccountInfo!$B546=\"\",\"\",AccountInfo!B546)","v":""}]
[{"$f":"AccountInfo!$A547","v":545},{"$f":"IF(AccountInfo!$B547=\"\",\"\",AccountInfo!B547)","v":""}]
[{"$f":"AccountInfo!$A548","v":546},{"$f":"IF(AccountInfo!$B548=\"\",\"\",AccountInfo!B548)","v":""}]
[{"$f":"AccountInfo!$A549","v":547},{"$f":"IF(AccountInfo!$B549=\"\",\"\",AccountInfo!B549)","v":""}]
[{"$f":"AccountInfo!$A550","v":548},{"$f":"IF(AccountInfo!$B550=\"\",\"\",AccountInfo!B550)","v":""}]
[{"$f":"AccountInfo!$A551","v":549},{"$f":"IF(AccountInfo!$B551=\"\",\"\",AccountInfo!B551)","v":""}]
[{"$f":"AccountInfo!$A552","v":550},{"$f":"IF(AccountInfo!$B552=\"\",\"\",AccountInfo!B552)","v":""}]
[{"$f":"AccountInfo!$A553","v":551},{"$f":"IF(AccountInfo!$B553=\"\",\"\",AccountInfo!B553)","v":""}]
[{"$f":"AccountInfo!$A554","v":552},{"$f":"IF(AccountInfo!$B554=\"\",\"\",AccountInfo!B554)","v":""}]
[{"$f":"AccountInfo!$A555","v":553},{"$f":"IF(AccountInfo!$B555=\"\",\"\",AccountInfo!B555)","v":""}]
[{"$f":"AccountInfo!$A556","v":554},{"$f":"IF(AccountInfo!$B556=\"\",\"\",AccountInfo!B556)","v":""}]
[{"$f":"AccountInfo!$A557","v":555},{"$f":"IF(AccountInfo!$B557=\"\",\"\",AccountInfo!B557)","v":""}]
[{"$f":"AccountInfo!$A558","v":556},{"$f":"IF(AccountInfo!$B558=\"\",\"\",AccountInfo!B558)","v":""}]
[{"$f":"AccountInfo!$A559","v":557},{"$f":"IF(AccountInfo!$B559=\"\",\"\",AccountInfo!B559)","v":""}]
[{"$f":"AccountInfo!$A560","v":558},{"$f":"IF(AccountInfo!$B560=\"\",\"\",AccountInfo!B560)","v":""}]
[{"$f":"AccountInfo!$A561","v":559},{"$f":"IF(AccountInfo!$B561=\"\",\"\",AccountInfo!B561)","v":""}]
[{"$f":"AccountInfo!$A562","v":560},{"$f":"IF(AccountInfo!$B562=\"\",\"\",AccountInfo!B562)","v":""}]
[{"$f":"AccountInfo!$A563","v":561},{"$f":"IF(AccountInfo!$B563=\"\",\"\",AccountInfo!B563)","v":""}]
[{"$f":"AccountInfo!$A564","v":562},{"$f":"IF(AccountInfo!$B564=\"\",\"\",AccountInfo!B564)","v":""}]
[{"$f":"AccountInfo!$A565","v":563},{"$f":"IF(AccountInfo!$B565=\"\",\"\",AccountInfo!B565)","v":""}]
[{"$f":"AccountInfo!$A566","v":564},{"$f":"IF(AccountInfo!$B566=\"\",\"\",AccountInfo!B566)","v":""}]
[{"$f":"AccountInfo!$A567","v":565},{"$f":"IF(AccountInfo!$B567=\"\",\"\",AccountInfo!B567)","v":""}]
[{"$f":"AccountInfo!$A568","v":566},{"$f":"IF(AccountInfo!$B568=\"\",\"\",AccountInfo!B568)","v":""}]
[{"$f":"AccountInfo!$A569","v":567},{"$f":"IF(AccountInfo!$B569=\"\",\"\",AccountInfo!B569)","v":""}]
[{"$f":"AccountInfo!$A570","v":568},{"$f":"IF(AccountInfo!$B570=\"\",\"\",AccountInfo!B570)","v":""}]
[{"$f":"AccountInfo!$A571","v":569},{"$f":"IF(AccountInfo!$B571=\"\",\"\",AccountInfo!B571)","v":""}]
[{"$f":"AccountInfo!$A572","v":570},{"$f":"IF(AccountInfo!$B572=\"\",\"\",AccountInfo!B572)","v":""}]
[{"$f":"AccountInfo!$A573","v":571},{"$f":"IF(AccountInfo!$B573=\"\",\"\",AccountInfo!B573)","v":""}]
[{"$f":"AccountInfo!$A574","v":572},{"$f":"IF(AccountInfo!$B574=\"\",\"\",AccountInfo!B574)","v":""}]
[{"$f":"AccountInfo!$A575","v":573},{"$f":"IF(AccountInfo!$B575=\"\",\"\",AccountInfo!B575)","v":""}]
[{"$f":"AccountInfo!$A576","v":574},{"$f":"IF(AccountInfo!$B576=\"\",\"\",AccountInfo!B576)","v":""}]
[{"$f":"AccountInfo!$A577","v":575},{"$f":"IF(AccountInfo!$B577=\"\",\"\",AccountInfo!B577)","v":""}]
[{"$f":"AccountInfo!$A578","v":576},{"$f":"IF(AccountInfo!$B578=\"\",\"\",AccountInfo!B578)","v":""}]
[{"$f":"AccountInfo!$A579","v":577},{"$f":"IF(AccountInfo!$B579=\"\",\"\",AccountInfo!B579)","v":""}]
[{"$f":"AccountInfo!$A580","v":578},{"$f":"IF(AccountInfo!$B580=\"\",\"\",AccountInfo!B580)","v":""}]
[{"$f":"AccountInfo!$A581","v":579},{"$f":"IF(AccountInfo!$B581=\"\",\"\",AccountInfo!B581)","v":""}]
[{"$f":"AccountInfo!$A582","v":580},{"$f":"IF(AccountInfo!$B582=\"\",\"\",AccountInfo!B582)","v":""}]
[{"$f":"AccountInfo!$A583","v":581},{"$f":"IF(AccountInfo!$B583=\"\",\"\",AccountInfo!B583)","v":""}]
[{"$f":"AccountInfo!$A584","v":582},{"$f":"IF(AccountInfo!$B584=\"\",\"\",AccountInfo!B584)","v":""}]
[{"$f":"AccountInfo!$A585","v":583},{"$f":"IF(AccountInfo!$B585=\"\",\"\",AccountInfo!B585)","v":""}]
[{"$f":"AccountInfo!$A586","v":584},{"$f":"IF(AccountInfo!$B586=\"\",\"\",AccountInfo!B586)","v":""}]
[{"$f":"AccountInfo!$A587","v":585},{"$f":"IF(AccountInfo!$B587=\"\",\"\",AccountInfo!B587)","v":""}]
[{"$f":"AccountInfo!$A588","v":586},{"$f":"IF(AccountInfo!$B588=\"\",\"\",AccountInfo!B588)","v":""}]
[{"$f":"AccountInfo!$A589","v":587},{"$f":"IF(AccountInfo!$B589=\"\",\"\",AccountInfo!B589)","v":""}]
[{"$f":"AccountInfo!$A590","v":588},{"$f":"IF(AccountInfo!$B590=\"\",\"\",AccountInfo!B590)","v":""}]
[{"$f":"AccountInfo!$A591","v":589},{"$f":"IF(AccountInfo!$B591=\"\",\"\",AccountInfo!B591)","v":""}]
[{"$f":"AccountInfo!$A592","v":590},{"$f":"IF(AccountInfo!$B592=\"\",\"\",AccountInfo!B592)","v":""}]
[{"$f":"AccountInfo!$A593","v":591},{"$f":"IF(AccountInfo!$B593=\"\",\"\",AccountInfo!B593)","v":""}]
[{"$f":"AccountInfo!$A594","v":592},{"$f":"IF(AccountInfo!$B594=\"\",\"\",AccountInfo!B594)","v":""}]
[{"$f":"AccountInfo!$A595","v":593},{"$f":"IF(AccountInfo!$B595=\"\",\"\",AccountInfo!B595)","v":""}]
[{"$f":"AccountInfo!$A596","v":594},{"$f":"IF(AccountInfo!$B596=\"\",\"\",AccountInfo!B596)","v":""}]
[{"$f":"AccountInfo!$A597","v":595},{"$f":"IF(AccountInfo!$B597=\"\",\"\",AccountInfo!B597)","v":""}]
[{"$f":"AccountInfo!$A598","v":596},{"$f":"IF(AccountInfo!$B598=\"\",\"\",AccountInfo!B598)","v":""}]
[{"$f":"AccountInfo!$A599","v":597},{"$f":"IF(AccountInfo!$B599=\"\",\"\",AccountInfo!B599)","v":""}]
[{"$f":"AccountInfo!$A600","v":598},{"$f":"IF(AccountInfo!$B600=\"\",\"\",AccountInfo!B600)","v":""}]
[{"$f":"AccountInfo!$A601","v":599},{"$f":"IF(AccountInfo!$B601=\"\",\"\",AccountInfo!B601)","v":""}]
[{"$f":"AccountInfo!$A602","v":600},{"$f":"IF(AccountInfo!$B602=\"\",\"\",AccountInfo!B602)","v":""}]
[{"$f":"AccountInfo!$A603","v":601},{"$f":"IF(AccountInfo!$B603=\"\",\"\",AccountInfo!B603)","v":""}]
[{"$f":"AccountInfo!$A604","v":602},{"$f":"IF(AccountInfo!$B604=\"\",\"\",AccountInfo!B604)","v":""}]
[{"$f":"AccountInfo!$A605","v":603},{"$f":"IF(AccountInfo!$B605=\"\",\"\",AccountInfo!B605)","v":""}]
[{"$f":"AccountInfo!$A606","v":604},{"$f":"IF(AccountInfo!$B606=\"\",\"\",AccountInfo!B606)","v":""}]
[{"$f":"AccountInfo!$A607","v":605},{"$f":"IF(AccountInfo!$B607=\"\",\"\",AccountInfo!B607)","v":""}]
[{"$f":"AccountInfo!$A608","v":606},{"$f":"IF(AccountInfo!$B608=\"\",\"\",AccountInfo!B608)","v":""}]
[{"$f":"AccountInfo!$A609","v":607},{"$f":"IF(AccountInfo!$B609=\"\",\"\",AccountInfo!B609)","v":""}]
[{"$f":"AccountInfo!$A610","v":608},{"$f":"IF(AccountInfo!$B610=\"\",\"\",AccountInfo!B610)","v":""}]
[{"$f":"AccountInfo!$A611","v":609},{"$f":"IF(AccountInfo!$B611=\"\",\"\",AccountInfo!B611)","v":""}]
[{"$f":"AccountInfo!$A612","v":610},{"$f":"IF(AccountInfo!$B612=\"\",\"\",AccountInfo!B612)","v":""}]
[{"$f":"AccountInfo!$A613","v":611},{"$f":"IF(AccountInfo!$B613=\"\",\"\",AccountInfo!B613)","v":""}]
[{"$f":"AccountInfo!$A614","v":612},{"$f":"IF(AccountInfo!$B614=\"\",\"\",AccountInfo!B614)","v":""}]
[{"$f":"AccountInfo!$A615","v":613},{"$f":"IF(AccountInfo!$B615=\"\",\"\",AccountInfo!B615)","v":""}]
[{"$f":"AccountInfo!$A616","v":614},{"$f":"IF(AccountInfo!$B616=\"\",\"\",AccountInfo!B616)","v":""}]
[{"$f":"AccountInfo!$A617","v":615},{"$f":"IF(AccountInfo!$B617=\"\",\"\",AccountInfo!B617)","v":""}]
[{"$f":"AccountInfo!$A618","v":616},{"$f":"IF(AccountInfo!$B618=\"\",\"\",AccountInfo!B618)","v":""}]
[{"$f":"AccountInfo!$A619","v":617},{"$f":"IF(AccountInfo!$B619=\"\",\"\",AccountInfo!B619)","v":""}]
[{"$f":"AccountInfo!$A620","v":618},{"$f":"IF(AccountInfo!$B620=\"\",\"\",AccountInfo!B620)","v":""}]
[{"$f":"AccountInfo!$A621","v":619},{"$f":"IF(AccountInfo!$B621=\"\",\"\",AccountInfo!B621)","v":""}]
[{"$f":"AccountInfo!$A622","v":620},{"$f":"IF(AccountInfo!$B622=\"\",\"\",AccountInfo!B622)","v":""}]
[{"$f":"AccountInfo!$A623","v":621},{"$f":"IF(AccountInfo!$B623=\"\",\"\",AccountInfo!B623)","v":""}]
[{"$f":"AccountInfo!$A624","v":622},{"$f":"IF(AccountInfo!$B624=\"\",\"\",AccountInfo!B624)","v":""}]
[{"$f":"AccountInfo!$A625","v":623},{"$f":"IF(AccountInfo!$B625=\"\",\"\",AccountInfo!B625)","v":""}]
[{"$f":"AccountInfo!$A626","v":624},{"$f":"IF(AccountInfo!$B626=\"\",\"\",AccountInfo!B626)","v":""}]
[{"$f":"AccountInfo!$A627","v":625},{"$f":"IF(AccountInfo!$B627=\"\",\"\",AccountInfo!B627)","v":""}]
[{"$f":"AccountInfo!$A628","v":626},{"$f":"IF(AccountInfo!$B628=\"\",\"\",AccountInfo!B628)","v":""}]
[{"$f":"AccountInfo!$A629","v":627},{"$f":"IF(AccountInfo!$B629=\"\",\"\",AccountInfo!B629)","v":""}]
[{"$f":"AccountInfo!$A630","v":628},{"$f":"IF(AccountInfo!$B630=\"\",\"\",AccountInfo!B630)","v":""}]
[{"$f":"AccountInfo!$A631","v":629},{"$f":"IF(AccountInfo!$B631=\"\",\"\",AccountInfo!B631)","v":""}]
[{"$f":"AccountInfo!$A632","v":630},{"$f":"IF(AccountInfo!$B632=\"\",\"\",AccountInfo!B632)","v":""}]
[{"$f":"AccountInfo!$A633","v":631},{"$f":"IF(AccountInfo!$B633=\"\",\"\",AccountInfo!B633)","v":""}]
[{"$f":"AccountInfo!$A634","v":632},{"$f":"IF(AccountInfo!$B634=\"\",\"\",AccountInfo!B634)","v":""}]
[{"$f":"AccountInfo!$A635","v":633},{"$f":"IF(AccountInfo!$B635=\"\",\"\",AccountInfo!B635)","v":""}]
[{"$f":"AccountInfo!$A636","v":634},{"$f":"IF(AccountInfo!$B636=\"\",\"\",AccountInfo!B636)","v":""}]
[{"$f":"AccountInfo!$A637","v":635},{"$f":"IF(AccountInfo!$B637=\"\",\"\",AccountInfo!B637)","v":""}]
[{"$f":"AccountInfo!$A638","v":636},{"$f":"IF(AccountInfo!$B638=\"\",\"\",AccountInfo!B638)","v":""}]
[{"$f":"AccountInfo!$A639","v":637},{"$f":"IF(AccountInfo!$B639=\"\",\"\",AccountInfo!B639)","v":""}]
[{"$f":"AccountInfo!$A640","v":638},{"$f":"IF(AccountInfo!$B640=\"\",\"\",AccountInfo!B640)","v":""}]
[{"$f":"AccountInfo!$A641","v":639},{"$f":"IF(AccountInfo!$B641=\"\",\"\",AccountInfo!B641)","v":""}]
[{"$f":"AccountInfo!$A642","v":640},{"$f":"IF(AccountInfo!$B642=\"\",\"\",AccountInfo!B642)","v":""}]
[{"$f":"AccountInfo!$A643","v":641},{"$f":"IF(AccountInfo!$B643=\"\",\"\",AccountInfo!B643)","v":""}]
[{"$f":"AccountInfo!$A644","v":642},{"$f":"IF(AccountInfo!$B644=\"\",\"\",AccountInfo!B644)","v":""}]
[{"$f":"AccountInfo!$A645","v":643},{"$f":"IF(AccountInfo!$B645=\"\",\"\",AccountInfo!B645)","v":""}]
[{"$f":"AccountInfo!$A646","v":644},{"$f":"IF(AccountInfo!$B646=\"\",\"\",AccountInfo!B646)","v":""}]
[{"$f":"AccountInfo!$A647","v":645},{"$f":"IF(AccountInfo!$B647=\"\",\"\",AccountInfo!B647)","v":""}]
[{"$f":"AccountInfo!$A648","v":646},{"$f":"IF(AccountInfo!$B648=\"\",\"\",AccountInfo!B648)","v":""}]
[{"$f":"AccountInfo!$A649","v":647},{"$f":"IF(AccountInfo!$B649=\"\",\"\",AccountInfo!B649)","v":""}]
[{"$f":"AccountInfo!$A650","v":648},{"$f":"IF(AccountInfo!$B650=\"\",\"\",AccountInfo!B650)","v":""}]
[{"$f":"AccountInfo!$A651","v":649},{"$f":"IF(AccountInfo!$B651=\"\",\"\",AccountInfo!B651)","v":""}]
[{"$f":"AccountInfo!$A652","v":650},{"$f":"IF(AccountInfo!$B652=\"\",\"\",AccountInfo!B652)","v":""}]
[{"$f":"AccountInfo!$A653","v":651},{"$f":"IF(AccountInfo!$B653=\"\",\"\",AccountInfo!B653)","v":""}]
[{"$f":"AccountInfo!$A654","v":652},{"$f":"IF(AccountInfo!$B654=\"\",\"\",AccountInfo!B654)","v":""}]
[{"$f":"AccountInfo!$A655","v":653},{"$f":"IF(AccountInfo!$B655=\"\",\"\",AccountInfo!B655)","v":""}]
[{"$f":"AccountInfo!$A656","v":654},{"$f":"IF(AccountInfo!$B656=\"\",\"\",AccountInfo!B656)","v":""}]
[{"$f":"AccountInfo!$A657","v":655},{"$f":"IF(AccountInfo!$B657=\"\",\"\",AccountInfo!B657)","v":""}]
[{"$f":"AccountInfo!$A658","v":656},{"$f":"IF(AccountInfo!$B658=\"\",\"\",AccountInfo!B658)","v":""}]
[{"$f":"AccountInfo!$A659","v":657},{"$f":"IF(AccountInfo!$B659=\"\",\"\",AccountInfo!B659)","v":""}]
[{"$f":"AccountInfo!$A660","v":658},{"$f":"IF(AccountInfo!$B660=\"\",\"\",AccountInfo!B660)","v":""}]
[{"$f":"AccountInfo!$A661","v":659},{"$f":"IF(AccountInfo!$B661=\"\",\"\",AccountInfo!B661)","v":""}]
[{"$f":"AccountInfo!$A662","v":660},{"$f":"IF(AccountInfo!$B662=\"\",\"\",AccountInfo!B662)","v":""}]
[{"$f":"AccountInfo!$A663","v":661},{"$f":"IF(AccountInfo!$B663=\"\",\"\",AccountInfo!B663)","v":""}]
[{"$f":"AccountInfo!$A664","v":662},{"$f":"IF(AccountInfo!$B664=\"\",\"\",AccountInfo!B664)","v":""}]
[{"$f":"AccountInfo!$A665","v":663},{"$f":"IF(AccountInfo!$B665=\"\",\"\",AccountInfo!B665)","v":""}]
[{"$f":"AccountInfo!$A666","v":664},{"$f":"IF(AccountInfo!$B666=\"\",\"\",AccountInfo!B666)","v":""}]
[{"$f":"AccountInfo!$A667","v":665},{"$f":"IF(AccountInfo!$B667=\"\",\"\",AccountInfo!B667)","v":""}]
[{"$f":"AccountInfo!$A668","v":666},{"$f":"IF(AccountInfo!$B668=\"\",\"\",AccountInfo!B668)","v":""}]
[{"$f":"AccountInfo!$A669","v":667},{"$f":"IF(AccountInfo!$B669=\"\",\"\",AccountInfo!B669)","v":""}]
[{"$f":"AccountInfo!$A670","v":668},{"$f":"IF(AccountInfo!$B670=\"\",\"\",AccountInfo!B670)","v":""}]
[{"$f":"AccountInfo!$A671","v":669},{"$f":"IF(AccountInfo!$B671=\"\",\"\",AccountInfo!B671)","v":""}]
[{"$f":"AccountInfo!$A672","v":670},{"$f":"IF(AccountInfo!$B672=\"\",\"\",AccountInfo!B672)","v":""}]
[{"$f":"AccountInfo!$A673","v":671},{"$f":"IF(AccountInfo!$B673=\"\",\"\",AccountInfo!B673)","v":""}]
[{"$f":"AccountInfo!$A674","v":672},{"$f":"IF(AccountInfo!$B674=\"\",\"\",AccountInfo!B674)","v":""}]
[{"$f":"AccountInfo!$A675","v":673},{"$f":"IF(AccountInfo!$B675=\"\",\"\",AccountInfo!B675)","v":""}]
[{"$f":"AccountInfo!$A676","v":674},{"$f":"IF(AccountInfo!$B676=\"\",\"\",AccountInfo!B676)","v":""}]
[{"$f":"AccountInfo!$A677","v":675},{"$f":"IF(AccountInfo!$B677=\"\",\"\",AccountInfo!B677)","v":""}]
[{"$f":"AccountInfo!$A678","v":676},{"$f":"IF(AccountInfo!$B678=\"\",\"\",AccountInfo!B678)","v":""}]
[{"$f":"AccountInfo!$A679","v":677},{"$f":"IF(AccountInfo!$B679=\"\",\"\",AccountInfo!B679)","v":""}]
[{"$f":"AccountInfo!$A680","v":678},{"$f":"IF(AccountInfo!$B680=\"\",\"\",AccountInfo!B680)","v":""}]
[{"$f":"AccountInfo!$A681","v":679},{"$f":"IF(AccountInfo!$B681=\"\",\"\",AccountInfo!B681)","v":""}]
[{"$f":"AccountInfo!$A682","v":680},{"$f":"IF(AccountInfo!$B682=\"\",\"\",AccountInfo!B682)","v":""}]
[{"$f":"AccountInfo!$A683","v":681},{"$f":"IF(AccountInfo!$B683=\"\",\"\",AccountInfo!B683)","v":""}]
[{"$f":"AccountInfo!$A684","v":682},{"$f":"IF(AccountInfo!$B684=\"\",\"\",AccountInfo!B684)","v":""}]
[{"$f":"AccountInfo!$A685","v":683},{"$f":"IF(AccountInfo!$B685=\"\",\"\",AccountInfo!B685)","v":""}]
[{"$f":"AccountInfo!$A686","v":684},{"$f":"IF(AccountInfo!$B686=\"\",\"\",AccountInfo!B686)","v":""}]
[{"$f":"AccountInfo!$A687","v":685},{"$f":"IF(AccountInfo!$B687=\"\",\"\",AccountInfo!B687)","v":""}]
[{"$f":"AccountInfo!$A688","v":686},{"$f":"IF(AccountInfo!$B688=\"\",\"\",AccountInfo!B688)","v":""}]
[{"$f":"AccountInfo!$A689","v":687},{"$f":"IF(AccountInfo!$B689=\"\",\"\",AccountInfo!B689)","v":""}]
[{"$f":"AccountInfo!$A690","v":688},{"$f":"IF(AccountInfo!$B690=\"\",\"\",AccountInfo!B690)","v":""}]
[{"$f":"AccountInfo!$A691","v":689},{"$f":"IF(AccountInfo!$B691=\"\",\"\",AccountInfo!B691)","v":""}]
[{"$f":"AccountInfo!$A692","v":690},{"$f":"IF(AccountInfo!$B692=\"\",\"\",AccountInfo!B692)","v":""}]
[{"$f":"AccountInfo!$A693","v":691},{"$f":"IF(AccountInfo!$B693=\"\",\"\",AccountInfo!B693)","v":""}]
[{"$f":"AccountInfo!$A694","v":692},{"$f":"IF(AccountInfo!$B694=\"\",\"\",AccountInfo!B694)","v":""}]
[{"$f":"AccountInfo!$A695","v":693},{"$f":"IF(AccountInfo!$B695=\"\",\"\",AccountInfo!B695)","v":""}]
[{"$f":"AccountInfo!$A696","v":694},{"$f":"IF(AccountInfo!$B696=\"\",\"\",AccountInfo!B696)","v":""}]
[{"$f":"AccountInfo!$A697","v":695},{"$f":"IF(AccountInfo!$B697=\"\",\"\",AccountInfo!B697)","v":""}]
[{"$f":"AccountInfo!$A698","v":696},{"$f":"IF(AccountInfo!$B698=\"\",\"\",AccountInfo!B698)","v":""}]
[{"$f":"AccountInfo!$A699","v":697},{"$f":"IF(AccountInfo!$B699=\"\",\"\",AccountInfo!B699)","v":""}]
[{"$f":"AccountInfo!$A700","v":698},{"$f":"IF(AccountInfo!$B700=\"\",\"\",AccountInfo!B700)","v":""}]
[{"$f":"AccountInfo!$A701","v":699},{"$f":"IF(AccountInfo!$B701=\"\",\"\",AccountInfo!B701)","v":""}]
[{"$f":"AccountInfo!$A702","v":700},{"$f":"IF(AccountInfo!$B702=\"\",\"\",AccountInfo!B702)","v":""}]
[{"$f":"AccountInfo!$A703","v":701},{"$f":"IF(AccountInfo!$B703=\"\",\"\",AccountInfo!B703)","v":""}]
[{"$f":"AccountInfo!$A704","v":702},{"$f":"IF(AccountInfo!$B704=\"\",\"\",AccountInfo!B704)","v":""}]
[{"$f":"AccountInfo!$A705","v":703},{"$f":"IF(AccountInfo!$B705=\"\",\"\",AccountInfo!B705)","v":""}]
[{"$f":"AccountInfo!$A706","v":704},{"$f":"IF(AccountInfo!$B706=\"\",\"\",AccountInfo!B706)","v":""}]
[{"$f":"AccountInfo!$A707","v":705},{"$f":"IF(AccountInfo!$B707=\"\",\"\",AccountInfo!B707)","v":""}]
[{"$f":"AccountInfo!$A708","v":706},{"$f":"IF(AccountInfo!$B708=\"\",\"\",AccountInfo!B708)","v":""}]
[{"$f":"AccountInfo!$A709","v":707},{"$f":"IF(AccountInfo!$B709=\"\",\"\",AccountInfo!B709)","v":""}]
[{"$f":"AccountInfo!$A710","v":708},{"$f":"IF(AccountInfo!$B710=\"\",\"\",AccountInfo!B710)","v":""}]
[{"$f":"AccountInfo!$A711","v":709},{"$f":"IF(AccountInfo!$B711=\"\",\"\",AccountInfo!B711)","v":""}]
[{"$f":"AccountInfo!$A712","v":710},{"$f":"IF(AccountInfo!$B712=\"\",\"\",AccountInfo!B712)","v":""}]
[{"$f":"AccountInfo!$A713","v":711},{"$f":"IF(AccountInfo!$B713=\"\",\"\",AccountInfo!B713)","v":""}]
[{"$f":"AccountInfo!$A714","v":712},{"$f":"IF(AccountInfo!$B714=\"\",\"\",AccountInfo!B714)","v":""}]
[{"$f":"AccountInfo!$A715","v":713},{"$f":"IF(AccountInfo!$B715=\"\",\"\",AccountInfo!B715)","v":""}]
[{"$f":"AccountInfo!$A716","v":714},{"$f":"IF(AccountInfo!$B716=\"\",\"\",AccountInfo!B716)","v":""}]
[{"$f":"AccountInfo!$A717","v":715},{"$f":"IF(AccountInfo!$B717=\"\",\"\",AccountInfo!B717)","v":""}]
[{"$f":"AccountInfo!$A718","v":716},{"$f":"IF(AccountInfo!$B718=\"\",\"\",AccountInfo!B718)","v":""}]
[{"$f":"AccountInfo!$A719","v":717},{"$f":"IF(AccountInfo!$B719=\"\",\"\",AccountInfo!B719)","v":""}]
[{"$f":"AccountInfo!$A720","v":718},{"$f":"IF(AccountInfo!$B720=\"\",\"\",AccountInfo!B720)","v":""}]
[{"$f":"AccountInfo!$A721","v":719},{"$f":"IF(AccountInfo!$B721=\"\",\"\",AccountInfo!B721)","v":""}]
[{"$f":"AccountInfo!$A722","v":720},{"$f":"IF(AccountInfo!$B722=\"\",\"\",AccountInfo!B722)","v":""}]
[{"$f":"AccountInfo!$A723","v":721},{"$f":"IF(AccountInfo!$B723=\"\",\"\",AccountInfo!B723)","v":""}]
[{"$f":"AccountInfo!$A724","v":722},{"$f":"IF(AccountInfo!$B724=\"\",\"\",AccountInfo!B724)","v":""}]
[{"$f":"AccountInfo!$A725","v":723},{"$f":"IF(AccountInfo!$B725=\"\",\"\",AccountInfo!B725)","v":""}]
[{"$f":"AccountInfo!$A726","v":724},{"$f":"IF(AccountInfo!$B726=\"\",\"\",AccountInfo!B726)","v":""}]
[{"$f":"AccountInfo!$A727","v":725},{"$f":"IF(AccountInfo!$B727=\"\",\"\",AccountInfo!B727)","v":""}]
[{"$f":"AccountInfo!$A728","v":726},{"$f":"IF(AccountInfo!$B728=\"\",\"\",AccountInfo!B728)","v":""}]
[{"$f":"AccountInfo!$A729","v":727},{"$f":"IF(AccountInfo!$B729=\"\",\"\",AccountInfo!B729)","v":""}]
[{"$f":"AccountInfo!$A730","v":728},{"$f":"IF(AccountInfo!$B730=\"\",\"\",AccountInfo!B730)","v":""}]
[{"$f":"AccountInfo!$A731","v":729},{"$f":"IF(AccountInfo!$B731=\"\",\"\",AccountInfo!B731)","v":""}]
[{"$f":"AccountInfo!$A732","v":730},{"$f":"IF(AccountInfo!$B732=\"\",\"\",AccountInfo!B732)","v":""}]
[{"$f":"AccountInfo!$A733","v":731},{"$f":"IF(AccountInfo!$B733=\"\",\"\",AccountInfo!B733)","v":""}]
[{"$f":"AccountInfo!$A734","v":732},{"$f":"IF(AccountInfo!$B734=\"\",\"\",AccountInfo!B734)","v":""}]
[{"$f":"AccountInfo!$A735","v":733},{"$f":"IF(AccountInfo!$B735=\"\",\"\",AccountInfo!B735)","v":""}]
[{"$f":"AccountInfo!$A736","v":734},{"$f":"IF(AccountInfo!$B736=\"\",\"\",AccountInfo!B736)","v":""}]
[{"$f":"AccountInfo!$A737","v":735},{"$f":"IF(AccountInfo!$B737=\"\",\"\",AccountInfo!B737)","v":""}]
[{"$f":"AccountInfo!$A738","v":736},{"$f":"IF(AccountInfo!$B738=\"\",\"\",AccountInfo!B738)","v":""}]
[{"$f":"AccountInfo!$A739","v":737},{"$f":"IF(AccountInfo!$B739=\"\",\"\",AccountInfo!B739)","v":""}]
[{"$f":"AccountInfo!$A740","v":738},{"$f":"IF(AccountInfo!$B740=\"\",\"\",AccountInfo!B740)","v":""}]
[{"$f":"AccountInfo!$A741","v":739},{"$f":"IF(AccountInfo!$B741=\"\",\"\",AccountInfo!B741)","v":""}]
[{"$f":"AccountInfo!$A742","v":740},{"$f":"IF(AccountInfo!$B742=\"\",\"\",AccountInfo!B742)","v":""}]
[{"$f":"AccountInfo!$A743","v":741},{"$f":"IF(AccountInfo!$B743=\"\",\"\",AccountInfo!B743)","v":""}]
[{"$f":"AccountInfo!$A744","v":742},{"$f":"IF(AccountInfo!$B744=\"\",\"\",AccountInfo!B744)","v":""}]
[{"$f":"AccountInfo!$A745","v":743},{"$f":"IF(AccountInfo!$B745=\"\",\"\",AccountInfo!B745)","v":""}]
[{"$f":"AccountInfo!$A746","v":744},{"$f":"IF(AccountInfo!$B746=\"\",\"\",AccountInfo!B746)","v":""}]
[{"$f":"AccountInfo!$A747","v":745},{"$f":"IF(AccountInfo!$B747=\"\",\"\",AccountInfo!B747)","v":""}]
[{"$f":"AccountInfo!$A748","v":746},{"$f":"IF(AccountInfo!$B748=\"\",\"\",AccountInfo!B748)","v":""}]
[{"$f":"AccountInfo!$A749","v":747},{"$f":"IF(AccountInfo!$B749=\"\",\"\",AccountInfo!B749)","v":""}]
[{"$f":"AccountInfo!$A750","v":748},{"$f":"IF(AccountInfo!$B750=\"\",\"\",AccountInfo!B750)","v":""}]
[{"$f":"AccountInfo!$A751","v":749},{"$f":"IF(AccountInfo!$B751=\"\",\"\",AccountInfo!B751)","v":""}]
[{"$f":"AccountInfo!$A752","v":750},{"$f":"IF(AccountInfo!$B752=\"\",\"\",AccountInfo!B752)","v":""}]
[{"$f":"AccountInfo!$A753","v":751},{"$f":"IF(AccountInfo!$B753=\"\",\"\",AccountInfo!B753)","v":""}]
[{"$f":"AccountInfo!$A754","v":752},{"$f":"IF(AccountInfo!$B754=\"\",\"\",AccountInfo!B754)","v":""}]
[{"$f":"AccountInfo!$A755","v":753},{"$f":"IF(AccountInfo!$B755=\"\",\"\",AccountInfo!B755)","v":""}]
[{"$f":"AccountInfo!$A756","v":754},{"$f":"IF(AccountInfo!$B756=\"\",\"\",AccountInfo!B756)","v":""}]
[{"$f":"AccountInfo!$A757","v":755},{"$f":"IF(AccountInfo!$B757=\"\",\"\",AccountInfo!B757)","v":""}]
[{"$f":"AccountInfo!$A758","v":756},{"$f":"IF(AccountInfo!$B758=\"\",\"\",AccountInfo!B758)","v":""}]
[{"$f":"AccountInfo!$A759","v":757},{"$f":"IF(AccountInfo!$B759=\"\",\"\",AccountInfo!B759)","v":""}]
[{"$f":"AccountInfo!$A760","v":758},{"$f":"IF(AccountInfo!$B760=\"\",\"\",AccountInfo!B760)","v":""}]
[{"$f":"AccountInfo!$A761","v":759},{"$f":"IF(AccountInfo!$B761=\"\",\"\",AccountInfo!B761)","v":""}]
[{"$f":"AccountInfo!$A762","v":760},{"$f":"IF(AccountInfo!$B762=\"\",\"\",AccountInfo!B762)","v":""}]
[{"$f":"AccountInfo!$A763","v":761},{"$f":"IF(AccountInfo!$B763=\"\",\"\",AccountInfo!B763)","v":""}]
[{"$f":"AccountInfo!$A764","v":762},{"$f":"IF(AccountInfo!$B764=\"\",\"\",AccountInfo!B764)","v":""}]
[{"$f":"AccountInfo!$A765","v":763},{"$f":"IF(AccountInfo!$B765=\"\",\"\",AccountInfo!B765)","v":""}]
[{"$f":"AccountInfo!$A766","v":764},{"$f":"IF(AccountInfo!$B766=\"\",\"\",AccountInfo!B766)","v":""}]
[{"$f":"AccountInfo!$A767","v":765},{"$f":"IF(AccountInfo!$B767=\"\",\"\",AccountInfo!B767)","v":""}]
[{"$f":"AccountInfo!$A768","v":766},{"$f":"IF(AccountInfo!$B768=\"\",\"\",AccountInfo!B768)","v":""}]
[{"$f":"AccountInfo!$A769","v":767},{"$f":"IF(AccountInfo!$B769=\"\",\"\",AccountInfo!B769)","v":""}]
[{"$f":"AccountInfo!$A770","v":768},{"$f":"IF(AccountInfo!$B770=\"\",\"\",AccountInfo!B770)","v":""}]
[{"$f":"AccountInfo!$A771","v":769},{"$f":"IF(AccountInfo!$B771=\"\",\"\",AccountInfo!B771)","v":""}]
[{"$f":"AccountInfo!$A772","v":770},{"$f":"IF(AccountInfo!$B772=\"\",\"\",AccountInfo!B772)","v":""}]
[{"$f":"AccountInfo!$A773","v":771},{"$f":"IF(AccountInfo!$B773=\"\",\"\",AccountInfo!B773)","v":""}]
[{"$f":"AccountInfo!$A774","v":772},{"$f":"IF(AccountInfo!$B774=\"\",\"\",AccountInfo!B774)","v":""}]
[{"$f":"AccountInfo!$A775","v":773},{"$f":"IF(AccountInfo!$B775=\"\",\"\",AccountInfo!B775)","v":""}]
[{"$f":"AccountInfo!$A776","v":774},{"$f":"IF(AccountInfo!$B776=\"\",\"\",AccountInfo!B776)","v":""}]
[{"$f":"AccountInfo!$A777","v":775},{"$f":"IF(AccountInfo!$B777=\"\",\"\",AccountInfo!B777)","v":""}]
[{"$f":"AccountInfo!$A778","v":776},{"$f":"IF(AccountInfo!$B778=\"\",\"\",AccountInfo!B778)","v":""}]
[{"$f":"AccountInfo!$A779","v":777},{"$f":"IF(AccountInfo!$B779=\"\",\"\",AccountInfo!B779)","v":""}]
[{"$f":"AccountInfo!$A780","v":778},{"$f":"IF(AccountInfo!$B780=\"\",\"\",AccountInfo!B780)","v":""}]
[{"$f":"AccountInfo!$A781","v":779},{"$f":"IF(AccountInfo!$B781=\"\",\"\",AccountInfo!B781)","v":""}]
[{"$f":"AccountInfo!$A782","v":780},{"$f":"IF(AccountInfo!$B782=\"\",\"\",AccountInfo!B782)","v":""}]
[{"$f":"AccountInfo!$A783","v":781},{"$f":"IF(AccountInfo!$B783=\"\",\"\",AccountInfo!B783)","v":""}]
[{"$f":"AccountInfo!$A784","v":782},{"$f":"IF(AccountInfo!$B784=\"\",\"\",AccountInfo!B784)","v":""}]
[{"$f":"AccountInfo!$A785","v":783},{"$f":"IF(AccountInfo!$B785=\"\",\"\",AccountInfo!B785)","v":""}]
[{"$f":"AccountInfo!$A786","v":784},{"$f":"IF(AccountInfo!$B786=\"\",\"\",AccountInfo!B786)","v":""}]
[{"$f":"AccountInfo!$A787","v":785},{"$f":"IF(AccountInfo!$B787=\"\",\"\",AccountInfo!B787)","v":""}]
[{"$f":"AccountInfo!$A788","v":786},{"$f":"IF(AccountInfo!$B788=\"\",\"\",AccountInfo!B788)","v":""}]
[{"$f":"AccountInfo!$A789","v":787},{"$f":"IF(AccountInfo!$B789=\"\",\"\",AccountInfo!B789)","v":""}]
[{"$f":"AccountInfo!$A790","v":788},{"$f":"IF(AccountInfo!$B790=\"\",\"\",AccountInfo!B790)","v":""}]
[{"$f":"AccountInfo!$A791","v":789},{"$f":"IF(AccountInfo!$B791=\"\",\"\",AccountInfo!B791)","v":""}]
[{"$f":"AccountInfo!$A792","v":790},{"$f":"IF(AccountInfo!$B792=\"\",\"\",AccountInfo!B792)","v":""}]
[{"$f":"AccountInfo!$A793","v":791},{"$f":"IF(AccountInfo!$B793=\"\",\"\",AccountInfo!B793)","v":""}]
[{"$f":"AccountInfo!$A794","v":792},{"$f":"IF(AccountInfo!$B794=\"\",\"\",AccountInfo!B794)","v":""}]
[{"$f":"AccountInfo!$A795","v":793},{"$f":"IF(AccountInfo!$B795=\"\",\"\",AccountInfo!B795)","v":""}]
[{"$f":"AccountInfo!$A796","v":794},{"$f":"IF(AccountInfo!$B796=\"\",\"\",AccountInfo!B796)","v":""}]
[{"$f":"AccountInfo!$A797","v":795},{"$f":"IF(AccountInfo!$B797=\"\",\"\",AccountInfo!B797)","v":""}]
[{"$f":"AccountInfo!$A798","v":796},{"$f":"IF(AccountInfo!$B798=\"\",\"\",AccountInfo!B798)","v":""}]
[{"$f":"AccountInfo!$A799","v":797},{"$f":"IF(AccountInfo!$B799=\"\",\"\",AccountInfo!B799)","v":""}]
[{"$f":"AccountInfo!$A800","v":798},{"$f":"IF(AccountInfo!$B800=\"\",\"\",AccountInfo!B800)","v":""}]
[{"$f":"AccountInfo!$A801","v":799},{"$f":"IF(AccountInfo!$B801=\"\",\"\",AccountInfo!B801)","v":""}]
[{"$f":"AccountInfo!$A802","v":800},{"$f":"IF(AccountInfo!$B802=\"\",\"\",AccountInfo!B802)","v":""}]
[{"$f":"AccountInfo!$A803","v":801},{"$f":"IF(AccountInfo!$B803=\"\",\"\",AccountInfo!B803)","v":""}]
[{"$f":"AccountInfo!$A804","v":802},{"$f":"IF(AccountInfo!$B804=\"\",\"\",AccountInfo!B804)","v":""}]
[{"$f":"AccountInfo!$A805","v":803},{"$f":"IF(AccountInfo!$B805=\"\",\"\",AccountInfo!B805)","v":""}]
[{"$f":"AccountInfo!$A806","v":804},{"$f":"IF(AccountInfo!$B806=\"\",\"\",AccountInfo!B806)","v":""}]
[{"$f":"AccountInfo!$A807","v":805},{"$f":"IF(AccountInfo!$B807=\"\",\"\",AccountInfo!B807)","v":""}]
[{"$f":"AccountInfo!$A808","v":806},{"$f":"IF(AccountInfo!$B808=\"\",\"\",AccountInfo!B808)","v":""}]
[{"$f":"AccountInfo!$A809","v":807},{"$f":"IF(AccountInfo!$B809=\"\",\"\",AccountInfo!B809)","v":""}]
[{"$f":"AccountInfo!$A810","v":808},{"$f":"IF(AccountInfo!$B810=\"\",\"\",AccountInfo!B810)","v":""}]
[{"$f":"AccountInfo!$A811","v":809},{"$f":"IF(AccountInfo!$B811=\"\",\"\",AccountInfo!B811)","v":""}]
[{"$f":"AccountInfo!$A812","v":810},{"$f":"IF(AccountInfo!$B812=\"\",\"\",AccountInfo!B812)","v":""}]
[{"$f":"AccountInfo!$A813","v":811},{"$f":"IF(AccountInfo!$B813=\"\",\"\",AccountInfo!B813)","v":""}]
[{"$f":"AccountInfo!$A814","v":812},{"$f":"IF(AccountInfo!$B814=\"\",\"\",AccountInfo!B814)","v":""}]
[{"$f":"AccountInfo!$A815","v":813},{"$f":"IF(AccountInfo!$B815=\"\",\"\",AccountInfo!B815)","v":""}]
[{"$f":"AccountInfo!$A816","v":814},{"$f":"IF(AccountInfo!$B816=\"\",\"\",AccountInfo!B816)","v":""}]
[{"$f":"AccountInfo!$A817","v":815},{"$f":"IF(AccountInfo!$B817=\"\",\"\",AccountInfo!B817)","v":""}]
[{"$f":"AccountInfo!$A818","v":816},{"$f":"IF(AccountInfo!$B818=\"\",\"\",AccountInfo!B818)","v":""}]
[{"$f":"AccountInfo!$A819","v":817},{"$f":"IF(AccountInfo!$B819=\"\",\"\",AccountInfo!B819)","v":""}]
[{"$f":"AccountInfo!$A820","v":818},{"$f":"IF(AccountInfo!$B820=\"\",\"\",AccountInfo!B820)","v":""}]
[{"$f":"AccountInfo!$A821","v":819},{"$f":"IF(AccountInfo!$B821=\"\",\"\",AccountInfo!B821)","v":""}]
[{"$f":"AccountInfo!$A822","v":820},{"$f":"IF(AccountInfo!$B822=\"\",\"\",AccountInfo!B822)","v":""}]
[{"$f":"AccountInfo!$A823","v":821},{"$f":"IF(AccountInfo!$B823=\"\",\"\",AccountInfo!B823)","v":""}]
[{"$f":"AccountInfo!$A824","v":822},{"$f":"IF(AccountInfo!$B824=\"\",\"\",AccountInfo!B824)","v":""}]
[{"$f":"AccountInfo!$A825","v":823},{"$f":"IF(AccountInfo!$B825=\"\",\"\",AccountInfo!B825)","v":""}]
[{"$f":"AccountInfo!$A826","v":824},{"$f":"IF(AccountInfo!$B826=\"\",\"\",AccountInfo!B826)","v":""}]
[{"$f":"AccountInfo!$A827","v":825},{"$f":"IF(AccountInfo!$B827=\"\",\"\",AccountInfo!B827)","v":""}]
[{"$f":"AccountInfo!$A828","v":826},{"$f":"IF(AccountInfo!$B828=\"\",\"\",AccountInfo!B828)","v":""}]
[{"$f":"AccountInfo!$A829","v":827},{"$f":"IF(AccountInfo!$B829=\"\",\"\",AccountInfo!B829)","v":""}]
[{"$f":"AccountInfo!$A830","v":828},{"$f":"IF(AccountInfo!$B830=\"\",\"\",AccountInfo!B830)","v":""}]
[{"$f":"AccountInfo!$A831","v":829},{"$f":"IF(AccountInfo!$B831=\"\",\"\",AccountInfo!B831)","v":""}]
[{"$f":"AccountInfo!$A832","v":830},{"$f":"IF(AccountInfo!$B832=\"\",\"\",AccountInfo!B832)","v":""}]
[{"$f":"AccountInfo!$A833","v":831},{"$f":"IF(AccountInfo!$B833=\"\",\"\",AccountInfo!B833)","v":""}]
[{"$f":"AccountInfo!$A834","v":832},{"$f":"IF(AccountInfo!$B834=\"\",\"\",AccountInfo!B834)","v":""}]
[{"$f":"AccountInfo!$A835","v":833},{"$f":"IF(AccountInfo!$B835=\"\",\"\",AccountInfo!B835)","v":""}]
[{"$f":"AccountInfo!$A836","v":834},{"$f":"IF(AccountInfo!$B836=\"\",\"\",AccountInfo!B836)","v":""}]
[{"$f":"AccountInfo!$A837","v":835},{"$f":"IF(AccountInfo!$B837=\"\",\"\",AccountInfo!B837)","v":""}]
[{"$f":"AccountInfo!$A838","v":836},{"$f":"IF(AccountInfo!$B838=\"\",\"\",AccountInfo!B838)","v":""}]
[{"$f":"AccountInfo!$A839","v":837},{"$f":"IF(AccountInfo!$B839=\"\",\"\",AccountInfo!B839)","v":""}]
[{"$f":"AccountInfo!$A840","v":838},{"$f":"IF(AccountInfo!$B840=\"\",\"\",AccountInfo!B840)","v":""}]
[{"$f":"AccountInfo!$A841","v":839},{"$f":"IF(AccountInfo!$B841=\"\",\"\",AccountInfo!B841)","v":""}]
[{"$f":"AccountInfo!$A842","v":840},{"$f":"IF(AccountInfo!$B842=\"\",\"\",AccountInfo!B842)","v":""}]
[{"$f":"AccountInfo!$A843","v":841},{"$f":"IF(AccountInfo!$B843=\"\",\"\",AccountInfo!B843)","v":""}]
[{"$f":"AccountInfo!$A844","v":842},{"$f":"IF(AccountInfo!$B844=\"\",\"\",AccountInfo!B844)","v":""}]
[{"$f":"AccountInfo!$A845","v":843},{"$f":"IF(AccountInfo!$B845=\"\",\"\",AccountInfo!B845)","v":""}]
[{"$f":"AccountInfo!$A846","v":844},{"$f":"IF(AccountInfo!$B846=\"\",\"\",AccountInfo!B846)","v":""}]
[{"$f":"AccountInfo!$A847","v":845},{"$f":"IF(AccountInfo!$B847=\"\",\"\",AccountInfo!B847)","v":""}]
[{"$f":"AccountInfo!$A848","v":846},{"$f":"IF(AccountInfo!$B848=\"\",\"\",AccountInfo!B848)","v":""}]
[{"$f":"AccountInfo!$A849","v":847},{"$f":"IF(AccountInfo!$B849=\"\",\"\",AccountInfo!B849)","v":""}]
[{"$f":"AccountInfo!$A850","v":848},{"$f":"IF(AccountInfo!$B850=\"\",\"\",AccountInfo!B850)","v":""}]
[{"$f":"AccountInfo!$A851","v":849},{"$f":"IF(AccountInfo!$B851=\"\",\"\",AccountInfo!B851)","v":""}]
[{"$f":"AccountInfo!$A852","v":850},{"$f":"IF(AccountInfo!$B852=\"\",\"\",AccountInfo!B852)","v":""}]
[{"$f":"AccountInfo!$A853","v":851},{"$f":"IF(AccountInfo!$B853=\"\",\"\",AccountInfo!B853)","v":""}]
[{"$f":"AccountInfo!$A854","v":852},{"$f":"IF(AccountInfo!$B854=\"\",\"\",AccountInfo!B854)","v":""}]
[{"$f":"AccountInfo!$A855","v":853},{"$f":"IF(AccountInfo!$B855=\"\",\"\",AccountInfo!B855)","v":""}]
[{"$f":"AccountInfo!$A856","v":854},{"$f":"IF(AccountInfo!$B856=\"\",\"\",AccountInfo!B856)","v":""}]
[{"$f":"AccountInfo!$A857","v":855},{"$f":"IF(AccountInfo!$B857=\"\",\"\",AccountInfo!B857)","v":""}]
[{"$f":"AccountInfo!$A858","v":856},{"$f":"IF(AccountInfo!$B858=\"\",\"\",AccountInfo!B858)","v":""}]
[{"$f":"AccountInfo!$A859","v":857},{"$f":"IF(AccountInfo!$B859=\"\",\"\",AccountInfo!B859)","v":""}]
[{"$f":"AccountInfo!$A860","v":858},{"$f":"IF(AccountInfo!$B860=\"\",\"\",AccountInfo!B860)","v":""}]
[{"$f":"AccountInfo!$A861","v":859},{"$f":"IF(AccountInfo!$B861=\"\",\"\",AccountInfo!B861)","v":""}]
[{"$f":"AccountInfo!$A862","v":860},{"$f":"IF(AccountInfo!$B862=\"\",\"\",AccountInfo!B862)","v":""}]
[{"$f":"AccountInfo!$A863","v":861},{"$f":"IF(AccountInfo!$B863=\"\",\"\",AccountInfo!B863)","v":""}]
[{"$f":"AccountInfo!$A864","v":862},{"$f":"IF(AccountInfo!$B864=\"\",\"\",AccountInfo!B864)","v":""}]
[{"$f":"AccountInfo!$A865","v":863},{"$f":"IF(AccountInfo!$B865=\"\",\"\",AccountInfo!B865)","v":""}]
[{"$f":"AccountInfo!$A866","v":864},{"$f":"IF(AccountInfo!$B866=\"\",\"\",AccountInfo!B866)","v":""}]
[{"$f":"AccountInfo!$A867","v":865},{"$f":"IF(AccountInfo!$B867=\"\",\"\",AccountInfo!B867)","v":""}]
[{"$f":"AccountInfo!$A868","v":866},{"$f":"IF(AccountInfo!$B868=\"\",\"\",AccountInfo!B868)","v":""}]
[{"$f":"AccountInfo!$A869","v":867},{"$f":"IF(AccountInfo!$B869=\"\",\"\",AccountInfo!B869)","v":""}]
[{"$f":"AccountInfo!$A870","v":868},{"$f":"IF(AccountInfo!$B870=\"\",\"\",AccountInfo!B870)","v":""}]
[{"$f":"AccountInfo!$A871","v":869},{"$f":"IF(AccountInfo!$B871=\"\",\"\",AccountInfo!B871)","v":""}]
[{"$f":"AccountInfo!$A872","v":870},{"$f":"IF(AccountInfo!$B872=\"\",\"\",AccountInfo!B872)","v":""}]
[{"$f":"AccountInfo!$A873","v":871},{"$f":"IF(AccountInfo!$B873=\"\",\"\",AccountInfo!B873)","v":""}]
[{"$f":"AccountInfo!$A874","v":872},{"$f":"IF(AccountInfo!$B874=\"\",\"\",AccountInfo!B874)","v":""}]
[{"$f":"AccountInfo!$A875","v":873},{"$f":"IF(AccountInfo!$B875=\"\",\"\",AccountInfo!B875)","v":""}]
[{"$f":"AccountInfo!$A876","v":874},{"$f":"IF(AccountInfo!$B876=\"\",\"\",AccountInfo!B876)","v":""}]
[{"$f":"AccountInfo!$A877","v":875},{"$f":"IF(AccountInfo!$B877=\"\",\"\",AccountInfo!B877)","v":""}]
[{"$f":"AccountInfo!$A878","v":876},{"$f":"IF(AccountInfo!$B878=\"\",\"\",AccountInfo!B878)","v":""}]
[{"$f":"AccountInfo!$A879","v":877},{"$f":"IF(AccountInfo!$B879=\"\",\"\",AccountInfo!B879)","v":""}]
[{"$f":"AccountInfo!$A880","v":878},{"$f":"IF(AccountInfo!$B880=\"\",\"\",AccountInfo!B880)","v":""}]
[{"$f":"AccountInfo!$A881","v":879},{"$f":"IF(AccountInfo!$B881=\"\",\"\",AccountInfo!B881)","v":""}]
[{"$f":"AccountInfo!$A882","v":880},{"$f":"IF(AccountInfo!$B882=\"\",\"\",AccountInfo!B882)","v":""}]
[{"$f":"AccountInfo!$A883","v":881},{"$f":"IF(AccountInfo!$B883=\"\",\"\",AccountInfo!B883)","v":""}]
[{"$f":"AccountInfo!$A884","v":882},{"$f":"IF(AccountInfo!$B884=\"\",\"\",AccountInfo!B884)","v":""}]
[{"$f":"AccountInfo!$A885","v":883},{"$f":"IF(AccountInfo!$B885=\"\",\"\",AccountInfo!B885)","v":""}]
[{"$f":"AccountInfo!$A886","v":884},{"$f":"IF(AccountInfo!$B886=\"\",\"\",AccountInfo!B886)","v":""}]
[{"$f":"AccountInfo!$A887","v":885},{"$f":"IF(AccountInfo!$B887=\"\",\"\",AccountInfo!B887)","v":""}]
[{"$f":"AccountInfo!$A888","v":886},{"$f":"IF(AccountInfo!$B888=\"\",\"\",AccountInfo!B888)","v":""}]
[{"$f":"AccountInfo!$A889","v":887},{"$f":"IF(AccountInfo!$B889=\"\",\"\",AccountInfo!B889)","v":""}]
[{"$f":"AccountInfo!$A890","v":888},{"$f":"IF(AccountInfo!$B890=\"\",\"\",AccountInfo!B890)","v":""}]
[{"$f":"AccountInfo!$A891","v":889},{"$f":"IF(AccountInfo!$B891=\"\",\"\",AccountInfo!B891)","v":""}]
[{"$f":"AccountInfo!$A892","v":890},{"$f":"IF(AccountInfo!$B892=\"\",\"\",AccountInfo!B892)","v":""}]
[{"$f":"AccountInfo!$A893","v":891},{"$f":"IF(AccountInfo!$B893=\"\",\"\",AccountInfo!B893)","v":""}]
[{"$f":"AccountInfo!$A894","v":892},{"$f":"IF(AccountInfo!$B894=\"\",\"\",AccountInfo!B894)","v":""}]
[{"$f":"AccountInfo!$A895","v":893},{"$f":"IF(AccountInfo!$B895=\"\",\"\",AccountInfo!B895)","v":""}]
[{"$f":"AccountInfo!$A896","v":894},{"$f":"IF(AccountInfo!$B896=\"\",\"\",AccountInfo!B896)","v":""}]
[{"$f":"AccountInfo!$A897","v":895},{"$f":"IF(AccountInfo!$B897=\"\",\"\",AccountInfo!B897)","v":""}]
[{"$f":"AccountInfo!$A898","v":896},{"$f":"IF(AccountInfo!$B898=\"\",\"\",AccountInfo!B898)","v":""}]
[{"$f":"AccountInfo!$A899","v":897},{"$f":"IF(AccountInfo!$B899=\"\",\"\",AccountInfo!B899)","v":""}]
[{"$f":"AccountInfo!$A900","v":898},{"$f":"IF(AccountInfo!$B900=\"\",\"\",AccountInfo!B900)","v":""}]
[{"$f":"AccountInfo!$A901","v":899},{"$f":"IF(AccountInfo!$B901=\"\",\"\",AccountInfo!B901)","v":""}]
[{"$f":"AccountInfo!$A902","v":900},{"$f":"IF(AccountInfo!$B902=\"\",\"\",AccountInfo!B902)","v":""}]
[{"$f":"AccountInfo!$A903","v":901},{"$f":"IF(AccountInfo!$B903=\"\",\"\",AccountInfo!B903)","v":""}]
[{"$f":"AccountInfo!$A904","v":902},{"$f":"IF(AccountInfo!$B904=\"\",\"\",AccountInfo!B904)","v":""}]
[{"$f":"AccountInfo!$A905","v":903},{"$f":"IF(AccountInfo!$B905=\"\",\"\",AccountInfo!B905)","v":""}]
[{"$f":"AccountInfo!$A906","v":904},{"$f":"IF(AccountInfo!$B906=\"\",\"\",AccountInfo!B906)","v":""}]
[{"$f":"AccountInfo!$A907","v":905},{"$f":"IF(AccountInfo!$B907=\"\",\"\",AccountInfo!B907)","v":""}]
[{"$f":"AccountInfo!$A908","v":906},{"$f":"IF(AccountInfo!$B908=\"\",\"\",AccountInfo!B908)","v":""}]
[{"$f":"AccountInfo!$A909","v":907},{"$f":"IF(AccountInfo!$B909=\"\",\"\",AccountInfo!B909)","v":""}]
[{"$f":"AccountInfo!$A910","v":908},{"$f":"IF(AccountInfo!$B910=\"\",\"\",AccountInfo!B910)","v":""}]
[{"$f":"AccountInfo!$A911","v":909},{"$f":"IF(AccountInfo!$B911=\"\",\"\",AccountInfo!B911)","v":""}]
[{"$f":"AccountInfo!$A912","v":910},{"$f":"IF(AccountInfo!$B912=\"\",\"\",AccountInfo!B912)","v":""}]
[{"$f":"AccountInfo!$A913","v":911},{"$f":"IF(AccountInfo!$B913=\"\",\"\",AccountInfo!B913)","v":""}]
[{"$f":"AccountInfo!$A914","v":912},{"$f":"IF(AccountInfo!$B914=\"\",\"\",AccountInfo!B914)","v":""}]
[{"$f":"AccountInfo!$A915","v":913},{"$f":"IF(AccountInfo!$B915=\"\",\"\",AccountInfo!B915)","v":""}]
[{"$f":"AccountInfo!$A916","v":914},{"$f":"IF(AccountInfo!$B916=\"\",\"\",AccountInfo!B916)","v":""}]
[{"$f":"AccountInfo!$A917","v":915},{"$f":"IF(AccountInfo!$B917=\"\",\"\",AccountInfo!B917)","v":""}]
[{"$f":"AccountInfo!$A918","v":916},{"$f":"IF(AccountInfo!$B918=\"\",\"\",AccountInfo!B918)","v":""}]
[{"$f":"AccountInfo!$A919","v":917},{"$f":"IF(AccountInfo!$B919=\"\",\"\",AccountInfo!B919)","v":""}]
[{"$f":"AccountInfo!$A920","v":918},{"$f":"IF(AccountInfo!$B920=\"\",\"\",AccountInfo!B920)","v":""}]
[{"$f":"AccountInfo!$A921","v":919},{"$f":"IF(AccountInfo!$B921=\"\",\"\",AccountInfo!B921)","v":""}]
[{"$f":"AccountInfo!$A922","v":920},{"$f":"IF(AccountInfo!$B922=\"\",\"\",AccountInfo!B922)","v":""}]
[{"$f":"AccountInfo!$A923","v":921},{"$f":"IF(AccountInfo!$B923=\"\",\"\",AccountInfo!B923)","v":""}]
[{"$f":"AccountInfo!$A924","v":922},{"$f":"IF(AccountInfo!$B924=\"\",\"\",AccountInfo!B924)","v":""}]
[{"$f":"AccountInfo!$A925","v":923},{"$f":"IF(AccountInfo!$B925=\"\",\"\",AccountInfo!B925)","v":""}]
[{"$f":"AccountInfo!$A926","v":924},{"$f":"IF(AccountInfo!$B926=\"\",\"\",AccountInfo!B926)","v":""}]
[{"$f":"AccountInfo!$A927","v":925},{"$f":"IF(AccountInfo!$B927=\"\",\"\",AccountInfo!B927)","v":""}]
[{"$f":"AccountInfo!$A928","v":926},{"$f":"IF(AccountInfo!$B928=\"\",\"\",AccountInfo!B928)","v":""}]
[{"$f":"AccountInfo!$A929","v":927},{"$f":"IF(AccountInfo!$B929=\"\",\"\",AccountInfo!B929)","v":""}]
[{"$f":"AccountInfo!$A930","v":928},{"$f":"IF(AccountInfo!$B930=\"\",\"\",AccountInfo!B930)","v":""}]
[{"$f":"AccountInfo!$A931","v":929},{"$f":"IF(AccountInfo!$B931=\"\",\"\",AccountInfo!B931)","v":""}]
[{"$f":"AccountInfo!$A932","v":930},{"$f":"IF(AccountInfo!$B932=\"\",\"\",AccountInfo!B932)","v":""}]
[{"$f":"AccountInfo!$A933","v":931},{"$f":"IF(AccountInfo!$B933=\"\",\"\",AccountInfo!B933)","v":""}]
[{"$f":"AccountInfo!$A934","v":932},{"$f":"IF(AccountInfo!$B934=\"\",\"\",AccountInfo!B934)","v":""}]
[{"$f":"AccountInfo!$A935","v":933},{"$f":"IF(AccountInfo!$B935=\"\",\"\",AccountInfo!B935)","v":""}]
[{"$f":"AccountInfo!$A936","v":934},{"$f":"IF(AccountInfo!$B936=\"\",\"\",AccountInfo!B936)","v":""}]
[{"$f":"AccountInfo!$A937","v":935},{"$f":"IF(AccountInfo!$B937=\"\",\"\",AccountInfo!B937)","v":""}]
[{"$f":"AccountInfo!$A938","v":936},{"$f":"IF(AccountInfo!$B938=\"\",\"\",AccountInfo!B938)","v":""}]
[{"$f":"AccountInfo!$A939","v":937},{"$f":"IF(AccountInfo!$B939=\"\",\"\",AccountInfo!B939)","v":""}]
[{"$f":"AccountInfo!$A940","v":938},{"$f":"IF(AccountInfo!$B940=\"\",\"\",AccountInfo!B940)","v":""}]
[{"$f":"AccountInfo!$A941","v":939},{"$f":"IF(AccountInfo!$B941=\"\",\"\",AccountInfo!B941)","v":""}]
[{"$f":"AccountInfo!$A942","v":940},{"$f":"IF(AccountInfo!$B942=\"\",\"\",AccountInfo!B942)","v":""}]
[{"$f":"AccountInfo!$A943","v":941},{"$f":"IF(AccountInfo!$B943=\"\",\"\",AccountInfo!B943)","v":""}]
[{"$f":"AccountInfo!$A944","v":942},{"$f":"IF(AccountInfo!$B944=\"\",\"\",AccountInfo!B944)","v":""}]
[{"$f":"AccountInfo!$A945","v":943},{"$f":"IF(AccountInfo!$B945=\"\",\"\",AccountInfo!B945)","v":""}]
[{"$f":"AccountInfo!$A946","v":944},{"$f":"IF(AccountInfo!$B946=\"\",\"\",AccountInfo!B946)","v":""}]
[{"$f":"AccountInfo!$A947","v":945},{"$f":"IF(AccountInfo!$B947=\"\",\"\",AccountInfo!B947)","v":""}]
[{"$f":"AccountInfo!$A948","v":946},{"$f":"IF(AccountInfo!$B948=\"\",\"\",AccountInfo!B948)","v":""}]
[{"$f":"AccountInfo!$A949","v":947},{"$f":"IF(AccountInfo!$B949=\"\",\"\",AccountInfo!B949)","v":""}]
[{"$f":"AccountInfo!$A950","v":948},{"$f":"IF(AccountInfo!$B950=\"\",\"\",AccountInfo!B950)","v":""}]
[{"$f":"AccountInfo!$A951","v":949},{"$f":"IF(AccountInfo!$B951=\"\",\"\",AccountInfo!B951)","v":""}]
[{"$f":"AccountInfo!$A952","v":950},{"$f":"IF(AccountInfo!$B952=\"\",\"\",AccountInfo!B952)","v":""}]
[{"$f":"AccountInfo!$A953","v":951},{"$f":"IF(AccountInfo!$B953=\"\",\"\",AccountInfo!B953)","v":""}]
[{"$f":"AccountInfo!$A954","v":952},{"$f":"IF(AccountInfo!$B954=\"\",\"\",AccountInfo!B954)","v":""}]
[{"$f":"AccountInfo!$A955","v":953},{"$f":"IF(AccountInfo!$B955=\"\",\"\",AccountInfo!B955)","v":""}]
[{"$f":"AccountInfo!$A956","v":954},{"$f":"IF(AccountInfo!$B956=\"\",\"\",AccountInfo!B956)","v":""}]
[{"$f":"AccountInfo!$A957","v":955},{"$f":"IF(AccountInfo!$B957=\"\",\"\",AccountInfo!B957)","v":""}]
[{"$f":"AccountInfo!$A958","v":956},{"$f":"IF(AccountInfo!$B958=\"\",\"\",AccountInfo!B958)","v":""}]
[{"$f":"AccountInfo!$A959","v":957},{"$f":"IF(AccountInfo!$B959=\"\",\"\",AccountInfo!B959)","v":""}]
[{"$f":"AccountInfo!$A960","v":958},{"$f":"IF(AccountInfo!$B960=\"\",\"\",AccountInfo!B960)","v":""}]
[{"$f":"AccountInfo!$A961","v":959},{"$f":"IF(AccountInfo!$B961=\"\",\"\",AccountInfo!B961)","v":""}]
[{"$f":"AccountInfo!$A962","v":960},{"$f":"IF(AccountInfo!$B962=\"\",\"\",AccountInfo!B962)","v":""}]
[{"$f":"AccountInfo!$A963","v":961},{"$f":"IF(AccountInfo!$B963=\"\",\"\",AccountInfo!B963)","v":""}]
[{"$f":"AccountInfo!$A964","v":962},{"$f":"IF(AccountInfo!$B964=\"\",\"\",AccountInfo!B964)","v":""}]
[{"$f":"AccountInfo!$A965","v":963},{"$f":"IF(AccountInfo!$B965=\"\",\"\",AccountInfo!B965)","v":""}]
[{"$f":"AccountInfo!$A966","v":964},{"$f":"IF(AccountInfo!$B966=\"\",\"\",AccountInfo!B966)","v":""}]
[{"$f":"AccountInfo!$A967","v":965},{"$f":"IF(AccountInfo!$B967=\"\",\"\",AccountInfo!B967)","v":""}]
[{"$f":"AccountInfo!$A968","v":966},{"$f":"IF(AccountInfo!$B968=\"\",\"\",AccountInfo!B968)","v":""}]
[{"$f":"AccountInfo!$A969","v":967},{"$f":"IF(AccountInfo!$B969=\"\",\"\",AccountInfo!B969)","v":""}]
[{"$f":"AccountInfo!$A970","v":968},{"$f":"IF(AccountInfo!$B970=\"\",\"\",AccountInfo!B970)","v":""}]
[{"$f":"AccountInfo!$A971","v":969},{"$f":"IF(AccountInfo!$B971=\"\",\"\",AccountInfo!B971)","v":""}]
[{"$f":"AccountInfo!$A972","v":970},{"$f":"IF(AccountInfo!$B972=\"\",\"\",AccountInfo!B972)","v":""}]
[{"$f":"AccountInfo!$A973","v":971},{"$f":"IF(AccountInfo!$B973=\"\",\"\",AccountInfo!B973)","v":""}]
[{"$f":"AccountInfo!$A974","v":972},{"$f":"IF(AccountInfo!$B974=\"\",\"\",AccountInfo!B974)","v":""}]
[{"$f":"AccountInfo!$A975","v":973},{"$f":"IF(AccountInfo!$B975=\"\",\"\",AccountInfo!B975)","v":""}]
[{"$f":"AccountInfo!$A976","v":974},{"$f":"IF(AccountInfo!$B976=\"\",\"\",AccountInfo!B976)","v":""}]
[{"$f":"AccountInfo!$A977","v":975},{"$f":"IF(AccountInfo!$B977=\"\",\"\",AccountInfo!B977)","v":""}]
[{"$f":"AccountInfo!$A978","v":976},{"$f":"IF(AccountInfo!$B978=\"\",\"\",AccountInfo!B978)","v":""}]
[{"$f":"AccountInfo!$A979","v":977},{"$f":"IF(AccountInfo!$B979=\"\",\"\",AccountInfo!B979)","v":""}]
[{"$f":"AccountInfo!$A980","v":978},{"$f":"IF(AccountInfo!$B980=\"\",\"\",AccountInfo!B980)","v":""}]
[{"$f":"AccountInfo!$A981","v":979},{"$f":"IF(AccountInfo!$B981=\"\",\"\",AccountInfo!B981)","v":""}]
[{"$f":"AccountInfo!$A982","v":980},{"$f":"IF(AccountInfo!$B982=\"\",\"\",AccountInfo!B982)","v":""}]
[{"$f":"AccountInfo!$A983","v":981},{"$f":"IF(AccountInfo!$B983=\"\",\"\",AccountInfo!B983)","v":""}]
[{"$f":"AccountInfo!$A984","v":982},{"$f":"IF(AccountInfo!$B984=\"\",\"\",AccountInfo!B984)","v":""}]
[{"$f":"AccountInfo!$A985","v":983},{"$f":"IF(AccountInfo!$B985=\"\",\"\",AccountInfo!B985)","v":""}]
[{"$f":"AccountInfo!$A986","v":984},{"$f":"IF(AccountInfo!$B986=\"\",\"\",AccountInfo!B986)","v":""}]
[{"$f":"AccountInfo!$A987","v":985},{"$f":"IF(AccountInfo!$B987=\"\",\"\",AccountInfo!B987)","v":""}]
[{"$f":"AccountInfo!$A988","v":986},{"$f":"IF(AccountInfo!$B988=\"\",\"\",AccountInfo!B988)","v":""}]
[{"$f":"AccountInfo!$A989","v":987},{"$f":"IF(AccountInfo!$B989=\"\",\"\",AccountInfo!B989)","v":""}]
[{"$f":"AccountInfo!$A990","v":988},{"$f":"IF(AccountInfo!$B990=\"\",\"\",AccountInfo!B990)","v":""}]
[{"$f":"AccountInfo!$A991","v":989},{"$f":"IF(AccountInfo!$B991=\"\",\"\",AccountInfo!B991)","v":""}]
[{"$f":"AccountInfo!$A992","v":990},{"$f":"IF(AccountInfo!$B992=\"\",\"\",AccountInfo!B992)","v":""}]
[{"$f":"AccountInfo!$A993","v":991},{"$f":"IF(AccountInfo!$B993=\"\",\"\",AccountInfo!B993)","v":""}]
[{"$f":"AccountInfo!$A994","v":992},{"$f":"IF(AccountInfo!$B994=\"\",\"\",AccountInfo!B994)","v":""}]
[{"$f":"AccountInfo!$A995","v":993},{"$f":"IF(AccountInfo!$B995=\"\",\"\",AccountInfo!B995)","v":""}]
[{"$f":"AccountInfo!$A996","v":994},{"$f":"IF(AccountInfo!$B996=\"\",\"\",AccountInfo!B996)","v":""}]
[{"$f":"AccountInfo!$A997","v":995},{"$f":"IF(AccountInfo!$B997=\"\",\"\",AccountInfo!B997)","v":""}]
[{"$f":"AccountInfo!$A998","v":996},{"$f":"IF(AccountInfo!$B998=\"\",\"\",AccountInfo!B998)","v":""}]
[{"$f":"AccountInfo!$A999","v":997},{"$f":"IF(AccountInfo!$B999=\"\",\"\",AccountInfo!B999)","v":""}]
[{"$f":"AccountInfo!$A1000","v":998},{"$f":"IF(AccountInfo!$B1000=\"\",\"\",AccountInfo!B1000)","v":""}]
[{"$f":"AccountInfo!$A1001","v":999},{"$f":"IF(AccountInfo!$B1001=\"\",\"\",AccountInfo!B1001)","v":""}]
[{"$f":"AccountInfo!$A1002","v":1000},{"$f":"IF(AccountInfo!$B1002=\"\",\"\",AccountInfo!B1002)","v":""}]